{"text_format":"3","workbook":"xlsx","n_sheets":20,"sheets":["Congés_auto","edt-Jour-rouge","edt-Jour-blanc","601","603","604","401","403","405","408","302","305","306","vierge","308","Semaine A B","Rotation 3me","Rotation 4me","edt-Jour-classe-entiere","abs-classe"],"not_rendered":{"images":1,"macros":1,"defined_names":27,"comments":1},"read":"whole","date_system":"1900"}

{"sheet":"Congés_auto","index":0,"n_rows":368,"n_cols":69,"rows_kept":368,"merged":[[0,24,1,30],[34,17,34,22],[35,17,35,22]]}
[null,"Travail","Congés",2,3,4,5,6,7,1,null,"POUR LE CALCUL DE Pâques --->",{"$f":"M3+365","v":"2019-08-20"},"Fond vert = cellules modifiables",{"$nulls":10},{"$f":"\"lecture du tableau ci-dessous :  le \"& TEXT(AG4,\"dddd dd mmmm yyyy\") &\" et le \"&TEXT(AG8,\"dddd dd mmmm yyyy\") &\" sont les jours de la \"&TEXT(AG3,\"###############\") &\"ème leçon de technologie.\"","v":"lecture du tableau ci-dessous :  le lundi 10 décembre 2018 et le vendredi 14 décembre 2018 sont les jours de la 15ème leçon de technologie."}]
[{"$nulls":3},"Lundi","Mardi","mercredi","Jeudi","Vendredi","Samedi","Dimanche","Jour","En fond vert les cellules modifiables.",{"$nulls":7},{"$f":"YEAR(M3)&\"  -  \"&YEAR(M3)+1&\"      \"&\"TECHNOLOGIE\"","v":"2018  -  2019      TECHNOLOGIE"}]
[{"$f":"K3","v":"2018-08-20"},{"$f":"IF(SUM(D3:J3)>0.5,IF(SUM(I3:J3)=0,1,0),0)","v":1},{"$f":"IF(OR(K3=L$15,K3=L$16,K3=L$17,K3=L$18,K3=L$19,K3=L$20,K3=L$21,K3=L$22,K3=L$23,K3=L$24,K3=L$25,K3=L$26,K3=L$27,K3=L$28),0,IF(K3<L$7,1,IF(AND(K3>M$7,K3<L$8),1,IF(AND(K3>M$8,K3<L$9),1,IF(AND(K3>M$9,K3<L$10),1,IF(AND(K3>M$10,K3<L$11),1,IF(AND(K3>M$11),1,0)))))))","v":1},{"$f":"IF($C3=1,IF(WEEKDAY($K3)=D$1,1,\"\"),\"\")","v":1},"","","","","","",{"$f":"M3","v":"2018-08-20"},"Premier jour de l'année élèves","2018-08-20",{"$nulls":4},"Num sem",1,{"$f":"S3+1","v":2},3,4,5,6,7,8,9,10,11,12,13,14,15,16,17,18,19,20,21,22,23,24,25,26,27,28,29,30,31,32,33,34,35,36,37,38,39,40,41,42,43,44,45,46,47,48,49,50,51]
[{"$f":"K4","v":"2018-08-21"},1,1,"",1,"","","","","",{"$f":"1+K3","v":"2018-08-21"},"Indiquer le premier jour et le dernier jour de congés",{"$nulls":5},"Lundi",{"$f":"IF(ISNA(VLOOKUP(S$3,Tab_Lundi,8,FALSE)),\"\",VLOOKUP(S$3,Tab_Lundi,8,FALSE))","v":"2018-08-20"},{"$f":"IF(ISNA(VLOOKUP(T$3,Tab_Lundi,8,FALSE)),\"\",VLOOKUP(T$3,Tab_Lundi,8,FALSE))","v":"2018-08-27"},"2018-09-03","2018-09-10","2018-09-17","2018-09-24","2018-10-01","2018-10-08","2018-10-29","2018-11-05","2018-11-12","2018-11-19","2018-11-26","2018-12-03","2018-12-10","2018-12-17","2019-01-28","2019-02-04","2019-02-11","2019-02-18","2019-02-25","2019-03-04","2019-03-25","2019-04-01","2019-04-08","2019-04-15","2019-04-29","2019-05-06","2019-05-20","2019-05-27","2019-06-03","2019-06-10",{"$f":"IF(ISNA(VLOOKUP(AY$3,Tab_Lundi,8,FALSE)),\"\",VLOOKUP(AY$3,Tab_Lundi,8,FALSE))","v":"2019-06-17"},"2019-06-24","2019-07-01","","","","","","","","","","","","","","","",""]
["2018-08-22",1,1,{"$f":"IF($C5=1,IF(WEEKDAY($K5)=D$1,1+COUNTA(D$3:D4)-COUNTBLANK(D$3:D4),\"\"),\"\")","v":""},{"$f":"IF($C5=1,IF(WEEKDAY($K5)=E$1,1+COUNTA(E$3:E4)-COUNTBLANK(E$3:E4),\"\"),\"\")","v":""},{"$f":"IF($C5=1,IF(WEEKDAY($K5)=F$1,1+COUNTA(F$3:F4)-COUNTBLANK(F$3:F4),\"\"),\"\")","v":1},{"$f":"IF($C5=1,IF(WEEKDAY($K5)=G$1,1+COUNTA(G$3:G4)-COUNTBLANK(G$3:G4),\"\"),\"\")","v":""},{"$f":"IF($C5=1,IF(WEEKDAY($K5)=H$1,1+COUNTA(H$3:H4)-COUNTBLANK(H$3:H4),\"\"),\"\")","v":""},{"$f":"IF($C5=1,IF(WEEKDAY($K5)=I$1,1+COUNTA(I$3:I4)-COUNTBLANK(I$3:I4),\"\"),\"\")","v":""},{"$f":"IF($C5=1,IF(WEEKDAY($K5)=J$1,1+COUNTA(J$3:J4)-COUNTBLANK(J$3:J4),\"\"),\"\")","v":""},"2018-08-22","Périodes de congés",{"$f":"\"ANNÉE  \"&YEAR(M3)&\" - \"&YEAR(M3)+1","v":"ANNÉE  2018 - 2019"},{"$f":"SUM(B3:B368)","v":172},"Jours de présence",null,null,"Mardi",{"$f":"IF(ISNA(VLOOKUP(S$3,Tab_mardi,7,FALSE)),\"\",VLOOKUP(S$3,Tab_mardi,7,FALSE))","v":"2018-08-21"},{"$f":"IF(ISNA(VLOOKUP(T$3,Tab_mardi,7,FALSE)),\"\",VLOOKUP(T$3,Tab_mardi,7,FALSE))","v":"2018-08-28"},"2018-09-04","2018-09-11","2018-09-18","2018-09-25","2018-10-02","2018-10-09","2018-10-30","2018-11-06","2018-11-13","2018-11-20","2018-11-27","2018-12-04","2018-12-11","2018-12-18","2019-01-29","2019-02-05","2019-02-12","2019-02-19","2019-02-26","2019-03-05","2019-03-26","2019-04-02","2019-04-09","2019-04-16","2019-04-23","2019-04-30","2019-05-21","2019-05-28","2019-06-04","2019-06-11",{"$f":"IF(ISNA(VLOOKUP(AY$3,Tab_mardi,7,FALSE)),\"\",VLOOKUP(AY$3,Tab_mardi,7,FALSE))","v":"2019-06-18"},"2019-06-25","2019-07-02","2019-08-20","","","","","","","","","","","","","","",""]
["2018-08-23",1,1,{"$f":"IF($C6=1,IF(WEEKDAY($K6)=D$1,1+COUNTA(D$3:D5)-COUNTBLANK(D$3:D5),\"\"),\"\")","v":""},{"$f":"IF($C6=1,IF(WEEKDAY($K6)=E$1,1+COUNTA(E$3:E5)-COUNTBLANK(E$3:E5),\"\"),\"\")","v":""},{"$f":"IF($C6=1,IF(WEEKDAY($K6)=F$1,1+COUNTA(F$3:F5)-COUNTBLANK(F$3:F5),\"\"),\"\")","v":""},{"$f":"IF($C6=1,IF(WEEKDAY($K6)=G$1,1+COUNTA(G$3:G5)-COUNTBLANK(G$3:G5),\"\"),\"\")","v":1},{"$f":"IF($C6=1,IF(WEEKDAY($K6)=H$1,1+COUNTA(H$3:H5)-COUNTBLANK(H$3:H5),\"\"),\"\")","v":""},{"$f":"IF($C6=1,IF(WEEKDAY($K6)=I$1,1+COUNTA(I$3:I5)-COUNTBLANK(I$3:I5),\"\"),\"\")","v":""},{"$f":"IF($C6=1,IF(WEEKDAY($K6)=J$1,1+COUNTA(J$3:J5)-COUNTBLANK(J$3:J5),\"\"),\"\")","v":""},"2018-08-23","début","Fin",{"$f":"SUM(C3:C368)","v":232},"jours d'année scolaire",null,null,"Mercredi",{"$f":"IF(ISNA(VLOOKUP(S$3,Tab_mercredi,6,FALSE)),\"\",VLOOKUP(S$3,Tab_mercredi,6,FALSE))","v":"2018-08-22"},"2018-08-29","2018-09-05","2018-09-12","2018-09-19","2018-09-26","2018-10-03","2018-10-10","2018-10-31","2018-11-07","2018-11-14","2018-11-21","2018-11-28","2018-12-05","2018-12-12","2018-12-19","2019-01-30","2019-02-06","2019-02-13","2019-02-20","2019-02-27","2019-03-06","2019-03-27","2019-04-03","2019-04-10","2019-04-17","2019-04-24","2019-05-22","2019-05-29","2019-06-05","2019-06-12","2019-06-19",{"$f":"IF(ISNA(VLOOKUP(AY$3,Tab_mercredi,6,FALSE)),\"\",VLOOKUP(AY$3,Tab_mercredi,6,FALSE))","v":"2019-06-26"},"2019-07-03","","","","","","","","","","","","","","","","",""]
["2018-08-24",1,1,{"$f":"IF($C7=1,IF(WEEKDAY($K7)=D$1,1+COUNTA(D$3:D6)-COUNTBLANK(D$3:D6),\"\"),\"\")","v":""},{"$f":"IF($C7=1,IF(WEEKDAY($K7)=E$1,1+COUNTA(E$3:E6)-COUNTBLANK(E$3:E6),\"\"),\"\")","v":""},{"$f":"IF($C7=1,IF(WEEKDAY($K7)=F$1,1+COUNTA(F$3:F6)-COUNTBLANK(F$3:F6),\"\"),\"\")","v":""},{"$f":"IF($C7=1,IF(WEEKDAY($K7)=G$1,1+COUNTA(G$3:G6)-COUNTBLANK(G$3:G6),\"\"),\"\")","v":""},{"$f":"IF($C7=1,IF(WEEKDAY($K7)=H$1,1+COUNTA(H$3:H6)-COUNTBLANK(H$3:H6),\"\"),\"\")","v":1},{"$f":"IF($C7=1,IF(WEEKDAY($K7)=I$1,1+COUNTA(I$3:I6)-COUNTBLANK(I$3:I6),\"\"),\"\")","v":""},{"$f":"IF($C7=1,IF(WEEKDAY($K7)=J$1,1+COUNTA(J$3:J6)-COUNTBLANK(J$3:J6),\"\"),\"\")","v":""},"2018-08-24","2018-10-13","2018-10-28",{"$f":"M7-L7&\" jours\"","v":"15 jours"},"Toussaint",null,null,"Jeudi",{"$f":"IF(ISNA(VLOOKUP(S$3,Tab_Jeudi,5,FALSE)),\"\",VLOOKUP(S$3,Tab_Jeudi,5,FALSE))","v":"2018-08-23"},{"$f":"IF(ISNA(VLOOKUP(T$3,Tab_Jeudi,5,FALSE)),\"\",VLOOKUP(T$3,Tab_Jeudi,5,FALSE))","v":"2018-08-30"},"2018-09-06","2018-09-13","2018-09-20","2018-09-27","2018-10-04",{"$f":"IF(ISNA(VLOOKUP(Z$3,Tab_Jeudi,5,FALSE)),\"\",VLOOKUP(Z$3,Tab_Jeudi,5,FALSE))","v":"2018-10-11"},"2018-11-08","2018-11-15","2018-11-22","2018-11-29","2018-12-06","2018-12-13","2019-01-31","2019-02-07","2019-02-14","2019-02-21","2019-02-28","2019-03-07","2019-03-28","2019-04-04","2019-04-11","2019-04-18","2019-04-25","2019-05-02","2019-05-23","2019-06-06","2019-06-13","2019-06-20","2019-06-27","2019-07-04",{"$f":"IF(ISNA(VLOOKUP(AY$3,Tab_Jeudi,5,FALSE)),\"\",VLOOKUP(AY$3,Tab_Jeudi,5,FALSE))","v":""},"","","","","","","","","","","","","","","","","",""]
["2018-08-25",0,1,{"$f":"IF($C8=1,IF(WEEKDAY($K8)=D$1,1+COUNTA(D$3:D7)-COUNTBLANK(D$3:D7),\"\"),\"\")","v":""},{"$f":"IF($C8=1,IF(WEEKDAY($K8)=E$1,1+COUNTA(E$3:E7)-COUNTBLANK(E$3:E7),\"\"),\"\")","v":""},{"$f":"IF($C8=1,IF(WEEKDAY($K8)=F$1,1+COUNTA(F$3:F7)-COUNTBLANK(F$3:F7),\"\"),\"\")","v":""},{"$f":"IF($C8=1,IF(WEEKDAY($K8)=G$1,1+COUNTA(G$3:G7)-COUNTBLANK(G$3:G7),\"\"),\"\")","v":""},{"$f":"IF($C8=1,IF(WEEKDAY($K8)=H$1,1+COUNTA(H$3:H7)-COUNTBLANK(H$3:H7),\"\"),\"\")","v":""},{"$f":"IF($C8=1,IF(WEEKDAY($K8)=I$1,1+COUNTA(I$3:I7)-COUNTBLANK(I$3:I7),\"\"),\"\")","v":1},{"$f":"IF($C8=1,IF(WEEKDAY($K8)=J$1,1+COUNTA(J$3:J7)-COUNTBLANK(J$3:J7),\"\"),\"\")","v":""},"2018-08-25","2018-12-22","2019-01-27",{"$f":"M8-L8&\" jours\"","v":"36 jours"},"été Austral",null,null,"Vendredi",{"$f":"IF(ISNA(VLOOKUP(S$3,Tab_Vendredi,4,FALSE)),\"\",VLOOKUP(S$3,Tab_Vendredi,4,FALSE))","v":"2018-08-24"},"2018-08-31","2018-09-07","2018-09-14","2018-09-21","2018-09-28","2018-10-05","2018-10-12","2018-11-02","2018-11-09","2018-11-16","2018-11-23","2018-11-30","2018-12-07","2018-12-14","2018-12-21","2019-02-01","2019-02-08","2019-02-15","2019-02-22","2019-03-01","2019-03-08","2019-03-29","2019-04-05","2019-04-12","2019-04-19","2019-04-26","2019-05-03","2019-05-24","2019-05-31","2019-06-07","2019-06-14",{"$f":"IF(ISNA(VLOOKUP(AY$3,Tab_Vendredi,4,FALSE)),\"\",VLOOKUP(AY$3,Tab_Vendredi,4,FALSE))","v":"2019-06-21"},"2019-06-28","2019-07-05","","","","","","","","","","","","","","","",""]
["2018-08-26",0,1,{"$f":"IF($C9=1,IF(WEEKDAY($K9)=D$1,1+COUNTA(D$3:D8)-COUNTBLANK(D$3:D8),\"\"),\"\")","v":""},{"$f":"IF($C9=1,IF(WEEKDAY($K9)=E$1,1+COUNTA(E$3:E8)-COUNTBLANK(E$3:E8),\"\"),\"\")","v":""},{"$f":"IF($C9=1,IF(WEEKDAY($K9)=F$1,1+COUNTA(F$3:F8)-COUNTBLANK(F$3:F8),\"\"),\"\")","v":""},{"$f":"IF($C9=1,IF(WEEKDAY($K9)=G$1,1+COUNTA(G$3:G8)-COUNTBLANK(G$3:G8),\"\"),\"\")","v":""},{"$f":"IF($C9=1,IF(WEEKDAY($K9)=H$1,1+COUNTA(H$3:H8)-COUNTBLANK(H$3:H8),\"\"),\"\")","v":""},{"$f":"IF($C9=1,IF(WEEKDAY($K9)=I$1,1+COUNTA(I$3:I8)-COUNTBLANK(I$3:I8),\"\"),\"\")","v":""},{"$f":"IF($C9=1,IF(WEEKDAY($K9)=J$1,1+COUNTA(J$3:J8)-COUNTBLANK(J$3:J8),\"\"),\"\")","v":1},"2018-08-26","2019-03-09","2019-03-24",{"$f":"M9-L9&\" jours\"","v":"15 jours"},"3 ème période",null,null,"Samedi",{"$f":"IF(ISNA(VLOOKUP(S$3,Tab_Samedi,3,FALSE)),\"\",VLOOKUP(S$3,Tab_Samedi,3,FALSE))","v":"2018-08-25"},"2018-09-01","2018-09-08","2018-09-15","2018-09-22","2018-09-29","2018-10-06","2018-11-03",{"$f":"IF(ISNA(VLOOKUP(AA$3,Tab_Samedi,3,FALSE)),\"\",VLOOKUP(AA$3,Tab_Samedi,3,FALSE))","v":"2018-11-10"},"2018-11-17","2018-11-24","2018-12-01","2018-12-08","2018-12-15","2019-02-02","2019-02-09","2019-02-16","2019-02-23","2019-03-02","2019-03-30",{"$f":"IF(ISNA(VLOOKUP(AM$3,Tab_Samedi,3,FALSE)),\"\",VLOOKUP(AM$3,Tab_Samedi,3,FALSE))","v":"2019-04-06"},"2019-04-13","2019-04-27","2019-05-04","2019-05-25","2019-06-01","2019-06-08","2019-06-15","2019-06-22","2019-06-29","","",{"$f":"IF(ISNA(VLOOKUP(AY$3,Tab_Samedi,3,FALSE)),\"\",VLOOKUP(AY$3,Tab_Samedi,3,FALSE))","v":""},"","","","","","","","","","","","","","","","","",""]
["2018-08-27",1,1,{"$f":"IF($C10=1,IF(WEEKDAY($K10)=D$1,1+COUNTA(D$3:D9)-COUNTBLANK(D$3:D9),\"\"),\"\")","v":2},{"$f":"IF($C10=1,IF(WEEKDAY($K10)=E$1,1+COUNTA(E$3:E9)-COUNTBLANK(E$3:E9),\"\"),\"\")","v":""},{"$f":"IF($C10=1,IF(WEEKDAY($K10)=F$1,1+COUNTA(F$3:F9)-COUNTBLANK(F$3:F9),\"\"),\"\")","v":""},{"$f":"IF($C10=1,IF(WEEKDAY($K10)=G$1,1+COUNTA(G$3:G9)-COUNTBLANK(G$3:G9),\"\"),\"\")","v":""},{"$f":"IF($C10=1,IF(WEEKDAY($K10)=H$1,1+COUNTA(H$3:H9)-COUNTBLANK(H$3:H9),\"\"),\"\")","v":""},{"$f":"IF($C10=1,IF(WEEKDAY($K10)=I$1,1+COUNTA(I$3:I9)-COUNTBLANK(I$3:I9),\"\"),\"\")","v":""},{"$f":"IF($C10=1,IF(WEEKDAY($K10)=J$1,1+COUNTA(J$3:J9)-COUNTBLANK(J$3:J9),\"\"),\"\")","v":""},"2018-08-27","2019-05-07","2019-05-19",{"$f":"M10-L10&\" jours\"","v":"12 jours"},"4 ème période",null,null,"Dimanche",{"$f":"IF(ISNA(VLOOKUP(S$3,Tab_Dimanche,2,FALSE)),\"\",VLOOKUP(S$3,Tab_Dimanche,2,FALSE))","v":"2018-08-26"},"2018-09-02","2018-09-09","2018-09-16","2018-09-23","2018-09-30","2018-10-07","2018-11-04","2018-11-18","2018-11-25","2018-12-02","2018-12-09","2018-12-16","2019-02-03","2019-02-10","2019-02-17","2019-02-24","2019-03-03","2019-03-31","2019-04-07","2019-04-14","2019-04-21","2019-04-28","2019-05-05","2019-05-26","2019-06-02","2019-06-09","2019-06-16","2019-06-23","2019-06-30","","",{"$f":"IF(ISNA(VLOOKUP(AY$3,Tab_Dimanche,2,FALSE)),\"\",VLOOKUP(AY$3,Tab_Dimanche,2,FALSE))","v":""},"","","","","","","","","","","","","","","","","",""]
["2018-08-28",1,1,{"$f":"IF($C11=1,IF(WEEKDAY($K11)=D$1,1+COUNTA(D$3:D10)-COUNTBLANK(D$3:D10),\"\"),\"\")","v":""},{"$f":"IF($C11=1,IF(WEEKDAY($K11)=E$1,1+COUNTA(E$3:E10)-COUNTBLANK(E$3:E10),\"\"),\"\")","v":2},{"$f":"IF($C11=1,IF(WEEKDAY($K11)=F$1,1+COUNTA(F$3:F10)-COUNTBLANK(F$3:F10),\"\"),\"\")","v":""},{"$f":"IF($C11=1,IF(WEEKDAY($K11)=G$1,1+COUNTA(G$3:G10)-COUNTBLANK(G$3:G10),\"\"),\"\")","v":""},{"$f":"IF($C11=1,IF(WEEKDAY($K11)=H$1,1+COUNTA(H$3:H10)-COUNTBLANK(H$3:H10),\"\"),\"\")","v":""},{"$f":"IF($C11=1,IF(WEEKDAY($K11)=I$1,1+COUNTA(I$3:I10)-COUNTBLANK(I$3:I10),\"\"),\"\")","v":""},{"$f":"IF($C11=1,IF(WEEKDAY($K11)=J$1,1+COUNTA(J$3:J10)-COUNTBLANK(J$3:J10),\"\"),\"\")","v":""},"2018-08-28","2019-07-06","2019-08-17",{"$f":"M11-L11&\" jours\"","v":"42 jours"},"Hiver austral",{"$nulls":3},{"$f":"S3","v":1},{"$f":"T3","v":2},3,4,5,6,7,8,9,10,11,12,13,14,15,16,17,18,19,20,21,22,23,24,25,26,27,28,29,30,31,32,33,34,35,36,37]
["2018-08-29",1,1,{"$f":"IF($C12=1,IF(WEEKDAY($K12)=D$1,1+COUNTA(D$3:D11)-COUNTBLANK(D$3:D11),\"\"),\"\")","v":""},{"$f":"IF($C12=1,IF(WEEKDAY($K12)=E$1,1+COUNTA(E$3:E11)-COUNTBLANK(E$3:E11),\"\"),\"\")","v":""},{"$f":"IF($C12=1,IF(WEEKDAY($K12)=F$1,1+COUNTA(F$3:F11)-COUNTBLANK(F$3:F11),\"\"),\"\")","v":2},{"$f":"IF($C12=1,IF(WEEKDAY($K12)=G$1,1+COUNTA(G$3:G11)-COUNTBLANK(G$3:G11),\"\"),\"\")","v":""},{"$f":"IF($C12=1,IF(WEEKDAY($K12)=H$1,1+COUNTA(H$3:H11)-COUNTBLANK(H$3:H11),\"\"),\"\")","v":""},{"$f":"IF($C12=1,IF(WEEKDAY($K12)=I$1,1+COUNTA(I$3:I11)-COUNTBLANK(I$3:I11),\"\"),\"\")","v":""},{"$f":"IF($C12=1,IF(WEEKDAY($K12)=J$1,1+COUNTA(J$3:J11)-COUNTBLANK(J$3:J11),\"\"),\"\")","v":""},"2018-08-29",{"$nulls":6},"Num sem",{"$f":"AK3","v":19},20,21,22,23,24,25,26,27,28,29,30,31,32,33,34,{"$f":"BA3","v":35},36]
["2018-08-30",1,1,{"$f":"IF($C13=1,IF(WEEKDAY($K13)=D$1,1+COUNTA(D$3:D12)-COUNTBLANK(D$3:D12),\"\"),\"\")","v":""},{"$f":"IF($C13=1,IF(WEEKDAY($K13)=E$1,1+COUNTA(E$3:E12)-COUNTBLANK(E$3:E12),\"\"),\"\")","v":""},{"$f":"IF($C13=1,IF(WEEKDAY($K13)=F$1,1+COUNTA(F$3:F12)-COUNTBLANK(F$3:F12),\"\"),\"\")","v":""},{"$f":"IF($C13=1,IF(WEEKDAY($K13)=G$1,1+COUNTA(G$3:G12)-COUNTBLANK(G$3:G12),\"\"),\"\")","v":2},{"$f":"IF($C13=1,IF(WEEKDAY($K13)=H$1,1+COUNTA(H$3:H12)-COUNTBLANK(H$3:H12),\"\"),\"\")","v":""},{"$f":"IF($C13=1,IF(WEEKDAY($K13)=I$1,1+COUNTA(I$3:I12)-COUNTBLANK(I$3:I12),\"\"),\"\")","v":""},{"$f":"IF($C13=1,IF(WEEKDAY($K13)=J$1,1+COUNTA(J$3:J12)-COUNTBLANK(J$3:J12),\"\"),\"\")","v":""},"2018-08-30",{"$f":"IF(ISNA(VLOOKUP(S$3,Tab_Jeudi,5,FALSE)),\"Les périodes de congés que vous avez choisies sont inexactes\",\"\")","v":""},{"$nulls":5},"Lundi","2019-02-11","2019-02-18","2019-02-25","2019-03-04","2019-03-25","2019-04-01","2019-04-08","2019-04-15","2019-04-29","2019-05-06","2019-05-20","2019-05-27","2019-06-03","2019-06-10","2019-06-17","2019-06-24","2019-07-01",""]
["2018-08-31",1,1,{"$f":"IF($C14=1,IF(WEEKDAY($K14)=D$1,1+COUNTA(D$3:D13)-COUNTBLANK(D$3:D13),\"\"),\"\")","v":""},{"$f":"IF($C14=1,IF(WEEKDAY($K14)=E$1,1+COUNTA(E$3:E13)-COUNTBLANK(E$3:E13),\"\"),\"\")","v":""},{"$f":"IF($C14=1,IF(WEEKDAY($K14)=F$1,1+COUNTA(F$3:F13)-COUNTBLANK(F$3:F13),\"\"),\"\")","v":""},{"$f":"IF($C14=1,IF(WEEKDAY($K14)=G$1,1+COUNTA(G$3:G13)-COUNTBLANK(G$3:G13),\"\"),\"\")","v":""},{"$f":"IF($C14=1,IF(WEEKDAY($K14)=H$1,1+COUNTA(H$3:H13)-COUNTBLANK(H$3:H13),\"\"),\"\")","v":2},{"$f":"IF($C14=1,IF(WEEKDAY($K14)=I$1,1+COUNTA(I$3:I13)-COUNTBLANK(I$3:I13),\"\"),\"\")","v":""},{"$f":"IF($C14=1,IF(WEEKDAY($K14)=J$1,1+COUNTA(J$3:J13)-COUNTBLANK(J$3:J13),\"\"),\"\")","v":""},"2018-08-31","Ci-dessous les jours fériés",{"$nulls":5},"Mardi","2019-02-12","2019-02-19","2019-02-26","2019-03-05","2019-03-26","2019-04-02","2019-04-09","2019-04-16","2019-04-23","2019-04-30","2019-05-21","2019-05-28","2019-06-04","2019-06-11","2019-06-18","2019-06-25","2019-07-02","2019-08-20"]
["2018-09-01",0,1,{"$f":"IF($C15=1,IF(WEEKDAY($K15)=D$1,1+COUNTA(D$3:D14)-COUNTBLANK(D$3:D14),\"\"),\"\")","v":""},{"$f":"IF($C15=1,IF(WEEKDAY($K15)=E$1,1+COUNTA(E$3:E14)-COUNTBLANK(E$3:E14),\"\"),\"\")","v":""},{"$f":"IF($C15=1,IF(WEEKDAY($K15)=F$1,1+COUNTA(F$3:F14)-COUNTBLANK(F$3:F14),\"\"),\"\")","v":""},{"$f":"IF($C15=1,IF(WEEKDAY($K15)=G$1,1+COUNTA(G$3:G14)-COUNTBLANK(G$3:G14),\"\"),\"\")","v":""},{"$f":"IF($C15=1,IF(WEEKDAY($K15)=H$1,1+COUNTA(H$3:H14)-COUNTBLANK(H$3:H14),\"\"),\"\")","v":""},{"$f":"IF($C15=1,IF(WEEKDAY($K15)=I$1,1+COUNTA(I$3:I14)-COUNTBLANK(I$3:I14),\"\"),\"\")","v":2},{"$f":"IF($C15=1,IF(WEEKDAY($K15)=J$1,1+COUNTA(J$3:J14)-COUNTBLANK(J$3:J14),\"\"),\"\")","v":""},"2018-09-01",{"$f":"DATE(YEAR(M3),11,11)","v":"2018-11-11"},"Armistice 1918",{"$nulls":4},"Mercredi","2019-02-13","2019-02-20","2019-02-27","2019-03-06","2019-03-27","2019-04-03","2019-04-10","2019-04-17","2019-04-24","2019-05-22","2019-05-29","2019-06-05","2019-06-12","2019-06-19","2019-06-26","2019-07-03","",""]
["2018-09-02",0,1,{"$f":"IF($C16=1,IF(WEEKDAY($K16)=D$1,1+COUNTA(D$3:D15)-COUNTBLANK(D$3:D15),\"\"),\"\")","v":""},{"$f":"IF($C16=1,IF(WEEKDAY($K16)=E$1,1+COUNTA(E$3:E15)-COUNTBLANK(E$3:E15),\"\"),\"\")","v":""},{"$f":"IF($C16=1,IF(WEEKDAY($K16)=F$1,1+COUNTA(F$3:F15)-COUNTBLANK(F$3:F15),\"\"),\"\")","v":""},{"$f":"IF($C16=1,IF(WEEKDAY($K16)=G$1,1+COUNTA(G$3:G15)-COUNTBLANK(G$3:G15),\"\"),\"\")","v":""},{"$f":"IF($C16=1,IF(WEEKDAY($K16)=H$1,1+COUNTA(H$3:H15)-COUNTBLANK(H$3:H15),\"\"),\"\")","v":""},{"$f":"IF($C16=1,IF(WEEKDAY($K16)=I$1,1+COUNTA(I$3:I15)-COUNTBLANK(I$3:I15),\"\"),\"\")","v":""},{"$f":"IF($C16=1,IF(WEEKDAY($K16)=J$1,1+COUNTA(J$3:J15)-COUNTBLANK(J$3:J15),\"\"),\"\")","v":2},"2018-09-02",{"$f":"1+IF(MOD(19*MOD(YEAR(M1),19)+24,30)+MOD(2*MOD(YEAR(M1),4)+4*MOD(YEAR(M1),7)+6*\nMOD(19*MOD(YEAR(M1),19)+24,30)+5,7)-9<=0,DATE(YEAR(M1),3,22+MOD(19*MOD(YEAR(M1),\n19)+24,30)+MOD(2*MOD(YEAR(M1),4)+4*MOD(YEAR(M1),7)+6*MOD(19*MOD(YEAR(M1),19)+24,\n30)+5,7)),DATE(YEAR(M1),4,MOD(19*MOD(YEAR(M1),19)+24,30)+MOD(2*MOD(YEAR(M1),4)+4*\nMOD(YEAR(M1),7)+6*MOD(19*MOD(YEAR(M1),19)+24,30)+5,7)-9))","v":"2019-04-22"},"lundi de Pâque",{"$nulls":4},"Jeudi","2019-02-28","2019-03-07","2019-03-28","2019-04-04","2019-04-11","2019-04-18","2019-04-25","2019-05-02","2019-05-23","2019-06-06","2019-06-13","2019-06-20","2019-06-27","2019-07-04","","","",""]
["2018-09-03",1,1,{"$f":"IF($C17=1,IF(WEEKDAY($K17)=D$1,1+COUNTA(D$3:D16)-COUNTBLANK(D$3:D16),\"\"),\"\")","v":3},{"$f":"IF($C17=1,IF(WEEKDAY($K17)=E$1,1+COUNTA(E$3:E16)-COUNTBLANK(E$3:E16),\"\"),\"\")","v":""},{"$f":"IF($C17=1,IF(WEEKDAY($K17)=F$1,1+COUNTA(F$3:F16)-COUNTBLANK(F$3:F16),\"\"),\"\")","v":""},{"$f":"IF($C17=1,IF(WEEKDAY($K17)=G$1,1+COUNTA(G$3:G16)-COUNTBLANK(G$3:G16),\"\"),\"\")","v":""},{"$f":"IF($C17=1,IF(WEEKDAY($K17)=H$1,1+COUNTA(H$3:H16)-COUNTBLANK(H$3:H16),\"\"),\"\")","v":""},{"$f":"IF($C17=1,IF(WEEKDAY($K17)=I$1,1+COUNTA(I$3:I16)-COUNTBLANK(I$3:I16),\"\"),\"\")","v":""},{"$f":"IF($C17=1,IF(WEEKDAY($K17)=J$1,1+COUNTA(J$3:J16)-COUNTBLANK(J$3:J16),\"\"),\"\")","v":""},"2018-09-03",{"$f":"DATE(YEAR(M3)+1,5,1)","v":"2019-05-01"},"Fête du travail",{"$nulls":4},"Vendredi","2019-02-15","2019-02-22","2019-03-01","2019-03-08","2019-03-29","2019-04-05","2019-04-12","2019-04-19","2019-04-26","2019-05-03","2019-05-24","2019-05-31","2019-06-07","2019-06-14","2019-06-21","2019-06-28","2019-07-05",""]
["2018-09-04",1,1,{"$f":"IF($C18=1,IF(WEEKDAY($K18)=D$1,1+COUNTA(D$3:D17)-COUNTBLANK(D$3:D17),\"\"),\"\")","v":""},{"$f":"IF($C18=1,IF(WEEKDAY($K18)=E$1,1+COUNTA(E$3:E17)-COUNTBLANK(E$3:E17),\"\"),\"\")","v":3},{"$f":"IF($C18=1,IF(WEEKDAY($K18)=F$1,1+COUNTA(F$3:F17)-COUNTBLANK(F$3:F17),\"\"),\"\")","v":""},{"$f":"IF($C18=1,IF(WEEKDAY($K18)=G$1,1+COUNTA(G$3:G17)-COUNTBLANK(G$3:G17),\"\"),\"\")","v":""},{"$f":"IF($C18=1,IF(WEEKDAY($K18)=H$1,1+COUNTA(H$3:H17)-COUNTBLANK(H$3:H17),\"\"),\"\")","v":""},{"$f":"IF($C18=1,IF(WEEKDAY($K18)=I$1,1+COUNTA(I$3:I17)-COUNTBLANK(I$3:I17),\"\"),\"\")","v":""},{"$f":"IF($C18=1,IF(WEEKDAY($K18)=J$1,1+COUNTA(J$3:J17)-COUNTBLANK(J$3:J17),\"\"),\"\")","v":""},"2018-09-04",{"$f":"DATE(YEAR(M3)+1,5,8)","v":"2019-05-08"},"Fin deuxième guerre mondiale",{"$nulls":4},"Samedi","2019-03-02","2019-03-30","2019-04-06","2019-04-13","2019-04-27","2019-05-04","2019-05-25","2019-06-01","2019-06-08","2019-06-15","2019-06-22","2019-06-29","","","","","",""]
["2018-09-05",1,1,{"$f":"IF($C19=1,IF(WEEKDAY($K19)=D$1,1+COUNTA(D$3:D18)-COUNTBLANK(D$3:D18),\"\"),\"\")","v":""},{"$f":"IF($C19=1,IF(WEEKDAY($K19)=E$1,1+COUNTA(E$3:E18)-COUNTBLANK(E$3:E18),\"\"),\"\")","v":""},{"$f":"IF($C19=1,IF(WEEKDAY($K19)=F$1,1+COUNTA(F$3:F18)-COUNTBLANK(F$3:F18),\"\"),\"\")","v":3},{"$f":"IF($C19=1,IF(WEEKDAY($K19)=G$1,1+COUNTA(G$3:G18)-COUNTBLANK(G$3:G18),\"\"),\"\")","v":""},{"$f":"IF($C19=1,IF(WEEKDAY($K19)=H$1,1+COUNTA(H$3:H18)-COUNTBLANK(H$3:H18),\"\"),\"\")","v":""},{"$f":"IF($C19=1,IF(WEEKDAY($K19)=I$1,1+COUNTA(I$3:I18)-COUNTBLANK(I$3:I18),\"\"),\"\")","v":""},{"$f":"IF($C19=1,IF(WEEKDAY($K19)=J$1,1+COUNTA(J$3:J18)-COUNTBLANK(J$3:J18),\"\"),\"\")","v":""},"2018-09-05",null,"Lundi de pentecôte - Jour travaillé",{"$nulls":4},"Dimanche","2019-03-31","2019-04-07","2019-04-14","2019-04-21","2019-04-28","2019-05-05","2019-05-26","2019-06-02","2019-06-09","2019-06-16","2019-06-23","2019-06-30","","","","","",""]
["2018-09-06",1,1,{"$f":"IF($C20=1,IF(WEEKDAY($K20)=D$1,1+COUNTA(D$3:D19)-COUNTBLANK(D$3:D19),\"\"),\"\")","v":""},{"$f":"IF($C20=1,IF(WEEKDAY($K20)=E$1,1+COUNTA(E$3:E19)-COUNTBLANK(E$3:E19),\"\"),\"\")","v":""},{"$f":"IF($C20=1,IF(WEEKDAY($K20)=F$1,1+COUNTA(F$3:F19)-COUNTBLANK(F$3:F19),\"\"),\"\")","v":""},{"$f":"IF($C20=1,IF(WEEKDAY($K20)=G$1,1+COUNTA(G$3:G19)-COUNTBLANK(G$3:G19),\"\"),\"\")","v":3},{"$f":"IF($C20=1,IF(WEEKDAY($K20)=H$1,1+COUNTA(H$3:H19)-COUNTBLANK(H$3:H19),\"\"),\"\")","v":""},{"$f":"IF($C20=1,IF(WEEKDAY($K20)=I$1,1+COUNTA(I$3:I19)-COUNTBLANK(I$3:I19),\"\"),\"\")","v":""},{"$f":"IF($C20=1,IF(WEEKDAY($K20)=J$1,1+COUNTA(J$3:J19)-COUNTBLANK(J$3:J19),\"\"),\"\")","v":""},"2018-09-06",{"$f":"DATE(YEAR(M3)+1,7,14)","v":"2019-07-14"},"Prise de la Bastille"]
["2018-09-07",1,1,{"$f":"IF($C21=1,IF(WEEKDAY($K21)=D$1,1+COUNTA(D$3:D20)-COUNTBLANK(D$3:D20),\"\"),\"\")","v":""},{"$f":"IF($C21=1,IF(WEEKDAY($K21)=E$1,1+COUNTA(E$3:E20)-COUNTBLANK(E$3:E20),\"\"),\"\")","v":""},{"$f":"IF($C21=1,IF(WEEKDAY($K21)=F$1,1+COUNTA(F$3:F20)-COUNTBLANK(F$3:F20),\"\"),\"\")","v":""},{"$f":"IF($C21=1,IF(WEEKDAY($K21)=G$1,1+COUNTA(G$3:G20)-COUNTBLANK(G$3:G20),\"\"),\"\")","v":""},{"$f":"IF($C21=1,IF(WEEKDAY($K21)=H$1,1+COUNTA(H$3:H20)-COUNTBLANK(H$3:H20),\"\"),\"\")","v":3},{"$f":"IF($C21=1,IF(WEEKDAY($K21)=I$1,1+COUNTA(I$3:I20)-COUNTBLANK(I$3:I20),\"\"),\"\")","v":""},{"$f":"IF($C21=1,IF(WEEKDAY($K21)=J$1,1+COUNTA(J$3:J20)-COUNTBLANK(J$3:J20),\"\"),\"\")","v":""},"2018-09-07",{"$f":"DATE(YEAR(M3),11,1)","v":"2018-11-01"},"Toussaint"]
["2018-09-08",0,1,{"$f":"IF($C22=1,IF(WEEKDAY($K22)=D$1,1+COUNTA(D$3:D21)-COUNTBLANK(D$3:D21),\"\"),\"\")","v":""},{"$f":"IF($C22=1,IF(WEEKDAY($K22)=E$1,1+COUNTA(E$3:E21)-COUNTBLANK(E$3:E21),\"\"),\"\")","v":""},{"$f":"IF($C22=1,IF(WEEKDAY($K22)=F$1,1+COUNTA(F$3:F21)-COUNTBLANK(F$3:F21),\"\"),\"\")","v":""},{"$f":"IF($C22=1,IF(WEEKDAY($K22)=G$1,1+COUNTA(G$3:G21)-COUNTBLANK(G$3:G21),\"\"),\"\")","v":""},{"$f":"IF($C22=1,IF(WEEKDAY($K22)=H$1,1+COUNTA(H$3:H21)-COUNTBLANK(H$3:H21),\"\"),\"\")","v":""},{"$f":"IF($C22=1,IF(WEEKDAY($K22)=I$1,1+COUNTA(I$3:I21)-COUNTBLANK(I$3:I21),\"\"),\"\")","v":3},{"$f":"IF($C22=1,IF(WEEKDAY($K22)=J$1,1+COUNTA(J$3:J21)-COUNTBLANK(J$3:J21),\"\"),\"\")","v":""},"2018-09-08",null,"pont du 1 nov",{"$nulls":5},"recherche semaine A ou B par le mod du num semaine",{"$nulls":5},"La première semaine élève est une semaine",{"$nulls":3},"B"]
["2018-09-09",0,1,{"$f":"IF($C23=1,IF(WEEKDAY($K23)=D$1,1+COUNTA(D$3:D22)-COUNTBLANK(D$3:D22),\"\"),\"\")","v":""},{"$f":"IF($C23=1,IF(WEEKDAY($K23)=E$1,1+COUNTA(E$3:E22)-COUNTBLANK(E$3:E22),\"\"),\"\")","v":""},{"$f":"IF($C23=1,IF(WEEKDAY($K23)=F$1,1+COUNTA(F$3:F22)-COUNTBLANK(F$3:F22),\"\"),\"\")","v":""},{"$f":"IF($C23=1,IF(WEEKDAY($K23)=G$1,1+COUNTA(G$3:G22)-COUNTBLANK(G$3:G22),\"\"),\"\")","v":""},{"$f":"IF($C23=1,IF(WEEKDAY($K23)=H$1,1+COUNTA(H$3:H22)-COUNTBLANK(H$3:H22),\"\"),\"\")","v":""},{"$f":"IF($C23=1,IF(WEEKDAY($K23)=I$1,1+COUNTA(I$3:I22)-COUNTBLANK(I$3:I22),\"\"),\"\")","v":""},{"$f":"IF($C23=1,IF(WEEKDAY($K23)=J$1,1+COUNTA(J$3:J22)-COUNTBLANK(J$3:J22),\"\"),\"\")","v":3},"2018-09-09",{"$f":"DATE(YEAR(M3),12,20)","v":"2018-12-20"},"abolition de l'esclavage"]
["2018-09-10",1,1,{"$f":"IF($C24=1,IF(WEEKDAY($K24)=D$1,1+COUNTA(D$3:D23)-COUNTBLANK(D$3:D23),\"\"),\"\")","v":4},{"$f":"IF($C24=1,IF(WEEKDAY($K24)=E$1,1+COUNTA(E$3:E23)-COUNTBLANK(E$3:E23),\"\"),\"\")","v":""},{"$f":"IF($C24=1,IF(WEEKDAY($K24)=F$1,1+COUNTA(F$3:F23)-COUNTBLANK(F$3:F23),\"\"),\"\")","v":""},{"$f":"IF($C24=1,IF(WEEKDAY($K24)=G$1,1+COUNTA(G$3:G23)-COUNTBLANK(G$3:G23),\"\"),\"\")","v":""},{"$f":"IF($C24=1,IF(WEEKDAY($K24)=H$1,1+COUNTA(H$3:H23)-COUNTBLANK(H$3:H23),\"\"),\"\")","v":""},{"$f":"IF($C24=1,IF(WEEKDAY($K24)=I$1,1+COUNTA(I$3:I23)-COUNTBLANK(I$3:I23),\"\"),\"\")","v":""},{"$f":"IF($C24=1,IF(WEEKDAY($K24)=J$1,1+COUNTA(J$3:J23)-COUNTBLANK(J$3:J23),\"\"),\"\")","v":""},"2018-09-10",{"$f":"L16-2","v":"2019-04-20"},"Pont pour Pâque",{"$nulls":4},"Lundi",{"$f":"IF($AC$22=\"A\",IF(S4=\"\",\"\",IF(MOD(WEEKNUM(S4,2),2)>0.1,\"A\",\"B\")),IF(S4=\"\",\"\",IF(MOD(WEEKNUM(S4,2),2)>0.1,\"B\",\"A\")))","v":"A"},"B","A","B","A","B","A","B","A","B","A","B","A","B","A","B","B","A","B","A","B","A","B","A","B","A","A","B","B","A","B","A","B","A","B",""]
["2018-09-11",1,1,{"$f":"IF($C25=1,IF(WEEKDAY($K25)=D$1,1+COUNTA(D$3:D24)-COUNTBLANK(D$3:D24),\"\"),\"\")","v":""},{"$f":"IF($C25=1,IF(WEEKDAY($K25)=E$1,1+COUNTA(E$3:E24)-COUNTBLANK(E$3:E24),\"\"),\"\")","v":4},{"$f":"IF($C25=1,IF(WEEKDAY($K25)=F$1,1+COUNTA(F$3:F24)-COUNTBLANK(F$3:F24),\"\"),\"\")","v":""},{"$f":"IF($C25=1,IF(WEEKDAY($K25)=G$1,1+COUNTA(G$3:G24)-COUNTBLANK(G$3:G24),\"\"),\"\")","v":""},{"$f":"IF($C25=1,IF(WEEKDAY($K25)=H$1,1+COUNTA(H$3:H24)-COUNTBLANK(H$3:H24),\"\"),\"\")","v":""},{"$f":"IF($C25=1,IF(WEEKDAY($K25)=I$1,1+COUNTA(I$3:I24)-COUNTBLANK(I$3:I24),\"\"),\"\")","v":""},{"$f":"IF($C25=1,IF(WEEKDAY($K25)=J$1,1+COUNTA(J$3:J24)-COUNTBLANK(J$3:J24),\"\"),\"\")","v":""},"2018-09-11",{"$f":"L16+38","v":"2019-05-30"},"Ascension - Jour travaillé ?",{"$nulls":4},"Mardi","A","B","A","B","A","B","A","B","A","B","A","B","A","B","A","B","B","A","B","A","B","A","B","A","B","A","B","A","B","A","B","A","B","A","B","A"]
["2018-09-12",1,1,{"$f":"IF($C26=1,IF(WEEKDAY($K26)=D$1,1+COUNTA(D$3:D25)-COUNTBLANK(D$3:D25),\"\"),\"\")","v":""},{"$f":"IF($C26=1,IF(WEEKDAY($K26)=E$1,1+COUNTA(E$3:E25)-COUNTBLANK(E$3:E25),\"\"),\"\")","v":""},{"$f":"IF($C26=1,IF(WEEKDAY($K26)=F$1,1+COUNTA(F$3:F25)-COUNTBLANK(F$3:F25),\"\"),\"\")","v":4},{"$f":"IF($C26=1,IF(WEEKDAY($K26)=G$1,1+COUNTA(G$3:G25)-COUNTBLANK(G$3:G25),\"\"),\"\")","v":""},{"$f":"IF($C26=1,IF(WEEKDAY($K26)=H$1,1+COUNTA(H$3:H25)-COUNTBLANK(H$3:H25),\"\"),\"\")","v":""},{"$f":"IF($C26=1,IF(WEEKDAY($K26)=I$1,1+COUNTA(I$3:I25)-COUNTBLANK(I$3:I25),\"\"),\"\")","v":""},{"$f":"IF($C26=1,IF(WEEKDAY($K26)=J$1,1+COUNTA(J$3:J25)-COUNTBLANK(J$3:J25),\"\"),\"\")","v":""},"2018-09-12",{"$nulls":6},"Mercredi","A","B","A","B","A","B","A","B","A","B","A","B","A","B","A","B","B","A","B","A","B","A","B","A","B","A","B","B","A","B","A","B","A","B","",""]
["2018-09-13",1,1,{"$f":"IF($C27=1,IF(WEEKDAY($K27)=D$1,1+COUNTA(D$3:D26)-COUNTBLANK(D$3:D26),\"\"),\"\")","v":""},{"$f":"IF($C27=1,IF(WEEKDAY($K27)=E$1,1+COUNTA(E$3:E26)-COUNTBLANK(E$3:E26),\"\"),\"\")","v":""},{"$f":"IF($C27=1,IF(WEEKDAY($K27)=F$1,1+COUNTA(F$3:F26)-COUNTBLANK(F$3:F26),\"\"),\"\")","v":""},{"$f":"IF($C27=1,IF(WEEKDAY($K27)=G$1,1+COUNTA(G$3:G26)-COUNTBLANK(G$3:G26),\"\"),\"\")","v":4},{"$f":"IF($C27=1,IF(WEEKDAY($K27)=H$1,1+COUNTA(H$3:H26)-COUNTBLANK(H$3:H26),\"\"),\"\")","v":""},{"$f":"IF($C27=1,IF(WEEKDAY($K27)=I$1,1+COUNTA(I$3:I26)-COUNTBLANK(I$3:I26),\"\"),\"\")","v":""},{"$f":"IF($C27=1,IF(WEEKDAY($K27)=J$1,1+COUNTA(J$3:J26)-COUNTBLANK(J$3:J26),\"\"),\"\")","v":""},"2018-09-13",{"$f":"M11+1","v":"2019-08-18"},"Départ année suivante J 1",{"$nulls":4},"Jeudi","A","B","A","B","A","B","A","B","B","A","B","A","B","A","B","A","B","A","B","A","B","A","B","A","B","A","B","B","A","B","A","B","","","",""]
["2018-09-14",1,1,{"$f":"IF($C28=1,IF(WEEKDAY($K28)=D$1,1+COUNTA(D$3:D27)-COUNTBLANK(D$3:D27),\"\"),\"\")","v":""},{"$f":"IF($C28=1,IF(WEEKDAY($K28)=E$1,1+COUNTA(E$3:E27)-COUNTBLANK(E$3:E27),\"\"),\"\")","v":""},{"$f":"IF($C28=1,IF(WEEKDAY($K28)=F$1,1+COUNTA(F$3:F27)-COUNTBLANK(F$3:F27),\"\"),\"\")","v":""},{"$f":"IF($C28=1,IF(WEEKDAY($K28)=G$1,1+COUNTA(G$3:G27)-COUNTBLANK(G$3:G27),\"\"),\"\")","v":""},{"$f":"IF($C28=1,IF(WEEKDAY($K28)=H$1,1+COUNTA(H$3:H27)-COUNTBLANK(H$3:H27),\"\"),\"\")","v":4},{"$f":"IF($C28=1,IF(WEEKDAY($K28)=I$1,1+COUNTA(I$3:I27)-COUNTBLANK(I$3:I27),\"\"),\"\")","v":""},{"$f":"IF($C28=1,IF(WEEKDAY($K28)=J$1,1+COUNTA(J$3:J27)-COUNTBLANK(J$3:J27),\"\"),\"\")","v":""},"2018-09-14",{"$f":"L27+1","v":"2019-08-19"},"Départ année suivante J 2",{"$nulls":4},"Vendredi","A","B","A","B","A","B","A","B","A","B","A","B","A","B","A","B","B","A","B","A","B","A","B","A","B","A","B","A","B","A","B","A","B","A","B",""]
["2018-09-15",0,1,{"$f":"IF($C29=1,IF(WEEKDAY($K29)=D$1,1+COUNTA(D$3:D28)-COUNTBLANK(D$3:D28),\"\"),\"\")","v":""},{"$f":"IF($C29=1,IF(WEEKDAY($K29)=E$1,1+COUNTA(E$3:E28)-COUNTBLANK(E$3:E28),\"\"),\"\")","v":""},{"$f":"IF($C29=1,IF(WEEKDAY($K29)=F$1,1+COUNTA(F$3:F28)-COUNTBLANK(F$3:F28),\"\"),\"\")","v":""},{"$f":"IF($C29=1,IF(WEEKDAY($K29)=G$1,1+COUNTA(G$3:G28)-COUNTBLANK(G$3:G28),\"\"),\"\")","v":""},{"$f":"IF($C29=1,IF(WEEKDAY($K29)=H$1,1+COUNTA(H$3:H28)-COUNTBLANK(H$3:H28),\"\"),\"\")","v":""},{"$f":"IF($C29=1,IF(WEEKDAY($K29)=I$1,1+COUNTA(I$3:I28)-COUNTBLANK(I$3:I28),\"\"),\"\")","v":4},{"$f":"IF($C29=1,IF(WEEKDAY($K29)=J$1,1+COUNTA(J$3:J28)-COUNTBLANK(J$3:J28),\"\"),\"\")","v":""},"2018-09-15",{"$nulls":6},"Samedi","A","B","A","B","A","B","A","A","B","A","B","A","B","A","B","A","B","A","B","B","A","B","B","A","B","A","B","A","B","A","","","","","",""]
["2018-09-16",0,1,{"$f":"IF($C30=1,IF(WEEKDAY($K30)=D$1,1+COUNTA(D$3:D29)-COUNTBLANK(D$3:D29),\"\"),\"\")","v":""},{"$f":"IF($C30=1,IF(WEEKDAY($K30)=E$1,1+COUNTA(E$3:E29)-COUNTBLANK(E$3:E29),\"\"),\"\")","v":""},{"$f":"IF($C30=1,IF(WEEKDAY($K30)=F$1,1+COUNTA(F$3:F29)-COUNTBLANK(F$3:F29),\"\"),\"\")","v":""},{"$f":"IF($C30=1,IF(WEEKDAY($K30)=G$1,1+COUNTA(G$3:G29)-COUNTBLANK(G$3:G29),\"\"),\"\")","v":""},{"$f":"IF($C30=1,IF(WEEKDAY($K30)=H$1,1+COUNTA(H$3:H29)-COUNTBLANK(H$3:H29),\"\"),\"\")","v":""},{"$f":"IF($C30=1,IF(WEEKDAY($K30)=I$1,1+COUNTA(I$3:I29)-COUNTBLANK(I$3:I29),\"\"),\"\")","v":""},{"$f":"IF($C30=1,IF(WEEKDAY($K30)=J$1,1+COUNTA(J$3:J29)-COUNTBLANK(J$3:J29),\"\"),\"\")","v":4},"2018-09-16",{"$nulls":6},"Dimanche","A","B","A","B","A","B","A","A","A","B","A","B","A","B","A","B","A","B","B","A","B","A","B","A","B","A","B","A","B","A","","","","","",""]
["2018-09-17",1,1,{"$f":"IF($C31=1,IF(WEEKDAY($K31)=D$1,1+COUNTA(D$3:D30)-COUNTBLANK(D$3:D30),\"\"),\"\")","v":5},{"$f":"IF($C31=1,IF(WEEKDAY($K31)=E$1,1+COUNTA(E$3:E30)-COUNTBLANK(E$3:E30),\"\"),\"\")","v":""},{"$f":"IF($C31=1,IF(WEEKDAY($K31)=F$1,1+COUNTA(F$3:F30)-COUNTBLANK(F$3:F30),\"\"),\"\")","v":""},{"$f":"IF($C31=1,IF(WEEKDAY($K31)=G$1,1+COUNTA(G$3:G30)-COUNTBLANK(G$3:G30),\"\"),\"\")","v":""},{"$f":"IF($C31=1,IF(WEEKDAY($K31)=H$1,1+COUNTA(H$3:H30)-COUNTBLANK(H$3:H30),\"\"),\"\")","v":""},{"$f":"IF($C31=1,IF(WEEKDAY($K31)=I$1,1+COUNTA(I$3:I30)-COUNTBLANK(I$3:I30),\"\"),\"\")","v":""},{"$f":"IF($C31=1,IF(WEEKDAY($K31)=J$1,1+COUNTA(J$3:J30)-COUNTBLANK(J$3:J30),\"\"),\"\")","v":""},"2018-09-17"]
["2018-09-18",1,1,{"$f":"IF($C32=1,IF(WEEKDAY($K32)=D$1,1+COUNTA(D$3:D31)-COUNTBLANK(D$3:D31),\"\"),\"\")","v":""},{"$f":"IF($C32=1,IF(WEEKDAY($K32)=E$1,1+COUNTA(E$3:E31)-COUNTBLANK(E$3:E31),\"\"),\"\")","v":5},{"$f":"IF($C32=1,IF(WEEKDAY($K32)=F$1,1+COUNTA(F$3:F31)-COUNTBLANK(F$3:F31),\"\"),\"\")","v":""},{"$f":"IF($C32=1,IF(WEEKDAY($K32)=G$1,1+COUNTA(G$3:G31)-COUNTBLANK(G$3:G31),\"\"),\"\")","v":""},{"$f":"IF($C32=1,IF(WEEKDAY($K32)=H$1,1+COUNTA(H$3:H31)-COUNTBLANK(H$3:H31),\"\"),\"\")","v":""},{"$f":"IF($C32=1,IF(WEEKDAY($K32)=I$1,1+COUNTA(I$3:I31)-COUNTBLANK(I$3:I31),\"\"),\"\")","v":""},{"$f":"IF($C32=1,IF(WEEKDAY($K32)=J$1,1+COUNTA(J$3:J31)-COUNTBLANK(J$3:J31),\"\"),\"\")","v":""},"2018-09-18"]
["2018-09-19",1,1,{"$f":"IF($C33=1,IF(WEEKDAY($K33)=D$1,1+COUNTA(D$3:D32)-COUNTBLANK(D$3:D32),\"\"),\"\")","v":""},{"$f":"IF($C33=1,IF(WEEKDAY($K33)=E$1,1+COUNTA(E$3:E32)-COUNTBLANK(E$3:E32),\"\"),\"\")","v":""},{"$f":"IF($C33=1,IF(WEEKDAY($K33)=F$1,1+COUNTA(F$3:F32)-COUNTBLANK(F$3:F32),\"\"),\"\")","v":5},{"$f":"IF($C33=1,IF(WEEKDAY($K33)=G$1,1+COUNTA(G$3:G32)-COUNTBLANK(G$3:G32),\"\"),\"\")","v":""},{"$f":"IF($C33=1,IF(WEEKDAY($K33)=H$1,1+COUNTA(H$3:H32)-COUNTBLANK(H$3:H32),\"\"),\"\")","v":""},{"$f":"IF($C33=1,IF(WEEKDAY($K33)=I$1,1+COUNTA(I$3:I32)-COUNTBLANK(I$3:I32),\"\"),\"\")","v":""},{"$f":"IF($C33=1,IF(WEEKDAY($K33)=J$1,1+COUNTA(J$3:J32)-COUNTBLANK(J$3:J32),\"\"),\"\")","v":""},"2018-09-19"]
["2018-09-20",1,1,{"$f":"IF($C34=1,IF(WEEKDAY($K34)=D$1,1+COUNTA(D$3:D33)-COUNTBLANK(D$3:D33),\"\"),\"\")","v":""},{"$f":"IF($C34=1,IF(WEEKDAY($K34)=E$1,1+COUNTA(E$3:E33)-COUNTBLANK(E$3:E33),\"\"),\"\")","v":""},{"$f":"IF($C34=1,IF(WEEKDAY($K34)=F$1,1+COUNTA(F$3:F33)-COUNTBLANK(F$3:F33),\"\"),\"\")","v":""},{"$f":"IF($C34=1,IF(WEEKDAY($K34)=G$1,1+COUNTA(G$3:G33)-COUNTBLANK(G$3:G33),\"\"),\"\")","v":5},{"$f":"IF($C34=1,IF(WEEKDAY($K34)=H$1,1+COUNTA(H$3:H33)-COUNTBLANK(H$3:H33),\"\"),\"\")","v":""},{"$f":"IF($C34=1,IF(WEEKDAY($K34)=I$1,1+COUNTA(I$3:I33)-COUNTBLANK(I$3:I33),\"\"),\"\")","v":""},{"$f":"IF($C34=1,IF(WEEKDAY($K34)=J$1,1+COUNTA(J$3:J33)-COUNTBLANK(J$3:J33),\"\"),\"\")","v":""},"2018-09-20"]
["2018-09-21",1,1,{"$f":"IF($C35=1,IF(WEEKDAY($K35)=D$1,1+COUNTA(D$3:D34)-COUNTBLANK(D$3:D34),\"\"),\"\")","v":""},{"$f":"IF($C35=1,IF(WEEKDAY($K35)=E$1,1+COUNTA(E$3:E34)-COUNTBLANK(E$3:E34),\"\"),\"\")","v":""},{"$f":"IF($C35=1,IF(WEEKDAY($K35)=F$1,1+COUNTA(F$3:F34)-COUNTBLANK(F$3:F34),\"\"),\"\")","v":""},{"$f":"IF($C35=1,IF(WEEKDAY($K35)=G$1,1+COUNTA(G$3:G34)-COUNTBLANK(G$3:G34),\"\"),\"\")","v":""},{"$f":"IF($C35=1,IF(WEEKDAY($K35)=H$1,1+COUNTA(H$3:H34)-COUNTBLANK(H$3:H34),\"\"),\"\")","v":5},{"$f":"IF($C35=1,IF(WEEKDAY($K35)=I$1,1+COUNTA(I$3:I34)-COUNTBLANK(I$3:I34),\"\"),\"\")","v":""},{"$f":"IF($C35=1,IF(WEEKDAY($K35)=J$1,1+COUNTA(J$3:J34)-COUNTBLANK(J$3:J34),\"\"),\"\")","v":""},"2018-09-21",{"$nulls":6},"Numéro de la séance en fonction de la date"]
["2018-09-22",0,1,{"$f":"IF($C36=1,IF(WEEKDAY($K36)=D$1,1+COUNTA(D$3:D35)-COUNTBLANK(D$3:D35),\"\"),\"\")","v":""},{"$f":"IF($C36=1,IF(WEEKDAY($K36)=E$1,1+COUNTA(E$3:E35)-COUNTBLANK(E$3:E35),\"\"),\"\")","v":""},{"$f":"IF($C36=1,IF(WEEKDAY($K36)=F$1,1+COUNTA(F$3:F35)-COUNTBLANK(F$3:F35),\"\"),\"\")","v":""},{"$f":"IF($C36=1,IF(WEEKDAY($K36)=G$1,1+COUNTA(G$3:G35)-COUNTBLANK(G$3:G35),\"\"),\"\")","v":""},{"$f":"IF($C36=1,IF(WEEKDAY($K36)=H$1,1+COUNTA(H$3:H35)-COUNTBLANK(H$3:H35),\"\"),\"\")","v":""},{"$f":"IF($C36=1,IF(WEEKDAY($K36)=I$1,1+COUNTA(I$3:I35)-COUNTBLANK(I$3:I35),\"\"),\"\")","v":5},{"$f":"IF($C36=1,IF(WEEKDAY($K36)=J$1,1+COUNTA(J$3:J35)-COUNTBLANK(J$3:J35),\"\"),\"\")","v":""},"2018-09-22",{"$nulls":6},{"$f":"T2","v":"2018  -  2019      TECHNOLOGIE"}]
["2018-09-23",0,1,{"$f":"IF($C37=1,IF(WEEKDAY($K37)=D$1,1+COUNTA(D$3:D36)-COUNTBLANK(D$3:D36),\"\"),\"\")","v":""},{"$f":"IF($C37=1,IF(WEEKDAY($K37)=E$1,1+COUNTA(E$3:E36)-COUNTBLANK(E$3:E36),\"\"),\"\")","v":""},{"$f":"IF($C37=1,IF(WEEKDAY($K37)=F$1,1+COUNTA(F$3:F36)-COUNTBLANK(F$3:F36),\"\"),\"\")","v":""},{"$f":"IF($C37=1,IF(WEEKDAY($K37)=G$1,1+COUNTA(G$3:G36)-COUNTBLANK(G$3:G36),\"\"),\"\")","v":""},{"$f":"IF($C37=1,IF(WEEKDAY($K37)=H$1,1+COUNTA(H$3:H36)-COUNTBLANK(H$3:H36),\"\"),\"\")","v":""},{"$f":"IF($C37=1,IF(WEEKDAY($K37)=I$1,1+COUNTA(I$3:I36)-COUNTBLANK(I$3:I36),\"\"),\"\")","v":""},{"$f":"IF($C37=1,IF(WEEKDAY($K37)=J$1,1+COUNTA(J$3:J36)-COUNTBLANK(J$3:J36),\"\"),\"\")","v":5},"2018-09-23",{"$nulls":6},"Numéro\nséance",{"$nulls":7},"Numéro\nséance"]
["2018-09-24",1,1,{"$f":"IF($C38=1,IF(WEEKDAY($K38)=D$1,1+COUNTA(D$3:D37)-COUNTBLANK(D$3:D37),\"\"),\"\")","v":6},{"$f":"IF($C38=1,IF(WEEKDAY($K38)=E$1,1+COUNTA(E$3:E37)-COUNTBLANK(E$3:E37),\"\"),\"\")","v":""},{"$f":"IF($C38=1,IF(WEEKDAY($K38)=F$1,1+COUNTA(F$3:F37)-COUNTBLANK(F$3:F37),\"\"),\"\")","v":""},{"$f":"IF($C38=1,IF(WEEKDAY($K38)=G$1,1+COUNTA(G$3:G37)-COUNTBLANK(G$3:G37),\"\"),\"\")","v":""},{"$f":"IF($C38=1,IF(WEEKDAY($K38)=H$1,1+COUNTA(H$3:H37)-COUNTBLANK(H$3:H37),\"\"),\"\")","v":""},{"$f":"IF($C38=1,IF(WEEKDAY($K38)=I$1,1+COUNTA(I$3:I37)-COUNTBLANK(I$3:I37),\"\"),\"\")","v":""},{"$f":"IF($C38=1,IF(WEEKDAY($K38)=J$1,1+COUNTA(J$3:J37)-COUNTBLANK(J$3:J37),\"\"),\"\")","v":""},"2018-09-24",{"$nulls":7},"Lundi","Mardi","Mercredi","Jeudi","Vendredi","Samedi","Dimanche"]
["2018-09-25",1,1,{"$f":"IF($C39=1,IF(WEEKDAY($K39)=D$1,1+COUNTA(D$3:D38)-COUNTBLANK(D$3:D38),\"\"),\"\")","v":""},{"$f":"IF($C39=1,IF(WEEKDAY($K39)=E$1,1+COUNTA(E$3:E38)-COUNTBLANK(E$3:E38),\"\"),\"\")","v":6},{"$f":"IF($C39=1,IF(WEEKDAY($K39)=F$1,1+COUNTA(F$3:F38)-COUNTBLANK(F$3:F38),\"\"),\"\")","v":""},{"$f":"IF($C39=1,IF(WEEKDAY($K39)=G$1,1+COUNTA(G$3:G38)-COUNTBLANK(G$3:G38),\"\"),\"\")","v":""},{"$f":"IF($C39=1,IF(WEEKDAY($K39)=H$1,1+COUNTA(H$3:H38)-COUNTBLANK(H$3:H38),\"\"),\"\")","v":""},{"$f":"IF($C39=1,IF(WEEKDAY($K39)=I$1,1+COUNTA(I$3:I38)-COUNTBLANK(I$3:I38),\"\"),\"\")","v":""},{"$f":"IF($C39=1,IF(WEEKDAY($K39)=J$1,1+COUNTA(J$3:J38)-COUNTBLANK(J$3:J38),\"\"),\"\")","v":""},"2018-09-25",{"$nulls":6},1,{"$f":"IF(ISNA(VLOOKUP(S$3,Tab_Lundi,8,FALSE)),\"\",VLOOKUP(S$3,Tab_Lundi,8,FALSE))","v":"2018-08-20"},{"$f":"IF(ISNA(VLOOKUP(S$3,Tab_mardi,7,FALSE)),\"\",VLOOKUP(S$3,Tab_mardi,7,FALSE))","v":"2018-08-21"},{"$f":"IF(ISNA(VLOOKUP(S$3,Tab_mercredi,6,FALSE)),\"\",VLOOKUP(S$3,Tab_mercredi,6,FALSE))","v":"2018-08-22"},{"$f":"IF(ISNA(VLOOKUP(S$3,Tab_Jeudi,5,FALSE)),\"\",VLOOKUP(S$3,Tab_Jeudi,5,FALSE))","v":"2018-08-23"},{"$f":"IF(ISNA(VLOOKUP(S$3,Tab_Vendredi,4,FALSE)),\"\",VLOOKUP(S$3,Tab_Vendredi,4,FALSE))","v":"2018-08-24"},{"$f":"IF(ISNA(VLOOKUP(S$3,Tab_Samedi,3,FALSE)),\"\",VLOOKUP(S$3,Tab_Samedi,3,FALSE))","v":"2018-08-25"},{"$f":"IF(ISNA(VLOOKUP(S$3,Tab_Dimanche,2,FALSE)),\"\",VLOOKUP(S$3,Tab_Dimanche,2,FALSE))","v":"2018-08-26"},1]
["2018-09-26",1,1,{"$f":"IF($C40=1,IF(WEEKDAY($K40)=D$1,1+COUNTA(D$3:D39)-COUNTBLANK(D$3:D39),\"\"),\"\")","v":""},{"$f":"IF($C40=1,IF(WEEKDAY($K40)=E$1,1+COUNTA(E$3:E39)-COUNTBLANK(E$3:E39),\"\"),\"\")","v":""},{"$f":"IF($C40=1,IF(WEEKDAY($K40)=F$1,1+COUNTA(F$3:F39)-COUNTBLANK(F$3:F39),\"\"),\"\")","v":6},{"$f":"IF($C40=1,IF(WEEKDAY($K40)=G$1,1+COUNTA(G$3:G39)-COUNTBLANK(G$3:G39),\"\"),\"\")","v":""},{"$f":"IF($C40=1,IF(WEEKDAY($K40)=H$1,1+COUNTA(H$3:H39)-COUNTBLANK(H$3:H39),\"\"),\"\")","v":""},{"$f":"IF($C40=1,IF(WEEKDAY($K40)=I$1,1+COUNTA(I$3:I39)-COUNTBLANK(I$3:I39),\"\"),\"\")","v":""},{"$f":"IF($C40=1,IF(WEEKDAY($K40)=J$1,1+COUNTA(J$3:J39)-COUNTBLANK(J$3:J39),\"\"),\"\")","v":""},"2018-09-26",{"$nulls":6},{"$f":"R39+1","v":2},{"$f":"IF(ISNA(VLOOKUP(T$3,Tab_Lundi,8,FALSE)),\"\",VLOOKUP(T$3,Tab_Lundi,8,FALSE))","v":"2018-08-27"},{"$f":"IF(ISNA(VLOOKUP(T$3,Tab_mardi,7,FALSE)),\"\",VLOOKUP(T$3,Tab_mardi,7,FALSE))","v":"2018-08-28"},{"$f":"IF(ISNA(VLOOKUP(T$3,Tab_mercredi,6,FALSE)),\"\",VLOOKUP(T$3,Tab_mercredi,6,FALSE))","v":"2018-08-29"},{"$f":"IF(ISNA(VLOOKUP(T$3,Tab_Jeudi,5,FALSE)),\"\",VLOOKUP(T$3,Tab_Jeudi,5,FALSE))","v":"2018-08-30"},{"$f":"IF(ISNA(VLOOKUP(T$3,Tab_Vendredi,4,FALSE)),\"\",VLOOKUP(T$3,Tab_Vendredi,4,FALSE))","v":"2018-08-31"},{"$f":"IF(ISNA(VLOOKUP(T$3,Tab_Samedi,3,FALSE)),\"\",VLOOKUP(T$3,Tab_Samedi,3,FALSE))","v":"2018-09-01"},{"$f":"IF(ISNA(VLOOKUP(T$3,Tab_Dimanche,2,FALSE)),\"\",VLOOKUP(T$3,Tab_Dimanche,2,FALSE))","v":"2018-09-02"},{"$f":"Z39+1","v":2}]
["2018-09-27",1,1,{"$f":"IF($C41=1,IF(WEEKDAY($K41)=D$1,1+COUNTA(D$3:D40)-COUNTBLANK(D$3:D40),\"\"),\"\")","v":""},{"$f":"IF($C41=1,IF(WEEKDAY($K41)=E$1,1+COUNTA(E$3:E40)-COUNTBLANK(E$3:E40),\"\"),\"\")","v":""},{"$f":"IF($C41=1,IF(WEEKDAY($K41)=F$1,1+COUNTA(F$3:F40)-COUNTBLANK(F$3:F40),\"\"),\"\")","v":""},{"$f":"IF($C41=1,IF(WEEKDAY($K41)=G$1,1+COUNTA(G$3:G40)-COUNTBLANK(G$3:G40),\"\"),\"\")","v":6},{"$f":"IF($C41=1,IF(WEEKDAY($K41)=H$1,1+COUNTA(H$3:H40)-COUNTBLANK(H$3:H40),\"\"),\"\")","v":""},{"$f":"IF($C41=1,IF(WEEKDAY($K41)=I$1,1+COUNTA(I$3:I40)-COUNTBLANK(I$3:I40),\"\"),\"\")","v":""},{"$f":"IF($C41=1,IF(WEEKDAY($K41)=J$1,1+COUNTA(J$3:J40)-COUNTBLANK(J$3:J40),\"\"),\"\")","v":""},"2018-09-27",{"$nulls":6},{"$f":"R40+1","v":3},{"$f":"IF(ISNA(VLOOKUP(U$3,Tab_Lundi,8,FALSE)),\"\",VLOOKUP(U$3,Tab_Lundi,8,FALSE))","v":"2018-09-03"},{"$f":"IF(ISNA(VLOOKUP(U$3,Tab_mardi,7,FALSE)),\"\",VLOOKUP(U$3,Tab_mardi,7,FALSE))","v":"2018-09-04"},{"$f":"IF(ISNA(VLOOKUP(U$3,Tab_mercredi,6,FALSE)),\"\",VLOOKUP(U$3,Tab_mercredi,6,FALSE))","v":"2018-09-05"},{"$f":"IF(ISNA(VLOOKUP(U$3,Tab_Jeudi,5,FALSE)),\"\",VLOOKUP(U$3,Tab_Jeudi,5,FALSE))","v":"2018-09-06"},{"$f":"IF(ISNA(VLOOKUP(U$3,Tab_Vendredi,4,FALSE)),\"\",VLOOKUP(U$3,Tab_Vendredi,4,FALSE))","v":"2018-09-07"},{"$f":"IF(ISNA(VLOOKUP(U$3,Tab_Samedi,3,FALSE)),\"\",VLOOKUP(U$3,Tab_Samedi,3,FALSE))","v":"2018-09-08"},{"$f":"IF(ISNA(VLOOKUP(U$3,Tab_Dimanche,2,FALSE)),\"\",VLOOKUP(U$3,Tab_Dimanche,2,FALSE))","v":"2018-09-09"},{"$f":"Z40+1","v":3}]
["2018-09-28",1,1,{"$f":"IF($C42=1,IF(WEEKDAY($K42)=D$1,1+COUNTA(D$3:D41)-COUNTBLANK(D$3:D41),\"\"),\"\")","v":""},{"$f":"IF($C42=1,IF(WEEKDAY($K42)=E$1,1+COUNTA(E$3:E41)-COUNTBLANK(E$3:E41),\"\"),\"\")","v":""},{"$f":"IF($C42=1,IF(WEEKDAY($K42)=F$1,1+COUNTA(F$3:F41)-COUNTBLANK(F$3:F41),\"\"),\"\")","v":""},{"$f":"IF($C42=1,IF(WEEKDAY($K42)=G$1,1+COUNTA(G$3:G41)-COUNTBLANK(G$3:G41),\"\"),\"\")","v":""},{"$f":"IF($C42=1,IF(WEEKDAY($K42)=H$1,1+COUNTA(H$3:H41)-COUNTBLANK(H$3:H41),\"\"),\"\")","v":6},{"$f":"IF($C42=1,IF(WEEKDAY($K42)=I$1,1+COUNTA(I$3:I41)-COUNTBLANK(I$3:I41),\"\"),\"\")","v":""},{"$f":"IF($C42=1,IF(WEEKDAY($K42)=J$1,1+COUNTA(J$3:J41)-COUNTBLANK(J$3:J41),\"\"),\"\")","v":""},"2018-09-28",{"$nulls":6},4,{"$f":"IF(ISNA(VLOOKUP(V$3,Tab_Lundi,8,FALSE)),\"\",VLOOKUP(V$3,Tab_Lundi,8,FALSE))","v":"2018-09-10"},{"$f":"IF(ISNA(VLOOKUP(V$3,Tab_mardi,7,FALSE)),\"\",VLOOKUP(V$3,Tab_mardi,7,FALSE))","v":"2018-09-11"},{"$f":"IF(ISNA(VLOOKUP(V$3,Tab_mercredi,6,FALSE)),\"\",VLOOKUP(V$3,Tab_mercredi,6,FALSE))","v":"2018-09-12"},{"$f":"IF(ISNA(VLOOKUP(V$3,Tab_Jeudi,5,FALSE)),\"\",VLOOKUP(V$3,Tab_Jeudi,5,FALSE))","v":"2018-09-13"},{"$f":"IF(ISNA(VLOOKUP(V$3,Tab_Vendredi,4,FALSE)),\"\",VLOOKUP(V$3,Tab_Vendredi,4,FALSE))","v":"2018-09-14"},{"$f":"IF(ISNA(VLOOKUP(V$3,Tab_Samedi,3,FALSE)),\"\",VLOOKUP(V$3,Tab_Samedi,3,FALSE))","v":"2018-09-15"},{"$f":"IF(ISNA(VLOOKUP(V$3,Tab_Dimanche,2,FALSE)),\"\",VLOOKUP(V$3,Tab_Dimanche,2,FALSE))","v":"2018-09-16"},4]
["2018-09-29",0,1,{"$f":"IF($C43=1,IF(WEEKDAY($K43)=D$1,1+COUNTA(D$3:D42)-COUNTBLANK(D$3:D42),\"\"),\"\")","v":""},{"$f":"IF($C43=1,IF(WEEKDAY($K43)=E$1,1+COUNTA(E$3:E42)-COUNTBLANK(E$3:E42),\"\"),\"\")","v":""},{"$f":"IF($C43=1,IF(WEEKDAY($K43)=F$1,1+COUNTA(F$3:F42)-COUNTBLANK(F$3:F42),\"\"),\"\")","v":""},{"$f":"IF($C43=1,IF(WEEKDAY($K43)=G$1,1+COUNTA(G$3:G42)-COUNTBLANK(G$3:G42),\"\"),\"\")","v":""},{"$f":"IF($C43=1,IF(WEEKDAY($K43)=H$1,1+COUNTA(H$3:H42)-COUNTBLANK(H$3:H42),\"\"),\"\")","v":""},{"$f":"IF($C43=1,IF(WEEKDAY($K43)=I$1,1+COUNTA(I$3:I42)-COUNTBLANK(I$3:I42),\"\"),\"\")","v":6},{"$f":"IF($C43=1,IF(WEEKDAY($K43)=J$1,1+COUNTA(J$3:J42)-COUNTBLANK(J$3:J42),\"\"),\"\")","v":""},"2018-09-29",{"$nulls":6},5,{"$f":"IF(ISNA(VLOOKUP(W$3,Tab_Lundi,8,FALSE)),\"\",VLOOKUP(W$3,Tab_Lundi,8,FALSE))","v":"2018-09-17"},{"$f":"IF(ISNA(VLOOKUP(W$3,Tab_mardi,7,FALSE)),\"\",VLOOKUP(W$3,Tab_mardi,7,FALSE))","v":"2018-09-18"},{"$f":"IF(ISNA(VLOOKUP(W$3,Tab_mercredi,6,FALSE)),\"\",VLOOKUP(W$3,Tab_mercredi,6,FALSE))","v":"2018-09-19"},{"$f":"IF(ISNA(VLOOKUP(W$3,Tab_Jeudi,5,FALSE)),\"\",VLOOKUP(W$3,Tab_Jeudi,5,FALSE))","v":"2018-09-20"},{"$f":"IF(ISNA(VLOOKUP(W$3,Tab_Vendredi,4,FALSE)),\"\",VLOOKUP(W$3,Tab_Vendredi,4,FALSE))","v":"2018-09-21"},{"$f":"IF(ISNA(VLOOKUP(W$3,Tab_Samedi,3,FALSE)),\"\",VLOOKUP(W$3,Tab_Samedi,3,FALSE))","v":"2018-09-22"},{"$f":"IF(ISNA(VLOOKUP(W$3,Tab_Dimanche,2,FALSE)),\"\",VLOOKUP(W$3,Tab_Dimanche,2,FALSE))","v":"2018-09-23"},5]
["2018-09-30",0,1,{"$f":"IF($C44=1,IF(WEEKDAY($K44)=D$1,1+COUNTA(D$3:D43)-COUNTBLANK(D$3:D43),\"\"),\"\")","v":""},{"$f":"IF($C44=1,IF(WEEKDAY($K44)=E$1,1+COUNTA(E$3:E43)-COUNTBLANK(E$3:E43),\"\"),\"\")","v":""},{"$f":"IF($C44=1,IF(WEEKDAY($K44)=F$1,1+COUNTA(F$3:F43)-COUNTBLANK(F$3:F43),\"\"),\"\")","v":""},{"$f":"IF($C44=1,IF(WEEKDAY($K44)=G$1,1+COUNTA(G$3:G43)-COUNTBLANK(G$3:G43),\"\"),\"\")","v":""},{"$f":"IF($C44=1,IF(WEEKDAY($K44)=H$1,1+COUNTA(H$3:H43)-COUNTBLANK(H$3:H43),\"\"),\"\")","v":""},{"$f":"IF($C44=1,IF(WEEKDAY($K44)=I$1,1+COUNTA(I$3:I43)-COUNTBLANK(I$3:I43),\"\"),\"\")","v":""},{"$f":"IF($C44=1,IF(WEEKDAY($K44)=J$1,1+COUNTA(J$3:J43)-COUNTBLANK(J$3:J43),\"\"),\"\")","v":6},"2018-09-30",{"$nulls":6},6,{"$f":"IF(ISNA(VLOOKUP(X$3,Tab_Lundi,8,FALSE)),\"\",VLOOKUP(X$3,Tab_Lundi,8,FALSE))","v":"2018-09-24"},{"$f":"IF(ISNA(VLOOKUP(X$3,Tab_mardi,7,FALSE)),\"\",VLOOKUP(X$3,Tab_mardi,7,FALSE))","v":"2018-09-25"},{"$f":"IF(ISNA(VLOOKUP(X$3,Tab_mercredi,6,FALSE)),\"\",VLOOKUP(X$3,Tab_mercredi,6,FALSE))","v":"2018-09-26"},{"$f":"IF(ISNA(VLOOKUP(X$3,Tab_Jeudi,5,FALSE)),\"\",VLOOKUP(X$3,Tab_Jeudi,5,FALSE))","v":"2018-09-27"},{"$f":"IF(ISNA(VLOOKUP(X$3,Tab_Vendredi,4,FALSE)),\"\",VLOOKUP(X$3,Tab_Vendredi,4,FALSE))","v":"2018-09-28"},{"$f":"IF(ISNA(VLOOKUP(X$3,Tab_Samedi,3,FALSE)),\"\",VLOOKUP(X$3,Tab_Samedi,3,FALSE))","v":"2018-09-29"},{"$f":"IF(ISNA(VLOOKUP(X$3,Tab_Dimanche,2,FALSE)),\"\",VLOOKUP(X$3,Tab_Dimanche,2,FALSE))","v":"2018-09-30"},6]
["2018-10-01",1,1,{"$f":"IF($C45=1,IF(WEEKDAY($K45)=D$1,1+COUNTA(D$3:D44)-COUNTBLANK(D$3:D44),\"\"),\"\")","v":7},{"$f":"IF($C45=1,IF(WEEKDAY($K45)=E$1,1+COUNTA(E$3:E44)-COUNTBLANK(E$3:E44),\"\"),\"\")","v":""},{"$f":"IF($C45=1,IF(WEEKDAY($K45)=F$1,1+COUNTA(F$3:F44)-COUNTBLANK(F$3:F44),\"\"),\"\")","v":""},{"$f":"IF($C45=1,IF(WEEKDAY($K45)=G$1,1+COUNTA(G$3:G44)-COUNTBLANK(G$3:G44),\"\"),\"\")","v":""},{"$f":"IF($C45=1,IF(WEEKDAY($K45)=H$1,1+COUNTA(H$3:H44)-COUNTBLANK(H$3:H44),\"\"),\"\")","v":""},{"$f":"IF($C45=1,IF(WEEKDAY($K45)=I$1,1+COUNTA(I$3:I44)-COUNTBLANK(I$3:I44),\"\"),\"\")","v":""},{"$f":"IF($C45=1,IF(WEEKDAY($K45)=J$1,1+COUNTA(J$3:J44)-COUNTBLANK(J$3:J44),\"\"),\"\")","v":""},"2018-10-01",{"$nulls":6},7,{"$f":"IF(ISNA(VLOOKUP(Y$3,Tab_Lundi,8,FALSE)),\"\",VLOOKUP(Y$3,Tab_Lundi,8,FALSE))","v":"2018-10-01"},{"$f":"IF(ISNA(VLOOKUP(Y$3,Tab_mardi,7,FALSE)),\"\",VLOOKUP(Y$3,Tab_mardi,7,FALSE))","v":"2018-10-02"},{"$f":"IF(ISNA(VLOOKUP(Y$3,Tab_mercredi,6,FALSE)),\"\",VLOOKUP(Y$3,Tab_mercredi,6,FALSE))","v":"2018-10-03"},{"$f":"IF(ISNA(VLOOKUP(Y$3,Tab_Jeudi,5,FALSE)),\"\",VLOOKUP(Y$3,Tab_Jeudi,5,FALSE))","v":"2018-10-04"},{"$f":"IF(ISNA(VLOOKUP(Y$3,Tab_Vendredi,4,FALSE)),\"\",VLOOKUP(Y$3,Tab_Vendredi,4,FALSE))","v":"2018-10-05"},{"$f":"IF(ISNA(VLOOKUP(Y$3,Tab_Samedi,3,FALSE)),\"\",VLOOKUP(Y$3,Tab_Samedi,3,FALSE))","v":"2018-10-06"},{"$f":"IF(ISNA(VLOOKUP(Y$3,Tab_Dimanche,2,FALSE)),\"\",VLOOKUP(Y$3,Tab_Dimanche,2,FALSE))","v":"2018-10-07"},7]
["2018-10-02",1,1,{"$f":"IF($C46=1,IF(WEEKDAY($K46)=D$1,1+COUNTA(D$3:D45)-COUNTBLANK(D$3:D45),\"\"),\"\")","v":""},{"$f":"IF($C46=1,IF(WEEKDAY($K46)=E$1,1+COUNTA(E$3:E45)-COUNTBLANK(E$3:E45),\"\"),\"\")","v":7},{"$f":"IF($C46=1,IF(WEEKDAY($K46)=F$1,1+COUNTA(F$3:F45)-COUNTBLANK(F$3:F45),\"\"),\"\")","v":""},{"$f":"IF($C46=1,IF(WEEKDAY($K46)=G$1,1+COUNTA(G$3:G45)-COUNTBLANK(G$3:G45),\"\"),\"\")","v":""},{"$f":"IF($C46=1,IF(WEEKDAY($K46)=H$1,1+COUNTA(H$3:H45)-COUNTBLANK(H$3:H45),\"\"),\"\")","v":""},{"$f":"IF($C46=1,IF(WEEKDAY($K46)=I$1,1+COUNTA(I$3:I45)-COUNTBLANK(I$3:I45),\"\"),\"\")","v":""},{"$f":"IF($C46=1,IF(WEEKDAY($K46)=J$1,1+COUNTA(J$3:J45)-COUNTBLANK(J$3:J45),\"\"),\"\")","v":""},"2018-10-02",{"$nulls":6},8,{"$f":"IF(ISNA(VLOOKUP(Z$3,Tab_Lundi,8,FALSE)),\"\",VLOOKUP(Z$3,Tab_Lundi,8,FALSE))","v":"2018-10-08"},{"$f":"IF(ISNA(VLOOKUP(Z$3,Tab_mardi,7,FALSE)),\"\",VLOOKUP(Z$3,Tab_mardi,7,FALSE))","v":"2018-10-09"},{"$f":"IF(ISNA(VLOOKUP(Z$3,Tab_mercredi,6,FALSE)),\"\",VLOOKUP(Z$3,Tab_mercredi,6,FALSE))","v":"2018-10-10"},{"$f":"IF(ISNA(VLOOKUP(Z$3,Tab_Jeudi,5,FALSE)),\"\",VLOOKUP(Z$3,Tab_Jeudi,5,FALSE))","v":"2018-10-11"},{"$f":"IF(ISNA(VLOOKUP(Z$3,Tab_Vendredi,4,FALSE)),\"\",VLOOKUP(Z$3,Tab_Vendredi,4,FALSE))","v":"2018-10-12"},{"$f":"IF(ISNA(VLOOKUP(Z$3,Tab_Samedi,3,FALSE)),\"\",VLOOKUP(Z$3,Tab_Samedi,3,FALSE))","v":"2018-11-03"},{"$f":"IF(ISNA(VLOOKUP(Z$3,Tab_Dimanche,2,FALSE)),\"\",VLOOKUP(Z$3,Tab_Dimanche,2,FALSE))","v":"2018-11-04"},8]
["2018-10-03",1,1,{"$f":"IF($C47=1,IF(WEEKDAY($K47)=D$1,1+COUNTA(D$3:D46)-COUNTBLANK(D$3:D46),\"\"),\"\")","v":""},{"$f":"IF($C47=1,IF(WEEKDAY($K47)=E$1,1+COUNTA(E$3:E46)-COUNTBLANK(E$3:E46),\"\"),\"\")","v":""},{"$f":"IF($C47=1,IF(WEEKDAY($K47)=F$1,1+COUNTA(F$3:F46)-COUNTBLANK(F$3:F46),\"\"),\"\")","v":7},{"$f":"IF($C47=1,IF(WEEKDAY($K47)=G$1,1+COUNTA(G$3:G46)-COUNTBLANK(G$3:G46),\"\"),\"\")","v":""},{"$f":"IF($C47=1,IF(WEEKDAY($K47)=H$1,1+COUNTA(H$3:H46)-COUNTBLANK(H$3:H46),\"\"),\"\")","v":""},{"$f":"IF($C47=1,IF(WEEKDAY($K47)=I$1,1+COUNTA(I$3:I46)-COUNTBLANK(I$3:I46),\"\"),\"\")","v":""},{"$f":"IF($C47=1,IF(WEEKDAY($K47)=J$1,1+COUNTA(J$3:J46)-COUNTBLANK(J$3:J46),\"\"),\"\")","v":""},"2018-10-03",{"$nulls":6},9,{"$f":"IF(ISNA(VLOOKUP(AA$3,Tab_Lundi,8,FALSE)),\"\",VLOOKUP(AA$3,Tab_Lundi,8,FALSE))","v":"2018-10-29"},{"$f":"IF(ISNA(VLOOKUP(AA$3,Tab_mardi,7,FALSE)),\"\",VLOOKUP(AA$3,Tab_mardi,7,FALSE))","v":"2018-10-30"},{"$f":"IF(ISNA(VLOOKUP(AA$3,Tab_mercredi,6,FALSE)),\"\",VLOOKUP(AA$3,Tab_mercredi,6,FALSE))","v":"2018-10-31"},{"$f":"IF(ISNA(VLOOKUP(AA$3,Tab_Jeudi,5,FALSE)),\"\",VLOOKUP(AA$3,Tab_Jeudi,5,FALSE))","v":"2018-11-08"},{"$f":"IF(ISNA(VLOOKUP(AA$3,Tab_Vendredi,4,FALSE)),\"\",VLOOKUP(AA$3,Tab_Vendredi,4,FALSE))","v":"2018-11-02"},{"$f":"IF(ISNA(VLOOKUP(AA$3,Tab_Samedi,3,FALSE)),\"\",VLOOKUP(AA$3,Tab_Samedi,3,FALSE))","v":"2018-11-10"},{"$f":"IF(ISNA(VLOOKUP(AA$3,Tab_Dimanche,2,FALSE)),\"\",VLOOKUP(AA$3,Tab_Dimanche,2,FALSE))","v":"2018-11-18"},9]
["2018-10-04",1,1,{"$f":"IF($C48=1,IF(WEEKDAY($K48)=D$1,1+COUNTA(D$3:D47)-COUNTBLANK(D$3:D47),\"\"),\"\")","v":""},{"$f":"IF($C48=1,IF(WEEKDAY($K48)=E$1,1+COUNTA(E$3:E47)-COUNTBLANK(E$3:E47),\"\"),\"\")","v":""},{"$f":"IF($C48=1,IF(WEEKDAY($K48)=F$1,1+COUNTA(F$3:F47)-COUNTBLANK(F$3:F47),\"\"),\"\")","v":""},{"$f":"IF($C48=1,IF(WEEKDAY($K48)=G$1,1+COUNTA(G$3:G47)-COUNTBLANK(G$3:G47),\"\"),\"\")","v":7},{"$f":"IF($C48=1,IF(WEEKDAY($K48)=H$1,1+COUNTA(H$3:H47)-COUNTBLANK(H$3:H47),\"\"),\"\")","v":""},{"$f":"IF($C48=1,IF(WEEKDAY($K48)=I$1,1+COUNTA(I$3:I47)-COUNTBLANK(I$3:I47),\"\"),\"\")","v":""},{"$f":"IF($C48=1,IF(WEEKDAY($K48)=J$1,1+COUNTA(J$3:J47)-COUNTBLANK(J$3:J47),\"\"),\"\")","v":""},"2018-10-04",{"$nulls":6},10,{"$f":"IF(ISNA(VLOOKUP(AB$3,Tab_Lundi,8,FALSE)),\"\",VLOOKUP(AB$3,Tab_Lundi,8,FALSE))","v":"2018-11-05"},{"$f":"IF(ISNA(VLOOKUP(AB$3,Tab_mardi,7,FALSE)),\"\",VLOOKUP(AB$3,Tab_mardi,7,FALSE))","v":"2018-11-06"},{"$f":"IF(ISNA(VLOOKUP(AB$3,Tab_mercredi,6,FALSE)),\"\",VLOOKUP(AB$3,Tab_mercredi,6,FALSE))","v":"2018-11-07"},{"$f":"IF(ISNA(VLOOKUP(AB$3,Tab_Jeudi,5,FALSE)),\"\",VLOOKUP(AB$3,Tab_Jeudi,5,FALSE))","v":"2018-11-15"},{"$f":"IF(ISNA(VLOOKUP(AB$3,Tab_Vendredi,4,FALSE)),\"\",VLOOKUP(AB$3,Tab_Vendredi,4,FALSE))","v":"2018-11-09"},{"$f":"IF(ISNA(VLOOKUP(AB$3,Tab_Samedi,3,FALSE)),\"\",VLOOKUP(AB$3,Tab_Samedi,3,FALSE))","v":"2018-11-17"},{"$f":"IF(ISNA(VLOOKUP(AB$3,Tab_Dimanche,2,FALSE)),\"\",VLOOKUP(AB$3,Tab_Dimanche,2,FALSE))","v":"2018-11-25"},10]
["2018-10-05",1,1,{"$f":"IF($C49=1,IF(WEEKDAY($K49)=D$1,1+COUNTA(D$3:D48)-COUNTBLANK(D$3:D48),\"\"),\"\")","v":""},{"$f":"IF($C49=1,IF(WEEKDAY($K49)=E$1,1+COUNTA(E$3:E48)-COUNTBLANK(E$3:E48),\"\"),\"\")","v":""},{"$f":"IF($C49=1,IF(WEEKDAY($K49)=F$1,1+COUNTA(F$3:F48)-COUNTBLANK(F$3:F48),\"\"),\"\")","v":""},{"$f":"IF($C49=1,IF(WEEKDAY($K49)=G$1,1+COUNTA(G$3:G48)-COUNTBLANK(G$3:G48),\"\"),\"\")","v":""},{"$f":"IF($C49=1,IF(WEEKDAY($K49)=H$1,1+COUNTA(H$3:H48)-COUNTBLANK(H$3:H48),\"\"),\"\")","v":7},{"$f":"IF($C49=1,IF(WEEKDAY($K49)=I$1,1+COUNTA(I$3:I48)-COUNTBLANK(I$3:I48),\"\"),\"\")","v":""},{"$f":"IF($C49=1,IF(WEEKDAY($K49)=J$1,1+COUNTA(J$3:J48)-COUNTBLANK(J$3:J48),\"\"),\"\")","v":""},"2018-10-05",{"$nulls":6},11,{"$f":"IF(ISNA(VLOOKUP(AC$3,Tab_Lundi,8,FALSE)),\"\",VLOOKUP(AC$3,Tab_Lundi,8,FALSE))","v":"2018-11-12"},{"$f":"IF(ISNA(VLOOKUP(AC$3,Tab_mardi,7,FALSE)),\"\",VLOOKUP(AC$3,Tab_mardi,7,FALSE))","v":"2018-11-13"},{"$f":"IF(ISNA(VLOOKUP(AC$3,Tab_mercredi,6,FALSE)),\"\",VLOOKUP(AC$3,Tab_mercredi,6,FALSE))","v":"2018-11-14"},{"$f":"IF(ISNA(VLOOKUP(AC$3,Tab_Jeudi,5,FALSE)),\"\",VLOOKUP(AC$3,Tab_Jeudi,5,FALSE))","v":"2018-11-22"},{"$f":"IF(ISNA(VLOOKUP(AC$3,Tab_Vendredi,4,FALSE)),\"\",VLOOKUP(AC$3,Tab_Vendredi,4,FALSE))","v":"2018-11-16"},{"$f":"IF(ISNA(VLOOKUP(AC$3,Tab_Samedi,3,FALSE)),\"\",VLOOKUP(AC$3,Tab_Samedi,3,FALSE))","v":"2018-11-24"},{"$f":"IF(ISNA(VLOOKUP(AC$3,Tab_Dimanche,2,FALSE)),\"\",VLOOKUP(AC$3,Tab_Dimanche,2,FALSE))","v":"2018-12-02"},11]
["2018-10-06",0,1,{"$f":"IF($C50=1,IF(WEEKDAY($K50)=D$1,1+COUNTA(D$3:D49)-COUNTBLANK(D$3:D49),\"\"),\"\")","v":""},{"$f":"IF($C50=1,IF(WEEKDAY($K50)=E$1,1+COUNTA(E$3:E49)-COUNTBLANK(E$3:E49),\"\"),\"\")","v":""},{"$f":"IF($C50=1,IF(WEEKDAY($K50)=F$1,1+COUNTA(F$3:F49)-COUNTBLANK(F$3:F49),\"\"),\"\")","v":""},{"$f":"IF($C50=1,IF(WEEKDAY($K50)=G$1,1+COUNTA(G$3:G49)-COUNTBLANK(G$3:G49),\"\"),\"\")","v":""},{"$f":"IF($C50=1,IF(WEEKDAY($K50)=H$1,1+COUNTA(H$3:H49)-COUNTBLANK(H$3:H49),\"\"),\"\")","v":""},{"$f":"IF($C50=1,IF(WEEKDAY($K50)=I$1,1+COUNTA(I$3:I49)-COUNTBLANK(I$3:I49),\"\"),\"\")","v":7},{"$f":"IF($C50=1,IF(WEEKDAY($K50)=J$1,1+COUNTA(J$3:J49)-COUNTBLANK(J$3:J49),\"\"),\"\")","v":""},"2018-10-06",{"$nulls":6},12,{"$f":"IF(ISNA(VLOOKUP(AD$3,Tab_Lundi,8,FALSE)),\"\",VLOOKUP(AD$3,Tab_Lundi,8,FALSE))","v":"2018-11-19"},{"$f":"IF(ISNA(VLOOKUP(AD$3,Tab_mardi,7,FALSE)),\"\",VLOOKUP(AD$3,Tab_mardi,7,FALSE))","v":"2018-11-20"},{"$f":"IF(ISNA(VLOOKUP(AD$3,Tab_mercredi,6,FALSE)),\"\",VLOOKUP(AD$3,Tab_mercredi,6,FALSE))","v":"2018-11-21"},{"$f":"IF(ISNA(VLOOKUP(AD$3,Tab_Jeudi,5,FALSE)),\"\",VLOOKUP(AD$3,Tab_Jeudi,5,FALSE))","v":"2018-11-29"},{"$f":"IF(ISNA(VLOOKUP(AD$3,Tab_Vendredi,4,FALSE)),\"\",VLOOKUP(AD$3,Tab_Vendredi,4,FALSE))","v":"2018-11-23"},{"$f":"IF(ISNA(VLOOKUP(AD$3,Tab_Samedi,3,FALSE)),\"\",VLOOKUP(AD$3,Tab_Samedi,3,FALSE))","v":"2018-12-01"},{"$f":"IF(ISNA(VLOOKUP(AD$3,Tab_Dimanche,2,FALSE)),\"\",VLOOKUP(AD$3,Tab_Dimanche,2,FALSE))","v":"2018-12-09"},12]
["2018-10-07",0,1,{"$f":"IF($C51=1,IF(WEEKDAY($K51)=D$1,1+COUNTA(D$3:D50)-COUNTBLANK(D$3:D50),\"\"),\"\")","v":""},{"$f":"IF($C51=1,IF(WEEKDAY($K51)=E$1,1+COUNTA(E$3:E50)-COUNTBLANK(E$3:E50),\"\"),\"\")","v":""},{"$f":"IF($C51=1,IF(WEEKDAY($K51)=F$1,1+COUNTA(F$3:F50)-COUNTBLANK(F$3:F50),\"\"),\"\")","v":""},{"$f":"IF($C51=1,IF(WEEKDAY($K51)=G$1,1+COUNTA(G$3:G50)-COUNTBLANK(G$3:G50),\"\"),\"\")","v":""},{"$f":"IF($C51=1,IF(WEEKDAY($K51)=H$1,1+COUNTA(H$3:H50)-COUNTBLANK(H$3:H50),\"\"),\"\")","v":""},{"$f":"IF($C51=1,IF(WEEKDAY($K51)=I$1,1+COUNTA(I$3:I50)-COUNTBLANK(I$3:I50),\"\"),\"\")","v":""},{"$f":"IF($C51=1,IF(WEEKDAY($K51)=J$1,1+COUNTA(J$3:J50)-COUNTBLANK(J$3:J50),\"\"),\"\")","v":7},"2018-10-07",{"$nulls":6},13,{"$f":"IF(ISNA(VLOOKUP(AE$3,Tab_Lundi,8,FALSE)),\"\",VLOOKUP(AE$3,Tab_Lundi,8,FALSE))","v":"2018-11-26"},{"$f":"IF(ISNA(VLOOKUP(AE$3,Tab_mardi,7,FALSE)),\"\",VLOOKUP(AE$3,Tab_mardi,7,FALSE))","v":"2018-11-27"},{"$f":"IF(ISNA(VLOOKUP(AE$3,Tab_mercredi,6,FALSE)),\"\",VLOOKUP(AE$3,Tab_mercredi,6,FALSE))","v":"2018-11-28"},{"$f":"IF(ISNA(VLOOKUP(AE$3,Tab_Jeudi,5,FALSE)),\"\",VLOOKUP(AE$3,Tab_Jeudi,5,FALSE))","v":"2018-12-06"},{"$f":"IF(ISNA(VLOOKUP(AE$3,Tab_Vendredi,4,FALSE)),\"\",VLOOKUP(AE$3,Tab_Vendredi,4,FALSE))","v":"2018-11-30"},{"$f":"IF(ISNA(VLOOKUP(AE$3,Tab_Samedi,3,FALSE)),\"\",VLOOKUP(AE$3,Tab_Samedi,3,FALSE))","v":"2018-12-08"},{"$f":"IF(ISNA(VLOOKUP(AE$3,Tab_Dimanche,2,FALSE)),\"\",VLOOKUP(AE$3,Tab_Dimanche,2,FALSE))","v":"2018-12-16"},13]
["2018-10-08",1,1,{"$f":"IF($C52=1,IF(WEEKDAY($K52)=D$1,1+COUNTA(D$3:D51)-COUNTBLANK(D$3:D51),\"\"),\"\")","v":8},{"$f":"IF($C52=1,IF(WEEKDAY($K52)=E$1,1+COUNTA(E$3:E51)-COUNTBLANK(E$3:E51),\"\"),\"\")","v":""},{"$f":"IF($C52=1,IF(WEEKDAY($K52)=F$1,1+COUNTA(F$3:F51)-COUNTBLANK(F$3:F51),\"\"),\"\")","v":""},{"$f":"IF($C52=1,IF(WEEKDAY($K52)=G$1,1+COUNTA(G$3:G51)-COUNTBLANK(G$3:G51),\"\"),\"\")","v":""},{"$f":"IF($C52=1,IF(WEEKDAY($K52)=H$1,1+COUNTA(H$3:H51)-COUNTBLANK(H$3:H51),\"\"),\"\")","v":""},{"$f":"IF($C52=1,IF(WEEKDAY($K52)=I$1,1+COUNTA(I$3:I51)-COUNTBLANK(I$3:I51),\"\"),\"\")","v":""},{"$f":"IF($C52=1,IF(WEEKDAY($K52)=J$1,1+COUNTA(J$3:J51)-COUNTBLANK(J$3:J51),\"\"),\"\")","v":""},"2018-10-08",{"$nulls":6},14,{"$f":"IF(ISNA(VLOOKUP(AF$3,Tab_Lundi,8,FALSE)),\"\",VLOOKUP(AF$3,Tab_Lundi,8,FALSE))","v":"2018-12-03"},{"$f":"IF(ISNA(VLOOKUP(AF$3,Tab_mardi,7,FALSE)),\"\",VLOOKUP(AF$3,Tab_mardi,7,FALSE))","v":"2018-12-04"},{"$f":"IF(ISNA(VLOOKUP(AF$3,Tab_mercredi,6,FALSE)),\"\",VLOOKUP(AF$3,Tab_mercredi,6,FALSE))","v":"2018-12-05"},{"$f":"IF(ISNA(VLOOKUP(AF$3,Tab_Jeudi,5,FALSE)),\"\",VLOOKUP(AF$3,Tab_Jeudi,5,FALSE))","v":"2018-12-13"},{"$f":"IF(ISNA(VLOOKUP(AF$3,Tab_Vendredi,4,FALSE)),\"\",VLOOKUP(AF$3,Tab_Vendredi,4,FALSE))","v":"2018-12-07"},{"$f":"IF(ISNA(VLOOKUP(AF$3,Tab_Samedi,3,FALSE)),\"\",VLOOKUP(AF$3,Tab_Samedi,3,FALSE))","v":"2018-12-15"},{"$f":"IF(ISNA(VLOOKUP(AF$3,Tab_Dimanche,2,FALSE)),\"\",VLOOKUP(AF$3,Tab_Dimanche,2,FALSE))","v":"2019-02-03"},14]
["2018-10-09",1,1,{"$f":"IF($C53=1,IF(WEEKDAY($K53)=D$1,1+COUNTA(D$3:D52)-COUNTBLANK(D$3:D52),\"\"),\"\")","v":""},{"$f":"IF($C53=1,IF(WEEKDAY($K53)=E$1,1+COUNTA(E$3:E52)-COUNTBLANK(E$3:E52),\"\"),\"\")","v":8},{"$f":"IF($C53=1,IF(WEEKDAY($K53)=F$1,1+COUNTA(F$3:F52)-COUNTBLANK(F$3:F52),\"\"),\"\")","v":""},{"$f":"IF($C53=1,IF(WEEKDAY($K53)=G$1,1+COUNTA(G$3:G52)-COUNTBLANK(G$3:G52),\"\"),\"\")","v":""},{"$f":"IF($C53=1,IF(WEEKDAY($K53)=H$1,1+COUNTA(H$3:H52)-COUNTBLANK(H$3:H52),\"\"),\"\")","v":""},{"$f":"IF($C53=1,IF(WEEKDAY($K53)=I$1,1+COUNTA(I$3:I52)-COUNTBLANK(I$3:I52),\"\"),\"\")","v":""},{"$f":"IF($C53=1,IF(WEEKDAY($K53)=J$1,1+COUNTA(J$3:J52)-COUNTBLANK(J$3:J52),\"\"),\"\")","v":""},"2018-10-09",{"$nulls":6},15,{"$f":"IF(ISNA(VLOOKUP(AG$3,Tab_Lundi,8,FALSE)),\"\",VLOOKUP(AG$3,Tab_Lundi,8,FALSE))","v":"2018-12-10"},{"$f":"IF(ISNA(VLOOKUP(AG$3,Tab_mardi,7,FALSE)),\"\",VLOOKUP(AG$3,Tab_mardi,7,FALSE))","v":"2018-12-11"},{"$f":"IF(ISNA(VLOOKUP(AG$3,Tab_mercredi,6,FALSE)),\"\",VLOOKUP(AG$3,Tab_mercredi,6,FALSE))","v":"2018-12-12"},{"$f":"IF(ISNA(VLOOKUP(AG$3,Tab_Jeudi,5,FALSE)),\"\",VLOOKUP(AG$3,Tab_Jeudi,5,FALSE))","v":"2019-01-31"},{"$f":"IF(ISNA(VLOOKUP(AG$3,Tab_Vendredi,4,FALSE)),\"\",VLOOKUP(AG$3,Tab_Vendredi,4,FALSE))","v":"2018-12-14"},{"$f":"IF(ISNA(VLOOKUP(AG$3,Tab_Samedi,3,FALSE)),\"\",VLOOKUP(AG$3,Tab_Samedi,3,FALSE))","v":"2019-02-02"},{"$f":"IF(ISNA(VLOOKUP(AG$3,Tab_Dimanche,2,FALSE)),\"\",VLOOKUP(AG$3,Tab_Dimanche,2,FALSE))","v":"2019-02-10"},15]
["2018-10-10",1,1,{"$f":"IF($C54=1,IF(WEEKDAY($K54)=D$1,1+COUNTA(D$3:D53)-COUNTBLANK(D$3:D53),\"\"),\"\")","v":""},{"$f":"IF($C54=1,IF(WEEKDAY($K54)=E$1,1+COUNTA(E$3:E53)-COUNTBLANK(E$3:E53),\"\"),\"\")","v":""},{"$f":"IF($C54=1,IF(WEEKDAY($K54)=F$1,1+COUNTA(F$3:F53)-COUNTBLANK(F$3:F53),\"\"),\"\")","v":8},{"$f":"IF($C54=1,IF(WEEKDAY($K54)=G$1,1+COUNTA(G$3:G53)-COUNTBLANK(G$3:G53),\"\"),\"\")","v":""},{"$f":"IF($C54=1,IF(WEEKDAY($K54)=H$1,1+COUNTA(H$3:H53)-COUNTBLANK(H$3:H53),\"\"),\"\")","v":""},{"$f":"IF($C54=1,IF(WEEKDAY($K54)=I$1,1+COUNTA(I$3:I53)-COUNTBLANK(I$3:I53),\"\"),\"\")","v":""},{"$f":"IF($C54=1,IF(WEEKDAY($K54)=J$1,1+COUNTA(J$3:J53)-COUNTBLANK(J$3:J53),\"\"),\"\")","v":""},"2018-10-10",{"$nulls":6},16,{"$f":"IF(ISNA(VLOOKUP(AH$3,Tab_Lundi,8,FALSE)),\"\",VLOOKUP(AH$3,Tab_Lundi,8,FALSE))","v":"2018-12-17"},{"$f":"IF(ISNA(VLOOKUP(AH$3,Tab_mardi,7,FALSE)),\"\",VLOOKUP(AH$3,Tab_mardi,7,FALSE))","v":"2018-12-18"},{"$f":"IF(ISNA(VLOOKUP(AH$3,Tab_mercredi,6,FALSE)),\"\",VLOOKUP(AH$3,Tab_mercredi,6,FALSE))","v":"2018-12-19"},{"$f":"IF(ISNA(VLOOKUP(AH$3,Tab_Jeudi,5,FALSE)),\"\",VLOOKUP(AH$3,Tab_Jeudi,5,FALSE))","v":"2019-02-07"},{"$f":"IF(ISNA(VLOOKUP(AH$3,Tab_Vendredi,4,FALSE)),\"\",VLOOKUP(AH$3,Tab_Vendredi,4,FALSE))","v":"2018-12-21"},{"$f":"IF(ISNA(VLOOKUP(AH$3,Tab_Samedi,3,FALSE)),\"\",VLOOKUP(AH$3,Tab_Samedi,3,FALSE))","v":"2019-02-09"},{"$f":"IF(ISNA(VLOOKUP(AH$3,Tab_Dimanche,2,FALSE)),\"\",VLOOKUP(AH$3,Tab_Dimanche,2,FALSE))","v":"2019-02-17"},16]
["2018-10-11",1,1,{"$f":"IF($C55=1,IF(WEEKDAY($K55)=D$1,1+COUNTA(D$3:D54)-COUNTBLANK(D$3:D54),\"\"),\"\")","v":""},{"$f":"IF($C55=1,IF(WEEKDAY($K55)=E$1,1+COUNTA(E$3:E54)-COUNTBLANK(E$3:E54),\"\"),\"\")","v":""},{"$f":"IF($C55=1,IF(WEEKDAY($K55)=F$1,1+COUNTA(F$3:F54)-COUNTBLANK(F$3:F54),\"\"),\"\")","v":""},{"$f":"IF($C55=1,IF(WEEKDAY($K55)=G$1,1+COUNTA(G$3:G54)-COUNTBLANK(G$3:G54),\"\"),\"\")","v":8},{"$f":"IF($C55=1,IF(WEEKDAY($K55)=H$1,1+COUNTA(H$3:H54)-COUNTBLANK(H$3:H54),\"\"),\"\")","v":""},{"$f":"IF($C55=1,IF(WEEKDAY($K55)=I$1,1+COUNTA(I$3:I54)-COUNTBLANK(I$3:I54),\"\"),\"\")","v":""},{"$f":"IF($C55=1,IF(WEEKDAY($K55)=J$1,1+COUNTA(J$3:J54)-COUNTBLANK(J$3:J54),\"\"),\"\")","v":""},"2018-10-11",{"$nulls":6},17,{"$f":"IF(ISNA(VLOOKUP(AI$3,Tab_Lundi,8,FALSE)),\"\",VLOOKUP(AI$3,Tab_Lundi,8,FALSE))","v":"2019-01-28"},{"$f":"IF(ISNA(VLOOKUP(AI$3,Tab_mardi,7,FALSE)),\"\",VLOOKUP(AI$3,Tab_mardi,7,FALSE))","v":"2019-01-29"},{"$f":"IF(ISNA(VLOOKUP(AI$3,Tab_mercredi,6,FALSE)),\"\",VLOOKUP(AI$3,Tab_mercredi,6,FALSE))","v":"2019-01-30"},{"$f":"IF(ISNA(VLOOKUP(AI$3,Tab_Jeudi,5,FALSE)),\"\",VLOOKUP(AI$3,Tab_Jeudi,5,FALSE))","v":"2019-02-14"},{"$f":"IF(ISNA(VLOOKUP(AI$3,Tab_Vendredi,4,FALSE)),\"\",VLOOKUP(AI$3,Tab_Vendredi,4,FALSE))","v":"2019-02-01"},{"$f":"IF(ISNA(VLOOKUP(AI$3,Tab_Samedi,3,FALSE)),\"\",VLOOKUP(AI$3,Tab_Samedi,3,FALSE))","v":"2019-02-16"},{"$f":"IF(ISNA(VLOOKUP(AI$3,Tab_Dimanche,2,FALSE)),\"\",VLOOKUP(AI$3,Tab_Dimanche,2,FALSE))","v":"2019-02-24"},17]
["2018-10-12",1,1,{"$f":"IF($C56=1,IF(WEEKDAY($K56)=D$1,1+COUNTA(D$3:D55)-COUNTBLANK(D$3:D55),\"\"),\"\")","v":""},{"$f":"IF($C56=1,IF(WEEKDAY($K56)=E$1,1+COUNTA(E$3:E55)-COUNTBLANK(E$3:E55),\"\"),\"\")","v":""},{"$f":"IF($C56=1,IF(WEEKDAY($K56)=F$1,1+COUNTA(F$3:F55)-COUNTBLANK(F$3:F55),\"\"),\"\")","v":""},{"$f":"IF($C56=1,IF(WEEKDAY($K56)=G$1,1+COUNTA(G$3:G55)-COUNTBLANK(G$3:G55),\"\"),\"\")","v":""},{"$f":"IF($C56=1,IF(WEEKDAY($K56)=H$1,1+COUNTA(H$3:H55)-COUNTBLANK(H$3:H55),\"\"),\"\")","v":8},{"$f":"IF($C56=1,IF(WEEKDAY($K56)=I$1,1+COUNTA(I$3:I55)-COUNTBLANK(I$3:I55),\"\"),\"\")","v":""},{"$f":"IF($C56=1,IF(WEEKDAY($K56)=J$1,1+COUNTA(J$3:J55)-COUNTBLANK(J$3:J55),\"\"),\"\")","v":""},"2018-10-12",{"$nulls":6},18,{"$f":"IF(ISNA(VLOOKUP(AJ$3,Tab_Lundi,8,FALSE)),\"\",VLOOKUP(AJ$3,Tab_Lundi,8,FALSE))","v":"2019-02-04"},{"$f":"IF(ISNA(VLOOKUP(AJ$3,Tab_mardi,7,FALSE)),\"\",VLOOKUP(AJ$3,Tab_mardi,7,FALSE))","v":"2019-02-05"},{"$f":"IF(ISNA(VLOOKUP(AJ$3,Tab_mercredi,6,FALSE)),\"\",VLOOKUP(AJ$3,Tab_mercredi,6,FALSE))","v":"2019-02-06"},{"$f":"IF(ISNA(VLOOKUP(AJ$3,Tab_Jeudi,5,FALSE)),\"\",VLOOKUP(AJ$3,Tab_Jeudi,5,FALSE))","v":"2019-02-21"},{"$f":"IF(ISNA(VLOOKUP(AJ$3,Tab_Vendredi,4,FALSE)),\"\",VLOOKUP(AJ$3,Tab_Vendredi,4,FALSE))","v":"2019-02-08"},{"$f":"IF(ISNA(VLOOKUP(AJ$3,Tab_Samedi,3,FALSE)),\"\",VLOOKUP(AJ$3,Tab_Samedi,3,FALSE))","v":"2019-02-23"},{"$f":"IF(ISNA(VLOOKUP(AJ$3,Tab_Dimanche,2,FALSE)),\"\",VLOOKUP(AJ$3,Tab_Dimanche,2,FALSE))","v":"2019-03-03"},18]
["2018-10-13",0,0,{"$f":"IF($C57=1,IF(WEEKDAY($K57)=D$1,1+COUNTA(D$3:D56)-COUNTBLANK(D$3:D56),\"\"),\"\")","v":""},{"$f":"IF($C57=1,IF(WEEKDAY($K57)=E$1,1+COUNTA(E$3:E56)-COUNTBLANK(E$3:E56),\"\"),\"\")","v":""},{"$f":"IF($C57=1,IF(WEEKDAY($K57)=F$1,1+COUNTA(F$3:F56)-COUNTBLANK(F$3:F56),\"\"),\"\")","v":""},{"$f":"IF($C57=1,IF(WEEKDAY($K57)=G$1,1+COUNTA(G$3:G56)-COUNTBLANK(G$3:G56),\"\"),\"\")","v":""},{"$f":"IF($C57=1,IF(WEEKDAY($K57)=H$1,1+COUNTA(H$3:H56)-COUNTBLANK(H$3:H56),\"\"),\"\")","v":""},{"$f":"IF($C57=1,IF(WEEKDAY($K57)=I$1,1+COUNTA(I$3:I56)-COUNTBLANK(I$3:I56),\"\"),\"\")","v":""},{"$f":"IF($C57=1,IF(WEEKDAY($K57)=J$1,1+COUNTA(J$3:J56)-COUNTBLANK(J$3:J56),\"\"),\"\")","v":""},"2018-10-13",{"$nulls":6},19,{"$f":"IF(ISNA(VLOOKUP(AK$3,Tab_Lundi,8,FALSE)),\"\",VLOOKUP(AK$3,Tab_Lundi,8,FALSE))","v":"2019-02-11"},{"$f":"IF(ISNA(VLOOKUP(AK$3,Tab_mardi,7,FALSE)),\"\",VLOOKUP(AK$3,Tab_mardi,7,FALSE))","v":"2019-02-12"},{"$f":"IF(ISNA(VLOOKUP(AK$3,Tab_mercredi,6,FALSE)),\"\",VLOOKUP(AK$3,Tab_mercredi,6,FALSE))","v":"2019-02-13"},{"$f":"IF(ISNA(VLOOKUP(AK$3,Tab_Jeudi,5,FALSE)),\"\",VLOOKUP(AK$3,Tab_Jeudi,5,FALSE))","v":"2019-02-28"},{"$f":"IF(ISNA(VLOOKUP(AK$3,Tab_Vendredi,4,FALSE)),\"\",VLOOKUP(AK$3,Tab_Vendredi,4,FALSE))","v":"2019-02-15"},{"$f":"IF(ISNA(VLOOKUP(AK$3,Tab_Samedi,3,FALSE)),\"\",VLOOKUP(AK$3,Tab_Samedi,3,FALSE))","v":"2019-03-02"},{"$f":"IF(ISNA(VLOOKUP(AK$3,Tab_Dimanche,2,FALSE)),\"\",VLOOKUP(AK$3,Tab_Dimanche,2,FALSE))","v":"2019-03-31"},19]
["2018-10-14",0,0,{"$f":"IF($C58=1,IF(WEEKDAY($K58)=D$1,1+COUNTA(D$3:D57)-COUNTBLANK(D$3:D57),\"\"),\"\")","v":""},{"$f":"IF($C58=1,IF(WEEKDAY($K58)=E$1,1+COUNTA(E$3:E57)-COUNTBLANK(E$3:E57),\"\"),\"\")","v":""},{"$f":"IF($C58=1,IF(WEEKDAY($K58)=F$1,1+COUNTA(F$3:F57)-COUNTBLANK(F$3:F57),\"\"),\"\")","v":""},{"$f":"IF($C58=1,IF(WEEKDAY($K58)=G$1,1+COUNTA(G$3:G57)-COUNTBLANK(G$3:G57),\"\"),\"\")","v":""},{"$f":"IF($C58=1,IF(WEEKDAY($K58)=H$1,1+COUNTA(H$3:H57)-COUNTBLANK(H$3:H57),\"\"),\"\")","v":""},{"$f":"IF($C58=1,IF(WEEKDAY($K58)=I$1,1+COUNTA(I$3:I57)-COUNTBLANK(I$3:I57),\"\"),\"\")","v":""},{"$f":"IF($C58=1,IF(WEEKDAY($K58)=J$1,1+COUNTA(J$3:J57)-COUNTBLANK(J$3:J57),\"\"),\"\")","v":""},"2018-10-14",{"$nulls":6},20,{"$f":"IF(ISNA(VLOOKUP(AL$3,Tab_Lundi,8,FALSE)),\"\",VLOOKUP(AL$3,Tab_Lundi,8,FALSE))","v":"2019-02-18"},{"$f":"IF(ISNA(VLOOKUP(AL$3,Tab_mardi,7,FALSE)),\"\",VLOOKUP(AL$3,Tab_mardi,7,FALSE))","v":"2019-02-19"},{"$f":"IF(ISNA(VLOOKUP(AL$3,Tab_mercredi,6,FALSE)),\"\",VLOOKUP(AL$3,Tab_mercredi,6,FALSE))","v":"2019-02-20"},{"$f":"IF(ISNA(VLOOKUP(AL$3,Tab_Jeudi,5,FALSE)),\"\",VLOOKUP(AL$3,Tab_Jeudi,5,FALSE))","v":"2019-03-07"},{"$f":"IF(ISNA(VLOOKUP(AL$3,Tab_Vendredi,4,FALSE)),\"\",VLOOKUP(AL$3,Tab_Vendredi,4,FALSE))","v":"2019-02-22"},{"$f":"IF(ISNA(VLOOKUP(AL$3,Tab_Samedi,3,FALSE)),\"\",VLOOKUP(AL$3,Tab_Samedi,3,FALSE))","v":"2019-03-30"},{"$f":"IF(ISNA(VLOOKUP(AL$3,Tab_Dimanche,2,FALSE)),\"\",VLOOKUP(AL$3,Tab_Dimanche,2,FALSE))","v":"2019-04-07"},20]
["2018-10-15",0,0,{"$f":"IF($C59=1,IF(WEEKDAY($K59)=D$1,1+COUNTA(D$3:D58)-COUNTBLANK(D$3:D58),\"\"),\"\")","v":""},{"$f":"IF($C59=1,IF(WEEKDAY($K59)=E$1,1+COUNTA(E$3:E58)-COUNTBLANK(E$3:E58),\"\"),\"\")","v":""},{"$f":"IF($C59=1,IF(WEEKDAY($K59)=F$1,1+COUNTA(F$3:F58)-COUNTBLANK(F$3:F58),\"\"),\"\")","v":""},{"$f":"IF($C59=1,IF(WEEKDAY($K59)=G$1,1+COUNTA(G$3:G58)-COUNTBLANK(G$3:G58),\"\"),\"\")","v":""},{"$f":"IF($C59=1,IF(WEEKDAY($K59)=H$1,1+COUNTA(H$3:H58)-COUNTBLANK(H$3:H58),\"\"),\"\")","v":""},{"$f":"IF($C59=1,IF(WEEKDAY($K59)=I$1,1+COUNTA(I$3:I58)-COUNTBLANK(I$3:I58),\"\"),\"\")","v":""},{"$f":"IF($C59=1,IF(WEEKDAY($K59)=J$1,1+COUNTA(J$3:J58)-COUNTBLANK(J$3:J58),\"\"),\"\")","v":""},"2018-10-15",{"$nulls":6},21,{"$f":"IF(ISNA(VLOOKUP(AM$3,Tab_Lundi,8,FALSE)),\"\",VLOOKUP(AM$3,Tab_Lundi,8,FALSE))","v":"2019-02-25"},{"$f":"IF(ISNA(VLOOKUP(AM$3,Tab_mardi,7,FALSE)),\"\",VLOOKUP(AM$3,Tab_mardi,7,FALSE))","v":"2019-02-26"},{"$f":"IF(ISNA(VLOOKUP(AM$3,Tab_mercredi,6,FALSE)),\"\",VLOOKUP(AM$3,Tab_mercredi,6,FALSE))","v":"2019-02-27"},{"$f":"IF(ISNA(VLOOKUP(AM$3,Tab_Jeudi,5,FALSE)),\"\",VLOOKUP(AM$3,Tab_Jeudi,5,FALSE))","v":"2019-03-28"},{"$f":"IF(ISNA(VLOOKUP(AM$3,Tab_Vendredi,4,FALSE)),\"\",VLOOKUP(AM$3,Tab_Vendredi,4,FALSE))","v":"2019-03-01"},{"$f":"IF(ISNA(VLOOKUP(AM$3,Tab_Samedi,3,FALSE)),\"\",VLOOKUP(AM$3,Tab_Samedi,3,FALSE))","v":"2019-04-06"},{"$f":"IF(ISNA(VLOOKUP(AM$3,Tab_Dimanche,2,FALSE)),\"\",VLOOKUP(AM$3,Tab_Dimanche,2,FALSE))","v":"2019-04-14"},21]
["2018-10-16",0,0,{"$f":"IF($C60=1,IF(WEEKDAY($K60)=D$1,1+COUNTA(D$3:D59)-COUNTBLANK(D$3:D59),\"\"),\"\")","v":""},{"$f":"IF($C60=1,IF(WEEKDAY($K60)=E$1,1+COUNTA(E$3:E59)-COUNTBLANK(E$3:E59),\"\"),\"\")","v":""},{"$f":"IF($C60=1,IF(WEEKDAY($K60)=F$1,1+COUNTA(F$3:F59)-COUNTBLANK(F$3:F59),\"\"),\"\")","v":""},{"$f":"IF($C60=1,IF(WEEKDAY($K60)=G$1,1+COUNTA(G$3:G59)-COUNTBLANK(G$3:G59),\"\"),\"\")","v":""},{"$f":"IF($C60=1,IF(WEEKDAY($K60)=H$1,1+COUNTA(H$3:H59)-COUNTBLANK(H$3:H59),\"\"),\"\")","v":""},{"$f":"IF($C60=1,IF(WEEKDAY($K60)=I$1,1+COUNTA(I$3:I59)-COUNTBLANK(I$3:I59),\"\"),\"\")","v":""},{"$f":"IF($C60=1,IF(WEEKDAY($K60)=J$1,1+COUNTA(J$3:J59)-COUNTBLANK(J$3:J59),\"\"),\"\")","v":""},"2018-10-16",{"$nulls":6},22,{"$f":"IF(ISNA(VLOOKUP(AN$3,Tab_Lundi,8,FALSE)),\"\",VLOOKUP(AN$3,Tab_Lundi,8,FALSE))","v":"2019-03-04"},{"$f":"IF(ISNA(VLOOKUP(AN$3,Tab_mardi,7,FALSE)),\"\",VLOOKUP(AN$3,Tab_mardi,7,FALSE))","v":"2019-03-05"},{"$f":"IF(ISNA(VLOOKUP(AN$3,Tab_mercredi,6,FALSE)),\"\",VLOOKUP(AN$3,Tab_mercredi,6,FALSE))","v":"2019-03-06"},{"$f":"IF(ISNA(VLOOKUP(AN$3,Tab_Jeudi,5,FALSE)),\"\",VLOOKUP(AN$3,Tab_Jeudi,5,FALSE))","v":"2019-04-04"},{"$f":"IF(ISNA(VLOOKUP(AN$3,Tab_Vendredi,4,FALSE)),\"\",VLOOKUP(AN$3,Tab_Vendredi,4,FALSE))","v":"2019-03-08"},{"$f":"IF(ISNA(VLOOKUP(AN$3,Tab_Samedi,3,FALSE)),\"\",VLOOKUP(AN$3,Tab_Samedi,3,FALSE))","v":"2019-04-13"},{"$f":"IF(ISNA(VLOOKUP(AN$3,Tab_Dimanche,2,FALSE)),\"\",VLOOKUP(AN$3,Tab_Dimanche,2,FALSE))","v":"2019-04-21"},22]
["2018-10-17",0,0,{"$f":"IF($C61=1,IF(WEEKDAY($K61)=D$1,1+COUNTA(D$3:D60)-COUNTBLANK(D$3:D60),\"\"),\"\")","v":""},{"$f":"IF($C61=1,IF(WEEKDAY($K61)=E$1,1+COUNTA(E$3:E60)-COUNTBLANK(E$3:E60),\"\"),\"\")","v":""},{"$f":"IF($C61=1,IF(WEEKDAY($K61)=F$1,1+COUNTA(F$3:F60)-COUNTBLANK(F$3:F60),\"\"),\"\")","v":""},{"$f":"IF($C61=1,IF(WEEKDAY($K61)=G$1,1+COUNTA(G$3:G60)-COUNTBLANK(G$3:G60),\"\"),\"\")","v":""},{"$f":"IF($C61=1,IF(WEEKDAY($K61)=H$1,1+COUNTA(H$3:H60)-COUNTBLANK(H$3:H60),\"\"),\"\")","v":""},{"$f":"IF($C61=1,IF(WEEKDAY($K61)=I$1,1+COUNTA(I$3:I60)-COUNTBLANK(I$3:I60),\"\"),\"\")","v":""},{"$f":"IF($C61=1,IF(WEEKDAY($K61)=J$1,1+COUNTA(J$3:J60)-COUNTBLANK(J$3:J60),\"\"),\"\")","v":""},"2018-10-17",{"$nulls":6},23,{"$f":"IF(ISNA(VLOOKUP(AO$3,Tab_Lundi,8,FALSE)),\"\",VLOOKUP(AO$3,Tab_Lundi,8,FALSE))","v":"2019-03-25"},{"$f":"IF(ISNA(VLOOKUP(AO$3,Tab_mardi,7,FALSE)),\"\",VLOOKUP(AO$3,Tab_mardi,7,FALSE))","v":"2019-03-26"},{"$f":"IF(ISNA(VLOOKUP(AO$3,Tab_mercredi,6,FALSE)),\"\",VLOOKUP(AO$3,Tab_mercredi,6,FALSE))","v":"2019-03-27"},{"$f":"IF(ISNA(VLOOKUP(AO$3,Tab_Jeudi,5,FALSE)),\"\",VLOOKUP(AO$3,Tab_Jeudi,5,FALSE))","v":"2019-04-11"},{"$f":"IF(ISNA(VLOOKUP(AO$3,Tab_Vendredi,4,FALSE)),\"\",VLOOKUP(AO$3,Tab_Vendredi,4,FALSE))","v":"2019-03-29"},{"$f":"IF(ISNA(VLOOKUP(AO$3,Tab_Samedi,3,FALSE)),\"\",VLOOKUP(AO$3,Tab_Samedi,3,FALSE))","v":"2019-04-27"},{"$f":"IF(ISNA(VLOOKUP(AO$3,Tab_Dimanche,2,FALSE)),\"\",VLOOKUP(AO$3,Tab_Dimanche,2,FALSE))","v":"2019-04-28"},23]
["2018-10-18",0,0,{"$f":"IF($C62=1,IF(WEEKDAY($K62)=D$1,1+COUNTA(D$3:D61)-COUNTBLANK(D$3:D61),\"\"),\"\")","v":""},{"$f":"IF($C62=1,IF(WEEKDAY($K62)=E$1,1+COUNTA(E$3:E61)-COUNTBLANK(E$3:E61),\"\"),\"\")","v":""},{"$f":"IF($C62=1,IF(WEEKDAY($K62)=F$1,1+COUNTA(F$3:F61)-COUNTBLANK(F$3:F61),\"\"),\"\")","v":""},{"$f":"IF($C62=1,IF(WEEKDAY($K62)=G$1,1+COUNTA(G$3:G61)-COUNTBLANK(G$3:G61),\"\"),\"\")","v":""},{"$f":"IF($C62=1,IF(WEEKDAY($K62)=H$1,1+COUNTA(H$3:H61)-COUNTBLANK(H$3:H61),\"\"),\"\")","v":""},{"$f":"IF($C62=1,IF(WEEKDAY($K62)=I$1,1+COUNTA(I$3:I61)-COUNTBLANK(I$3:I61),\"\"),\"\")","v":""},{"$f":"IF($C62=1,IF(WEEKDAY($K62)=J$1,1+COUNTA(J$3:J61)-COUNTBLANK(J$3:J61),\"\"),\"\")","v":""},"2018-10-18",{"$nulls":6},24,{"$f":"IF(ISNA(VLOOKUP(AP$3,Tab_Lundi,8,FALSE)),\"\",VLOOKUP(AP$3,Tab_Lundi,8,FALSE))","v":"2019-04-01"},{"$f":"IF(ISNA(VLOOKUP(AP$3,Tab_mardi,7,FALSE)),\"\",VLOOKUP(AP$3,Tab_mardi,7,FALSE))","v":"2019-04-02"},{"$f":"IF(ISNA(VLOOKUP(AP$3,Tab_mercredi,6,FALSE)),\"\",VLOOKUP(AP$3,Tab_mercredi,6,FALSE))","v":"2019-04-03"},{"$f":"IF(ISNA(VLOOKUP(AP$3,Tab_Jeudi,5,FALSE)),\"\",VLOOKUP(AP$3,Tab_Jeudi,5,FALSE))","v":"2019-04-18"},{"$f":"IF(ISNA(VLOOKUP(AP$3,Tab_Vendredi,4,FALSE)),\"\",VLOOKUP(AP$3,Tab_Vendredi,4,FALSE))","v":"2019-04-05"},{"$f":"IF(ISNA(VLOOKUP(AP$3,Tab_Samedi,3,FALSE)),\"\",VLOOKUP(AP$3,Tab_Samedi,3,FALSE))","v":"2019-05-04"},{"$f":"IF(ISNA(VLOOKUP(AP$3,Tab_Dimanche,2,FALSE)),\"\",VLOOKUP(AP$3,Tab_Dimanche,2,FALSE))","v":"2019-05-05"},24]
["2018-10-19",0,0,{"$f":"IF($C63=1,IF(WEEKDAY($K63)=D$1,1+COUNTA(D$3:D62)-COUNTBLANK(D$3:D62),\"\"),\"\")","v":""},{"$f":"IF($C63=1,IF(WEEKDAY($K63)=E$1,1+COUNTA(E$3:E62)-COUNTBLANK(E$3:E62),\"\"),\"\")","v":""},{"$f":"IF($C63=1,IF(WEEKDAY($K63)=F$1,1+COUNTA(F$3:F62)-COUNTBLANK(F$3:F62),\"\"),\"\")","v":""},{"$f":"IF($C63=1,IF(WEEKDAY($K63)=G$1,1+COUNTA(G$3:G62)-COUNTBLANK(G$3:G62),\"\"),\"\")","v":""},{"$f":"IF($C63=1,IF(WEEKDAY($K63)=H$1,1+COUNTA(H$3:H62)-COUNTBLANK(H$3:H62),\"\"),\"\")","v":""},{"$f":"IF($C63=1,IF(WEEKDAY($K63)=I$1,1+COUNTA(I$3:I62)-COUNTBLANK(I$3:I62),\"\"),\"\")","v":""},{"$f":"IF($C63=1,IF(WEEKDAY($K63)=J$1,1+COUNTA(J$3:J62)-COUNTBLANK(J$3:J62),\"\"),\"\")","v":""},"2018-10-19",{"$nulls":6},25,{"$f":"IF(ISNA(VLOOKUP(AQ$3,Tab_Lundi,8,FALSE)),\"\",VLOOKUP(AQ$3,Tab_Lundi,8,FALSE))","v":"2019-04-08"},{"$f":"IF(ISNA(VLOOKUP(AQ$3,Tab_mardi,7,FALSE)),\"\",VLOOKUP(AQ$3,Tab_mardi,7,FALSE))","v":"2019-04-09"},{"$f":"IF(ISNA(VLOOKUP(AQ$3,Tab_mercredi,6,FALSE)),\"\",VLOOKUP(AQ$3,Tab_mercredi,6,FALSE))","v":"2019-04-10"},{"$f":"IF(ISNA(VLOOKUP(AQ$3,Tab_Jeudi,5,FALSE)),\"\",VLOOKUP(AQ$3,Tab_Jeudi,5,FALSE))","v":"2019-04-25"},{"$f":"IF(ISNA(VLOOKUP(AQ$3,Tab_Vendredi,4,FALSE)),\"\",VLOOKUP(AQ$3,Tab_Vendredi,4,FALSE))","v":"2019-04-12"},{"$f":"IF(ISNA(VLOOKUP(AQ$3,Tab_Samedi,3,FALSE)),\"\",VLOOKUP(AQ$3,Tab_Samedi,3,FALSE))","v":"2019-05-25"},{"$f":"IF(ISNA(VLOOKUP(AQ$3,Tab_Dimanche,2,FALSE)),\"\",VLOOKUP(AQ$3,Tab_Dimanche,2,FALSE))","v":"2019-05-26"},25]
["2018-10-20",0,0,{"$f":"IF($C64=1,IF(WEEKDAY($K64)=D$1,1+COUNTA(D$3:D63)-COUNTBLANK(D$3:D63),\"\"),\"\")","v":""},{"$f":"IF($C64=1,IF(WEEKDAY($K64)=E$1,1+COUNTA(E$3:E63)-COUNTBLANK(E$3:E63),\"\"),\"\")","v":""},{"$f":"IF($C64=1,IF(WEEKDAY($K64)=F$1,1+COUNTA(F$3:F63)-COUNTBLANK(F$3:F63),\"\"),\"\")","v":""},{"$f":"IF($C64=1,IF(WEEKDAY($K64)=G$1,1+COUNTA(G$3:G63)-COUNTBLANK(G$3:G63),\"\"),\"\")","v":""},{"$f":"IF($C64=1,IF(WEEKDAY($K64)=H$1,1+COUNTA(H$3:H63)-COUNTBLANK(H$3:H63),\"\"),\"\")","v":""},{"$f":"IF($C64=1,IF(WEEKDAY($K64)=I$1,1+COUNTA(I$3:I63)-COUNTBLANK(I$3:I63),\"\"),\"\")","v":""},{"$f":"IF($C64=1,IF(WEEKDAY($K64)=J$1,1+COUNTA(J$3:J63)-COUNTBLANK(J$3:J63),\"\"),\"\")","v":""},"2018-10-20",{"$nulls":6},26,{"$f":"IF(ISNA(VLOOKUP(AR$3,Tab_Lundi,8,FALSE)),\"\",VLOOKUP(AR$3,Tab_Lundi,8,FALSE))","v":"2019-04-15"},{"$f":"IF(ISNA(VLOOKUP(AR$3,Tab_mardi,7,FALSE)),\"\",VLOOKUP(AR$3,Tab_mardi,7,FALSE))","v":"2019-04-16"},{"$f":"IF(ISNA(VLOOKUP(AR$3,Tab_mercredi,6,FALSE)),\"\",VLOOKUP(AR$3,Tab_mercredi,6,FALSE))","v":"2019-04-17"},{"$f":"IF(ISNA(VLOOKUP(AR$3,Tab_Jeudi,5,FALSE)),\"\",VLOOKUP(AR$3,Tab_Jeudi,5,FALSE))","v":"2019-05-02"},{"$f":"IF(ISNA(VLOOKUP(AR$3,Tab_Vendredi,4,FALSE)),\"\",VLOOKUP(AR$3,Tab_Vendredi,4,FALSE))","v":"2019-04-19"},{"$f":"IF(ISNA(VLOOKUP(AR$3,Tab_Samedi,3,FALSE)),\"\",VLOOKUP(AR$3,Tab_Samedi,3,FALSE))","v":"2019-06-01"},{"$f":"IF(ISNA(VLOOKUP(AR$3,Tab_Dimanche,2,FALSE)),\"\",VLOOKUP(AR$3,Tab_Dimanche,2,FALSE))","v":"2019-06-02"},26]
["2018-10-21",0,0,{"$f":"IF($C65=1,IF(WEEKDAY($K65)=D$1,1+COUNTA(D$3:D64)-COUNTBLANK(D$3:D64),\"\"),\"\")","v":""},{"$f":"IF($C65=1,IF(WEEKDAY($K65)=E$1,1+COUNTA(E$3:E64)-COUNTBLANK(E$3:E64),\"\"),\"\")","v":""},{"$f":"IF($C65=1,IF(WEEKDAY($K65)=F$1,1+COUNTA(F$3:F64)-COUNTBLANK(F$3:F64),\"\"),\"\")","v":""},{"$f":"IF($C65=1,IF(WEEKDAY($K65)=G$1,1+COUNTA(G$3:G64)-COUNTBLANK(G$3:G64),\"\"),\"\")","v":""},{"$f":"IF($C65=1,IF(WEEKDAY($K65)=H$1,1+COUNTA(H$3:H64)-COUNTBLANK(H$3:H64),\"\"),\"\")","v":""},{"$f":"IF($C65=1,IF(WEEKDAY($K65)=I$1,1+COUNTA(I$3:I64)-COUNTBLANK(I$3:I64),\"\"),\"\")","v":""},{"$f":"IF($C65=1,IF(WEEKDAY($K65)=J$1,1+COUNTA(J$3:J64)-COUNTBLANK(J$3:J64),\"\"),\"\")","v":""},"2018-10-21",{"$nulls":6},27,{"$f":"IF(ISNA(VLOOKUP(AS$3,Tab_Lundi,8,FALSE)),\"\",VLOOKUP(AS$3,Tab_Lundi,8,FALSE))","v":"2019-04-29"},{"$f":"IF(ISNA(VLOOKUP(AS$3,Tab_mardi,7,FALSE)),\"\",VLOOKUP(AS$3,Tab_mardi,7,FALSE))","v":"2019-04-23"},{"$f":"IF(ISNA(VLOOKUP(AS$3,Tab_mercredi,6,FALSE)),\"\",VLOOKUP(AS$3,Tab_mercredi,6,FALSE))","v":"2019-04-24"},{"$f":"IF(ISNA(VLOOKUP(AS$3,Tab_Jeudi,5,FALSE)),\"\",VLOOKUP(AS$3,Tab_Jeudi,5,FALSE))","v":"2019-05-23"},{"$f":"IF(ISNA(VLOOKUP(AS$3,Tab_Vendredi,4,FALSE)),\"\",VLOOKUP(AS$3,Tab_Vendredi,4,FALSE))","v":"2019-04-26"},{"$f":"IF(ISNA(VLOOKUP(AS$3,Tab_Samedi,3,FALSE)),\"\",VLOOKUP(AS$3,Tab_Samedi,3,FALSE))","v":"2019-06-08"},{"$f":"IF(ISNA(VLOOKUP(AS$3,Tab_Dimanche,2,FALSE)),\"\",VLOOKUP(AS$3,Tab_Dimanche,2,FALSE))","v":"2019-06-09"},27]
["2018-10-22",0,0,{"$f":"IF($C66=1,IF(WEEKDAY($K66)=D$1,1+COUNTA(D$3:D65)-COUNTBLANK(D$3:D65),\"\"),\"\")","v":""},{"$f":"IF($C66=1,IF(WEEKDAY($K66)=E$1,1+COUNTA(E$3:E65)-COUNTBLANK(E$3:E65),\"\"),\"\")","v":""},{"$f":"IF($C66=1,IF(WEEKDAY($K66)=F$1,1+COUNTA(F$3:F65)-COUNTBLANK(F$3:F65),\"\"),\"\")","v":""},{"$f":"IF($C66=1,IF(WEEKDAY($K66)=G$1,1+COUNTA(G$3:G65)-COUNTBLANK(G$3:G65),\"\"),\"\")","v":""},{"$f":"IF($C66=1,IF(WEEKDAY($K66)=H$1,1+COUNTA(H$3:H65)-COUNTBLANK(H$3:H65),\"\"),\"\")","v":""},{"$f":"IF($C66=1,IF(WEEKDAY($K66)=I$1,1+COUNTA(I$3:I65)-COUNTBLANK(I$3:I65),\"\"),\"\")","v":""},{"$f":"IF($C66=1,IF(WEEKDAY($K66)=J$1,1+COUNTA(J$3:J65)-COUNTBLANK(J$3:J65),\"\"),\"\")","v":""},"2018-10-22",{"$nulls":6},28,{"$f":"IF(ISNA(VLOOKUP(AT$3,Tab_Lundi,8,FALSE)),\"\",VLOOKUP(AT$3,Tab_Lundi,8,FALSE))","v":"2019-05-06"},{"$f":"IF(ISNA(VLOOKUP(AT$3,Tab_mardi,7,FALSE)),\"\",VLOOKUP(AT$3,Tab_mardi,7,FALSE))","v":"2019-04-30"},{"$f":"IF(ISNA(VLOOKUP(AT$3,Tab_mercredi,6,FALSE)),\"\",VLOOKUP(AT$3,Tab_mercredi,6,FALSE))","v":"2019-05-22"},{"$f":"IF(ISNA(VLOOKUP(AT$3,Tab_Jeudi,5,FALSE)),\"\",VLOOKUP(AT$3,Tab_Jeudi,5,FALSE))","v":"2019-06-06"},{"$f":"IF(ISNA(VLOOKUP(AT$3,Tab_Vendredi,4,FALSE)),\"\",VLOOKUP(AT$3,Tab_Vendredi,4,FALSE))","v":"2019-05-03"},{"$f":"IF(ISNA(VLOOKUP(AT$3,Tab_Samedi,3,FALSE)),\"\",VLOOKUP(AT$3,Tab_Samedi,3,FALSE))","v":"2019-06-15"},{"$f":"IF(ISNA(VLOOKUP(AT$3,Tab_Dimanche,2,FALSE)),\"\",VLOOKUP(AT$3,Tab_Dimanche,2,FALSE))","v":"2019-06-16"},28]
["2018-10-23",{"$f":"IF(SUM(D67:J67)>0.5,IF(SUM(I67:J67)=0,1,0),0)","v":0},{"$f":"IF(OR(K67=L$15,K67=L$16,K67=L$17,K67=L$18,K67=L$19,K67=L$20,K67=L$21,K67=L$22,K67=L$23,K67=L$24,K67=L$25,K67=L$26,K67=L$27,K67=L$28),0,IF(K67<L$7,1,IF(AND(K67>M$7,K67<L$8),1,IF(AND(K67>M$8,K67<L$9),1,IF(AND(K67>M$9,K67<L$10),1,IF(AND(K67>M$10,K67<L$11),1,IF(AND(K67>M$11),1,0)))))))","v":0},{"$f":"IF($C67=1,IF(WEEKDAY($K67)=D$1,1+COUNTA(D$3:D66)-COUNTBLANK(D$3:D66),\"\"),\"\")","v":""},{"$f":"IF($C67=1,IF(WEEKDAY($K67)=E$1,1+COUNTA(E$3:E66)-COUNTBLANK(E$3:E66),\"\"),\"\")","v":""},{"$f":"IF($C67=1,IF(WEEKDAY($K67)=F$1,1+COUNTA(F$3:F66)-COUNTBLANK(F$3:F66),\"\"),\"\")","v":""},{"$f":"IF($C67=1,IF(WEEKDAY($K67)=G$1,1+COUNTA(G$3:G66)-COUNTBLANK(G$3:G66),\"\"),\"\")","v":""},{"$f":"IF($C67=1,IF(WEEKDAY($K67)=H$1,1+COUNTA(H$3:H66)-COUNTBLANK(H$3:H66),\"\"),\"\")","v":""},{"$f":"IF($C67=1,IF(WEEKDAY($K67)=I$1,1+COUNTA(I$3:I66)-COUNTBLANK(I$3:I66),\"\"),\"\")","v":""},{"$f":"IF($C67=1,IF(WEEKDAY($K67)=J$1,1+COUNTA(J$3:J66)-COUNTBLANK(J$3:J66),\"\"),\"\")","v":""},"2018-10-23",{"$nulls":6},29,{"$f":"IF(ISNA(VLOOKUP(AU$3,Tab_Lundi,8,FALSE)),\"\",VLOOKUP(AU$3,Tab_Lundi,8,FALSE))","v":"2019-05-20"},{"$f":"IF(ISNA(VLOOKUP(AU$3,Tab_mardi,7,FALSE)),\"\",VLOOKUP(AU$3,Tab_mardi,7,FALSE))","v":"2019-05-21"},{"$f":"IF(ISNA(VLOOKUP(AU$3,Tab_mercredi,6,FALSE)),\"\",VLOOKUP(AU$3,Tab_mercredi,6,FALSE))","v":"2019-05-29"},{"$f":"IF(ISNA(VLOOKUP(AU$3,Tab_Jeudi,5,FALSE)),\"\",VLOOKUP(AU$3,Tab_Jeudi,5,FALSE))","v":"2019-06-13"},{"$f":"IF(ISNA(VLOOKUP(AU$3,Tab_Vendredi,4,FALSE)),\"\",VLOOKUP(AU$3,Tab_Vendredi,4,FALSE))","v":"2019-05-24"},{"$f":"IF(ISNA(VLOOKUP(AU$3,Tab_Samedi,3,FALSE)),\"\",VLOOKUP(AU$3,Tab_Samedi,3,FALSE))","v":"2019-06-22"},{"$f":"IF(ISNA(VLOOKUP(AU$3,Tab_Dimanche,2,FALSE)),\"\",VLOOKUP(AU$3,Tab_Dimanche,2,FALSE))","v":"2019-06-23"},29]
[{"$f":"K68","v":"2018-10-24"},0,0,{"$f":"IF($C68=1,IF(WEEKDAY($K68)=D$1,1+COUNTA(D$3:D67)-COUNTBLANK(D$3:D67),\"\"),\"\")","v":""},{"$f":"IF($C68=1,IF(WEEKDAY($K68)=E$1,1+COUNTA(E$3:E67)-COUNTBLANK(E$3:E67),\"\"),\"\")","v":""},{"$f":"IF($C68=1,IF(WEEKDAY($K68)=F$1,1+COUNTA(F$3:F67)-COUNTBLANK(F$3:F67),\"\"),\"\")","v":""},{"$f":"IF($C68=1,IF(WEEKDAY($K68)=G$1,1+COUNTA(G$3:G67)-COUNTBLANK(G$3:G67),\"\"),\"\")","v":""},{"$f":"IF($C68=1,IF(WEEKDAY($K68)=H$1,1+COUNTA(H$3:H67)-COUNTBLANK(H$3:H67),\"\"),\"\")","v":""},{"$f":"IF($C68=1,IF(WEEKDAY($K68)=I$1,1+COUNTA(I$3:I67)-COUNTBLANK(I$3:I67),\"\"),\"\")","v":""},{"$f":"IF($C68=1,IF(WEEKDAY($K68)=J$1,1+COUNTA(J$3:J67)-COUNTBLANK(J$3:J67),\"\"),\"\")","v":""},{"$f":"1+K67","v":"2018-10-24"},{"$nulls":6},30,{"$f":"IF(ISNA(VLOOKUP(AV$3,Tab_Lundi,8,FALSE)),\"\",VLOOKUP(AV$3,Tab_Lundi,8,FALSE))","v":"2019-05-27"},{"$f":"IF(ISNA(VLOOKUP(AV$3,Tab_mardi,7,FALSE)),\"\",VLOOKUP(AV$3,Tab_mardi,7,FALSE))","v":"2019-05-28"},{"$f":"IF(ISNA(VLOOKUP(AV$3,Tab_mercredi,6,FALSE)),\"\",VLOOKUP(AV$3,Tab_mercredi,6,FALSE))","v":"2019-06-05"},{"$f":"IF(ISNA(VLOOKUP(AV$3,Tab_Jeudi,5,FALSE)),\"\",VLOOKUP(AV$3,Tab_Jeudi,5,FALSE))","v":"2019-06-20"},{"$f":"IF(ISNA(VLOOKUP(AV$3,Tab_Vendredi,4,FALSE)),\"\",VLOOKUP(AV$3,Tab_Vendredi,4,FALSE))","v":"2019-05-31"},{"$f":"IF(ISNA(VLOOKUP(AV$3,Tab_Samedi,3,FALSE)),\"\",VLOOKUP(AV$3,Tab_Samedi,3,FALSE))","v":"2019-06-29"},{"$f":"IF(ISNA(VLOOKUP(AV$3,Tab_Dimanche,2,FALSE)),\"\",VLOOKUP(AV$3,Tab_Dimanche,2,FALSE))","v":"2019-06-30"},30]
["2018-10-25",0,0,{"$f":"IF($C69=1,IF(WEEKDAY($K69)=D$1,1+COUNTA(D$3:D68)-COUNTBLANK(D$3:D68),\"\"),\"\")","v":""},{"$f":"IF($C69=1,IF(WEEKDAY($K69)=E$1,1+COUNTA(E$3:E68)-COUNTBLANK(E$3:E68),\"\"),\"\")","v":""},{"$f":"IF($C69=1,IF(WEEKDAY($K69)=F$1,1+COUNTA(F$3:F68)-COUNTBLANK(F$3:F68),\"\"),\"\")","v":""},{"$f":"IF($C69=1,IF(WEEKDAY($K69)=G$1,1+COUNTA(G$3:G68)-COUNTBLANK(G$3:G68),\"\"),\"\")","v":""},{"$f":"IF($C69=1,IF(WEEKDAY($K69)=H$1,1+COUNTA(H$3:H68)-COUNTBLANK(H$3:H68),\"\"),\"\")","v":""},{"$f":"IF($C69=1,IF(WEEKDAY($K69)=I$1,1+COUNTA(I$3:I68)-COUNTBLANK(I$3:I68),\"\"),\"\")","v":""},{"$f":"IF($C69=1,IF(WEEKDAY($K69)=J$1,1+COUNTA(J$3:J68)-COUNTBLANK(J$3:J68),\"\"),\"\")","v":""},"2018-10-25",{"$nulls":6},31,{"$f":"IF(ISNA(VLOOKUP(AW$3,Tab_Lundi,8,FALSE)),\"\",VLOOKUP(AW$3,Tab_Lundi,8,FALSE))","v":"2019-06-03"},{"$f":"IF(ISNA(VLOOKUP(AW$3,Tab_mardi,7,FALSE)),\"\",VLOOKUP(AW$3,Tab_mardi,7,FALSE))","v":"2019-06-04"},{"$f":"IF(ISNA(VLOOKUP(AW$3,Tab_mercredi,6,FALSE)),\"\",VLOOKUP(AW$3,Tab_mercredi,6,FALSE))","v":"2019-06-12"},{"$f":"IF(ISNA(VLOOKUP(AW$3,Tab_Jeudi,5,FALSE)),\"\",VLOOKUP(AW$3,Tab_Jeudi,5,FALSE))","v":"2019-06-27"},{"$f":"IF(ISNA(VLOOKUP(AW$3,Tab_Vendredi,4,FALSE)),\"\",VLOOKUP(AW$3,Tab_Vendredi,4,FALSE))","v":"2019-06-07"},{"$f":"IF(ISNA(VLOOKUP(AW$3,Tab_Samedi,3,FALSE)),\"\",VLOOKUP(AW$3,Tab_Samedi,3,FALSE))","v":""},{"$f":"IF(ISNA(VLOOKUP(AW$3,Tab_Dimanche,2,FALSE)),\"\",VLOOKUP(AW$3,Tab_Dimanche,2,FALSE))","v":""},31]
["2018-10-26",0,0,{"$f":"IF($C70=1,IF(WEEKDAY($K70)=D$1,1+COUNTA(D$3:D69)-COUNTBLANK(D$3:D69),\"\"),\"\")","v":""},{"$f":"IF($C70=1,IF(WEEKDAY($K70)=E$1,1+COUNTA(E$3:E69)-COUNTBLANK(E$3:E69),\"\"),\"\")","v":""},{"$f":"IF($C70=1,IF(WEEKDAY($K70)=F$1,1+COUNTA(F$3:F69)-COUNTBLANK(F$3:F69),\"\"),\"\")","v":""},{"$f":"IF($C70=1,IF(WEEKDAY($K70)=G$1,1+COUNTA(G$3:G69)-COUNTBLANK(G$3:G69),\"\"),\"\")","v":""},{"$f":"IF($C70=1,IF(WEEKDAY($K70)=H$1,1+COUNTA(H$3:H69)-COUNTBLANK(H$3:H69),\"\"),\"\")","v":""},{"$f":"IF($C70=1,IF(WEEKDAY($K70)=I$1,1+COUNTA(I$3:I69)-COUNTBLANK(I$3:I69),\"\"),\"\")","v":""},{"$f":"IF($C70=1,IF(WEEKDAY($K70)=J$1,1+COUNTA(J$3:J69)-COUNTBLANK(J$3:J69),\"\"),\"\")","v":""},"2018-10-26",{"$nulls":6},32,{"$f":"IF(ISNA(VLOOKUP(AX$3,Tab_Lundi,8,FALSE)),\"\",VLOOKUP(AX$3,Tab_Lundi,8,FALSE))","v":"2019-06-10"},{"$f":"IF(ISNA(VLOOKUP(AX$3,Tab_mardi,7,FALSE)),\"\",VLOOKUP(AX$3,Tab_mardi,7,FALSE))","v":"2019-06-11"},{"$f":"IF(ISNA(VLOOKUP(AX$3,Tab_mercredi,6,FALSE)),\"\",VLOOKUP(AX$3,Tab_mercredi,6,FALSE))","v":"2019-06-19"},{"$f":"IF(ISNA(VLOOKUP(AX$3,Tab_Jeudi,5,FALSE)),\"\",VLOOKUP(AX$3,Tab_Jeudi,5,FALSE))","v":"2019-07-04"},{"$f":"IF(ISNA(VLOOKUP(AX$3,Tab_Vendredi,4,FALSE)),\"\",VLOOKUP(AX$3,Tab_Vendredi,4,FALSE))","v":"2019-06-14"},{"$f":"IF(ISNA(VLOOKUP(AX$3,Tab_Samedi,3,FALSE)),\"\",VLOOKUP(AX$3,Tab_Samedi,3,FALSE))","v":""},{"$f":"IF(ISNA(VLOOKUP(AX$3,Tab_Dimanche,2,FALSE)),\"\",VLOOKUP(AX$3,Tab_Dimanche,2,FALSE))","v":""},32]
["2018-10-27",0,0,{"$f":"IF($C71=1,IF(WEEKDAY($K71)=D$1,1+COUNTA(D$3:D70)-COUNTBLANK(D$3:D70),\"\"),\"\")","v":""},{"$f":"IF($C71=1,IF(WEEKDAY($K71)=E$1,1+COUNTA(E$3:E70)-COUNTBLANK(E$3:E70),\"\"),\"\")","v":""},{"$f":"IF($C71=1,IF(WEEKDAY($K71)=F$1,1+COUNTA(F$3:F70)-COUNTBLANK(F$3:F70),\"\"),\"\")","v":""},{"$f":"IF($C71=1,IF(WEEKDAY($K71)=G$1,1+COUNTA(G$3:G70)-COUNTBLANK(G$3:G70),\"\"),\"\")","v":""},{"$f":"IF($C71=1,IF(WEEKDAY($K71)=H$1,1+COUNTA(H$3:H70)-COUNTBLANK(H$3:H70),\"\"),\"\")","v":""},{"$f":"IF($C71=1,IF(WEEKDAY($K71)=I$1,1+COUNTA(I$3:I70)-COUNTBLANK(I$3:I70),\"\"),\"\")","v":""},{"$f":"IF($C71=1,IF(WEEKDAY($K71)=J$1,1+COUNTA(J$3:J70)-COUNTBLANK(J$3:J70),\"\"),\"\")","v":""},"2018-10-27",{"$nulls":6},33,{"$f":"IF(ISNA(VLOOKUP(AY$3,Tab_Lundi,8,FALSE)),\"\",VLOOKUP(AY$3,Tab_Lundi,8,FALSE))","v":"2019-06-17"},{"$f":"IF(ISNA(VLOOKUP(AY$3,Tab_mardi,7,FALSE)),\"\",VLOOKUP(AY$3,Tab_mardi,7,FALSE))","v":"2019-06-18"},{"$f":"IF(ISNA(VLOOKUP(AY$3,Tab_mercredi,6,FALSE)),\"\",VLOOKUP(AY$3,Tab_mercredi,6,FALSE))","v":"2019-06-26"},{"$f":"IF(ISNA(VLOOKUP(AY$3,Tab_Jeudi,5,FALSE)),\"\",VLOOKUP(AY$3,Tab_Jeudi,5,FALSE))","v":""},{"$f":"IF(ISNA(VLOOKUP(AY$3,Tab_Vendredi,4,FALSE)),\"\",VLOOKUP(AY$3,Tab_Vendredi,4,FALSE))","v":"2019-06-21"},{"$f":"IF(ISNA(VLOOKUP(AY$3,Tab_Samedi,3,FALSE)),\"\",VLOOKUP(AY$3,Tab_Samedi,3,FALSE))","v":""},{"$f":"IF(ISNA(VLOOKUP(AY$3,Tab_Dimanche,2,FALSE)),\"\",VLOOKUP(AY$3,Tab_Dimanche,2,FALSE))","v":""},33]
["2018-10-28",0,0,{"$f":"IF($C72=1,IF(WEEKDAY($K72)=D$1,1+COUNTA(D$3:D71)-COUNTBLANK(D$3:D71),\"\"),\"\")","v":""},{"$f":"IF($C72=1,IF(WEEKDAY($K72)=E$1,1+COUNTA(E$3:E71)-COUNTBLANK(E$3:E71),\"\"),\"\")","v":""},{"$f":"IF($C72=1,IF(WEEKDAY($K72)=F$1,1+COUNTA(F$3:F71)-COUNTBLANK(F$3:F71),\"\"),\"\")","v":""},{"$f":"IF($C72=1,IF(WEEKDAY($K72)=G$1,1+COUNTA(G$3:G71)-COUNTBLANK(G$3:G71),\"\"),\"\")","v":""},{"$f":"IF($C72=1,IF(WEEKDAY($K72)=H$1,1+COUNTA(H$3:H71)-COUNTBLANK(H$3:H71),\"\"),\"\")","v":""},{"$f":"IF($C72=1,IF(WEEKDAY($K72)=I$1,1+COUNTA(I$3:I71)-COUNTBLANK(I$3:I71),\"\"),\"\")","v":""},{"$f":"IF($C72=1,IF(WEEKDAY($K72)=J$1,1+COUNTA(J$3:J71)-COUNTBLANK(J$3:J71),\"\"),\"\")","v":""},"2018-10-28",{"$nulls":6},34,{"$f":"IF(ISNA(VLOOKUP(AZ$3,Tab_Lundi,8,FALSE)),\"\",VLOOKUP(AZ$3,Tab_Lundi,8,FALSE))","v":"2019-06-24"},{"$f":"IF(ISNA(VLOOKUP(AZ$3,Tab_mardi,7,FALSE)),\"\",VLOOKUP(AZ$3,Tab_mardi,7,FALSE))","v":"2019-06-25"},{"$f":"IF(ISNA(VLOOKUP(AZ$3,Tab_mercredi,6,FALSE)),\"\",VLOOKUP(AZ$3,Tab_mercredi,6,FALSE))","v":"2019-07-03"},{"$f":"IF(ISNA(VLOOKUP(AZ$3,Tab_Jeudi,5,FALSE)),\"\",VLOOKUP(AZ$3,Tab_Jeudi,5,FALSE))","v":""},{"$f":"IF(ISNA(VLOOKUP(AZ$3,Tab_Vendredi,4,FALSE)),\"\",VLOOKUP(AZ$3,Tab_Vendredi,4,FALSE))","v":"2019-06-28"},{"$f":"IF(ISNA(VLOOKUP(AZ$3,Tab_Samedi,3,FALSE)),\"\",VLOOKUP(AZ$3,Tab_Samedi,3,FALSE))","v":""},{"$f":"IF(ISNA(VLOOKUP(AZ$3,Tab_Dimanche,2,FALSE)),\"\",VLOOKUP(AZ$3,Tab_Dimanche,2,FALSE))","v":""},34]
["2018-10-29",1,1,{"$f":"IF($C73=1,IF(WEEKDAY($K73)=D$1,1+COUNTA(D$3:D72)-COUNTBLANK(D$3:D72),\"\"),\"\")","v":9},{"$f":"IF($C73=1,IF(WEEKDAY($K73)=E$1,1+COUNTA(E$3:E72)-COUNTBLANK(E$3:E72),\"\"),\"\")","v":""},{"$f":"IF($C73=1,IF(WEEKDAY($K73)=F$1,1+COUNTA(F$3:F72)-COUNTBLANK(F$3:F72),\"\"),\"\")","v":""},{"$f":"IF($C73=1,IF(WEEKDAY($K73)=G$1,1+COUNTA(G$3:G72)-COUNTBLANK(G$3:G72),\"\"),\"\")","v":""},{"$f":"IF($C73=1,IF(WEEKDAY($K73)=H$1,1+COUNTA(H$3:H72)-COUNTBLANK(H$3:H72),\"\"),\"\")","v":""},{"$f":"IF($C73=1,IF(WEEKDAY($K73)=I$1,1+COUNTA(I$3:I72)-COUNTBLANK(I$3:I72),\"\"),\"\")","v":""},{"$f":"IF($C73=1,IF(WEEKDAY($K73)=J$1,1+COUNTA(J$3:J72)-COUNTBLANK(J$3:J72),\"\"),\"\")","v":""},"2018-10-29",{"$nulls":6},35,{"$f":"IF(ISNA(VLOOKUP(BA$3,Tab_Lundi,8,FALSE)),\"\",VLOOKUP(BA$3,Tab_Lundi,8,FALSE))","v":"2019-07-01"},{"$f":"IF(ISNA(VLOOKUP(BA$3,Tab_mardi,7,FALSE)),\"\",VLOOKUP(BA$3,Tab_mardi,7,FALSE))","v":"2019-07-02"},{"$f":"IF(ISNA(VLOOKUP(BA$3,Tab_mercredi,6,FALSE)),\"\",VLOOKUP(BA$3,Tab_mercredi,6,FALSE))","v":""},{"$f":"IF(ISNA(VLOOKUP(BA$3,Tab_Jeudi,5,FALSE)),\"\",VLOOKUP(BA$3,Tab_Jeudi,5,FALSE))","v":""},{"$f":"IF(ISNA(VLOOKUP(BA$3,Tab_Vendredi,4,FALSE)),\"\",VLOOKUP(BA$3,Tab_Vendredi,4,FALSE))","v":"2019-07-05"},{"$f":"IF(ISNA(VLOOKUP(BA$3,Tab_Samedi,3,FALSE)),\"\",VLOOKUP(BA$3,Tab_Samedi,3,FALSE))","v":""},{"$f":"IF(ISNA(VLOOKUP(BA$3,Tab_Dimanche,2,FALSE)),\"\",VLOOKUP(BA$3,Tab_Dimanche,2,FALSE))","v":""},35]
["2018-10-30",1,1,{"$f":"IF($C74=1,IF(WEEKDAY($K74)=D$1,1+COUNTA(D$3:D73)-COUNTBLANK(D$3:D73),\"\"),\"\")","v":""},{"$f":"IF($C74=1,IF(WEEKDAY($K74)=E$1,1+COUNTA(E$3:E73)-COUNTBLANK(E$3:E73),\"\"),\"\")","v":9},{"$f":"IF($C74=1,IF(WEEKDAY($K74)=F$1,1+COUNTA(F$3:F73)-COUNTBLANK(F$3:F73),\"\"),\"\")","v":""},{"$f":"IF($C74=1,IF(WEEKDAY($K74)=G$1,1+COUNTA(G$3:G73)-COUNTBLANK(G$3:G73),\"\"),\"\")","v":""},{"$f":"IF($C74=1,IF(WEEKDAY($K74)=H$1,1+COUNTA(H$3:H73)-COUNTBLANK(H$3:H73),\"\"),\"\")","v":""},{"$f":"IF($C74=1,IF(WEEKDAY($K74)=I$1,1+COUNTA(I$3:I73)-COUNTBLANK(I$3:I73),\"\"),\"\")","v":""},{"$f":"IF($C74=1,IF(WEEKDAY($K74)=J$1,1+COUNTA(J$3:J73)-COUNTBLANK(J$3:J73),\"\"),\"\")","v":""},"2018-10-30",{"$nulls":6},36,{"$f":"IF(ISNA(VLOOKUP(BB$3,Tab_Lundi,8,FALSE)),\"\",VLOOKUP(BB$3,Tab_Lundi,8,FALSE))","v":""},{"$f":"IF(ISNA(VLOOKUP(BB$3,Tab_mardi,7,FALSE)),\"\",VLOOKUP(BB$3,Tab_mardi,7,FALSE))","v":"2019-08-20"},{"$f":"IF(ISNA(VLOOKUP(BB$3,Tab_mercredi,6,FALSE)),\"\",VLOOKUP(BB$3,Tab_mercredi,6,FALSE))","v":""},{"$f":"IF(ISNA(VLOOKUP(BB$3,Tab_Jeudi,5,FALSE)),\"\",VLOOKUP(BB$3,Tab_Jeudi,5,FALSE))","v":""},{"$f":"IF(ISNA(VLOOKUP(BB$3,Tab_Vendredi,4,FALSE)),\"\",VLOOKUP(BB$3,Tab_Vendredi,4,FALSE))","v":""},{"$f":"IF(ISNA(VLOOKUP(BB$3,Tab_Samedi,3,FALSE)),\"\",VLOOKUP(BB$3,Tab_Samedi,3,FALSE))","v":""},{"$f":"IF(ISNA(VLOOKUP(BB$3,Tab_Dimanche,2,FALSE)),\"\",VLOOKUP(BB$3,Tab_Dimanche,2,FALSE))","v":""},36]
["2018-10-31",1,1,{"$f":"IF($C75=1,IF(WEEKDAY($K75)=D$1,1+COUNTA(D$3:D74)-COUNTBLANK(D$3:D74),\"\"),\"\")","v":""},{"$f":"IF($C75=1,IF(WEEKDAY($K75)=E$1,1+COUNTA(E$3:E74)-COUNTBLANK(E$3:E74),\"\"),\"\")","v":""},{"$f":"IF($C75=1,IF(WEEKDAY($K75)=F$1,1+COUNTA(F$3:F74)-COUNTBLANK(F$3:F74),\"\"),\"\")","v":9},{"$f":"IF($C75=1,IF(WEEKDAY($K75)=G$1,1+COUNTA(G$3:G74)-COUNTBLANK(G$3:G74),\"\"),\"\")","v":""},{"$f":"IF($C75=1,IF(WEEKDAY($K75)=H$1,1+COUNTA(H$3:H74)-COUNTBLANK(H$3:H74),\"\"),\"\")","v":""},{"$f":"IF($C75=1,IF(WEEKDAY($K75)=I$1,1+COUNTA(I$3:I74)-COUNTBLANK(I$3:I74),\"\"),\"\")","v":""},{"$f":"IF($C75=1,IF(WEEKDAY($K75)=J$1,1+COUNTA(J$3:J74)-COUNTBLANK(J$3:J74),\"\"),\"\")","v":""},"2018-10-31",{"$nulls":7},{"$f":"IF(ISNA(VLOOKUP(BC$3,Tab_Lundi,8,FALSE)),\"\",VLOOKUP(BC$3,Tab_Lundi,8,FALSE))","v":""},{"$f":"IF(ISNA(VLOOKUP(BC$3,Tab_mardi,7,FALSE)),\"\",VLOOKUP(BC$3,Tab_mardi,7,FALSE))","v":""},{"$f":"IF(ISNA(VLOOKUP(BC$3,Tab_mercredi,6,FALSE)),\"\",VLOOKUP(BC$3,Tab_mercredi,6,FALSE))","v":""},{"$f":"IF(ISNA(VLOOKUP(BC$3,Tab_Jeudi,5,FALSE)),\"\",VLOOKUP(BC$3,Tab_Jeudi,5,FALSE))","v":""},{"$f":"IF(ISNA(VLOOKUP(BC$3,Tab_Vendredi,4,FALSE)),\"\",VLOOKUP(BC$3,Tab_Vendredi,4,FALSE))","v":""},{"$f":"IF(ISNA(VLOOKUP(BC$3,Tab_Samedi,3,FALSE)),\"\",VLOOKUP(BC$3,Tab_Samedi,3,FALSE))","v":""},{"$f":"IF(ISNA(VLOOKUP(BC$3,Tab_Dimanche,2,FALSE)),\"\",VLOOKUP(BC$3,Tab_Dimanche,2,FALSE))","v":""}]
["2018-11-01",0,0,{"$f":"IF($C76=1,IF(WEEKDAY($K76)=D$1,1+COUNTA(D$3:D75)-COUNTBLANK(D$3:D75),\"\"),\"\")","v":""},{"$f":"IF($C76=1,IF(WEEKDAY($K76)=E$1,1+COUNTA(E$3:E75)-COUNTBLANK(E$3:E75),\"\"),\"\")","v":""},{"$f":"IF($C76=1,IF(WEEKDAY($K76)=F$1,1+COUNTA(F$3:F75)-COUNTBLANK(F$3:F75),\"\"),\"\")","v":""},{"$f":"IF($C76=1,IF(WEEKDAY($K76)=G$1,1+COUNTA(G$3:G75)-COUNTBLANK(G$3:G75),\"\"),\"\")","v":""},{"$f":"IF($C76=1,IF(WEEKDAY($K76)=H$1,1+COUNTA(H$3:H75)-COUNTBLANK(H$3:H75),\"\"),\"\")","v":""},{"$f":"IF($C76=1,IF(WEEKDAY($K76)=I$1,1+COUNTA(I$3:I75)-COUNTBLANK(I$3:I75),\"\"),\"\")","v":""},{"$f":"IF($C76=1,IF(WEEKDAY($K76)=J$1,1+COUNTA(J$3:J75)-COUNTBLANK(J$3:J75),\"\"),\"\")","v":""},"2018-11-01",{"$nulls":7},{"$f":"IF(ISNA(VLOOKUP(BD$3,Tab_Lundi,8,FALSE)),\"\",VLOOKUP(BD$3,Tab_Lundi,8,FALSE))","v":""},{"$f":"IF(ISNA(VLOOKUP(BD$3,Tab_mardi,7,FALSE)),\"\",VLOOKUP(BD$3,Tab_mardi,7,FALSE))","v":""},{"$f":"IF(ISNA(VLOOKUP(BD$3,Tab_mercredi,6,FALSE)),\"\",VLOOKUP(BD$3,Tab_mercredi,6,FALSE))","v":""},{"$f":"IF(ISNA(VLOOKUP(BD$3,Tab_Jeudi,5,FALSE)),\"\",VLOOKUP(BD$3,Tab_Jeudi,5,FALSE))","v":""},{"$f":"IF(ISNA(VLOOKUP(BD$3,Tab_Vendredi,4,FALSE)),\"\",VLOOKUP(BD$3,Tab_Vendredi,4,FALSE))","v":""},{"$f":"IF(ISNA(VLOOKUP(BD$3,Tab_Samedi,3,FALSE)),\"\",VLOOKUP(BD$3,Tab_Samedi,3,FALSE))","v":""},{"$f":"IF(ISNA(VLOOKUP(BD$3,Tab_Dimanche,2,FALSE)),\"\",VLOOKUP(BD$3,Tab_Dimanche,2,FALSE))","v":""}]
["2018-11-02",1,1,{"$f":"IF($C77=1,IF(WEEKDAY($K77)=D$1,1+COUNTA(D$3:D76)-COUNTBLANK(D$3:D76),\"\"),\"\")","v":""},{"$f":"IF($C77=1,IF(WEEKDAY($K77)=E$1,1+COUNTA(E$3:E76)-COUNTBLANK(E$3:E76),\"\"),\"\")","v":""},{"$f":"IF($C77=1,IF(WEEKDAY($K77)=F$1,1+COUNTA(F$3:F76)-COUNTBLANK(F$3:F76),\"\"),\"\")","v":""},{"$f":"IF($C77=1,IF(WEEKDAY($K77)=G$1,1+COUNTA(G$3:G76)-COUNTBLANK(G$3:G76),\"\"),\"\")","v":""},{"$f":"IF($C77=1,IF(WEEKDAY($K77)=H$1,1+COUNTA(H$3:H76)-COUNTBLANK(H$3:H76),\"\"),\"\")","v":9},{"$f":"IF($C77=1,IF(WEEKDAY($K77)=I$1,1+COUNTA(I$3:I76)-COUNTBLANK(I$3:I76),\"\"),\"\")","v":""},{"$f":"IF($C77=1,IF(WEEKDAY($K77)=J$1,1+COUNTA(J$3:J76)-COUNTBLANK(J$3:J76),\"\"),\"\")","v":""},"2018-11-02"]
["2018-11-03",0,1,{"$f":"IF($C78=1,IF(WEEKDAY($K78)=D$1,1+COUNTA(D$3:D77)-COUNTBLANK(D$3:D77),\"\"),\"\")","v":""},{"$f":"IF($C78=1,IF(WEEKDAY($K78)=E$1,1+COUNTA(E$3:E77)-COUNTBLANK(E$3:E77),\"\"),\"\")","v":""},{"$f":"IF($C78=1,IF(WEEKDAY($K78)=F$1,1+COUNTA(F$3:F77)-COUNTBLANK(F$3:F77),\"\"),\"\")","v":""},{"$f":"IF($C78=1,IF(WEEKDAY($K78)=G$1,1+COUNTA(G$3:G77)-COUNTBLANK(G$3:G77),\"\"),\"\")","v":""},{"$f":"IF($C78=1,IF(WEEKDAY($K78)=H$1,1+COUNTA(H$3:H77)-COUNTBLANK(H$3:H77),\"\"),\"\")","v":""},{"$f":"IF($C78=1,IF(WEEKDAY($K78)=I$1,1+COUNTA(I$3:I77)-COUNTBLANK(I$3:I77),\"\"),\"\")","v":8},{"$f":"IF($C78=1,IF(WEEKDAY($K78)=J$1,1+COUNTA(J$3:J77)-COUNTBLANK(J$3:J77),\"\"),\"\")","v":""},"2018-11-03"]
["2018-11-04",0,1,{"$f":"IF($C79=1,IF(WEEKDAY($K79)=D$1,1+COUNTA(D$3:D78)-COUNTBLANK(D$3:D78),\"\"),\"\")","v":""},{"$f":"IF($C79=1,IF(WEEKDAY($K79)=E$1,1+COUNTA(E$3:E78)-COUNTBLANK(E$3:E78),\"\"),\"\")","v":""},{"$f":"IF($C79=1,IF(WEEKDAY($K79)=F$1,1+COUNTA(F$3:F78)-COUNTBLANK(F$3:F78),\"\"),\"\")","v":""},{"$f":"IF($C79=1,IF(WEEKDAY($K79)=G$1,1+COUNTA(G$3:G78)-COUNTBLANK(G$3:G78),\"\"),\"\")","v":""},{"$f":"IF($C79=1,IF(WEEKDAY($K79)=H$1,1+COUNTA(H$3:H78)-COUNTBLANK(H$3:H78),\"\"),\"\")","v":""},{"$f":"IF($C79=1,IF(WEEKDAY($K79)=I$1,1+COUNTA(I$3:I78)-COUNTBLANK(I$3:I78),\"\"),\"\")","v":""},{"$f":"IF($C79=1,IF(WEEKDAY($K79)=J$1,1+COUNTA(J$3:J78)-COUNTBLANK(J$3:J78),\"\"),\"\")","v":8},"2018-11-04"]
["2018-11-05",1,1,{"$f":"IF($C80=1,IF(WEEKDAY($K80)=D$1,1+COUNTA(D$3:D79)-COUNTBLANK(D$3:D79),\"\"),\"\")","v":10},{"$f":"IF($C80=1,IF(WEEKDAY($K80)=E$1,1+COUNTA(E$3:E79)-COUNTBLANK(E$3:E79),\"\"),\"\")","v":""},{"$f":"IF($C80=1,IF(WEEKDAY($K80)=F$1,1+COUNTA(F$3:F79)-COUNTBLANK(F$3:F79),\"\"),\"\")","v":""},{"$f":"IF($C80=1,IF(WEEKDAY($K80)=G$1,1+COUNTA(G$3:G79)-COUNTBLANK(G$3:G79),\"\"),\"\")","v":""},{"$f":"IF($C80=1,IF(WEEKDAY($K80)=H$1,1+COUNTA(H$3:H79)-COUNTBLANK(H$3:H79),\"\"),\"\")","v":""},{"$f":"IF($C80=1,IF(WEEKDAY($K80)=I$1,1+COUNTA(I$3:I79)-COUNTBLANK(I$3:I79),\"\"),\"\")","v":""},{"$f":"IF($C80=1,IF(WEEKDAY($K80)=J$1,1+COUNTA(J$3:J79)-COUNTBLANK(J$3:J79),\"\"),\"\")","v":""},"2018-11-05"]
["2018-11-06",1,1,{"$f":"IF($C81=1,IF(WEEKDAY($K81)=D$1,1+COUNTA(D$3:D80)-COUNTBLANK(D$3:D80),\"\"),\"\")","v":""},{"$f":"IF($C81=1,IF(WEEKDAY($K81)=E$1,1+COUNTA(E$3:E80)-COUNTBLANK(E$3:E80),\"\"),\"\")","v":10},{"$f":"IF($C81=1,IF(WEEKDAY($K81)=F$1,1+COUNTA(F$3:F80)-COUNTBLANK(F$3:F80),\"\"),\"\")","v":""},{"$f":"IF($C81=1,IF(WEEKDAY($K81)=G$1,1+COUNTA(G$3:G80)-COUNTBLANK(G$3:G80),\"\"),\"\")","v":""},{"$f":"IF($C81=1,IF(WEEKDAY($K81)=H$1,1+COUNTA(H$3:H80)-COUNTBLANK(H$3:H80),\"\"),\"\")","v":""},{"$f":"IF($C81=1,IF(WEEKDAY($K81)=I$1,1+COUNTA(I$3:I80)-COUNTBLANK(I$3:I80),\"\"),\"\")","v":""},{"$f":"IF($C81=1,IF(WEEKDAY($K81)=J$1,1+COUNTA(J$3:J80)-COUNTBLANK(J$3:J80),\"\"),\"\")","v":""},"2018-11-06"]
["2018-11-07",1,1,{"$f":"IF($C82=1,IF(WEEKDAY($K82)=D$1,1+COUNTA(D$3:D81)-COUNTBLANK(D$3:D81),\"\"),\"\")","v":""},{"$f":"IF($C82=1,IF(WEEKDAY($K82)=E$1,1+COUNTA(E$3:E81)-COUNTBLANK(E$3:E81),\"\"),\"\")","v":""},{"$f":"IF($C82=1,IF(WEEKDAY($K82)=F$1,1+COUNTA(F$3:F81)-COUNTBLANK(F$3:F81),\"\"),\"\")","v":10},{"$f":"IF($C82=1,IF(WEEKDAY($K82)=G$1,1+COUNTA(G$3:G81)-COUNTBLANK(G$3:G81),\"\"),\"\")","v":""},{"$f":"IF($C82=1,IF(WEEKDAY($K82)=H$1,1+COUNTA(H$3:H81)-COUNTBLANK(H$3:H81),\"\"),\"\")","v":""},{"$f":"IF($C82=1,IF(WEEKDAY($K82)=I$1,1+COUNTA(I$3:I81)-COUNTBLANK(I$3:I81),\"\"),\"\")","v":""},{"$f":"IF($C82=1,IF(WEEKDAY($K82)=J$1,1+COUNTA(J$3:J81)-COUNTBLANK(J$3:J81),\"\"),\"\")","v":""},"2018-11-07"]
["2018-11-08",1,1,{"$f":"IF($C83=1,IF(WEEKDAY($K83)=D$1,1+COUNTA(D$3:D82)-COUNTBLANK(D$3:D82),\"\"),\"\")","v":""},{"$f":"IF($C83=1,IF(WEEKDAY($K83)=E$1,1+COUNTA(E$3:E82)-COUNTBLANK(E$3:E82),\"\"),\"\")","v":""},{"$f":"IF($C83=1,IF(WEEKDAY($K83)=F$1,1+COUNTA(F$3:F82)-COUNTBLANK(F$3:F82),\"\"),\"\")","v":""},{"$f":"IF($C83=1,IF(WEEKDAY($K83)=G$1,1+COUNTA(G$3:G82)-COUNTBLANK(G$3:G82),\"\"),\"\")","v":9},{"$f":"IF($C83=1,IF(WEEKDAY($K83)=H$1,1+COUNTA(H$3:H82)-COUNTBLANK(H$3:H82),\"\"),\"\")","v":""},{"$f":"IF($C83=1,IF(WEEKDAY($K83)=I$1,1+COUNTA(I$3:I82)-COUNTBLANK(I$3:I82),\"\"),\"\")","v":""},{"$f":"IF($C83=1,IF(WEEKDAY($K83)=J$1,1+COUNTA(J$3:J82)-COUNTBLANK(J$3:J82),\"\"),\"\")","v":""},"2018-11-08"]
["2018-11-09",1,1,{"$f":"IF($C84=1,IF(WEEKDAY($K84)=D$1,1+COUNTA(D$3:D83)-COUNTBLANK(D$3:D83),\"\"),\"\")","v":""},{"$f":"IF($C84=1,IF(WEEKDAY($K84)=E$1,1+COUNTA(E$3:E83)-COUNTBLANK(E$3:E83),\"\"),\"\")","v":""},{"$f":"IF($C84=1,IF(WEEKDAY($K84)=F$1,1+COUNTA(F$3:F83)-COUNTBLANK(F$3:F83),\"\"),\"\")","v":""},{"$f":"IF($C84=1,IF(WEEKDAY($K84)=G$1,1+COUNTA(G$3:G83)-COUNTBLANK(G$3:G83),\"\"),\"\")","v":""},{"$f":"IF($C84=1,IF(WEEKDAY($K84)=H$1,1+COUNTA(H$3:H83)-COUNTBLANK(H$3:H83),\"\"),\"\")","v":10},{"$f":"IF($C84=1,IF(WEEKDAY($K84)=I$1,1+COUNTA(I$3:I83)-COUNTBLANK(I$3:I83),\"\"),\"\")","v":""},{"$f":"IF($C84=1,IF(WEEKDAY($K84)=J$1,1+COUNTA(J$3:J83)-COUNTBLANK(J$3:J83),\"\"),\"\")","v":""},"2018-11-09"]
["2018-11-10",0,1,{"$f":"IF($C85=1,IF(WEEKDAY($K85)=D$1,1+COUNTA(D$3:D84)-COUNTBLANK(D$3:D84),\"\"),\"\")","v":""},{"$f":"IF($C85=1,IF(WEEKDAY($K85)=E$1,1+COUNTA(E$3:E84)-COUNTBLANK(E$3:E84),\"\"),\"\")","v":""},{"$f":"IF($C85=1,IF(WEEKDAY($K85)=F$1,1+COUNTA(F$3:F84)-COUNTBLANK(F$3:F84),\"\"),\"\")","v":""},{"$f":"IF($C85=1,IF(WEEKDAY($K85)=G$1,1+COUNTA(G$3:G84)-COUNTBLANK(G$3:G84),\"\"),\"\")","v":""},{"$f":"IF($C85=1,IF(WEEKDAY($K85)=H$1,1+COUNTA(H$3:H84)-COUNTBLANK(H$3:H84),\"\"),\"\")","v":""},{"$f":"IF($C85=1,IF(WEEKDAY($K85)=I$1,1+COUNTA(I$3:I84)-COUNTBLANK(I$3:I84),\"\"),\"\")","v":9},{"$f":"IF($C85=1,IF(WEEKDAY($K85)=J$1,1+COUNTA(J$3:J84)-COUNTBLANK(J$3:J84),\"\"),\"\")","v":""},"2018-11-10"]
["2018-11-11",0,0,{"$f":"IF($C86=1,IF(WEEKDAY($K86)=D$1,1+COUNTA(D$3:D85)-COUNTBLANK(D$3:D85),\"\"),\"\")","v":""},{"$f":"IF($C86=1,IF(WEEKDAY($K86)=E$1,1+COUNTA(E$3:E85)-COUNTBLANK(E$3:E85),\"\"),\"\")","v":""},{"$f":"IF($C86=1,IF(WEEKDAY($K86)=F$1,1+COUNTA(F$3:F85)-COUNTBLANK(F$3:F85),\"\"),\"\")","v":""},{"$f":"IF($C86=1,IF(WEEKDAY($K86)=G$1,1+COUNTA(G$3:G85)-COUNTBLANK(G$3:G85),\"\"),\"\")","v":""},{"$f":"IF($C86=1,IF(WEEKDAY($K86)=H$1,1+COUNTA(H$3:H85)-COUNTBLANK(H$3:H85),\"\"),\"\")","v":""},{"$f":"IF($C86=1,IF(WEEKDAY($K86)=I$1,1+COUNTA(I$3:I85)-COUNTBLANK(I$3:I85),\"\"),\"\")","v":""},{"$f":"IF($C86=1,IF(WEEKDAY($K86)=J$1,1+COUNTA(J$3:J85)-COUNTBLANK(J$3:J85),\"\"),\"\")","v":""},"2018-11-11"]
["2018-11-12",1,1,{"$f":"IF($C87=1,IF(WEEKDAY($K87)=D$1,1+COUNTA(D$3:D86)-COUNTBLANK(D$3:D86),\"\"),\"\")","v":11},{"$f":"IF($C87=1,IF(WEEKDAY($K87)=E$1,1+COUNTA(E$3:E86)-COUNTBLANK(E$3:E86),\"\"),\"\")","v":""},{"$f":"IF($C87=1,IF(WEEKDAY($K87)=F$1,1+COUNTA(F$3:F86)-COUNTBLANK(F$3:F86),\"\"),\"\")","v":""},{"$f":"IF($C87=1,IF(WEEKDAY($K87)=G$1,1+COUNTA(G$3:G86)-COUNTBLANK(G$3:G86),\"\"),\"\")","v":""},{"$f":"IF($C87=1,IF(WEEKDAY($K87)=H$1,1+COUNTA(H$3:H86)-COUNTBLANK(H$3:H86),\"\"),\"\")","v":""},{"$f":"IF($C87=1,IF(WEEKDAY($K87)=I$1,1+COUNTA(I$3:I86)-COUNTBLANK(I$3:I86),\"\"),\"\")","v":""},{"$f":"IF($C87=1,IF(WEEKDAY($K87)=J$1,1+COUNTA(J$3:J86)-COUNTBLANK(J$3:J86),\"\"),\"\")","v":""},"2018-11-12"]
["2018-11-13",1,1,{"$f":"IF($C88=1,IF(WEEKDAY($K88)=D$1,1+COUNTA(D$3:D87)-COUNTBLANK(D$3:D87),\"\"),\"\")","v":""},{"$f":"IF($C88=1,IF(WEEKDAY($K88)=E$1,1+COUNTA(E$3:E87)-COUNTBLANK(E$3:E87),\"\"),\"\")","v":11},{"$f":"IF($C88=1,IF(WEEKDAY($K88)=F$1,1+COUNTA(F$3:F87)-COUNTBLANK(F$3:F87),\"\"),\"\")","v":""},{"$f":"IF($C88=1,IF(WEEKDAY($K88)=G$1,1+COUNTA(G$3:G87)-COUNTBLANK(G$3:G87),\"\"),\"\")","v":""},{"$f":"IF($C88=1,IF(WEEKDAY($K88)=H$1,1+COUNTA(H$3:H87)-COUNTBLANK(H$3:H87),\"\"),\"\")","v":""},{"$f":"IF($C88=1,IF(WEEKDAY($K88)=I$1,1+COUNTA(I$3:I87)-COUNTBLANK(I$3:I87),\"\"),\"\")","v":""},{"$f":"IF($C88=1,IF(WEEKDAY($K88)=J$1,1+COUNTA(J$3:J87)-COUNTBLANK(J$3:J87),\"\"),\"\")","v":""},"2018-11-13"]
["2018-11-14",1,1,{"$f":"IF($C89=1,IF(WEEKDAY($K89)=D$1,1+COUNTA(D$3:D88)-COUNTBLANK(D$3:D88),\"\"),\"\")","v":""},{"$f":"IF($C89=1,IF(WEEKDAY($K89)=E$1,1+COUNTA(E$3:E88)-COUNTBLANK(E$3:E88),\"\"),\"\")","v":""},{"$f":"IF($C89=1,IF(WEEKDAY($K89)=F$1,1+COUNTA(F$3:F88)-COUNTBLANK(F$3:F88),\"\"),\"\")","v":11},{"$f":"IF($C89=1,IF(WEEKDAY($K89)=G$1,1+COUNTA(G$3:G88)-COUNTBLANK(G$3:G88),\"\"),\"\")","v":""},{"$f":"IF($C89=1,IF(WEEKDAY($K89)=H$1,1+COUNTA(H$3:H88)-COUNTBLANK(H$3:H88),\"\"),\"\")","v":""},{"$f":"IF($C89=1,IF(WEEKDAY($K89)=I$1,1+COUNTA(I$3:I88)-COUNTBLANK(I$3:I88),\"\"),\"\")","v":""},{"$f":"IF($C89=1,IF(WEEKDAY($K89)=J$1,1+COUNTA(J$3:J88)-COUNTBLANK(J$3:J88),\"\"),\"\")","v":""},"2018-11-14"]
["2018-11-15",1,1,{"$f":"IF($C90=1,IF(WEEKDAY($K90)=D$1,1+COUNTA(D$3:D89)-COUNTBLANK(D$3:D89),\"\"),\"\")","v":""},{"$f":"IF($C90=1,IF(WEEKDAY($K90)=E$1,1+COUNTA(E$3:E89)-COUNTBLANK(E$3:E89),\"\"),\"\")","v":""},{"$f":"IF($C90=1,IF(WEEKDAY($K90)=F$1,1+COUNTA(F$3:F89)-COUNTBLANK(F$3:F89),\"\"),\"\")","v":""},{"$f":"IF($C90=1,IF(WEEKDAY($K90)=G$1,1+COUNTA(G$3:G89)-COUNTBLANK(G$3:G89),\"\"),\"\")","v":10},{"$f":"IF($C90=1,IF(WEEKDAY($K90)=H$1,1+COUNTA(H$3:H89)-COUNTBLANK(H$3:H89),\"\"),\"\")","v":""},{"$f":"IF($C90=1,IF(WEEKDAY($K90)=I$1,1+COUNTA(I$3:I89)-COUNTBLANK(I$3:I89),\"\"),\"\")","v":""},{"$f":"IF($C90=1,IF(WEEKDAY($K90)=J$1,1+COUNTA(J$3:J89)-COUNTBLANK(J$3:J89),\"\"),\"\")","v":""},"2018-11-15"]
["2018-11-16",1,1,{"$f":"IF($C91=1,IF(WEEKDAY($K91)=D$1,1+COUNTA(D$3:D90)-COUNTBLANK(D$3:D90),\"\"),\"\")","v":""},{"$f":"IF($C91=1,IF(WEEKDAY($K91)=E$1,1+COUNTA(E$3:E90)-COUNTBLANK(E$3:E90),\"\"),\"\")","v":""},{"$f":"IF($C91=1,IF(WEEKDAY($K91)=F$1,1+COUNTA(F$3:F90)-COUNTBLANK(F$3:F90),\"\"),\"\")","v":""},{"$f":"IF($C91=1,IF(WEEKDAY($K91)=G$1,1+COUNTA(G$3:G90)-COUNTBLANK(G$3:G90),\"\"),\"\")","v":""},{"$f":"IF($C91=1,IF(WEEKDAY($K91)=H$1,1+COUNTA(H$3:H90)-COUNTBLANK(H$3:H90),\"\"),\"\")","v":11},{"$f":"IF($C91=1,IF(WEEKDAY($K91)=I$1,1+COUNTA(I$3:I90)-COUNTBLANK(I$3:I90),\"\"),\"\")","v":""},{"$f":"IF($C91=1,IF(WEEKDAY($K91)=J$1,1+COUNTA(J$3:J90)-COUNTBLANK(J$3:J90),\"\"),\"\")","v":""},"2018-11-16"]
["2018-11-17",0,1,{"$f":"IF($C92=1,IF(WEEKDAY($K92)=D$1,1+COUNTA(D$3:D91)-COUNTBLANK(D$3:D91),\"\"),\"\")","v":""},{"$f":"IF($C92=1,IF(WEEKDAY($K92)=E$1,1+COUNTA(E$3:E91)-COUNTBLANK(E$3:E91),\"\"),\"\")","v":""},{"$f":"IF($C92=1,IF(WEEKDAY($K92)=F$1,1+COUNTA(F$3:F91)-COUNTBLANK(F$3:F91),\"\"),\"\")","v":""},{"$f":"IF($C92=1,IF(WEEKDAY($K92)=G$1,1+COUNTA(G$3:G91)-COUNTBLANK(G$3:G91),\"\"),\"\")","v":""},{"$f":"IF($C92=1,IF(WEEKDAY($K92)=H$1,1+COUNTA(H$3:H91)-COUNTBLANK(H$3:H91),\"\"),\"\")","v":""},{"$f":"IF($C92=1,IF(WEEKDAY($K92)=I$1,1+COUNTA(I$3:I91)-COUNTBLANK(I$3:I91),\"\"),\"\")","v":10},{"$f":"IF($C92=1,IF(WEEKDAY($K92)=J$1,1+COUNTA(J$3:J91)-COUNTBLANK(J$3:J91),\"\"),\"\")","v":""},"2018-11-17"]
["2018-11-18",0,1,{"$f":"IF($C93=1,IF(WEEKDAY($K93)=D$1,1+COUNTA(D$3:D92)-COUNTBLANK(D$3:D92),\"\"),\"\")","v":""},{"$f":"IF($C93=1,IF(WEEKDAY($K93)=E$1,1+COUNTA(E$3:E92)-COUNTBLANK(E$3:E92),\"\"),\"\")","v":""},{"$f":"IF($C93=1,IF(WEEKDAY($K93)=F$1,1+COUNTA(F$3:F92)-COUNTBLANK(F$3:F92),\"\"),\"\")","v":""},{"$f":"IF($C93=1,IF(WEEKDAY($K93)=G$1,1+COUNTA(G$3:G92)-COUNTBLANK(G$3:G92),\"\"),\"\")","v":""},{"$f":"IF($C93=1,IF(WEEKDAY($K93)=H$1,1+COUNTA(H$3:H92)-COUNTBLANK(H$3:H92),\"\"),\"\")","v":""},{"$f":"IF($C93=1,IF(WEEKDAY($K93)=I$1,1+COUNTA(I$3:I92)-COUNTBLANK(I$3:I92),\"\"),\"\")","v":""},{"$f":"IF($C93=1,IF(WEEKDAY($K93)=J$1,1+COUNTA(J$3:J92)-COUNTBLANK(J$3:J92),\"\"),\"\")","v":9},"2018-11-18"]
["2018-11-19",1,1,{"$f":"IF($C94=1,IF(WEEKDAY($K94)=D$1,1+COUNTA(D$3:D93)-COUNTBLANK(D$3:D93),\"\"),\"\")","v":12},{"$f":"IF($C94=1,IF(WEEKDAY($K94)=E$1,1+COUNTA(E$3:E93)-COUNTBLANK(E$3:E93),\"\"),\"\")","v":""},{"$f":"IF($C94=1,IF(WEEKDAY($K94)=F$1,1+COUNTA(F$3:F93)-COUNTBLANK(F$3:F93),\"\"),\"\")","v":""},{"$f":"IF($C94=1,IF(WEEKDAY($K94)=G$1,1+COUNTA(G$3:G93)-COUNTBLANK(G$3:G93),\"\"),\"\")","v":""},{"$f":"IF($C94=1,IF(WEEKDAY($K94)=H$1,1+COUNTA(H$3:H93)-COUNTBLANK(H$3:H93),\"\"),\"\")","v":""},{"$f":"IF($C94=1,IF(WEEKDAY($K94)=I$1,1+COUNTA(I$3:I93)-COUNTBLANK(I$3:I93),\"\"),\"\")","v":""},{"$f":"IF($C94=1,IF(WEEKDAY($K94)=J$1,1+COUNTA(J$3:J93)-COUNTBLANK(J$3:J93),\"\"),\"\")","v":""},"2018-11-19"]
["2018-11-20",1,1,{"$f":"IF($C95=1,IF(WEEKDAY($K95)=D$1,1+COUNTA(D$3:D94)-COUNTBLANK(D$3:D94),\"\"),\"\")","v":""},{"$f":"IF($C95=1,IF(WEEKDAY($K95)=E$1,1+COUNTA(E$3:E94)-COUNTBLANK(E$3:E94),\"\"),\"\")","v":12},{"$f":"IF($C95=1,IF(WEEKDAY($K95)=F$1,1+COUNTA(F$3:F94)-COUNTBLANK(F$3:F94),\"\"),\"\")","v":""},{"$f":"IF($C95=1,IF(WEEKDAY($K95)=G$1,1+COUNTA(G$3:G94)-COUNTBLANK(G$3:G94),\"\"),\"\")","v":""},{"$f":"IF($C95=1,IF(WEEKDAY($K95)=H$1,1+COUNTA(H$3:H94)-COUNTBLANK(H$3:H94),\"\"),\"\")","v":""},{"$f":"IF($C95=1,IF(WEEKDAY($K95)=I$1,1+COUNTA(I$3:I94)-COUNTBLANK(I$3:I94),\"\"),\"\")","v":""},{"$f":"IF($C95=1,IF(WEEKDAY($K95)=J$1,1+COUNTA(J$3:J94)-COUNTBLANK(J$3:J94),\"\"),\"\")","v":""},"2018-11-20"]
["2018-11-21",1,1,{"$f":"IF($C96=1,IF(WEEKDAY($K96)=D$1,1+COUNTA(D$3:D95)-COUNTBLANK(D$3:D95),\"\"),\"\")","v":""},{"$f":"IF($C96=1,IF(WEEKDAY($K96)=E$1,1+COUNTA(E$3:E95)-COUNTBLANK(E$3:E95),\"\"),\"\")","v":""},{"$f":"IF($C96=1,IF(WEEKDAY($K96)=F$1,1+COUNTA(F$3:F95)-COUNTBLANK(F$3:F95),\"\"),\"\")","v":12},{"$f":"IF($C96=1,IF(WEEKDAY($K96)=G$1,1+COUNTA(G$3:G95)-COUNTBLANK(G$3:G95),\"\"),\"\")","v":""},{"$f":"IF($C96=1,IF(WEEKDAY($K96)=H$1,1+COUNTA(H$3:H95)-COUNTBLANK(H$3:H95),\"\"),\"\")","v":""},{"$f":"IF($C96=1,IF(WEEKDAY($K96)=I$1,1+COUNTA(I$3:I95)-COUNTBLANK(I$3:I95),\"\"),\"\")","v":""},{"$f":"IF($C96=1,IF(WEEKDAY($K96)=J$1,1+COUNTA(J$3:J95)-COUNTBLANK(J$3:J95),\"\"),\"\")","v":""},"2018-11-21"]
["2018-11-22",1,1,{"$f":"IF($C97=1,IF(WEEKDAY($K97)=D$1,1+COUNTA(D$3:D96)-COUNTBLANK(D$3:D96),\"\"),\"\")","v":""},{"$f":"IF($C97=1,IF(WEEKDAY($K97)=E$1,1+COUNTA(E$3:E96)-COUNTBLANK(E$3:E96),\"\"),\"\")","v":""},{"$f":"IF($C97=1,IF(WEEKDAY($K97)=F$1,1+COUNTA(F$3:F96)-COUNTBLANK(F$3:F96),\"\"),\"\")","v":""},{"$f":"IF($C97=1,IF(WEEKDAY($K97)=G$1,1+COUNTA(G$3:G96)-COUNTBLANK(G$3:G96),\"\"),\"\")","v":11},{"$f":"IF($C97=1,IF(WEEKDAY($K97)=H$1,1+COUNTA(H$3:H96)-COUNTBLANK(H$3:H96),\"\"),\"\")","v":""},{"$f":"IF($C97=1,IF(WEEKDAY($K97)=I$1,1+COUNTA(I$3:I96)-COUNTBLANK(I$3:I96),\"\"),\"\")","v":""},{"$f":"IF($C97=1,IF(WEEKDAY($K97)=J$1,1+COUNTA(J$3:J96)-COUNTBLANK(J$3:J96),\"\"),\"\")","v":""},"2018-11-22"]
["2018-11-23",1,1,{"$f":"IF($C98=1,IF(WEEKDAY($K98)=D$1,1+COUNTA(D$3:D97)-COUNTBLANK(D$3:D97),\"\"),\"\")","v":""},{"$f":"IF($C98=1,IF(WEEKDAY($K98)=E$1,1+COUNTA(E$3:E97)-COUNTBLANK(E$3:E97),\"\"),\"\")","v":""},{"$f":"IF($C98=1,IF(WEEKDAY($K98)=F$1,1+COUNTA(F$3:F97)-COUNTBLANK(F$3:F97),\"\"),\"\")","v":""},{"$f":"IF($C98=1,IF(WEEKDAY($K98)=G$1,1+COUNTA(G$3:G97)-COUNTBLANK(G$3:G97),\"\"),\"\")","v":""},{"$f":"IF($C98=1,IF(WEEKDAY($K98)=H$1,1+COUNTA(H$3:H97)-COUNTBLANK(H$3:H97),\"\"),\"\")","v":12},{"$f":"IF($C98=1,IF(WEEKDAY($K98)=I$1,1+COUNTA(I$3:I97)-COUNTBLANK(I$3:I97),\"\"),\"\")","v":""},{"$f":"IF($C98=1,IF(WEEKDAY($K98)=J$1,1+COUNTA(J$3:J97)-COUNTBLANK(J$3:J97),\"\"),\"\")","v":""},"2018-11-23"]
["2018-11-24",0,1,{"$f":"IF($C99=1,IF(WEEKDAY($K99)=D$1,1+COUNTA(D$3:D98)-COUNTBLANK(D$3:D98),\"\"),\"\")","v":""},{"$f":"IF($C99=1,IF(WEEKDAY($K99)=E$1,1+COUNTA(E$3:E98)-COUNTBLANK(E$3:E98),\"\"),\"\")","v":""},{"$f":"IF($C99=1,IF(WEEKDAY($K99)=F$1,1+COUNTA(F$3:F98)-COUNTBLANK(F$3:F98),\"\"),\"\")","v":""},{"$f":"IF($C99=1,IF(WEEKDAY($K99)=G$1,1+COUNTA(G$3:G98)-COUNTBLANK(G$3:G98),\"\"),\"\")","v":""},{"$f":"IF($C99=1,IF(WEEKDAY($K99)=H$1,1+COUNTA(H$3:H98)-COUNTBLANK(H$3:H98),\"\"),\"\")","v":""},{"$f":"IF($C99=1,IF(WEEKDAY($K99)=I$1,1+COUNTA(I$3:I98)-COUNTBLANK(I$3:I98),\"\"),\"\")","v":11},{"$f":"IF($C99=1,IF(WEEKDAY($K99)=J$1,1+COUNTA(J$3:J98)-COUNTBLANK(J$3:J98),\"\"),\"\")","v":""},"2018-11-24"]
["2018-11-25",0,1,{"$f":"IF($C100=1,IF(WEEKDAY($K100)=D$1,1+COUNTA(D$3:D99)-COUNTBLANK(D$3:D99),\"\"),\"\")","v":""},{"$f":"IF($C100=1,IF(WEEKDAY($K100)=E$1,1+COUNTA(E$3:E99)-COUNTBLANK(E$3:E99),\"\"),\"\")","v":""},{"$f":"IF($C100=1,IF(WEEKDAY($K100)=F$1,1+COUNTA(F$3:F99)-COUNTBLANK(F$3:F99),\"\"),\"\")","v":""},{"$f":"IF($C100=1,IF(WEEKDAY($K100)=G$1,1+COUNTA(G$3:G99)-COUNTBLANK(G$3:G99),\"\"),\"\")","v":""},{"$f":"IF($C100=1,IF(WEEKDAY($K100)=H$1,1+COUNTA(H$3:H99)-COUNTBLANK(H$3:H99),\"\"),\"\")","v":""},{"$f":"IF($C100=1,IF(WEEKDAY($K100)=I$1,1+COUNTA(I$3:I99)-COUNTBLANK(I$3:I99),\"\"),\"\")","v":""},{"$f":"IF($C100=1,IF(WEEKDAY($K100)=J$1,1+COUNTA(J$3:J99)-COUNTBLANK(J$3:J99),\"\"),\"\")","v":10},"2018-11-25"]
["2018-11-26",1,1,{"$f":"IF($C101=1,IF(WEEKDAY($K101)=D$1,1+COUNTA(D$3:D100)-COUNTBLANK(D$3:D100),\"\"),\"\")","v":13},{"$f":"IF($C101=1,IF(WEEKDAY($K101)=E$1,1+COUNTA(E$3:E100)-COUNTBLANK(E$3:E100),\"\"),\"\")","v":""},{"$f":"IF($C101=1,IF(WEEKDAY($K101)=F$1,1+COUNTA(F$3:F100)-COUNTBLANK(F$3:F100),\"\"),\"\")","v":""},{"$f":"IF($C101=1,IF(WEEKDAY($K101)=G$1,1+COUNTA(G$3:G100)-COUNTBLANK(G$3:G100),\"\"),\"\")","v":""},{"$f":"IF($C101=1,IF(WEEKDAY($K101)=H$1,1+COUNTA(H$3:H100)-COUNTBLANK(H$3:H100),\"\"),\"\")","v":""},{"$f":"IF($C101=1,IF(WEEKDAY($K101)=I$1,1+COUNTA(I$3:I100)-COUNTBLANK(I$3:I100),\"\"),\"\")","v":""},{"$f":"IF($C101=1,IF(WEEKDAY($K101)=J$1,1+COUNTA(J$3:J100)-COUNTBLANK(J$3:J100),\"\"),\"\")","v":""},"2018-11-26"]
["2018-11-27",1,1,{"$f":"IF($C102=1,IF(WEEKDAY($K102)=D$1,1+COUNTA(D$3:D101)-COUNTBLANK(D$3:D101),\"\"),\"\")","v":""},{"$f":"IF($C102=1,IF(WEEKDAY($K102)=E$1,1+COUNTA(E$3:E101)-COUNTBLANK(E$3:E101),\"\"),\"\")","v":13},{"$f":"IF($C102=1,IF(WEEKDAY($K102)=F$1,1+COUNTA(F$3:F101)-COUNTBLANK(F$3:F101),\"\"),\"\")","v":""},{"$f":"IF($C102=1,IF(WEEKDAY($K102)=G$1,1+COUNTA(G$3:G101)-COUNTBLANK(G$3:G101),\"\"),\"\")","v":""},{"$f":"IF($C102=1,IF(WEEKDAY($K102)=H$1,1+COUNTA(H$3:H101)-COUNTBLANK(H$3:H101),\"\"),\"\")","v":""},{"$f":"IF($C102=1,IF(WEEKDAY($K102)=I$1,1+COUNTA(I$3:I101)-COUNTBLANK(I$3:I101),\"\"),\"\")","v":""},{"$f":"IF($C102=1,IF(WEEKDAY($K102)=J$1,1+COUNTA(J$3:J101)-COUNTBLANK(J$3:J101),\"\"),\"\")","v":""},"2018-11-27"]
["2018-11-28",1,1,{"$f":"IF($C103=1,IF(WEEKDAY($K103)=D$1,1+COUNTA(D$3:D102)-COUNTBLANK(D$3:D102),\"\"),\"\")","v":""},{"$f":"IF($C103=1,IF(WEEKDAY($K103)=E$1,1+COUNTA(E$3:E102)-COUNTBLANK(E$3:E102),\"\"),\"\")","v":""},{"$f":"IF($C103=1,IF(WEEKDAY($K103)=F$1,1+COUNTA(F$3:F102)-COUNTBLANK(F$3:F102),\"\"),\"\")","v":13},{"$f":"IF($C103=1,IF(WEEKDAY($K103)=G$1,1+COUNTA(G$3:G102)-COUNTBLANK(G$3:G102),\"\"),\"\")","v":""},{"$f":"IF($C103=1,IF(WEEKDAY($K103)=H$1,1+COUNTA(H$3:H102)-COUNTBLANK(H$3:H102),\"\"),\"\")","v":""},{"$f":"IF($C103=1,IF(WEEKDAY($K103)=I$1,1+COUNTA(I$3:I102)-COUNTBLANK(I$3:I102),\"\"),\"\")","v":""},{"$f":"IF($C103=1,IF(WEEKDAY($K103)=J$1,1+COUNTA(J$3:J102)-COUNTBLANK(J$3:J102),\"\"),\"\")","v":""},"2018-11-28"]
["2018-11-29",1,1,{"$f":"IF($C104=1,IF(WEEKDAY($K104)=D$1,1+COUNTA(D$3:D103)-COUNTBLANK(D$3:D103),\"\"),\"\")","v":""},{"$f":"IF($C104=1,IF(WEEKDAY($K104)=E$1,1+COUNTA(E$3:E103)-COUNTBLANK(E$3:E103),\"\"),\"\")","v":""},{"$f":"IF($C104=1,IF(WEEKDAY($K104)=F$1,1+COUNTA(F$3:F103)-COUNTBLANK(F$3:F103),\"\"),\"\")","v":""},{"$f":"IF($C104=1,IF(WEEKDAY($K104)=G$1,1+COUNTA(G$3:G103)-COUNTBLANK(G$3:G103),\"\"),\"\")","v":12},{"$f":"IF($C104=1,IF(WEEKDAY($K104)=H$1,1+COUNTA(H$3:H103)-COUNTBLANK(H$3:H103),\"\"),\"\")","v":""},{"$f":"IF($C104=1,IF(WEEKDAY($K104)=I$1,1+COUNTA(I$3:I103)-COUNTBLANK(I$3:I103),\"\"),\"\")","v":""},{"$f":"IF($C104=1,IF(WEEKDAY($K104)=J$1,1+COUNTA(J$3:J103)-COUNTBLANK(J$3:J103),\"\"),\"\")","v":""},"2018-11-29"]
["2018-11-30",1,1,{"$f":"IF($C105=1,IF(WEEKDAY($K105)=D$1,1+COUNTA(D$3:D104)-COUNTBLANK(D$3:D104),\"\"),\"\")","v":""},{"$f":"IF($C105=1,IF(WEEKDAY($K105)=E$1,1+COUNTA(E$3:E104)-COUNTBLANK(E$3:E104),\"\"),\"\")","v":""},{"$f":"IF($C105=1,IF(WEEKDAY($K105)=F$1,1+COUNTA(F$3:F104)-COUNTBLANK(F$3:F104),\"\"),\"\")","v":""},{"$f":"IF($C105=1,IF(WEEKDAY($K105)=G$1,1+COUNTA(G$3:G104)-COUNTBLANK(G$3:G104),\"\"),\"\")","v":""},{"$f":"IF($C105=1,IF(WEEKDAY($K105)=H$1,1+COUNTA(H$3:H104)-COUNTBLANK(H$3:H104),\"\"),\"\")","v":13},{"$f":"IF($C105=1,IF(WEEKDAY($K105)=I$1,1+COUNTA(I$3:I104)-COUNTBLANK(I$3:I104),\"\"),\"\")","v":""},{"$f":"IF($C105=1,IF(WEEKDAY($K105)=J$1,1+COUNTA(J$3:J104)-COUNTBLANK(J$3:J104),\"\"),\"\")","v":""},"2018-11-30"]
["2018-12-01",0,1,{"$f":"IF($C106=1,IF(WEEKDAY($K106)=D$1,1+COUNTA(D$3:D105)-COUNTBLANK(D$3:D105),\"\"),\"\")","v":""},{"$f":"IF($C106=1,IF(WEEKDAY($K106)=E$1,1+COUNTA(E$3:E105)-COUNTBLANK(E$3:E105),\"\"),\"\")","v":""},{"$f":"IF($C106=1,IF(WEEKDAY($K106)=F$1,1+COUNTA(F$3:F105)-COUNTBLANK(F$3:F105),\"\"),\"\")","v":""},{"$f":"IF($C106=1,IF(WEEKDAY($K106)=G$1,1+COUNTA(G$3:G105)-COUNTBLANK(G$3:G105),\"\"),\"\")","v":""},{"$f":"IF($C106=1,IF(WEEKDAY($K106)=H$1,1+COUNTA(H$3:H105)-COUNTBLANK(H$3:H105),\"\"),\"\")","v":""},{"$f":"IF($C106=1,IF(WEEKDAY($K106)=I$1,1+COUNTA(I$3:I105)-COUNTBLANK(I$3:I105),\"\"),\"\")","v":12},{"$f":"IF($C106=1,IF(WEEKDAY($K106)=J$1,1+COUNTA(J$3:J105)-COUNTBLANK(J$3:J105),\"\"),\"\")","v":""},"2018-12-01"]
["2018-12-02",0,1,{"$f":"IF($C107=1,IF(WEEKDAY($K107)=D$1,1+COUNTA(D$3:D106)-COUNTBLANK(D$3:D106),\"\"),\"\")","v":""},{"$f":"IF($C107=1,IF(WEEKDAY($K107)=E$1,1+COUNTA(E$3:E106)-COUNTBLANK(E$3:E106),\"\"),\"\")","v":""},{"$f":"IF($C107=1,IF(WEEKDAY($K107)=F$1,1+COUNTA(F$3:F106)-COUNTBLANK(F$3:F106),\"\"),\"\")","v":""},{"$f":"IF($C107=1,IF(WEEKDAY($K107)=G$1,1+COUNTA(G$3:G106)-COUNTBLANK(G$3:G106),\"\"),\"\")","v":""},{"$f":"IF($C107=1,IF(WEEKDAY($K107)=H$1,1+COUNTA(H$3:H106)-COUNTBLANK(H$3:H106),\"\"),\"\")","v":""},{"$f":"IF($C107=1,IF(WEEKDAY($K107)=I$1,1+COUNTA(I$3:I106)-COUNTBLANK(I$3:I106),\"\"),\"\")","v":""},{"$f":"IF($C107=1,IF(WEEKDAY($K107)=J$1,1+COUNTA(J$3:J106)-COUNTBLANK(J$3:J106),\"\"),\"\")","v":11},"2018-12-02"]
["2018-12-03",1,1,{"$f":"IF($C108=1,IF(WEEKDAY($K108)=D$1,1+COUNTA(D$3:D107)-COUNTBLANK(D$3:D107),\"\"),\"\")","v":14},{"$f":"IF($C108=1,IF(WEEKDAY($K108)=E$1,1+COUNTA(E$3:E107)-COUNTBLANK(E$3:E107),\"\"),\"\")","v":""},{"$f":"IF($C108=1,IF(WEEKDAY($K108)=F$1,1+COUNTA(F$3:F107)-COUNTBLANK(F$3:F107),\"\"),\"\")","v":""},{"$f":"IF($C108=1,IF(WEEKDAY($K108)=G$1,1+COUNTA(G$3:G107)-COUNTBLANK(G$3:G107),\"\"),\"\")","v":""},{"$f":"IF($C108=1,IF(WEEKDAY($K108)=H$1,1+COUNTA(H$3:H107)-COUNTBLANK(H$3:H107),\"\"),\"\")","v":""},{"$f":"IF($C108=1,IF(WEEKDAY($K108)=I$1,1+COUNTA(I$3:I107)-COUNTBLANK(I$3:I107),\"\"),\"\")","v":""},{"$f":"IF($C108=1,IF(WEEKDAY($K108)=J$1,1+COUNTA(J$3:J107)-COUNTBLANK(J$3:J107),\"\"),\"\")","v":""},"2018-12-03"]
["2018-12-04",1,1,{"$f":"IF($C109=1,IF(WEEKDAY($K109)=D$1,1+COUNTA(D$3:D108)-COUNTBLANK(D$3:D108),\"\"),\"\")","v":""},{"$f":"IF($C109=1,IF(WEEKDAY($K109)=E$1,1+COUNTA(E$3:E108)-COUNTBLANK(E$3:E108),\"\"),\"\")","v":14},{"$f":"IF($C109=1,IF(WEEKDAY($K109)=F$1,1+COUNTA(F$3:F108)-COUNTBLANK(F$3:F108),\"\"),\"\")","v":""},{"$f":"IF($C109=1,IF(WEEKDAY($K109)=G$1,1+COUNTA(G$3:G108)-COUNTBLANK(G$3:G108),\"\"),\"\")","v":""},{"$f":"IF($C109=1,IF(WEEKDAY($K109)=H$1,1+COUNTA(H$3:H108)-COUNTBLANK(H$3:H108),\"\"),\"\")","v":""},{"$f":"IF($C109=1,IF(WEEKDAY($K109)=I$1,1+COUNTA(I$3:I108)-COUNTBLANK(I$3:I108),\"\"),\"\")","v":""},{"$f":"IF($C109=1,IF(WEEKDAY($K109)=J$1,1+COUNTA(J$3:J108)-COUNTBLANK(J$3:J108),\"\"),\"\")","v":""},"2018-12-04"]
["2018-12-05",1,1,{"$f":"IF($C110=1,IF(WEEKDAY($K110)=D$1,1+COUNTA(D$3:D109)-COUNTBLANK(D$3:D109),\"\"),\"\")","v":""},{"$f":"IF($C110=1,IF(WEEKDAY($K110)=E$1,1+COUNTA(E$3:E109)-COUNTBLANK(E$3:E109),\"\"),\"\")","v":""},{"$f":"IF($C110=1,IF(WEEKDAY($K110)=F$1,1+COUNTA(F$3:F109)-COUNTBLANK(F$3:F109),\"\"),\"\")","v":14},{"$f":"IF($C110=1,IF(WEEKDAY($K110)=G$1,1+COUNTA(G$3:G109)-COUNTBLANK(G$3:G109),\"\"),\"\")","v":""},{"$f":"IF($C110=1,IF(WEEKDAY($K110)=H$1,1+COUNTA(H$3:H109)-COUNTBLANK(H$3:H109),\"\"),\"\")","v":""},{"$f":"IF($C110=1,IF(WEEKDAY($K110)=I$1,1+COUNTA(I$3:I109)-COUNTBLANK(I$3:I109),\"\"),\"\")","v":""},{"$f":"IF($C110=1,IF(WEEKDAY($K110)=J$1,1+COUNTA(J$3:J109)-COUNTBLANK(J$3:J109),\"\"),\"\")","v":""},"2018-12-05"]
["2018-12-06",1,1,{"$f":"IF($C111=1,IF(WEEKDAY($K111)=D$1,1+COUNTA(D$3:D110)-COUNTBLANK(D$3:D110),\"\"),\"\")","v":""},{"$f":"IF($C111=1,IF(WEEKDAY($K111)=E$1,1+COUNTA(E$3:E110)-COUNTBLANK(E$3:E110),\"\"),\"\")","v":""},{"$f":"IF($C111=1,IF(WEEKDAY($K111)=F$1,1+COUNTA(F$3:F110)-COUNTBLANK(F$3:F110),\"\"),\"\")","v":""},{"$f":"IF($C111=1,IF(WEEKDAY($K111)=G$1,1+COUNTA(G$3:G110)-COUNTBLANK(G$3:G110),\"\"),\"\")","v":13},{"$f":"IF($C111=1,IF(WEEKDAY($K111)=H$1,1+COUNTA(H$3:H110)-COUNTBLANK(H$3:H110),\"\"),\"\")","v":""},{"$f":"IF($C111=1,IF(WEEKDAY($K111)=I$1,1+COUNTA(I$3:I110)-COUNTBLANK(I$3:I110),\"\"),\"\")","v":""},{"$f":"IF($C111=1,IF(WEEKDAY($K111)=J$1,1+COUNTA(J$3:J110)-COUNTBLANK(J$3:J110),\"\"),\"\")","v":""},"2018-12-06"]
["2018-12-07",1,1,{"$f":"IF($C112=1,IF(WEEKDAY($K112)=D$1,1+COUNTA(D$3:D111)-COUNTBLANK(D$3:D111),\"\"),\"\")","v":""},{"$f":"IF($C112=1,IF(WEEKDAY($K112)=E$1,1+COUNTA(E$3:E111)-COUNTBLANK(E$3:E111),\"\"),\"\")","v":""},{"$f":"IF($C112=1,IF(WEEKDAY($K112)=F$1,1+COUNTA(F$3:F111)-COUNTBLANK(F$3:F111),\"\"),\"\")","v":""},{"$f":"IF($C112=1,IF(WEEKDAY($K112)=G$1,1+COUNTA(G$3:G111)-COUNTBLANK(G$3:G111),\"\"),\"\")","v":""},{"$f":"IF($C112=1,IF(WEEKDAY($K112)=H$1,1+COUNTA(H$3:H111)-COUNTBLANK(H$3:H111),\"\"),\"\")","v":14},{"$f":"IF($C112=1,IF(WEEKDAY($K112)=I$1,1+COUNTA(I$3:I111)-COUNTBLANK(I$3:I111),\"\"),\"\")","v":""},{"$f":"IF($C112=1,IF(WEEKDAY($K112)=J$1,1+COUNTA(J$3:J111)-COUNTBLANK(J$3:J111),\"\"),\"\")","v":""},"2018-12-07"]
["2018-12-08",0,1,{"$f":"IF($C113=1,IF(WEEKDAY($K113)=D$1,1+COUNTA(D$3:D112)-COUNTBLANK(D$3:D112),\"\"),\"\")","v":""},{"$f":"IF($C113=1,IF(WEEKDAY($K113)=E$1,1+COUNTA(E$3:E112)-COUNTBLANK(E$3:E112),\"\"),\"\")","v":""},{"$f":"IF($C113=1,IF(WEEKDAY($K113)=F$1,1+COUNTA(F$3:F112)-COUNTBLANK(F$3:F112),\"\"),\"\")","v":""},{"$f":"IF($C113=1,IF(WEEKDAY($K113)=G$1,1+COUNTA(G$3:G112)-COUNTBLANK(G$3:G112),\"\"),\"\")","v":""},{"$f":"IF($C113=1,IF(WEEKDAY($K113)=H$1,1+COUNTA(H$3:H112)-COUNTBLANK(H$3:H112),\"\"),\"\")","v":""},{"$f":"IF($C113=1,IF(WEEKDAY($K113)=I$1,1+COUNTA(I$3:I112)-COUNTBLANK(I$3:I112),\"\"),\"\")","v":13},{"$f":"IF($C113=1,IF(WEEKDAY($K113)=J$1,1+COUNTA(J$3:J112)-COUNTBLANK(J$3:J112),\"\"),\"\")","v":""},"2018-12-08"]
["2018-12-09",0,1,{"$f":"IF($C114=1,IF(WEEKDAY($K114)=D$1,1+COUNTA(D$3:D113)-COUNTBLANK(D$3:D113),\"\"),\"\")","v":""},{"$f":"IF($C114=1,IF(WEEKDAY($K114)=E$1,1+COUNTA(E$3:E113)-COUNTBLANK(E$3:E113),\"\"),\"\")","v":""},{"$f":"IF($C114=1,IF(WEEKDAY($K114)=F$1,1+COUNTA(F$3:F113)-COUNTBLANK(F$3:F113),\"\"),\"\")","v":""},{"$f":"IF($C114=1,IF(WEEKDAY($K114)=G$1,1+COUNTA(G$3:G113)-COUNTBLANK(G$3:G113),\"\"),\"\")","v":""},{"$f":"IF($C114=1,IF(WEEKDAY($K114)=H$1,1+COUNTA(H$3:H113)-COUNTBLANK(H$3:H113),\"\"),\"\")","v":""},{"$f":"IF($C114=1,IF(WEEKDAY($K114)=I$1,1+COUNTA(I$3:I113)-COUNTBLANK(I$3:I113),\"\"),\"\")","v":""},{"$f":"IF($C114=1,IF(WEEKDAY($K114)=J$1,1+COUNTA(J$3:J113)-COUNTBLANK(J$3:J113),\"\"),\"\")","v":12},"2018-12-09"]
["2018-12-10",1,1,{"$f":"IF($C115=1,IF(WEEKDAY($K115)=D$1,1+COUNTA(D$3:D114)-COUNTBLANK(D$3:D114),\"\"),\"\")","v":15},{"$f":"IF($C115=1,IF(WEEKDAY($K115)=E$1,1+COUNTA(E$3:E114)-COUNTBLANK(E$3:E114),\"\"),\"\")","v":""},{"$f":"IF($C115=1,IF(WEEKDAY($K115)=F$1,1+COUNTA(F$3:F114)-COUNTBLANK(F$3:F114),\"\"),\"\")","v":""},{"$f":"IF($C115=1,IF(WEEKDAY($K115)=G$1,1+COUNTA(G$3:G114)-COUNTBLANK(G$3:G114),\"\"),\"\")","v":""},{"$f":"IF($C115=1,IF(WEEKDAY($K115)=H$1,1+COUNTA(H$3:H114)-COUNTBLANK(H$3:H114),\"\"),\"\")","v":""},{"$f":"IF($C115=1,IF(WEEKDAY($K115)=I$1,1+COUNTA(I$3:I114)-COUNTBLANK(I$3:I114),\"\"),\"\")","v":""},{"$f":"IF($C115=1,IF(WEEKDAY($K115)=J$1,1+COUNTA(J$3:J114)-COUNTBLANK(J$3:J114),\"\"),\"\")","v":""},"2018-12-10"]
["2018-12-11",1,1,{"$f":"IF($C116=1,IF(WEEKDAY($K116)=D$1,1+COUNTA(D$3:D115)-COUNTBLANK(D$3:D115),\"\"),\"\")","v":""},{"$f":"IF($C116=1,IF(WEEKDAY($K116)=E$1,1+COUNTA(E$3:E115)-COUNTBLANK(E$3:E115),\"\"),\"\")","v":15},{"$f":"IF($C116=1,IF(WEEKDAY($K116)=F$1,1+COUNTA(F$3:F115)-COUNTBLANK(F$3:F115),\"\"),\"\")","v":""},{"$f":"IF($C116=1,IF(WEEKDAY($K116)=G$1,1+COUNTA(G$3:G115)-COUNTBLANK(G$3:G115),\"\"),\"\")","v":""},{"$f":"IF($C116=1,IF(WEEKDAY($K116)=H$1,1+COUNTA(H$3:H115)-COUNTBLANK(H$3:H115),\"\"),\"\")","v":""},{"$f":"IF($C116=1,IF(WEEKDAY($K116)=I$1,1+COUNTA(I$3:I115)-COUNTBLANK(I$3:I115),\"\"),\"\")","v":""},{"$f":"IF($C116=1,IF(WEEKDAY($K116)=J$1,1+COUNTA(J$3:J115)-COUNTBLANK(J$3:J115),\"\"),\"\")","v":""},"2018-12-11"]
["2018-12-12",1,1,{"$f":"IF($C117=1,IF(WEEKDAY($K117)=D$1,1+COUNTA(D$3:D116)-COUNTBLANK(D$3:D116),\"\"),\"\")","v":""},{"$f":"IF($C117=1,IF(WEEKDAY($K117)=E$1,1+COUNTA(E$3:E116)-COUNTBLANK(E$3:E116),\"\"),\"\")","v":""},{"$f":"IF($C117=1,IF(WEEKDAY($K117)=F$1,1+COUNTA(F$3:F116)-COUNTBLANK(F$3:F116),\"\"),\"\")","v":15},{"$f":"IF($C117=1,IF(WEEKDAY($K117)=G$1,1+COUNTA(G$3:G116)-COUNTBLANK(G$3:G116),\"\"),\"\")","v":""},{"$f":"IF($C117=1,IF(WEEKDAY($K117)=H$1,1+COUNTA(H$3:H116)-COUNTBLANK(H$3:H116),\"\"),\"\")","v":""},{"$f":"IF($C117=1,IF(WEEKDAY($K117)=I$1,1+COUNTA(I$3:I116)-COUNTBLANK(I$3:I116),\"\"),\"\")","v":""},{"$f":"IF($C117=1,IF(WEEKDAY($K117)=J$1,1+COUNTA(J$3:J116)-COUNTBLANK(J$3:J116),\"\"),\"\")","v":""},"2018-12-12"]
["2018-12-13",1,1,{"$f":"IF($C118=1,IF(WEEKDAY($K118)=D$1,1+COUNTA(D$3:D117)-COUNTBLANK(D$3:D117),\"\"),\"\")","v":""},{"$f":"IF($C118=1,IF(WEEKDAY($K118)=E$1,1+COUNTA(E$3:E117)-COUNTBLANK(E$3:E117),\"\"),\"\")","v":""},{"$f":"IF($C118=1,IF(WEEKDAY($K118)=F$1,1+COUNTA(F$3:F117)-COUNTBLANK(F$3:F117),\"\"),\"\")","v":""},{"$f":"IF($C118=1,IF(WEEKDAY($K118)=G$1,1+COUNTA(G$3:G117)-COUNTBLANK(G$3:G117),\"\"),\"\")","v":14},{"$f":"IF($C118=1,IF(WEEKDAY($K118)=H$1,1+COUNTA(H$3:H117)-COUNTBLANK(H$3:H117),\"\"),\"\")","v":""},{"$f":"IF($C118=1,IF(WEEKDAY($K118)=I$1,1+COUNTA(I$3:I117)-COUNTBLANK(I$3:I117),\"\"),\"\")","v":""},{"$f":"IF($C118=1,IF(WEEKDAY($K118)=J$1,1+COUNTA(J$3:J117)-COUNTBLANK(J$3:J117),\"\"),\"\")","v":""},"2018-12-13"]
["2018-12-14",1,1,{"$f":"IF($C119=1,IF(WEEKDAY($K119)=D$1,1+COUNTA(D$3:D118)-COUNTBLANK(D$3:D118),\"\"),\"\")","v":""},{"$f":"IF($C119=1,IF(WEEKDAY($K119)=E$1,1+COUNTA(E$3:E118)-COUNTBLANK(E$3:E118),\"\"),\"\")","v":""},{"$f":"IF($C119=1,IF(WEEKDAY($K119)=F$1,1+COUNTA(F$3:F118)-COUNTBLANK(F$3:F118),\"\"),\"\")","v":""},{"$f":"IF($C119=1,IF(WEEKDAY($K119)=G$1,1+COUNTA(G$3:G118)-COUNTBLANK(G$3:G118),\"\"),\"\")","v":""},{"$f":"IF($C119=1,IF(WEEKDAY($K119)=H$1,1+COUNTA(H$3:H118)-COUNTBLANK(H$3:H118),\"\"),\"\")","v":15},{"$f":"IF($C119=1,IF(WEEKDAY($K119)=I$1,1+COUNTA(I$3:I118)-COUNTBLANK(I$3:I118),\"\"),\"\")","v":""},{"$f":"IF($C119=1,IF(WEEKDAY($K119)=J$1,1+COUNTA(J$3:J118)-COUNTBLANK(J$3:J118),\"\"),\"\")","v":""},"2018-12-14"]
["2018-12-15",0,1,{"$f":"IF($C120=1,IF(WEEKDAY($K120)=D$1,1+COUNTA(D$3:D119)-COUNTBLANK(D$3:D119),\"\"),\"\")","v":""},{"$f":"IF($C120=1,IF(WEEKDAY($K120)=E$1,1+COUNTA(E$3:E119)-COUNTBLANK(E$3:E119),\"\"),\"\")","v":""},{"$f":"IF($C120=1,IF(WEEKDAY($K120)=F$1,1+COUNTA(F$3:F119)-COUNTBLANK(F$3:F119),\"\"),\"\")","v":""},{"$f":"IF($C120=1,IF(WEEKDAY($K120)=G$1,1+COUNTA(G$3:G119)-COUNTBLANK(G$3:G119),\"\"),\"\")","v":""},{"$f":"IF($C120=1,IF(WEEKDAY($K120)=H$1,1+COUNTA(H$3:H119)-COUNTBLANK(H$3:H119),\"\"),\"\")","v":""},{"$f":"IF($C120=1,IF(WEEKDAY($K120)=I$1,1+COUNTA(I$3:I119)-COUNTBLANK(I$3:I119),\"\"),\"\")","v":14},{"$f":"IF($C120=1,IF(WEEKDAY($K120)=J$1,1+COUNTA(J$3:J119)-COUNTBLANK(J$3:J119),\"\"),\"\")","v":""},"2018-12-15"]
["2018-12-16",0,1,{"$f":"IF($C121=1,IF(WEEKDAY($K121)=D$1,1+COUNTA(D$3:D120)-COUNTBLANK(D$3:D120),\"\"),\"\")","v":""},{"$f":"IF($C121=1,IF(WEEKDAY($K121)=E$1,1+COUNTA(E$3:E120)-COUNTBLANK(E$3:E120),\"\"),\"\")","v":""},{"$f":"IF($C121=1,IF(WEEKDAY($K121)=F$1,1+COUNTA(F$3:F120)-COUNTBLANK(F$3:F120),\"\"),\"\")","v":""},{"$f":"IF($C121=1,IF(WEEKDAY($K121)=G$1,1+COUNTA(G$3:G120)-COUNTBLANK(G$3:G120),\"\"),\"\")","v":""},{"$f":"IF($C121=1,IF(WEEKDAY($K121)=H$1,1+COUNTA(H$3:H120)-COUNTBLANK(H$3:H120),\"\"),\"\")","v":""},{"$f":"IF($C121=1,IF(WEEKDAY($K121)=I$1,1+COUNTA(I$3:I120)-COUNTBLANK(I$3:I120),\"\"),\"\")","v":""},{"$f":"IF($C121=1,IF(WEEKDAY($K121)=J$1,1+COUNTA(J$3:J120)-COUNTBLANK(J$3:J120),\"\"),\"\")","v":13},"2018-12-16"]
["2018-12-17",1,1,{"$f":"IF($C122=1,IF(WEEKDAY($K122)=D$1,1+COUNTA(D$3:D121)-COUNTBLANK(D$3:D121),\"\"),\"\")","v":16},{"$f":"IF($C122=1,IF(WEEKDAY($K122)=E$1,1+COUNTA(E$3:E121)-COUNTBLANK(E$3:E121),\"\"),\"\")","v":""},{"$f":"IF($C122=1,IF(WEEKDAY($K122)=F$1,1+COUNTA(F$3:F121)-COUNTBLANK(F$3:F121),\"\"),\"\")","v":""},{"$f":"IF($C122=1,IF(WEEKDAY($K122)=G$1,1+COUNTA(G$3:G121)-COUNTBLANK(G$3:G121),\"\"),\"\")","v":""},{"$f":"IF($C122=1,IF(WEEKDAY($K122)=H$1,1+COUNTA(H$3:H121)-COUNTBLANK(H$3:H121),\"\"),\"\")","v":""},{"$f":"IF($C122=1,IF(WEEKDAY($K122)=I$1,1+COUNTA(I$3:I121)-COUNTBLANK(I$3:I121),\"\"),\"\")","v":""},{"$f":"IF($C122=1,IF(WEEKDAY($K122)=J$1,1+COUNTA(J$3:J121)-COUNTBLANK(J$3:J121),\"\"),\"\")","v":""},"2018-12-17"]
["2018-12-18",1,1,{"$f":"IF($C123=1,IF(WEEKDAY($K123)=D$1,1+COUNTA(D$3:D122)-COUNTBLANK(D$3:D122),\"\"),\"\")","v":""},{"$f":"IF($C123=1,IF(WEEKDAY($K123)=E$1,1+COUNTA(E$3:E122)-COUNTBLANK(E$3:E122),\"\"),\"\")","v":16},{"$f":"IF($C123=1,IF(WEEKDAY($K123)=F$1,1+COUNTA(F$3:F122)-COUNTBLANK(F$3:F122),\"\"),\"\")","v":""},{"$f":"IF($C123=1,IF(WEEKDAY($K123)=G$1,1+COUNTA(G$3:G122)-COUNTBLANK(G$3:G122),\"\"),\"\")","v":""},{"$f":"IF($C123=1,IF(WEEKDAY($K123)=H$1,1+COUNTA(H$3:H122)-COUNTBLANK(H$3:H122),\"\"),\"\")","v":""},{"$f":"IF($C123=1,IF(WEEKDAY($K123)=I$1,1+COUNTA(I$3:I122)-COUNTBLANK(I$3:I122),\"\"),\"\")","v":""},{"$f":"IF($C123=1,IF(WEEKDAY($K123)=J$1,1+COUNTA(J$3:J122)-COUNTBLANK(J$3:J122),\"\"),\"\")","v":""},"2018-12-18"]
["2018-12-19",1,1,{"$f":"IF($C124=1,IF(WEEKDAY($K124)=D$1,1+COUNTA(D$3:D123)-COUNTBLANK(D$3:D123),\"\"),\"\")","v":""},{"$f":"IF($C124=1,IF(WEEKDAY($K124)=E$1,1+COUNTA(E$3:E123)-COUNTBLANK(E$3:E123),\"\"),\"\")","v":""},{"$f":"IF($C124=1,IF(WEEKDAY($K124)=F$1,1+COUNTA(F$3:F123)-COUNTBLANK(F$3:F123),\"\"),\"\")","v":16},{"$f":"IF($C124=1,IF(WEEKDAY($K124)=G$1,1+COUNTA(G$3:G123)-COUNTBLANK(G$3:G123),\"\"),\"\")","v":""},{"$f":"IF($C124=1,IF(WEEKDAY($K124)=H$1,1+COUNTA(H$3:H123)-COUNTBLANK(H$3:H123),\"\"),\"\")","v":""},{"$f":"IF($C124=1,IF(WEEKDAY($K124)=I$1,1+COUNTA(I$3:I123)-COUNTBLANK(I$3:I123),\"\"),\"\")","v":""},{"$f":"IF($C124=1,IF(WEEKDAY($K124)=J$1,1+COUNTA(J$3:J123)-COUNTBLANK(J$3:J123),\"\"),\"\")","v":""},"2018-12-19"]
["2018-12-20",0,0,{"$f":"IF($C125=1,IF(WEEKDAY($K125)=D$1,1+COUNTA(D$3:D124)-COUNTBLANK(D$3:D124),\"\"),\"\")","v":""},{"$f":"IF($C125=1,IF(WEEKDAY($K125)=E$1,1+COUNTA(E$3:E124)-COUNTBLANK(E$3:E124),\"\"),\"\")","v":""},{"$f":"IF($C125=1,IF(WEEKDAY($K125)=F$1,1+COUNTA(F$3:F124)-COUNTBLANK(F$3:F124),\"\"),\"\")","v":""},{"$f":"IF($C125=1,IF(WEEKDAY($K125)=G$1,1+COUNTA(G$3:G124)-COUNTBLANK(G$3:G124),\"\"),\"\")","v":""},{"$f":"IF($C125=1,IF(WEEKDAY($K125)=H$1,1+COUNTA(H$3:H124)-COUNTBLANK(H$3:H124),\"\"),\"\")","v":""},{"$f":"IF($C125=1,IF(WEEKDAY($K125)=I$1,1+COUNTA(I$3:I124)-COUNTBLANK(I$3:I124),\"\"),\"\")","v":""},{"$f":"IF($C125=1,IF(WEEKDAY($K125)=J$1,1+COUNTA(J$3:J124)-COUNTBLANK(J$3:J124),\"\"),\"\")","v":""},"2018-12-20"]
["2018-12-21",1,1,{"$f":"IF($C126=1,IF(WEEKDAY($K126)=D$1,1+COUNTA(D$3:D125)-COUNTBLANK(D$3:D125),\"\"),\"\")","v":""},{"$f":"IF($C126=1,IF(WEEKDAY($K126)=E$1,1+COUNTA(E$3:E125)-COUNTBLANK(E$3:E125),\"\"),\"\")","v":""},{"$f":"IF($C126=1,IF(WEEKDAY($K126)=F$1,1+COUNTA(F$3:F125)-COUNTBLANK(F$3:F125),\"\"),\"\")","v":""},{"$f":"IF($C126=1,IF(WEEKDAY($K126)=G$1,1+COUNTA(G$3:G125)-COUNTBLANK(G$3:G125),\"\"),\"\")","v":""},{"$f":"IF($C126=1,IF(WEEKDAY($K126)=H$1,1+COUNTA(H$3:H125)-COUNTBLANK(H$3:H125),\"\"),\"\")","v":16},{"$f":"IF($C126=1,IF(WEEKDAY($K126)=I$1,1+COUNTA(I$3:I125)-COUNTBLANK(I$3:I125),\"\"),\"\")","v":""},{"$f":"IF($C126=1,IF(WEEKDAY($K126)=J$1,1+COUNTA(J$3:J125)-COUNTBLANK(J$3:J125),\"\"),\"\")","v":""},"2018-12-21"]
["2018-12-22",0,0,{"$f":"IF($C127=1,IF(WEEKDAY($K127)=D$1,1+COUNTA(D$3:D126)-COUNTBLANK(D$3:D126),\"\"),\"\")","v":""},{"$f":"IF($C127=1,IF(WEEKDAY($K127)=E$1,1+COUNTA(E$3:E126)-COUNTBLANK(E$3:E126),\"\"),\"\")","v":""},{"$f":"IF($C127=1,IF(WEEKDAY($K127)=F$1,1+COUNTA(F$3:F126)-COUNTBLANK(F$3:F126),\"\"),\"\")","v":""},{"$f":"IF($C127=1,IF(WEEKDAY($K127)=G$1,1+COUNTA(G$3:G126)-COUNTBLANK(G$3:G126),\"\"),\"\")","v":""},{"$f":"IF($C127=1,IF(WEEKDAY($K127)=H$1,1+COUNTA(H$3:H126)-COUNTBLANK(H$3:H126),\"\"),\"\")","v":""},{"$f":"IF($C127=1,IF(WEEKDAY($K127)=I$1,1+COUNTA(I$3:I126)-COUNTBLANK(I$3:I126),\"\"),\"\")","v":""},{"$f":"IF($C127=1,IF(WEEKDAY($K127)=J$1,1+COUNTA(J$3:J126)-COUNTBLANK(J$3:J126),\"\"),\"\")","v":""},"2018-12-22"]
["2018-12-23",0,0,{"$f":"IF($C128=1,IF(WEEKDAY($K128)=D$1,1+COUNTA(D$3:D127)-COUNTBLANK(D$3:D127),\"\"),\"\")","v":""},{"$f":"IF($C128=1,IF(WEEKDAY($K128)=E$1,1+COUNTA(E$3:E127)-COUNTBLANK(E$3:E127),\"\"),\"\")","v":""},{"$f":"IF($C128=1,IF(WEEKDAY($K128)=F$1,1+COUNTA(F$3:F127)-COUNTBLANK(F$3:F127),\"\"),\"\")","v":""},{"$f":"IF($C128=1,IF(WEEKDAY($K128)=G$1,1+COUNTA(G$3:G127)-COUNTBLANK(G$3:G127),\"\"),\"\")","v":""},{"$f":"IF($C128=1,IF(WEEKDAY($K128)=H$1,1+COUNTA(H$3:H127)-COUNTBLANK(H$3:H127),\"\"),\"\")","v":""},{"$f":"IF($C128=1,IF(WEEKDAY($K128)=I$1,1+COUNTA(I$3:I127)-COUNTBLANK(I$3:I127),\"\"),\"\")","v":""},{"$f":"IF($C128=1,IF(WEEKDAY($K128)=J$1,1+COUNTA(J$3:J127)-COUNTBLANK(J$3:J127),\"\"),\"\")","v":""},"2018-12-23"]
["2018-12-24",0,0,{"$f":"IF($C129=1,IF(WEEKDAY($K129)=D$1,1+COUNTA(D$3:D128)-COUNTBLANK(D$3:D128),\"\"),\"\")","v":""},{"$f":"IF($C129=1,IF(WEEKDAY($K129)=E$1,1+COUNTA(E$3:E128)-COUNTBLANK(E$3:E128),\"\"),\"\")","v":""},{"$f":"IF($C129=1,IF(WEEKDAY($K129)=F$1,1+COUNTA(F$3:F128)-COUNTBLANK(F$3:F128),\"\"),\"\")","v":""},{"$f":"IF($C129=1,IF(WEEKDAY($K129)=G$1,1+COUNTA(G$3:G128)-COUNTBLANK(G$3:G128),\"\"),\"\")","v":""},{"$f":"IF($C129=1,IF(WEEKDAY($K129)=H$1,1+COUNTA(H$3:H128)-COUNTBLANK(H$3:H128),\"\"),\"\")","v":""},{"$f":"IF($C129=1,IF(WEEKDAY($K129)=I$1,1+COUNTA(I$3:I128)-COUNTBLANK(I$3:I128),\"\"),\"\")","v":""},{"$f":"IF($C129=1,IF(WEEKDAY($K129)=J$1,1+COUNTA(J$3:J128)-COUNTBLANK(J$3:J128),\"\"),\"\")","v":""},"2018-12-24"]
["2018-12-25",0,0,{"$f":"IF($C130=1,IF(WEEKDAY($K130)=D$1,1+COUNTA(D$3:D129)-COUNTBLANK(D$3:D129),\"\"),\"\")","v":""},{"$f":"IF($C130=1,IF(WEEKDAY($K130)=E$1,1+COUNTA(E$3:E129)-COUNTBLANK(E$3:E129),\"\"),\"\")","v":""},{"$f":"IF($C130=1,IF(WEEKDAY($K130)=F$1,1+COUNTA(F$3:F129)-COUNTBLANK(F$3:F129),\"\"),\"\")","v":""},{"$f":"IF($C130=1,IF(WEEKDAY($K130)=G$1,1+COUNTA(G$3:G129)-COUNTBLANK(G$3:G129),\"\"),\"\")","v":""},{"$f":"IF($C130=1,IF(WEEKDAY($K130)=H$1,1+COUNTA(H$3:H129)-COUNTBLANK(H$3:H129),\"\"),\"\")","v":""},{"$f":"IF($C130=1,IF(WEEKDAY($K130)=I$1,1+COUNTA(I$3:I129)-COUNTBLANK(I$3:I129),\"\"),\"\")","v":""},{"$f":"IF($C130=1,IF(WEEKDAY($K130)=J$1,1+COUNTA(J$3:J129)-COUNTBLANK(J$3:J129),\"\"),\"\")","v":""},"2018-12-25"]
["2018-12-26",{"$f":"IF(SUM(D131:J131)>0.5,IF(SUM(I131:J131)=0,1,0),0)","v":0},{"$f":"IF(OR(K131=L$15,K131=L$16,K131=L$17,K131=L$18,K131=L$19,K131=L$20,K131=L$21,K131=L$22,K131=L$23,K131=L$24,K131=L$25,K131=L$26,K131=L$27,K131=L$28),0,IF(K131<L$7,1,IF(AND(K131>M$7,K131<L$8),1,IF(AND(K131>M$8,K131<L$9),1,IF(AND(K131>M$9,K131<L$10),1,IF(AND(K131>M$10,K131<L$11),1,IF(AND(K131>M$11),1,0)))))))","v":0},{"$f":"IF($C131=1,IF(WEEKDAY($K131)=D$1,1+COUNTA(D$3:D130)-COUNTBLANK(D$3:D130),\"\"),\"\")","v":""},{"$f":"IF($C131=1,IF(WEEKDAY($K131)=E$1,1+COUNTA(E$3:E130)-COUNTBLANK(E$3:E130),\"\"),\"\")","v":""},{"$f":"IF($C131=1,IF(WEEKDAY($K131)=F$1,1+COUNTA(F$3:F130)-COUNTBLANK(F$3:F130),\"\"),\"\")","v":""},{"$f":"IF($C131=1,IF(WEEKDAY($K131)=G$1,1+COUNTA(G$3:G130)-COUNTBLANK(G$3:G130),\"\"),\"\")","v":""},{"$f":"IF($C131=1,IF(WEEKDAY($K131)=H$1,1+COUNTA(H$3:H130)-COUNTBLANK(H$3:H130),\"\"),\"\")","v":""},{"$f":"IF($C131=1,IF(WEEKDAY($K131)=I$1,1+COUNTA(I$3:I130)-COUNTBLANK(I$3:I130),\"\"),\"\")","v":""},{"$f":"IF($C131=1,IF(WEEKDAY($K131)=J$1,1+COUNTA(J$3:J130)-COUNTBLANK(J$3:J130),\"\"),\"\")","v":""},"2018-12-26"]
[{"$f":"K132","v":"2018-12-27"},0,0,{"$f":"IF($C132=1,IF(WEEKDAY($K132)=D$1,1+COUNTA(D$3:D131)-COUNTBLANK(D$3:D131),\"\"),\"\")","v":""},{"$f":"IF($C132=1,IF(WEEKDAY($K132)=E$1,1+COUNTA(E$3:E131)-COUNTBLANK(E$3:E131),\"\"),\"\")","v":""},{"$f":"IF($C132=1,IF(WEEKDAY($K132)=F$1,1+COUNTA(F$3:F131)-COUNTBLANK(F$3:F131),\"\"),\"\")","v":""},{"$f":"IF($C132=1,IF(WEEKDAY($K132)=G$1,1+COUNTA(G$3:G131)-COUNTBLANK(G$3:G131),\"\"),\"\")","v":""},{"$f":"IF($C132=1,IF(WEEKDAY($K132)=H$1,1+COUNTA(H$3:H131)-COUNTBLANK(H$3:H131),\"\"),\"\")","v":""},{"$f":"IF($C132=1,IF(WEEKDAY($K132)=I$1,1+COUNTA(I$3:I131)-COUNTBLANK(I$3:I131),\"\"),\"\")","v":""},{"$f":"IF($C132=1,IF(WEEKDAY($K132)=J$1,1+COUNTA(J$3:J131)-COUNTBLANK(J$3:J131),\"\"),\"\")","v":""},{"$f":"1+K131","v":"2018-12-27"}]
["2018-12-28",0,0,{"$f":"IF($C133=1,IF(WEEKDAY($K133)=D$1,1+COUNTA(D$3:D132)-COUNTBLANK(D$3:D132),\"\"),\"\")","v":""},{"$f":"IF($C133=1,IF(WEEKDAY($K133)=E$1,1+COUNTA(E$3:E132)-COUNTBLANK(E$3:E132),\"\"),\"\")","v":""},{"$f":"IF($C133=1,IF(WEEKDAY($K133)=F$1,1+COUNTA(F$3:F132)-COUNTBLANK(F$3:F132),\"\"),\"\")","v":""},{"$f":"IF($C133=1,IF(WEEKDAY($K133)=G$1,1+COUNTA(G$3:G132)-COUNTBLANK(G$3:G132),\"\"),\"\")","v":""},{"$f":"IF($C133=1,IF(WEEKDAY($K133)=H$1,1+COUNTA(H$3:H132)-COUNTBLANK(H$3:H132),\"\"),\"\")","v":""},{"$f":"IF($C133=1,IF(WEEKDAY($K133)=I$1,1+COUNTA(I$3:I132)-COUNTBLANK(I$3:I132),\"\"),\"\")","v":""},{"$f":"IF($C133=1,IF(WEEKDAY($K133)=J$1,1+COUNTA(J$3:J132)-COUNTBLANK(J$3:J132),\"\"),\"\")","v":""},"2018-12-28"]
["2018-12-29",0,0,{"$f":"IF($C134=1,IF(WEEKDAY($K134)=D$1,1+COUNTA(D$3:D133)-COUNTBLANK(D$3:D133),\"\"),\"\")","v":""},{"$f":"IF($C134=1,IF(WEEKDAY($K134)=E$1,1+COUNTA(E$3:E133)-COUNTBLANK(E$3:E133),\"\"),\"\")","v":""},{"$f":"IF($C134=1,IF(WEEKDAY($K134)=F$1,1+COUNTA(F$3:F133)-COUNTBLANK(F$3:F133),\"\"),\"\")","v":""},{"$f":"IF($C134=1,IF(WEEKDAY($K134)=G$1,1+COUNTA(G$3:G133)-COUNTBLANK(G$3:G133),\"\"),\"\")","v":""},{"$f":"IF($C134=1,IF(WEEKDAY($K134)=H$1,1+COUNTA(H$3:H133)-COUNTBLANK(H$3:H133),\"\"),\"\")","v":""},{"$f":"IF($C134=1,IF(WEEKDAY($K134)=I$1,1+COUNTA(I$3:I133)-COUNTBLANK(I$3:I133),\"\"),\"\")","v":""},{"$f":"IF($C134=1,IF(WEEKDAY($K134)=J$1,1+COUNTA(J$3:J133)-COUNTBLANK(J$3:J133),\"\"),\"\")","v":""},"2018-12-29"]
["2018-12-30",0,0,{"$f":"IF($C135=1,IF(WEEKDAY($K135)=D$1,1+COUNTA(D$3:D134)-COUNTBLANK(D$3:D134),\"\"),\"\")","v":""},{"$f":"IF($C135=1,IF(WEEKDAY($K135)=E$1,1+COUNTA(E$3:E134)-COUNTBLANK(E$3:E134),\"\"),\"\")","v":""},{"$f":"IF($C135=1,IF(WEEKDAY($K135)=F$1,1+COUNTA(F$3:F134)-COUNTBLANK(F$3:F134),\"\"),\"\")","v":""},{"$f":"IF($C135=1,IF(WEEKDAY($K135)=G$1,1+COUNTA(G$3:G134)-COUNTBLANK(G$3:G134),\"\"),\"\")","v":""},{"$f":"IF($C135=1,IF(WEEKDAY($K135)=H$1,1+COUNTA(H$3:H134)-COUNTBLANK(H$3:H134),\"\"),\"\")","v":""},{"$f":"IF($C135=1,IF(WEEKDAY($K135)=I$1,1+COUNTA(I$3:I134)-COUNTBLANK(I$3:I134),\"\"),\"\")","v":""},{"$f":"IF($C135=1,IF(WEEKDAY($K135)=J$1,1+COUNTA(J$3:J134)-COUNTBLANK(J$3:J134),\"\"),\"\")","v":""},"2018-12-30"]
["2018-12-31",0,0,{"$f":"IF($C136=1,IF(WEEKDAY($K136)=D$1,1+COUNTA(D$3:D135)-COUNTBLANK(D$3:D135),\"\"),\"\")","v":""},{"$f":"IF($C136=1,IF(WEEKDAY($K136)=E$1,1+COUNTA(E$3:E135)-COUNTBLANK(E$3:E135),\"\"),\"\")","v":""},{"$f":"IF($C136=1,IF(WEEKDAY($K136)=F$1,1+COUNTA(F$3:F135)-COUNTBLANK(F$3:F135),\"\"),\"\")","v":""},{"$f":"IF($C136=1,IF(WEEKDAY($K136)=G$1,1+COUNTA(G$3:G135)-COUNTBLANK(G$3:G135),\"\"),\"\")","v":""},{"$f":"IF($C136=1,IF(WEEKDAY($K136)=H$1,1+COUNTA(H$3:H135)-COUNTBLANK(H$3:H135),\"\"),\"\")","v":""},{"$f":"IF($C136=1,IF(WEEKDAY($K136)=I$1,1+COUNTA(I$3:I135)-COUNTBLANK(I$3:I135),\"\"),\"\")","v":""},{"$f":"IF($C136=1,IF(WEEKDAY($K136)=J$1,1+COUNTA(J$3:J135)-COUNTBLANK(J$3:J135),\"\"),\"\")","v":""},"2018-12-31"]
["2019-01-01",0,0,{"$f":"IF($C137=1,IF(WEEKDAY($K137)=D$1,1+COUNTA(D$3:D136)-COUNTBLANK(D$3:D136),\"\"),\"\")","v":""},{"$f":"IF($C137=1,IF(WEEKDAY($K137)=E$1,1+COUNTA(E$3:E136)-COUNTBLANK(E$3:E136),\"\"),\"\")","v":""},{"$f":"IF($C137=1,IF(WEEKDAY($K137)=F$1,1+COUNTA(F$3:F136)-COUNTBLANK(F$3:F136),\"\"),\"\")","v":""},{"$f":"IF($C137=1,IF(WEEKDAY($K137)=G$1,1+COUNTA(G$3:G136)-COUNTBLANK(G$3:G136),\"\"),\"\")","v":""},{"$f":"IF($C137=1,IF(WEEKDAY($K137)=H$1,1+COUNTA(H$3:H136)-COUNTBLANK(H$3:H136),\"\"),\"\")","v":""},{"$f":"IF($C137=1,IF(WEEKDAY($K137)=I$1,1+COUNTA(I$3:I136)-COUNTBLANK(I$3:I136),\"\"),\"\")","v":""},{"$f":"IF($C137=1,IF(WEEKDAY($K137)=J$1,1+COUNTA(J$3:J136)-COUNTBLANK(J$3:J136),\"\"),\"\")","v":""},"2019-01-01"]
["2019-01-02",0,0,{"$f":"IF($C138=1,IF(WEEKDAY($K138)=D$1,1+COUNTA(D$3:D137)-COUNTBLANK(D$3:D137),\"\"),\"\")","v":""},{"$f":"IF($C138=1,IF(WEEKDAY($K138)=E$1,1+COUNTA(E$3:E137)-COUNTBLANK(E$3:E137),\"\"),\"\")","v":""},{"$f":"IF($C138=1,IF(WEEKDAY($K138)=F$1,1+COUNTA(F$3:F137)-COUNTBLANK(F$3:F137),\"\"),\"\")","v":""},{"$f":"IF($C138=1,IF(WEEKDAY($K138)=G$1,1+COUNTA(G$3:G137)-COUNTBLANK(G$3:G137),\"\"),\"\")","v":""},{"$f":"IF($C138=1,IF(WEEKDAY($K138)=H$1,1+COUNTA(H$3:H137)-COUNTBLANK(H$3:H137),\"\"),\"\")","v":""},{"$f":"IF($C138=1,IF(WEEKDAY($K138)=I$1,1+COUNTA(I$3:I137)-COUNTBLANK(I$3:I137),\"\"),\"\")","v":""},{"$f":"IF($C138=1,IF(WEEKDAY($K138)=J$1,1+COUNTA(J$3:J137)-COUNTBLANK(J$3:J137),\"\"),\"\")","v":""},"2019-01-02"]
["2019-01-03",0,0,{"$f":"IF($C139=1,IF(WEEKDAY($K139)=D$1,1+COUNTA(D$3:D138)-COUNTBLANK(D$3:D138),\"\"),\"\")","v":""},{"$f":"IF($C139=1,IF(WEEKDAY($K139)=E$1,1+COUNTA(E$3:E138)-COUNTBLANK(E$3:E138),\"\"),\"\")","v":""},{"$f":"IF($C139=1,IF(WEEKDAY($K139)=F$1,1+COUNTA(F$3:F138)-COUNTBLANK(F$3:F138),\"\"),\"\")","v":""},{"$f":"IF($C139=1,IF(WEEKDAY($K139)=G$1,1+COUNTA(G$3:G138)-COUNTBLANK(G$3:G138),\"\"),\"\")","v":""},{"$f":"IF($C139=1,IF(WEEKDAY($K139)=H$1,1+COUNTA(H$3:H138)-COUNTBLANK(H$3:H138),\"\"),\"\")","v":""},{"$f":"IF($C139=1,IF(WEEKDAY($K139)=I$1,1+COUNTA(I$3:I138)-COUNTBLANK(I$3:I138),\"\"),\"\")","v":""},{"$f":"IF($C139=1,IF(WEEKDAY($K139)=J$1,1+COUNTA(J$3:J138)-COUNTBLANK(J$3:J138),\"\"),\"\")","v":""},"2019-01-03"]
["2019-01-04",0,0,{"$f":"IF($C140=1,IF(WEEKDAY($K140)=D$1,1+COUNTA(D$3:D139)-COUNTBLANK(D$3:D139),\"\"),\"\")","v":""},{"$f":"IF($C140=1,IF(WEEKDAY($K140)=E$1,1+COUNTA(E$3:E139)-COUNTBLANK(E$3:E139),\"\"),\"\")","v":""},{"$f":"IF($C140=1,IF(WEEKDAY($K140)=F$1,1+COUNTA(F$3:F139)-COUNTBLANK(F$3:F139),\"\"),\"\")","v":""},{"$f":"IF($C140=1,IF(WEEKDAY($K140)=G$1,1+COUNTA(G$3:G139)-COUNTBLANK(G$3:G139),\"\"),\"\")","v":""},{"$f":"IF($C140=1,IF(WEEKDAY($K140)=H$1,1+COUNTA(H$3:H139)-COUNTBLANK(H$3:H139),\"\"),\"\")","v":""},{"$f":"IF($C140=1,IF(WEEKDAY($K140)=I$1,1+COUNTA(I$3:I139)-COUNTBLANK(I$3:I139),\"\"),\"\")","v":""},{"$f":"IF($C140=1,IF(WEEKDAY($K140)=J$1,1+COUNTA(J$3:J139)-COUNTBLANK(J$3:J139),\"\"),\"\")","v":""},"2019-01-04"]
["2019-01-05",0,0,{"$f":"IF($C141=1,IF(WEEKDAY($K141)=D$1,1+COUNTA(D$3:D140)-COUNTBLANK(D$3:D140),\"\"),\"\")","v":""},{"$f":"IF($C141=1,IF(WEEKDAY($K141)=E$1,1+COUNTA(E$3:E140)-COUNTBLANK(E$3:E140),\"\"),\"\")","v":""},{"$f":"IF($C141=1,IF(WEEKDAY($K141)=F$1,1+COUNTA(F$3:F140)-COUNTBLANK(F$3:F140),\"\"),\"\")","v":""},{"$f":"IF($C141=1,IF(WEEKDAY($K141)=G$1,1+COUNTA(G$3:G140)-COUNTBLANK(G$3:G140),\"\"),\"\")","v":""},{"$f":"IF($C141=1,IF(WEEKDAY($K141)=H$1,1+COUNTA(H$3:H140)-COUNTBLANK(H$3:H140),\"\"),\"\")","v":""},{"$f":"IF($C141=1,IF(WEEKDAY($K141)=I$1,1+COUNTA(I$3:I140)-COUNTBLANK(I$3:I140),\"\"),\"\")","v":""},{"$f":"IF($C141=1,IF(WEEKDAY($K141)=J$1,1+COUNTA(J$3:J140)-COUNTBLANK(J$3:J140),\"\"),\"\")","v":""},"2019-01-05"]
["2019-01-06",0,0,{"$f":"IF($C142=1,IF(WEEKDAY($K142)=D$1,1+COUNTA(D$3:D141)-COUNTBLANK(D$3:D141),\"\"),\"\")","v":""},{"$f":"IF($C142=1,IF(WEEKDAY($K142)=E$1,1+COUNTA(E$3:E141)-COUNTBLANK(E$3:E141),\"\"),\"\")","v":""},{"$f":"IF($C142=1,IF(WEEKDAY($K142)=F$1,1+COUNTA(F$3:F141)-COUNTBLANK(F$3:F141),\"\"),\"\")","v":""},{"$f":"IF($C142=1,IF(WEEKDAY($K142)=G$1,1+COUNTA(G$3:G141)-COUNTBLANK(G$3:G141),\"\"),\"\")","v":""},{"$f":"IF($C142=1,IF(WEEKDAY($K142)=H$1,1+COUNTA(H$3:H141)-COUNTBLANK(H$3:H141),\"\"),\"\")","v":""},{"$f":"IF($C142=1,IF(WEEKDAY($K142)=I$1,1+COUNTA(I$3:I141)-COUNTBLANK(I$3:I141),\"\"),\"\")","v":""},{"$f":"IF($C142=1,IF(WEEKDAY($K142)=J$1,1+COUNTA(J$3:J141)-COUNTBLANK(J$3:J141),\"\"),\"\")","v":""},"2019-01-06"]
["2019-01-07",0,0,{"$f":"IF($C143=1,IF(WEEKDAY($K143)=D$1,1+COUNTA(D$3:D142)-COUNTBLANK(D$3:D142),\"\"),\"\")","v":""},{"$f":"IF($C143=1,IF(WEEKDAY($K143)=E$1,1+COUNTA(E$3:E142)-COUNTBLANK(E$3:E142),\"\"),\"\")","v":""},{"$f":"IF($C143=1,IF(WEEKDAY($K143)=F$1,1+COUNTA(F$3:F142)-COUNTBLANK(F$3:F142),\"\"),\"\")","v":""},{"$f":"IF($C143=1,IF(WEEKDAY($K143)=G$1,1+COUNTA(G$3:G142)-COUNTBLANK(G$3:G142),\"\"),\"\")","v":""},{"$f":"IF($C143=1,IF(WEEKDAY($K143)=H$1,1+COUNTA(H$3:H142)-COUNTBLANK(H$3:H142),\"\"),\"\")","v":""},{"$f":"IF($C143=1,IF(WEEKDAY($K143)=I$1,1+COUNTA(I$3:I142)-COUNTBLANK(I$3:I142),\"\"),\"\")","v":""},{"$f":"IF($C143=1,IF(WEEKDAY($K143)=J$1,1+COUNTA(J$3:J142)-COUNTBLANK(J$3:J142),\"\"),\"\")","v":""},"2019-01-07"]
["2019-01-08",0,0,{"$f":"IF($C144=1,IF(WEEKDAY($K144)=D$1,1+COUNTA(D$3:D143)-COUNTBLANK(D$3:D143),\"\"),\"\")","v":""},{"$f":"IF($C144=1,IF(WEEKDAY($K144)=E$1,1+COUNTA(E$3:E143)-COUNTBLANK(E$3:E143),\"\"),\"\")","v":""},{"$f":"IF($C144=1,IF(WEEKDAY($K144)=F$1,1+COUNTA(F$3:F143)-COUNTBLANK(F$3:F143),\"\"),\"\")","v":""},{"$f":"IF($C144=1,IF(WEEKDAY($K144)=G$1,1+COUNTA(G$3:G143)-COUNTBLANK(G$3:G143),\"\"),\"\")","v":""},{"$f":"IF($C144=1,IF(WEEKDAY($K144)=H$1,1+COUNTA(H$3:H143)-COUNTBLANK(H$3:H143),\"\"),\"\")","v":""},{"$f":"IF($C144=1,IF(WEEKDAY($K144)=I$1,1+COUNTA(I$3:I143)-COUNTBLANK(I$3:I143),\"\"),\"\")","v":""},{"$f":"IF($C144=1,IF(WEEKDAY($K144)=J$1,1+COUNTA(J$3:J143)-COUNTBLANK(J$3:J143),\"\"),\"\")","v":""},"2019-01-08"]
["2019-01-09",0,0,{"$f":"IF($C145=1,IF(WEEKDAY($K145)=D$1,1+COUNTA(D$3:D144)-COUNTBLANK(D$3:D144),\"\"),\"\")","v":""},{"$f":"IF($C145=1,IF(WEEKDAY($K145)=E$1,1+COUNTA(E$3:E144)-COUNTBLANK(E$3:E144),\"\"),\"\")","v":""},{"$f":"IF($C145=1,IF(WEEKDAY($K145)=F$1,1+COUNTA(F$3:F144)-COUNTBLANK(F$3:F144),\"\"),\"\")","v":""},{"$f":"IF($C145=1,IF(WEEKDAY($K145)=G$1,1+COUNTA(G$3:G144)-COUNTBLANK(G$3:G144),\"\"),\"\")","v":""},{"$f":"IF($C145=1,IF(WEEKDAY($K145)=H$1,1+COUNTA(H$3:H144)-COUNTBLANK(H$3:H144),\"\"),\"\")","v":""},{"$f":"IF($C145=1,IF(WEEKDAY($K145)=I$1,1+COUNTA(I$3:I144)-COUNTBLANK(I$3:I144),\"\"),\"\")","v":""},{"$f":"IF($C145=1,IF(WEEKDAY($K145)=J$1,1+COUNTA(J$3:J144)-COUNTBLANK(J$3:J144),\"\"),\"\")","v":""},"2019-01-09"]
["2019-01-10",0,0,{"$f":"IF($C146=1,IF(WEEKDAY($K146)=D$1,1+COUNTA(D$3:D145)-COUNTBLANK(D$3:D145),\"\"),\"\")","v":""},{"$f":"IF($C146=1,IF(WEEKDAY($K146)=E$1,1+COUNTA(E$3:E145)-COUNTBLANK(E$3:E145),\"\"),\"\")","v":""},{"$f":"IF($C146=1,IF(WEEKDAY($K146)=F$1,1+COUNTA(F$3:F145)-COUNTBLANK(F$3:F145),\"\"),\"\")","v":""},{"$f":"IF($C146=1,IF(WEEKDAY($K146)=G$1,1+COUNTA(G$3:G145)-COUNTBLANK(G$3:G145),\"\"),\"\")","v":""},{"$f":"IF($C146=1,IF(WEEKDAY($K146)=H$1,1+COUNTA(H$3:H145)-COUNTBLANK(H$3:H145),\"\"),\"\")","v":""},{"$f":"IF($C146=1,IF(WEEKDAY($K146)=I$1,1+COUNTA(I$3:I145)-COUNTBLANK(I$3:I145),\"\"),\"\")","v":""},{"$f":"IF($C146=1,IF(WEEKDAY($K146)=J$1,1+COUNTA(J$3:J145)-COUNTBLANK(J$3:J145),\"\"),\"\")","v":""},"2019-01-10"]
["2019-01-11",0,0,{"$f":"IF($C147=1,IF(WEEKDAY($K147)=D$1,1+COUNTA(D$3:D146)-COUNTBLANK(D$3:D146),\"\"),\"\")","v":""},{"$f":"IF($C147=1,IF(WEEKDAY($K147)=E$1,1+COUNTA(E$3:E146)-COUNTBLANK(E$3:E146),\"\"),\"\")","v":""},{"$f":"IF($C147=1,IF(WEEKDAY($K147)=F$1,1+COUNTA(F$3:F146)-COUNTBLANK(F$3:F146),\"\"),\"\")","v":""},{"$f":"IF($C147=1,IF(WEEKDAY($K147)=G$1,1+COUNTA(G$3:G146)-COUNTBLANK(G$3:G146),\"\"),\"\")","v":""},{"$f":"IF($C147=1,IF(WEEKDAY($K147)=H$1,1+COUNTA(H$3:H146)-COUNTBLANK(H$3:H146),\"\"),\"\")","v":""},{"$f":"IF($C147=1,IF(WEEKDAY($K147)=I$1,1+COUNTA(I$3:I146)-COUNTBLANK(I$3:I146),\"\"),\"\")","v":""},{"$f":"IF($C147=1,IF(WEEKDAY($K147)=J$1,1+COUNTA(J$3:J146)-COUNTBLANK(J$3:J146),\"\"),\"\")","v":""},"2019-01-11"]
["2019-01-12",0,0,{"$f":"IF($C148=1,IF(WEEKDAY($K148)=D$1,1+COUNTA(D$3:D147)-COUNTBLANK(D$3:D147),\"\"),\"\")","v":""},{"$f":"IF($C148=1,IF(WEEKDAY($K148)=E$1,1+COUNTA(E$3:E147)-COUNTBLANK(E$3:E147),\"\"),\"\")","v":""},{"$f":"IF($C148=1,IF(WEEKDAY($K148)=F$1,1+COUNTA(F$3:F147)-COUNTBLANK(F$3:F147),\"\"),\"\")","v":""},{"$f":"IF($C148=1,IF(WEEKDAY($K148)=G$1,1+COUNTA(G$3:G147)-COUNTBLANK(G$3:G147),\"\"),\"\")","v":""},{"$f":"IF($C148=1,IF(WEEKDAY($K148)=H$1,1+COUNTA(H$3:H147)-COUNTBLANK(H$3:H147),\"\"),\"\")","v":""},{"$f":"IF($C148=1,IF(WEEKDAY($K148)=I$1,1+COUNTA(I$3:I147)-COUNTBLANK(I$3:I147),\"\"),\"\")","v":""},{"$f":"IF($C148=1,IF(WEEKDAY($K148)=J$1,1+COUNTA(J$3:J147)-COUNTBLANK(J$3:J147),\"\"),\"\")","v":""},"2019-01-12"]
["2019-01-13",0,0,{"$f":"IF($C149=1,IF(WEEKDAY($K149)=D$1,1+COUNTA(D$3:D148)-COUNTBLANK(D$3:D148),\"\"),\"\")","v":""},{"$f":"IF($C149=1,IF(WEEKDAY($K149)=E$1,1+COUNTA(E$3:E148)-COUNTBLANK(E$3:E148),\"\"),\"\")","v":""},{"$f":"IF($C149=1,IF(WEEKDAY($K149)=F$1,1+COUNTA(F$3:F148)-COUNTBLANK(F$3:F148),\"\"),\"\")","v":""},{"$f":"IF($C149=1,IF(WEEKDAY($K149)=G$1,1+COUNTA(G$3:G148)-COUNTBLANK(G$3:G148),\"\"),\"\")","v":""},{"$f":"IF($C149=1,IF(WEEKDAY($K149)=H$1,1+COUNTA(H$3:H148)-COUNTBLANK(H$3:H148),\"\"),\"\")","v":""},{"$f":"IF($C149=1,IF(WEEKDAY($K149)=I$1,1+COUNTA(I$3:I148)-COUNTBLANK(I$3:I148),\"\"),\"\")","v":""},{"$f":"IF($C149=1,IF(WEEKDAY($K149)=J$1,1+COUNTA(J$3:J148)-COUNTBLANK(J$3:J148),\"\"),\"\")","v":""},"2019-01-13"]
["2019-01-14",0,0,{"$f":"IF($C150=1,IF(WEEKDAY($K150)=D$1,1+COUNTA(D$3:D149)-COUNTBLANK(D$3:D149),\"\"),\"\")","v":""},{"$f":"IF($C150=1,IF(WEEKDAY($K150)=E$1,1+COUNTA(E$3:E149)-COUNTBLANK(E$3:E149),\"\"),\"\")","v":""},{"$f":"IF($C150=1,IF(WEEKDAY($K150)=F$1,1+COUNTA(F$3:F149)-COUNTBLANK(F$3:F149),\"\"),\"\")","v":""},{"$f":"IF($C150=1,IF(WEEKDAY($K150)=G$1,1+COUNTA(G$3:G149)-COUNTBLANK(G$3:G149),\"\"),\"\")","v":""},{"$f":"IF($C150=1,IF(WEEKDAY($K150)=H$1,1+COUNTA(H$3:H149)-COUNTBLANK(H$3:H149),\"\"),\"\")","v":""},{"$f":"IF($C150=1,IF(WEEKDAY($K150)=I$1,1+COUNTA(I$3:I149)-COUNTBLANK(I$3:I149),\"\"),\"\")","v":""},{"$f":"IF($C150=1,IF(WEEKDAY($K150)=J$1,1+COUNTA(J$3:J149)-COUNTBLANK(J$3:J149),\"\"),\"\")","v":""},"2019-01-14"]
["2019-01-15",0,0,{"$f":"IF($C151=1,IF(WEEKDAY($K151)=D$1,1+COUNTA(D$3:D150)-COUNTBLANK(D$3:D150),\"\"),\"\")","v":""},{"$f":"IF($C151=1,IF(WEEKDAY($K151)=E$1,1+COUNTA(E$3:E150)-COUNTBLANK(E$3:E150),\"\"),\"\")","v":""},{"$f":"IF($C151=1,IF(WEEKDAY($K151)=F$1,1+COUNTA(F$3:F150)-COUNTBLANK(F$3:F150),\"\"),\"\")","v":""},{"$f":"IF($C151=1,IF(WEEKDAY($K151)=G$1,1+COUNTA(G$3:G150)-COUNTBLANK(G$3:G150),\"\"),\"\")","v":""},{"$f":"IF($C151=1,IF(WEEKDAY($K151)=H$1,1+COUNTA(H$3:H150)-COUNTBLANK(H$3:H150),\"\"),\"\")","v":""},{"$f":"IF($C151=1,IF(WEEKDAY($K151)=I$1,1+COUNTA(I$3:I150)-COUNTBLANK(I$3:I150),\"\"),\"\")","v":""},{"$f":"IF($C151=1,IF(WEEKDAY($K151)=J$1,1+COUNTA(J$3:J150)-COUNTBLANK(J$3:J150),\"\"),\"\")","v":""},"2019-01-15"]
["2019-01-16",0,0,{"$f":"IF($C152=1,IF(WEEKDAY($K152)=D$1,1+COUNTA(D$3:D151)-COUNTBLANK(D$3:D151),\"\"),\"\")","v":""},{"$f":"IF($C152=1,IF(WEEKDAY($K152)=E$1,1+COUNTA(E$3:E151)-COUNTBLANK(E$3:E151),\"\"),\"\")","v":""},{"$f":"IF($C152=1,IF(WEEKDAY($K152)=F$1,1+COUNTA(F$3:F151)-COUNTBLANK(F$3:F151),\"\"),\"\")","v":""},{"$f":"IF($C152=1,IF(WEEKDAY($K152)=G$1,1+COUNTA(G$3:G151)-COUNTBLANK(G$3:G151),\"\"),\"\")","v":""},{"$f":"IF($C152=1,IF(WEEKDAY($K152)=H$1,1+COUNTA(H$3:H151)-COUNTBLANK(H$3:H151),\"\"),\"\")","v":""},{"$f":"IF($C152=1,IF(WEEKDAY($K152)=I$1,1+COUNTA(I$3:I151)-COUNTBLANK(I$3:I151),\"\"),\"\")","v":""},{"$f":"IF($C152=1,IF(WEEKDAY($K152)=J$1,1+COUNTA(J$3:J151)-COUNTBLANK(J$3:J151),\"\"),\"\")","v":""},"2019-01-16"]
["2019-01-17",0,0,{"$f":"IF($C153=1,IF(WEEKDAY($K153)=D$1,1+COUNTA(D$3:D152)-COUNTBLANK(D$3:D152),\"\"),\"\")","v":""},{"$f":"IF($C153=1,IF(WEEKDAY($K153)=E$1,1+COUNTA(E$3:E152)-COUNTBLANK(E$3:E152),\"\"),\"\")","v":""},{"$f":"IF($C153=1,IF(WEEKDAY($K153)=F$1,1+COUNTA(F$3:F152)-COUNTBLANK(F$3:F152),\"\"),\"\")","v":""},{"$f":"IF($C153=1,IF(WEEKDAY($K153)=G$1,1+COUNTA(G$3:G152)-COUNTBLANK(G$3:G152),\"\"),\"\")","v":""},{"$f":"IF($C153=1,IF(WEEKDAY($K153)=H$1,1+COUNTA(H$3:H152)-COUNTBLANK(H$3:H152),\"\"),\"\")","v":""},{"$f":"IF($C153=1,IF(WEEKDAY($K153)=I$1,1+COUNTA(I$3:I152)-COUNTBLANK(I$3:I152),\"\"),\"\")","v":""},{"$f":"IF($C153=1,IF(WEEKDAY($K153)=J$1,1+COUNTA(J$3:J152)-COUNTBLANK(J$3:J152),\"\"),\"\")","v":""},"2019-01-17"]
["2019-01-18",0,0,{"$f":"IF($C154=1,IF(WEEKDAY($K154)=D$1,1+COUNTA(D$3:D153)-COUNTBLANK(D$3:D153),\"\"),\"\")","v":""},{"$f":"IF($C154=1,IF(WEEKDAY($K154)=E$1,1+COUNTA(E$3:E153)-COUNTBLANK(E$3:E153),\"\"),\"\")","v":""},{"$f":"IF($C154=1,IF(WEEKDAY($K154)=F$1,1+COUNTA(F$3:F153)-COUNTBLANK(F$3:F153),\"\"),\"\")","v":""},{"$f":"IF($C154=1,IF(WEEKDAY($K154)=G$1,1+COUNTA(G$3:G153)-COUNTBLANK(G$3:G153),\"\"),\"\")","v":""},{"$f":"IF($C154=1,IF(WEEKDAY($K154)=H$1,1+COUNTA(H$3:H153)-COUNTBLANK(H$3:H153),\"\"),\"\")","v":""},{"$f":"IF($C154=1,IF(WEEKDAY($K154)=I$1,1+COUNTA(I$3:I153)-COUNTBLANK(I$3:I153),\"\"),\"\")","v":""},{"$f":"IF($C154=1,IF(WEEKDAY($K154)=J$1,1+COUNTA(J$3:J153)-COUNTBLANK(J$3:J153),\"\"),\"\")","v":""},"2019-01-18"]
["2019-01-19",0,0,{"$f":"IF($C155=1,IF(WEEKDAY($K155)=D$1,1+COUNTA(D$3:D154)-COUNTBLANK(D$3:D154),\"\"),\"\")","v":""},{"$f":"IF($C155=1,IF(WEEKDAY($K155)=E$1,1+COUNTA(E$3:E154)-COUNTBLANK(E$3:E154),\"\"),\"\")","v":""},{"$f":"IF($C155=1,IF(WEEKDAY($K155)=F$1,1+COUNTA(F$3:F154)-COUNTBLANK(F$3:F154),\"\"),\"\")","v":""},{"$f":"IF($C155=1,IF(WEEKDAY($K155)=G$1,1+COUNTA(G$3:G154)-COUNTBLANK(G$3:G154),\"\"),\"\")","v":""},{"$f":"IF($C155=1,IF(WEEKDAY($K155)=H$1,1+COUNTA(H$3:H154)-COUNTBLANK(H$3:H154),\"\"),\"\")","v":""},{"$f":"IF($C155=1,IF(WEEKDAY($K155)=I$1,1+COUNTA(I$3:I154)-COUNTBLANK(I$3:I154),\"\"),\"\")","v":""},{"$f":"IF($C155=1,IF(WEEKDAY($K155)=J$1,1+COUNTA(J$3:J154)-COUNTBLANK(J$3:J154),\"\"),\"\")","v":""},"2019-01-19"]
["2019-01-20",0,0,{"$f":"IF($C156=1,IF(WEEKDAY($K156)=D$1,1+COUNTA(D$3:D155)-COUNTBLANK(D$3:D155),\"\"),\"\")","v":""},{"$f":"IF($C156=1,IF(WEEKDAY($K156)=E$1,1+COUNTA(E$3:E155)-COUNTBLANK(E$3:E155),\"\"),\"\")","v":""},{"$f":"IF($C156=1,IF(WEEKDAY($K156)=F$1,1+COUNTA(F$3:F155)-COUNTBLANK(F$3:F155),\"\"),\"\")","v":""},{"$f":"IF($C156=1,IF(WEEKDAY($K156)=G$1,1+COUNTA(G$3:G155)-COUNTBLANK(G$3:G155),\"\"),\"\")","v":""},{"$f":"IF($C156=1,IF(WEEKDAY($K156)=H$1,1+COUNTA(H$3:H155)-COUNTBLANK(H$3:H155),\"\"),\"\")","v":""},{"$f":"IF($C156=1,IF(WEEKDAY($K156)=I$1,1+COUNTA(I$3:I155)-COUNTBLANK(I$3:I155),\"\"),\"\")","v":""},{"$f":"IF($C156=1,IF(WEEKDAY($K156)=J$1,1+COUNTA(J$3:J155)-COUNTBLANK(J$3:J155),\"\"),\"\")","v":""},"2019-01-20"]
["2019-01-21",0,0,{"$f":"IF($C157=1,IF(WEEKDAY($K157)=D$1,1+COUNTA(D$3:D156)-COUNTBLANK(D$3:D156),\"\"),\"\")","v":""},{"$f":"IF($C157=1,IF(WEEKDAY($K157)=E$1,1+COUNTA(E$3:E156)-COUNTBLANK(E$3:E156),\"\"),\"\")","v":""},{"$f":"IF($C157=1,IF(WEEKDAY($K157)=F$1,1+COUNTA(F$3:F156)-COUNTBLANK(F$3:F156),\"\"),\"\")","v":""},{"$f":"IF($C157=1,IF(WEEKDAY($K157)=G$1,1+COUNTA(G$3:G156)-COUNTBLANK(G$3:G156),\"\"),\"\")","v":""},{"$f":"IF($C157=1,IF(WEEKDAY($K157)=H$1,1+COUNTA(H$3:H156)-COUNTBLANK(H$3:H156),\"\"),\"\")","v":""},{"$f":"IF($C157=1,IF(WEEKDAY($K157)=I$1,1+COUNTA(I$3:I156)-COUNTBLANK(I$3:I156),\"\"),\"\")","v":""},{"$f":"IF($C157=1,IF(WEEKDAY($K157)=J$1,1+COUNTA(J$3:J156)-COUNTBLANK(J$3:J156),\"\"),\"\")","v":""},"2019-01-21"]
["2019-01-22",0,0,{"$f":"IF($C158=1,IF(WEEKDAY($K158)=D$1,1+COUNTA(D$3:D157)-COUNTBLANK(D$3:D157),\"\"),\"\")","v":""},{"$f":"IF($C158=1,IF(WEEKDAY($K158)=E$1,1+COUNTA(E$3:E157)-COUNTBLANK(E$3:E157),\"\"),\"\")","v":""},{"$f":"IF($C158=1,IF(WEEKDAY($K158)=F$1,1+COUNTA(F$3:F157)-COUNTBLANK(F$3:F157),\"\"),\"\")","v":""},{"$f":"IF($C158=1,IF(WEEKDAY($K158)=G$1,1+COUNTA(G$3:G157)-COUNTBLANK(G$3:G157),\"\"),\"\")","v":""},{"$f":"IF($C158=1,IF(WEEKDAY($K158)=H$1,1+COUNTA(H$3:H157)-COUNTBLANK(H$3:H157),\"\"),\"\")","v":""},{"$f":"IF($C158=1,IF(WEEKDAY($K158)=I$1,1+COUNTA(I$3:I157)-COUNTBLANK(I$3:I157),\"\"),\"\")","v":""},{"$f":"IF($C158=1,IF(WEEKDAY($K158)=J$1,1+COUNTA(J$3:J157)-COUNTBLANK(J$3:J157),\"\"),\"\")","v":""},"2019-01-22"]
["2019-01-23",0,0,{"$f":"IF($C159=1,IF(WEEKDAY($K159)=D$1,1+COUNTA(D$3:D158)-COUNTBLANK(D$3:D158),\"\"),\"\")","v":""},{"$f":"IF($C159=1,IF(WEEKDAY($K159)=E$1,1+COUNTA(E$3:E158)-COUNTBLANK(E$3:E158),\"\"),\"\")","v":""},{"$f":"IF($C159=1,IF(WEEKDAY($K159)=F$1,1+COUNTA(F$3:F158)-COUNTBLANK(F$3:F158),\"\"),\"\")","v":""},{"$f":"IF($C159=1,IF(WEEKDAY($K159)=G$1,1+COUNTA(G$3:G158)-COUNTBLANK(G$3:G158),\"\"),\"\")","v":""},{"$f":"IF($C159=1,IF(WEEKDAY($K159)=H$1,1+COUNTA(H$3:H158)-COUNTBLANK(H$3:H158),\"\"),\"\")","v":""},{"$f":"IF($C159=1,IF(WEEKDAY($K159)=I$1,1+COUNTA(I$3:I158)-COUNTBLANK(I$3:I158),\"\"),\"\")","v":""},{"$f":"IF($C159=1,IF(WEEKDAY($K159)=J$1,1+COUNTA(J$3:J158)-COUNTBLANK(J$3:J158),\"\"),\"\")","v":""},"2019-01-23"]
["2019-01-24",0,0,{"$f":"IF($C160=1,IF(WEEKDAY($K160)=D$1,1+COUNTA(D$3:D159)-COUNTBLANK(D$3:D159),\"\"),\"\")","v":""},{"$f":"IF($C160=1,IF(WEEKDAY($K160)=E$1,1+COUNTA(E$3:E159)-COUNTBLANK(E$3:E159),\"\"),\"\")","v":""},{"$f":"IF($C160=1,IF(WEEKDAY($K160)=F$1,1+COUNTA(F$3:F159)-COUNTBLANK(F$3:F159),\"\"),\"\")","v":""},{"$f":"IF($C160=1,IF(WEEKDAY($K160)=G$1,1+COUNTA(G$3:G159)-COUNTBLANK(G$3:G159),\"\"),\"\")","v":""},{"$f":"IF($C160=1,IF(WEEKDAY($K160)=H$1,1+COUNTA(H$3:H159)-COUNTBLANK(H$3:H159),\"\"),\"\")","v":""},{"$f":"IF($C160=1,IF(WEEKDAY($K160)=I$1,1+COUNTA(I$3:I159)-COUNTBLANK(I$3:I159),\"\"),\"\")","v":""},{"$f":"IF($C160=1,IF(WEEKDAY($K160)=J$1,1+COUNTA(J$3:J159)-COUNTBLANK(J$3:J159),\"\"),\"\")","v":""},"2019-01-24"]
["2019-01-25",0,0,{"$f":"IF($C161=1,IF(WEEKDAY($K161)=D$1,1+COUNTA(D$3:D160)-COUNTBLANK(D$3:D160),\"\"),\"\")","v":""},{"$f":"IF($C161=1,IF(WEEKDAY($K161)=E$1,1+COUNTA(E$3:E160)-COUNTBLANK(E$3:E160),\"\"),\"\")","v":""},{"$f":"IF($C161=1,IF(WEEKDAY($K161)=F$1,1+COUNTA(F$3:F160)-COUNTBLANK(F$3:F160),\"\"),\"\")","v":""},{"$f":"IF($C161=1,IF(WEEKDAY($K161)=G$1,1+COUNTA(G$3:G160)-COUNTBLANK(G$3:G160),\"\"),\"\")","v":""},{"$f":"IF($C161=1,IF(WEEKDAY($K161)=H$1,1+COUNTA(H$3:H160)-COUNTBLANK(H$3:H160),\"\"),\"\")","v":""},{"$f":"IF($C161=1,IF(WEEKDAY($K161)=I$1,1+COUNTA(I$3:I160)-COUNTBLANK(I$3:I160),\"\"),\"\")","v":""},{"$f":"IF($C161=1,IF(WEEKDAY($K161)=J$1,1+COUNTA(J$3:J160)-COUNTBLANK(J$3:J160),\"\"),\"\")","v":""},"2019-01-25"]
["2019-01-26",0,0,{"$f":"IF($C162=1,IF(WEEKDAY($K162)=D$1,1+COUNTA(D$3:D161)-COUNTBLANK(D$3:D161),\"\"),\"\")","v":""},{"$f":"IF($C162=1,IF(WEEKDAY($K162)=E$1,1+COUNTA(E$3:E161)-COUNTBLANK(E$3:E161),\"\"),\"\")","v":""},{"$f":"IF($C162=1,IF(WEEKDAY($K162)=F$1,1+COUNTA(F$3:F161)-COUNTBLANK(F$3:F161),\"\"),\"\")","v":""},{"$f":"IF($C162=1,IF(WEEKDAY($K162)=G$1,1+COUNTA(G$3:G161)-COUNTBLANK(G$3:G161),\"\"),\"\")","v":""},{"$f":"IF($C162=1,IF(WEEKDAY($K162)=H$1,1+COUNTA(H$3:H161)-COUNTBLANK(H$3:H161),\"\"),\"\")","v":""},{"$f":"IF($C162=1,IF(WEEKDAY($K162)=I$1,1+COUNTA(I$3:I161)-COUNTBLANK(I$3:I161),\"\"),\"\")","v":""},{"$f":"IF($C162=1,IF(WEEKDAY($K162)=J$1,1+COUNTA(J$3:J161)-COUNTBLANK(J$3:J161),\"\"),\"\")","v":""},"2019-01-26"]
["2019-01-27",0,0,{"$f":"IF($C163=1,IF(WEEKDAY($K163)=D$1,1+COUNTA(D$3:D162)-COUNTBLANK(D$3:D162),\"\"),\"\")","v":""},{"$f":"IF($C163=1,IF(WEEKDAY($K163)=E$1,1+COUNTA(E$3:E162)-COUNTBLANK(E$3:E162),\"\"),\"\")","v":""},{"$f":"IF($C163=1,IF(WEEKDAY($K163)=F$1,1+COUNTA(F$3:F162)-COUNTBLANK(F$3:F162),\"\"),\"\")","v":""},{"$f":"IF($C163=1,IF(WEEKDAY($K163)=G$1,1+COUNTA(G$3:G162)-COUNTBLANK(G$3:G162),\"\"),\"\")","v":""},{"$f":"IF($C163=1,IF(WEEKDAY($K163)=H$1,1+COUNTA(H$3:H162)-COUNTBLANK(H$3:H162),\"\"),\"\")","v":""},{"$f":"IF($C163=1,IF(WEEKDAY($K163)=I$1,1+COUNTA(I$3:I162)-COUNTBLANK(I$3:I162),\"\"),\"\")","v":""},{"$f":"IF($C163=1,IF(WEEKDAY($K163)=J$1,1+COUNTA(J$3:J162)-COUNTBLANK(J$3:J162),\"\"),\"\")","v":""},"2019-01-27"]
["2019-01-28",1,1,{"$f":"IF($C164=1,IF(WEEKDAY($K164)=D$1,1+COUNTA(D$3:D163)-COUNTBLANK(D$3:D163),\"\"),\"\")","v":17},{"$f":"IF($C164=1,IF(WEEKDAY($K164)=E$1,1+COUNTA(E$3:E163)-COUNTBLANK(E$3:E163),\"\"),\"\")","v":""},{"$f":"IF($C164=1,IF(WEEKDAY($K164)=F$1,1+COUNTA(F$3:F163)-COUNTBLANK(F$3:F163),\"\"),\"\")","v":""},{"$f":"IF($C164=1,IF(WEEKDAY($K164)=G$1,1+COUNTA(G$3:G163)-COUNTBLANK(G$3:G163),\"\"),\"\")","v":""},{"$f":"IF($C164=1,IF(WEEKDAY($K164)=H$1,1+COUNTA(H$3:H163)-COUNTBLANK(H$3:H163),\"\"),\"\")","v":""},{"$f":"IF($C164=1,IF(WEEKDAY($K164)=I$1,1+COUNTA(I$3:I163)-COUNTBLANK(I$3:I163),\"\"),\"\")","v":""},{"$f":"IF($C164=1,IF(WEEKDAY($K164)=J$1,1+COUNTA(J$3:J163)-COUNTBLANK(J$3:J163),\"\"),\"\")","v":""},"2019-01-28"]
["2019-01-29",1,1,{"$f":"IF($C165=1,IF(WEEKDAY($K165)=D$1,1+COUNTA(D$3:D164)-COUNTBLANK(D$3:D164),\"\"),\"\")","v":""},{"$f":"IF($C165=1,IF(WEEKDAY($K165)=E$1,1+COUNTA(E$3:E164)-COUNTBLANK(E$3:E164),\"\"),\"\")","v":17},{"$f":"IF($C165=1,IF(WEEKDAY($K165)=F$1,1+COUNTA(F$3:F164)-COUNTBLANK(F$3:F164),\"\"),\"\")","v":""},{"$f":"IF($C165=1,IF(WEEKDAY($K165)=G$1,1+COUNTA(G$3:G164)-COUNTBLANK(G$3:G164),\"\"),\"\")","v":""},{"$f":"IF($C165=1,IF(WEEKDAY($K165)=H$1,1+COUNTA(H$3:H164)-COUNTBLANK(H$3:H164),\"\"),\"\")","v":""},{"$f":"IF($C165=1,IF(WEEKDAY($K165)=I$1,1+COUNTA(I$3:I164)-COUNTBLANK(I$3:I164),\"\"),\"\")","v":""},{"$f":"IF($C165=1,IF(WEEKDAY($K165)=J$1,1+COUNTA(J$3:J164)-COUNTBLANK(J$3:J164),\"\"),\"\")","v":""},"2019-01-29"]
["2019-01-30",1,1,{"$f":"IF($C166=1,IF(WEEKDAY($K166)=D$1,1+COUNTA(D$3:D165)-COUNTBLANK(D$3:D165),\"\"),\"\")","v":""},{"$f":"IF($C166=1,IF(WEEKDAY($K166)=E$1,1+COUNTA(E$3:E165)-COUNTBLANK(E$3:E165),\"\"),\"\")","v":""},{"$f":"IF($C166=1,IF(WEEKDAY($K166)=F$1,1+COUNTA(F$3:F165)-COUNTBLANK(F$3:F165),\"\"),\"\")","v":17},{"$f":"IF($C166=1,IF(WEEKDAY($K166)=G$1,1+COUNTA(G$3:G165)-COUNTBLANK(G$3:G165),\"\"),\"\")","v":""},{"$f":"IF($C166=1,IF(WEEKDAY($K166)=H$1,1+COUNTA(H$3:H165)-COUNTBLANK(H$3:H165),\"\"),\"\")","v":""},{"$f":"IF($C166=1,IF(WEEKDAY($K166)=I$1,1+COUNTA(I$3:I165)-COUNTBLANK(I$3:I165),\"\"),\"\")","v":""},{"$f":"IF($C166=1,IF(WEEKDAY($K166)=J$1,1+COUNTA(J$3:J165)-COUNTBLANK(J$3:J165),\"\"),\"\")","v":""},"2019-01-30"]
["2019-01-31",1,1,{"$f":"IF($C167=1,IF(WEEKDAY($K167)=D$1,1+COUNTA(D$3:D166)-COUNTBLANK(D$3:D166),\"\"),\"\")","v":""},{"$f":"IF($C167=1,IF(WEEKDAY($K167)=E$1,1+COUNTA(E$3:E166)-COUNTBLANK(E$3:E166),\"\"),\"\")","v":""},{"$f":"IF($C167=1,IF(WEEKDAY($K167)=F$1,1+COUNTA(F$3:F166)-COUNTBLANK(F$3:F166),\"\"),\"\")","v":""},{"$f":"IF($C167=1,IF(WEEKDAY($K167)=G$1,1+COUNTA(G$3:G166)-COUNTBLANK(G$3:G166),\"\"),\"\")","v":15},{"$f":"IF($C167=1,IF(WEEKDAY($K167)=H$1,1+COUNTA(H$3:H166)-COUNTBLANK(H$3:H166),\"\"),\"\")","v":""},{"$f":"IF($C167=1,IF(WEEKDAY($K167)=I$1,1+COUNTA(I$3:I166)-COUNTBLANK(I$3:I166),\"\"),\"\")","v":""},{"$f":"IF($C167=1,IF(WEEKDAY($K167)=J$1,1+COUNTA(J$3:J166)-COUNTBLANK(J$3:J166),\"\"),\"\")","v":""},"2019-01-31"]
["2019-02-01",1,1,{"$f":"IF($C168=1,IF(WEEKDAY($K168)=D$1,1+COUNTA(D$3:D167)-COUNTBLANK(D$3:D167),\"\"),\"\")","v":""},{"$f":"IF($C168=1,IF(WEEKDAY($K168)=E$1,1+COUNTA(E$3:E167)-COUNTBLANK(E$3:E167),\"\"),\"\")","v":""},{"$f":"IF($C168=1,IF(WEEKDAY($K168)=F$1,1+COUNTA(F$3:F167)-COUNTBLANK(F$3:F167),\"\"),\"\")","v":""},{"$f":"IF($C168=1,IF(WEEKDAY($K168)=G$1,1+COUNTA(G$3:G167)-COUNTBLANK(G$3:G167),\"\"),\"\")","v":""},{"$f":"IF($C168=1,IF(WEEKDAY($K168)=H$1,1+COUNTA(H$3:H167)-COUNTBLANK(H$3:H167),\"\"),\"\")","v":17},{"$f":"IF($C168=1,IF(WEEKDAY($K168)=I$1,1+COUNTA(I$3:I167)-COUNTBLANK(I$3:I167),\"\"),\"\")","v":""},{"$f":"IF($C168=1,IF(WEEKDAY($K168)=J$1,1+COUNTA(J$3:J167)-COUNTBLANK(J$3:J167),\"\"),\"\")","v":""},"2019-02-01"]
["2019-02-02",0,1,{"$f":"IF($C169=1,IF(WEEKDAY($K169)=D$1,1+COUNTA(D$3:D168)-COUNTBLANK(D$3:D168),\"\"),\"\")","v":""},{"$f":"IF($C169=1,IF(WEEKDAY($K169)=E$1,1+COUNTA(E$3:E168)-COUNTBLANK(E$3:E168),\"\"),\"\")","v":""},{"$f":"IF($C169=1,IF(WEEKDAY($K169)=F$1,1+COUNTA(F$3:F168)-COUNTBLANK(F$3:F168),\"\"),\"\")","v":""},{"$f":"IF($C169=1,IF(WEEKDAY($K169)=G$1,1+COUNTA(G$3:G168)-COUNTBLANK(G$3:G168),\"\"),\"\")","v":""},{"$f":"IF($C169=1,IF(WEEKDAY($K169)=H$1,1+COUNTA(H$3:H168)-COUNTBLANK(H$3:H168),\"\"),\"\")","v":""},{"$f":"IF($C169=1,IF(WEEKDAY($K169)=I$1,1+COUNTA(I$3:I168)-COUNTBLANK(I$3:I168),\"\"),\"\")","v":15},{"$f":"IF($C169=1,IF(WEEKDAY($K169)=J$1,1+COUNTA(J$3:J168)-COUNTBLANK(J$3:J168),\"\"),\"\")","v":""},"2019-02-02"]
["2019-02-03",0,1,{"$f":"IF($C170=1,IF(WEEKDAY($K170)=D$1,1+COUNTA(D$3:D169)-COUNTBLANK(D$3:D169),\"\"),\"\")","v":""},{"$f":"IF($C170=1,IF(WEEKDAY($K170)=E$1,1+COUNTA(E$3:E169)-COUNTBLANK(E$3:E169),\"\"),\"\")","v":""},{"$f":"IF($C170=1,IF(WEEKDAY($K170)=F$1,1+COUNTA(F$3:F169)-COUNTBLANK(F$3:F169),\"\"),\"\")","v":""},{"$f":"IF($C170=1,IF(WEEKDAY($K170)=G$1,1+COUNTA(G$3:G169)-COUNTBLANK(G$3:G169),\"\"),\"\")","v":""},{"$f":"IF($C170=1,IF(WEEKDAY($K170)=H$1,1+COUNTA(H$3:H169)-COUNTBLANK(H$3:H169),\"\"),\"\")","v":""},{"$f":"IF($C170=1,IF(WEEKDAY($K170)=I$1,1+COUNTA(I$3:I169)-COUNTBLANK(I$3:I169),\"\"),\"\")","v":""},{"$f":"IF($C170=1,IF(WEEKDAY($K170)=J$1,1+COUNTA(J$3:J169)-COUNTBLANK(J$3:J169),\"\"),\"\")","v":14},"2019-02-03"]
["2019-02-04",1,1,{"$f":"IF($C171=1,IF(WEEKDAY($K171)=D$1,1+COUNTA(D$3:D170)-COUNTBLANK(D$3:D170),\"\"),\"\")","v":18},{"$f":"IF($C171=1,IF(WEEKDAY($K171)=E$1,1+COUNTA(E$3:E170)-COUNTBLANK(E$3:E170),\"\"),\"\")","v":""},{"$f":"IF($C171=1,IF(WEEKDAY($K171)=F$1,1+COUNTA(F$3:F170)-COUNTBLANK(F$3:F170),\"\"),\"\")","v":""},{"$f":"IF($C171=1,IF(WEEKDAY($K171)=G$1,1+COUNTA(G$3:G170)-COUNTBLANK(G$3:G170),\"\"),\"\")","v":""},{"$f":"IF($C171=1,IF(WEEKDAY($K171)=H$1,1+COUNTA(H$3:H170)-COUNTBLANK(H$3:H170),\"\"),\"\")","v":""},{"$f":"IF($C171=1,IF(WEEKDAY($K171)=I$1,1+COUNTA(I$3:I170)-COUNTBLANK(I$3:I170),\"\"),\"\")","v":""},{"$f":"IF($C171=1,IF(WEEKDAY($K171)=J$1,1+COUNTA(J$3:J170)-COUNTBLANK(J$3:J170),\"\"),\"\")","v":""},"2019-02-04"]
["2019-02-05",1,1,{"$f":"IF($C172=1,IF(WEEKDAY($K172)=D$1,1+COUNTA(D$3:D171)-COUNTBLANK(D$3:D171),\"\"),\"\")","v":""},{"$f":"IF($C172=1,IF(WEEKDAY($K172)=E$1,1+COUNTA(E$3:E171)-COUNTBLANK(E$3:E171),\"\"),\"\")","v":18},{"$f":"IF($C172=1,IF(WEEKDAY($K172)=F$1,1+COUNTA(F$3:F171)-COUNTBLANK(F$3:F171),\"\"),\"\")","v":""},{"$f":"IF($C172=1,IF(WEEKDAY($K172)=G$1,1+COUNTA(G$3:G171)-COUNTBLANK(G$3:G171),\"\"),\"\")","v":""},{"$f":"IF($C172=1,IF(WEEKDAY($K172)=H$1,1+COUNTA(H$3:H171)-COUNTBLANK(H$3:H171),\"\"),\"\")","v":""},{"$f":"IF($C172=1,IF(WEEKDAY($K172)=I$1,1+COUNTA(I$3:I171)-COUNTBLANK(I$3:I171),\"\"),\"\")","v":""},{"$f":"IF($C172=1,IF(WEEKDAY($K172)=J$1,1+COUNTA(J$3:J171)-COUNTBLANK(J$3:J171),\"\"),\"\")","v":""},"2019-02-05"]
["2019-02-06",1,1,{"$f":"IF($C173=1,IF(WEEKDAY($K173)=D$1,1+COUNTA(D$3:D172)-COUNTBLANK(D$3:D172),\"\"),\"\")","v":""},{"$f":"IF($C173=1,IF(WEEKDAY($K173)=E$1,1+COUNTA(E$3:E172)-COUNTBLANK(E$3:E172),\"\"),\"\")","v":""},{"$f":"IF($C173=1,IF(WEEKDAY($K173)=F$1,1+COUNTA(F$3:F172)-COUNTBLANK(F$3:F172),\"\"),\"\")","v":18},{"$f":"IF($C173=1,IF(WEEKDAY($K173)=G$1,1+COUNTA(G$3:G172)-COUNTBLANK(G$3:G172),\"\"),\"\")","v":""},{"$f":"IF($C173=1,IF(WEEKDAY($K173)=H$1,1+COUNTA(H$3:H172)-COUNTBLANK(H$3:H172),\"\"),\"\")","v":""},{"$f":"IF($C173=1,IF(WEEKDAY($K173)=I$1,1+COUNTA(I$3:I172)-COUNTBLANK(I$3:I172),\"\"),\"\")","v":""},{"$f":"IF($C173=1,IF(WEEKDAY($K173)=J$1,1+COUNTA(J$3:J172)-COUNTBLANK(J$3:J172),\"\"),\"\")","v":""},"2019-02-06"]
["2019-02-07",1,1,{"$f":"IF($C174=1,IF(WEEKDAY($K174)=D$1,1+COUNTA(D$3:D173)-COUNTBLANK(D$3:D173),\"\"),\"\")","v":""},{"$f":"IF($C174=1,IF(WEEKDAY($K174)=E$1,1+COUNTA(E$3:E173)-COUNTBLANK(E$3:E173),\"\"),\"\")","v":""},{"$f":"IF($C174=1,IF(WEEKDAY($K174)=F$1,1+COUNTA(F$3:F173)-COUNTBLANK(F$3:F173),\"\"),\"\")","v":""},{"$f":"IF($C174=1,IF(WEEKDAY($K174)=G$1,1+COUNTA(G$3:G173)-COUNTBLANK(G$3:G173),\"\"),\"\")","v":16},{"$f":"IF($C174=1,IF(WEEKDAY($K174)=H$1,1+COUNTA(H$3:H173)-COUNTBLANK(H$3:H173),\"\"),\"\")","v":""},{"$f":"IF($C174=1,IF(WEEKDAY($K174)=I$1,1+COUNTA(I$3:I173)-COUNTBLANK(I$3:I173),\"\"),\"\")","v":""},{"$f":"IF($C174=1,IF(WEEKDAY($K174)=J$1,1+COUNTA(J$3:J173)-COUNTBLANK(J$3:J173),\"\"),\"\")","v":""},"2019-02-07"]
["2019-02-08",1,1,{"$f":"IF($C175=1,IF(WEEKDAY($K175)=D$1,1+COUNTA(D$3:D174)-COUNTBLANK(D$3:D174),\"\"),\"\")","v":""},{"$f":"IF($C175=1,IF(WEEKDAY($K175)=E$1,1+COUNTA(E$3:E174)-COUNTBLANK(E$3:E174),\"\"),\"\")","v":""},{"$f":"IF($C175=1,IF(WEEKDAY($K175)=F$1,1+COUNTA(F$3:F174)-COUNTBLANK(F$3:F174),\"\"),\"\")","v":""},{"$f":"IF($C175=1,IF(WEEKDAY($K175)=G$1,1+COUNTA(G$3:G174)-COUNTBLANK(G$3:G174),\"\"),\"\")","v":""},{"$f":"IF($C175=1,IF(WEEKDAY($K175)=H$1,1+COUNTA(H$3:H174)-COUNTBLANK(H$3:H174),\"\"),\"\")","v":18},{"$f":"IF($C175=1,IF(WEEKDAY($K175)=I$1,1+COUNTA(I$3:I174)-COUNTBLANK(I$3:I174),\"\"),\"\")","v":""},{"$f":"IF($C175=1,IF(WEEKDAY($K175)=J$1,1+COUNTA(J$3:J174)-COUNTBLANK(J$3:J174),\"\"),\"\")","v":""},"2019-02-08"]
["2019-02-09",0,1,{"$f":"IF($C176=1,IF(WEEKDAY($K176)=D$1,1+COUNTA(D$3:D175)-COUNTBLANK(D$3:D175),\"\"),\"\")","v":""},{"$f":"IF($C176=1,IF(WEEKDAY($K176)=E$1,1+COUNTA(E$3:E175)-COUNTBLANK(E$3:E175),\"\"),\"\")","v":""},{"$f":"IF($C176=1,IF(WEEKDAY($K176)=F$1,1+COUNTA(F$3:F175)-COUNTBLANK(F$3:F175),\"\"),\"\")","v":""},{"$f":"IF($C176=1,IF(WEEKDAY($K176)=G$1,1+COUNTA(G$3:G175)-COUNTBLANK(G$3:G175),\"\"),\"\")","v":""},{"$f":"IF($C176=1,IF(WEEKDAY($K176)=H$1,1+COUNTA(H$3:H175)-COUNTBLANK(H$3:H175),\"\"),\"\")","v":""},{"$f":"IF($C176=1,IF(WEEKDAY($K176)=I$1,1+COUNTA(I$3:I175)-COUNTBLANK(I$3:I175),\"\"),\"\")","v":16},{"$f":"IF($C176=1,IF(WEEKDAY($K176)=J$1,1+COUNTA(J$3:J175)-COUNTBLANK(J$3:J175),\"\"),\"\")","v":""},"2019-02-09"]
["2019-02-10",0,1,{"$f":"IF($C177=1,IF(WEEKDAY($K177)=D$1,1+COUNTA(D$3:D176)-COUNTBLANK(D$3:D176),\"\"),\"\")","v":""},{"$f":"IF($C177=1,IF(WEEKDAY($K177)=E$1,1+COUNTA(E$3:E176)-COUNTBLANK(E$3:E176),\"\"),\"\")","v":""},{"$f":"IF($C177=1,IF(WEEKDAY($K177)=F$1,1+COUNTA(F$3:F176)-COUNTBLANK(F$3:F176),\"\"),\"\")","v":""},{"$f":"IF($C177=1,IF(WEEKDAY($K177)=G$1,1+COUNTA(G$3:G176)-COUNTBLANK(G$3:G176),\"\"),\"\")","v":""},{"$f":"IF($C177=1,IF(WEEKDAY($K177)=H$1,1+COUNTA(H$3:H176)-COUNTBLANK(H$3:H176),\"\"),\"\")","v":""},{"$f":"IF($C177=1,IF(WEEKDAY($K177)=I$1,1+COUNTA(I$3:I176)-COUNTBLANK(I$3:I176),\"\"),\"\")","v":""},{"$f":"IF($C177=1,IF(WEEKDAY($K177)=J$1,1+COUNTA(J$3:J176)-COUNTBLANK(J$3:J176),\"\"),\"\")","v":15},"2019-02-10"]
["2019-02-11",1,1,{"$f":"IF($C178=1,IF(WEEKDAY($K178)=D$1,1+COUNTA(D$3:D177)-COUNTBLANK(D$3:D177),\"\"),\"\")","v":19},{"$f":"IF($C178=1,IF(WEEKDAY($K178)=E$1,1+COUNTA(E$3:E177)-COUNTBLANK(E$3:E177),\"\"),\"\")","v":""},{"$f":"IF($C178=1,IF(WEEKDAY($K178)=F$1,1+COUNTA(F$3:F177)-COUNTBLANK(F$3:F177),\"\"),\"\")","v":""},{"$f":"IF($C178=1,IF(WEEKDAY($K178)=G$1,1+COUNTA(G$3:G177)-COUNTBLANK(G$3:G177),\"\"),\"\")","v":""},{"$f":"IF($C178=1,IF(WEEKDAY($K178)=H$1,1+COUNTA(H$3:H177)-COUNTBLANK(H$3:H177),\"\"),\"\")","v":""},{"$f":"IF($C178=1,IF(WEEKDAY($K178)=I$1,1+COUNTA(I$3:I177)-COUNTBLANK(I$3:I177),\"\"),\"\")","v":""},{"$f":"IF($C178=1,IF(WEEKDAY($K178)=J$1,1+COUNTA(J$3:J177)-COUNTBLANK(J$3:J177),\"\"),\"\")","v":""},"2019-02-11"]
["2019-02-12",1,1,{"$f":"IF($C179=1,IF(WEEKDAY($K179)=D$1,1+COUNTA(D$3:D178)-COUNTBLANK(D$3:D178),\"\"),\"\")","v":""},{"$f":"IF($C179=1,IF(WEEKDAY($K179)=E$1,1+COUNTA(E$3:E178)-COUNTBLANK(E$3:E178),\"\"),\"\")","v":19},{"$f":"IF($C179=1,IF(WEEKDAY($K179)=F$1,1+COUNTA(F$3:F178)-COUNTBLANK(F$3:F178),\"\"),\"\")","v":""},{"$f":"IF($C179=1,IF(WEEKDAY($K179)=G$1,1+COUNTA(G$3:G178)-COUNTBLANK(G$3:G178),\"\"),\"\")","v":""},{"$f":"IF($C179=1,IF(WEEKDAY($K179)=H$1,1+COUNTA(H$3:H178)-COUNTBLANK(H$3:H178),\"\"),\"\")","v":""},{"$f":"IF($C179=1,IF(WEEKDAY($K179)=I$1,1+COUNTA(I$3:I178)-COUNTBLANK(I$3:I178),\"\"),\"\")","v":""},{"$f":"IF($C179=1,IF(WEEKDAY($K179)=J$1,1+COUNTA(J$3:J178)-COUNTBLANK(J$3:J178),\"\"),\"\")","v":""},"2019-02-12"]
["2019-02-13",1,1,{"$f":"IF($C180=1,IF(WEEKDAY($K180)=D$1,1+COUNTA(D$3:D179)-COUNTBLANK(D$3:D179),\"\"),\"\")","v":""},{"$f":"IF($C180=1,IF(WEEKDAY($K180)=E$1,1+COUNTA(E$3:E179)-COUNTBLANK(E$3:E179),\"\"),\"\")","v":""},{"$f":"IF($C180=1,IF(WEEKDAY($K180)=F$1,1+COUNTA(F$3:F179)-COUNTBLANK(F$3:F179),\"\"),\"\")","v":19},{"$f":"IF($C180=1,IF(WEEKDAY($K180)=G$1,1+COUNTA(G$3:G179)-COUNTBLANK(G$3:G179),\"\"),\"\")","v":""},{"$f":"IF($C180=1,IF(WEEKDAY($K180)=H$1,1+COUNTA(H$3:H179)-COUNTBLANK(H$3:H179),\"\"),\"\")","v":""},{"$f":"IF($C180=1,IF(WEEKDAY($K180)=I$1,1+COUNTA(I$3:I179)-COUNTBLANK(I$3:I179),\"\"),\"\")","v":""},{"$f":"IF($C180=1,IF(WEEKDAY($K180)=J$1,1+COUNTA(J$3:J179)-COUNTBLANK(J$3:J179),\"\"),\"\")","v":""},"2019-02-13"]
["2019-02-14",1,1,{"$f":"IF($C181=1,IF(WEEKDAY($K181)=D$1,1+COUNTA(D$3:D180)-COUNTBLANK(D$3:D180),\"\"),\"\")","v":""},{"$f":"IF($C181=1,IF(WEEKDAY($K181)=E$1,1+COUNTA(E$3:E180)-COUNTBLANK(E$3:E180),\"\"),\"\")","v":""},{"$f":"IF($C181=1,IF(WEEKDAY($K181)=F$1,1+COUNTA(F$3:F180)-COUNTBLANK(F$3:F180),\"\"),\"\")","v":""},{"$f":"IF($C181=1,IF(WEEKDAY($K181)=G$1,1+COUNTA(G$3:G180)-COUNTBLANK(G$3:G180),\"\"),\"\")","v":17},{"$f":"IF($C181=1,IF(WEEKDAY($K181)=H$1,1+COUNTA(H$3:H180)-COUNTBLANK(H$3:H180),\"\"),\"\")","v":""},{"$f":"IF($C181=1,IF(WEEKDAY($K181)=I$1,1+COUNTA(I$3:I180)-COUNTBLANK(I$3:I180),\"\"),\"\")","v":""},{"$f":"IF($C181=1,IF(WEEKDAY($K181)=J$1,1+COUNTA(J$3:J180)-COUNTBLANK(J$3:J180),\"\"),\"\")","v":""},"2019-02-14"]
["2019-02-15",1,1,{"$f":"IF($C182=1,IF(WEEKDAY($K182)=D$1,1+COUNTA(D$3:D181)-COUNTBLANK(D$3:D181),\"\"),\"\")","v":""},{"$f":"IF($C182=1,IF(WEEKDAY($K182)=E$1,1+COUNTA(E$3:E181)-COUNTBLANK(E$3:E181),\"\"),\"\")","v":""},{"$f":"IF($C182=1,IF(WEEKDAY($K182)=F$1,1+COUNTA(F$3:F181)-COUNTBLANK(F$3:F181),\"\"),\"\")","v":""},{"$f":"IF($C182=1,IF(WEEKDAY($K182)=G$1,1+COUNTA(G$3:G181)-COUNTBLANK(G$3:G181),\"\"),\"\")","v":""},{"$f":"IF($C182=1,IF(WEEKDAY($K182)=H$1,1+COUNTA(H$3:H181)-COUNTBLANK(H$3:H181),\"\"),\"\")","v":19},{"$f":"IF($C182=1,IF(WEEKDAY($K182)=I$1,1+COUNTA(I$3:I181)-COUNTBLANK(I$3:I181),\"\"),\"\")","v":""},{"$f":"IF($C182=1,IF(WEEKDAY($K182)=J$1,1+COUNTA(J$3:J181)-COUNTBLANK(J$3:J181),\"\"),\"\")","v":""},"2019-02-15"]
["2019-02-16",0,1,{"$f":"IF($C183=1,IF(WEEKDAY($K183)=D$1,1+COUNTA(D$3:D182)-COUNTBLANK(D$3:D182),\"\"),\"\")","v":""},{"$f":"IF($C183=1,IF(WEEKDAY($K183)=E$1,1+COUNTA(E$3:E182)-COUNTBLANK(E$3:E182),\"\"),\"\")","v":""},{"$f":"IF($C183=1,IF(WEEKDAY($K183)=F$1,1+COUNTA(F$3:F182)-COUNTBLANK(F$3:F182),\"\"),\"\")","v":""},{"$f":"IF($C183=1,IF(WEEKDAY($K183)=G$1,1+COUNTA(G$3:G182)-COUNTBLANK(G$3:G182),\"\"),\"\")","v":""},{"$f":"IF($C183=1,IF(WEEKDAY($K183)=H$1,1+COUNTA(H$3:H182)-COUNTBLANK(H$3:H182),\"\"),\"\")","v":""},{"$f":"IF($C183=1,IF(WEEKDAY($K183)=I$1,1+COUNTA(I$3:I182)-COUNTBLANK(I$3:I182),\"\"),\"\")","v":17},{"$f":"IF($C183=1,IF(WEEKDAY($K183)=J$1,1+COUNTA(J$3:J182)-COUNTBLANK(J$3:J182),\"\"),\"\")","v":""},"2019-02-16"]
["2019-02-17",0,1,{"$f":"IF($C184=1,IF(WEEKDAY($K184)=D$1,1+COUNTA(D$3:D183)-COUNTBLANK(D$3:D183),\"\"),\"\")","v":""},{"$f":"IF($C184=1,IF(WEEKDAY($K184)=E$1,1+COUNTA(E$3:E183)-COUNTBLANK(E$3:E183),\"\"),\"\")","v":""},{"$f":"IF($C184=1,IF(WEEKDAY($K184)=F$1,1+COUNTA(F$3:F183)-COUNTBLANK(F$3:F183),\"\"),\"\")","v":""},{"$f":"IF($C184=1,IF(WEEKDAY($K184)=G$1,1+COUNTA(G$3:G183)-COUNTBLANK(G$3:G183),\"\"),\"\")","v":""},{"$f":"IF($C184=1,IF(WEEKDAY($K184)=H$1,1+COUNTA(H$3:H183)-COUNTBLANK(H$3:H183),\"\"),\"\")","v":""},{"$f":"IF($C184=1,IF(WEEKDAY($K184)=I$1,1+COUNTA(I$3:I183)-COUNTBLANK(I$3:I183),\"\"),\"\")","v":""},{"$f":"IF($C184=1,IF(WEEKDAY($K184)=J$1,1+COUNTA(J$3:J183)-COUNTBLANK(J$3:J183),\"\"),\"\")","v":16},"2019-02-17"]
["2019-02-18",1,1,{"$f":"IF($C185=1,IF(WEEKDAY($K185)=D$1,1+COUNTA(D$3:D184)-COUNTBLANK(D$3:D184),\"\"),\"\")","v":20},{"$f":"IF($C185=1,IF(WEEKDAY($K185)=E$1,1+COUNTA(E$3:E184)-COUNTBLANK(E$3:E184),\"\"),\"\")","v":""},{"$f":"IF($C185=1,IF(WEEKDAY($K185)=F$1,1+COUNTA(F$3:F184)-COUNTBLANK(F$3:F184),\"\"),\"\")","v":""},{"$f":"IF($C185=1,IF(WEEKDAY($K185)=G$1,1+COUNTA(G$3:G184)-COUNTBLANK(G$3:G184),\"\"),\"\")","v":""},{"$f":"IF($C185=1,IF(WEEKDAY($K185)=H$1,1+COUNTA(H$3:H184)-COUNTBLANK(H$3:H184),\"\"),\"\")","v":""},{"$f":"IF($C185=1,IF(WEEKDAY($K185)=I$1,1+COUNTA(I$3:I184)-COUNTBLANK(I$3:I184),\"\"),\"\")","v":""},{"$f":"IF($C185=1,IF(WEEKDAY($K185)=J$1,1+COUNTA(J$3:J184)-COUNTBLANK(J$3:J184),\"\"),\"\")","v":""},"2019-02-18"]
["2019-02-19",1,1,{"$f":"IF($C186=1,IF(WEEKDAY($K186)=D$1,1+COUNTA(D$3:D185)-COUNTBLANK(D$3:D185),\"\"),\"\")","v":""},{"$f":"IF($C186=1,IF(WEEKDAY($K186)=E$1,1+COUNTA(E$3:E185)-COUNTBLANK(E$3:E185),\"\"),\"\")","v":20},{"$f":"IF($C186=1,IF(WEEKDAY($K186)=F$1,1+COUNTA(F$3:F185)-COUNTBLANK(F$3:F185),\"\"),\"\")","v":""},{"$f":"IF($C186=1,IF(WEEKDAY($K186)=G$1,1+COUNTA(G$3:G185)-COUNTBLANK(G$3:G185),\"\"),\"\")","v":""},{"$f":"IF($C186=1,IF(WEEKDAY($K186)=H$1,1+COUNTA(H$3:H185)-COUNTBLANK(H$3:H185),\"\"),\"\")","v":""},{"$f":"IF($C186=1,IF(WEEKDAY($K186)=I$1,1+COUNTA(I$3:I185)-COUNTBLANK(I$3:I185),\"\"),\"\")","v":""},{"$f":"IF($C186=1,IF(WEEKDAY($K186)=J$1,1+COUNTA(J$3:J185)-COUNTBLANK(J$3:J185),\"\"),\"\")","v":""},"2019-02-19"]
["2019-02-20",1,1,{"$f":"IF($C187=1,IF(WEEKDAY($K187)=D$1,1+COUNTA(D$3:D186)-COUNTBLANK(D$3:D186),\"\"),\"\")","v":""},{"$f":"IF($C187=1,IF(WEEKDAY($K187)=E$1,1+COUNTA(E$3:E186)-COUNTBLANK(E$3:E186),\"\"),\"\")","v":""},{"$f":"IF($C187=1,IF(WEEKDAY($K187)=F$1,1+COUNTA(F$3:F186)-COUNTBLANK(F$3:F186),\"\"),\"\")","v":20},{"$f":"IF($C187=1,IF(WEEKDAY($K187)=G$1,1+COUNTA(G$3:G186)-COUNTBLANK(G$3:G186),\"\"),\"\")","v":""},{"$f":"IF($C187=1,IF(WEEKDAY($K187)=H$1,1+COUNTA(H$3:H186)-COUNTBLANK(H$3:H186),\"\"),\"\")","v":""},{"$f":"IF($C187=1,IF(WEEKDAY($K187)=I$1,1+COUNTA(I$3:I186)-COUNTBLANK(I$3:I186),\"\"),\"\")","v":""},{"$f":"IF($C187=1,IF(WEEKDAY($K187)=J$1,1+COUNTA(J$3:J186)-COUNTBLANK(J$3:J186),\"\"),\"\")","v":""},"2019-02-20"]
["2019-02-21",1,1,{"$f":"IF($C188=1,IF(WEEKDAY($K188)=D$1,1+COUNTA(D$3:D187)-COUNTBLANK(D$3:D187),\"\"),\"\")","v":""},{"$f":"IF($C188=1,IF(WEEKDAY($K188)=E$1,1+COUNTA(E$3:E187)-COUNTBLANK(E$3:E187),\"\"),\"\")","v":""},{"$f":"IF($C188=1,IF(WEEKDAY($K188)=F$1,1+COUNTA(F$3:F187)-COUNTBLANK(F$3:F187),\"\"),\"\")","v":""},{"$f":"IF($C188=1,IF(WEEKDAY($K188)=G$1,1+COUNTA(G$3:G187)-COUNTBLANK(G$3:G187),\"\"),\"\")","v":18},{"$f":"IF($C188=1,IF(WEEKDAY($K188)=H$1,1+COUNTA(H$3:H187)-COUNTBLANK(H$3:H187),\"\"),\"\")","v":""},{"$f":"IF($C188=1,IF(WEEKDAY($K188)=I$1,1+COUNTA(I$3:I187)-COUNTBLANK(I$3:I187),\"\"),\"\")","v":""},{"$f":"IF($C188=1,IF(WEEKDAY($K188)=J$1,1+COUNTA(J$3:J187)-COUNTBLANK(J$3:J187),\"\"),\"\")","v":""},"2019-02-21"]
["2019-02-22",1,1,{"$f":"IF($C189=1,IF(WEEKDAY($K189)=D$1,1+COUNTA(D$3:D188)-COUNTBLANK(D$3:D188),\"\"),\"\")","v":""},{"$f":"IF($C189=1,IF(WEEKDAY($K189)=E$1,1+COUNTA(E$3:E188)-COUNTBLANK(E$3:E188),\"\"),\"\")","v":""},{"$f":"IF($C189=1,IF(WEEKDAY($K189)=F$1,1+COUNTA(F$3:F188)-COUNTBLANK(F$3:F188),\"\"),\"\")","v":""},{"$f":"IF($C189=1,IF(WEEKDAY($K189)=G$1,1+COUNTA(G$3:G188)-COUNTBLANK(G$3:G188),\"\"),\"\")","v":""},{"$f":"IF($C189=1,IF(WEEKDAY($K189)=H$1,1+COUNTA(H$3:H188)-COUNTBLANK(H$3:H188),\"\"),\"\")","v":20},{"$f":"IF($C189=1,IF(WEEKDAY($K189)=I$1,1+COUNTA(I$3:I188)-COUNTBLANK(I$3:I188),\"\"),\"\")","v":""},{"$f":"IF($C189=1,IF(WEEKDAY($K189)=J$1,1+COUNTA(J$3:J188)-COUNTBLANK(J$3:J188),\"\"),\"\")","v":""},"2019-02-22"]
["2019-02-23",0,1,{"$f":"IF($C190=1,IF(WEEKDAY($K190)=D$1,1+COUNTA(D$3:D189)-COUNTBLANK(D$3:D189),\"\"),\"\")","v":""},{"$f":"IF($C190=1,IF(WEEKDAY($K190)=E$1,1+COUNTA(E$3:E189)-COUNTBLANK(E$3:E189),\"\"),\"\")","v":""},{"$f":"IF($C190=1,IF(WEEKDAY($K190)=F$1,1+COUNTA(F$3:F189)-COUNTBLANK(F$3:F189),\"\"),\"\")","v":""},{"$f":"IF($C190=1,IF(WEEKDAY($K190)=G$1,1+COUNTA(G$3:G189)-COUNTBLANK(G$3:G189),\"\"),\"\")","v":""},{"$f":"IF($C190=1,IF(WEEKDAY($K190)=H$1,1+COUNTA(H$3:H189)-COUNTBLANK(H$3:H189),\"\"),\"\")","v":""},{"$f":"IF($C190=1,IF(WEEKDAY($K190)=I$1,1+COUNTA(I$3:I189)-COUNTBLANK(I$3:I189),\"\"),\"\")","v":18},{"$f":"IF($C190=1,IF(WEEKDAY($K190)=J$1,1+COUNTA(J$3:J189)-COUNTBLANK(J$3:J189),\"\"),\"\")","v":""},"2019-02-23"]
["2019-02-24",0,1,{"$f":"IF($C191=1,IF(WEEKDAY($K191)=D$1,1+COUNTA(D$3:D190)-COUNTBLANK(D$3:D190),\"\"),\"\")","v":""},{"$f":"IF($C191=1,IF(WEEKDAY($K191)=E$1,1+COUNTA(E$3:E190)-COUNTBLANK(E$3:E190),\"\"),\"\")","v":""},{"$f":"IF($C191=1,IF(WEEKDAY($K191)=F$1,1+COUNTA(F$3:F190)-COUNTBLANK(F$3:F190),\"\"),\"\")","v":""},{"$f":"IF($C191=1,IF(WEEKDAY($K191)=G$1,1+COUNTA(G$3:G190)-COUNTBLANK(G$3:G190),\"\"),\"\")","v":""},{"$f":"IF($C191=1,IF(WEEKDAY($K191)=H$1,1+COUNTA(H$3:H190)-COUNTBLANK(H$3:H190),\"\"),\"\")","v":""},{"$f":"IF($C191=1,IF(WEEKDAY($K191)=I$1,1+COUNTA(I$3:I190)-COUNTBLANK(I$3:I190),\"\"),\"\")","v":""},{"$f":"IF($C191=1,IF(WEEKDAY($K191)=J$1,1+COUNTA(J$3:J190)-COUNTBLANK(J$3:J190),\"\"),\"\")","v":17},"2019-02-24"]
["2019-02-25",1,1,{"$f":"IF($C192=1,IF(WEEKDAY($K192)=D$1,1+COUNTA(D$3:D191)-COUNTBLANK(D$3:D191),\"\"),\"\")","v":21},{"$f":"IF($C192=1,IF(WEEKDAY($K192)=E$1,1+COUNTA(E$3:E191)-COUNTBLANK(E$3:E191),\"\"),\"\")","v":""},{"$f":"IF($C192=1,IF(WEEKDAY($K192)=F$1,1+COUNTA(F$3:F191)-COUNTBLANK(F$3:F191),\"\"),\"\")","v":""},{"$f":"IF($C192=1,IF(WEEKDAY($K192)=G$1,1+COUNTA(G$3:G191)-COUNTBLANK(G$3:G191),\"\"),\"\")","v":""},{"$f":"IF($C192=1,IF(WEEKDAY($K192)=H$1,1+COUNTA(H$3:H191)-COUNTBLANK(H$3:H191),\"\"),\"\")","v":""},{"$f":"IF($C192=1,IF(WEEKDAY($K192)=I$1,1+COUNTA(I$3:I191)-COUNTBLANK(I$3:I191),\"\"),\"\")","v":""},{"$f":"IF($C192=1,IF(WEEKDAY($K192)=J$1,1+COUNTA(J$3:J191)-COUNTBLANK(J$3:J191),\"\"),\"\")","v":""},"2019-02-25"]
["2019-02-26",1,1,{"$f":"IF($C193=1,IF(WEEKDAY($K193)=D$1,1+COUNTA(D$3:D192)-COUNTBLANK(D$3:D192),\"\"),\"\")","v":""},{"$f":"IF($C193=1,IF(WEEKDAY($K193)=E$1,1+COUNTA(E$3:E192)-COUNTBLANK(E$3:E192),\"\"),\"\")","v":21},{"$f":"IF($C193=1,IF(WEEKDAY($K193)=F$1,1+COUNTA(F$3:F192)-COUNTBLANK(F$3:F192),\"\"),\"\")","v":""},{"$f":"IF($C193=1,IF(WEEKDAY($K193)=G$1,1+COUNTA(G$3:G192)-COUNTBLANK(G$3:G192),\"\"),\"\")","v":""},{"$f":"IF($C193=1,IF(WEEKDAY($K193)=H$1,1+COUNTA(H$3:H192)-COUNTBLANK(H$3:H192),\"\"),\"\")","v":""},{"$f":"IF($C193=1,IF(WEEKDAY($K193)=I$1,1+COUNTA(I$3:I192)-COUNTBLANK(I$3:I192),\"\"),\"\")","v":""},{"$f":"IF($C193=1,IF(WEEKDAY($K193)=J$1,1+COUNTA(J$3:J192)-COUNTBLANK(J$3:J192),\"\"),\"\")","v":""},"2019-02-26"]
["2019-02-27",1,1,{"$f":"IF($C194=1,IF(WEEKDAY($K194)=D$1,1+COUNTA(D$3:D193)-COUNTBLANK(D$3:D193),\"\"),\"\")","v":""},{"$f":"IF($C194=1,IF(WEEKDAY($K194)=E$1,1+COUNTA(E$3:E193)-COUNTBLANK(E$3:E193),\"\"),\"\")","v":""},{"$f":"IF($C194=1,IF(WEEKDAY($K194)=F$1,1+COUNTA(F$3:F193)-COUNTBLANK(F$3:F193),\"\"),\"\")","v":21},{"$f":"IF($C194=1,IF(WEEKDAY($K194)=G$1,1+COUNTA(G$3:G193)-COUNTBLANK(G$3:G193),\"\"),\"\")","v":""},{"$f":"IF($C194=1,IF(WEEKDAY($K194)=H$1,1+COUNTA(H$3:H193)-COUNTBLANK(H$3:H193),\"\"),\"\")","v":""},{"$f":"IF($C194=1,IF(WEEKDAY($K194)=I$1,1+COUNTA(I$3:I193)-COUNTBLANK(I$3:I193),\"\"),\"\")","v":""},{"$f":"IF($C194=1,IF(WEEKDAY($K194)=J$1,1+COUNTA(J$3:J193)-COUNTBLANK(J$3:J193),\"\"),\"\")","v":""},"2019-02-27"]
["2019-02-28",{"$f":"IF(SUM(D195:J195)>0.5,IF(SUM(I195:J195)=0,1,0),0)","v":1},{"$f":"IF(OR(K195=L$15,K195=L$16,K195=L$17,K195=L$18,K195=L$19,K195=L$20,K195=L$21,K195=L$22,K195=L$23,K195=L$24,K195=L$25,K195=L$26,K195=L$27,K195=L$28),0,IF(K195<L$7,1,IF(AND(K195>M$7,K195<L$8),1,IF(AND(K195>M$8,K195<L$9),1,IF(AND(K195>M$9,K195<L$10),1,IF(AND(K195>M$10,K195<L$11),1,IF(AND(K195>M$11),1,0)))))))","v":1},{"$f":"IF($C195=1,IF(WEEKDAY($K195)=D$1,1+COUNTA(D$3:D194)-COUNTBLANK(D$3:D194),\"\"),\"\")","v":""},{"$f":"IF($C195=1,IF(WEEKDAY($K195)=E$1,1+COUNTA(E$3:E194)-COUNTBLANK(E$3:E194),\"\"),\"\")","v":""},{"$f":"IF($C195=1,IF(WEEKDAY($K195)=F$1,1+COUNTA(F$3:F194)-COUNTBLANK(F$3:F194),\"\"),\"\")","v":""},{"$f":"IF($C195=1,IF(WEEKDAY($K195)=G$1,1+COUNTA(G$3:G194)-COUNTBLANK(G$3:G194),\"\"),\"\")","v":19},{"$f":"IF($C195=1,IF(WEEKDAY($K195)=H$1,1+COUNTA(H$3:H194)-COUNTBLANK(H$3:H194),\"\"),\"\")","v":""},{"$f":"IF($C195=1,IF(WEEKDAY($K195)=I$1,1+COUNTA(I$3:I194)-COUNTBLANK(I$3:I194),\"\"),\"\")","v":""},{"$f":"IF($C195=1,IF(WEEKDAY($K195)=J$1,1+COUNTA(J$3:J194)-COUNTBLANK(J$3:J194),\"\"),\"\")","v":""},"2019-02-28"]
[{"$f":"K196","v":"2019-03-01"},1,1,{"$f":"IF($C196=1,IF(WEEKDAY($K196)=D$1,1+COUNTA(D$3:D195)-COUNTBLANK(D$3:D195),\"\"),\"\")","v":""},{"$f":"IF($C196=1,IF(WEEKDAY($K196)=E$1,1+COUNTA(E$3:E195)-COUNTBLANK(E$3:E195),\"\"),\"\")","v":""},{"$f":"IF($C196=1,IF(WEEKDAY($K196)=F$1,1+COUNTA(F$3:F195)-COUNTBLANK(F$3:F195),\"\"),\"\")","v":""},{"$f":"IF($C196=1,IF(WEEKDAY($K196)=G$1,1+COUNTA(G$3:G195)-COUNTBLANK(G$3:G195),\"\"),\"\")","v":""},{"$f":"IF($C196=1,IF(WEEKDAY($K196)=H$1,1+COUNTA(H$3:H195)-COUNTBLANK(H$3:H195),\"\"),\"\")","v":21},{"$f":"IF($C196=1,IF(WEEKDAY($K196)=I$1,1+COUNTA(I$3:I195)-COUNTBLANK(I$3:I195),\"\"),\"\")","v":""},{"$f":"IF($C196=1,IF(WEEKDAY($K196)=J$1,1+COUNTA(J$3:J195)-COUNTBLANK(J$3:J195),\"\"),\"\")","v":""},{"$f":"1+K195","v":"2019-03-01"}]
["2019-03-02",0,1,{"$f":"IF($C197=1,IF(WEEKDAY($K197)=D$1,1+COUNTA(D$3:D196)-COUNTBLANK(D$3:D196),\"\"),\"\")","v":""},{"$f":"IF($C197=1,IF(WEEKDAY($K197)=E$1,1+COUNTA(E$3:E196)-COUNTBLANK(E$3:E196),\"\"),\"\")","v":""},{"$f":"IF($C197=1,IF(WEEKDAY($K197)=F$1,1+COUNTA(F$3:F196)-COUNTBLANK(F$3:F196),\"\"),\"\")","v":""},{"$f":"IF($C197=1,IF(WEEKDAY($K197)=G$1,1+COUNTA(G$3:G196)-COUNTBLANK(G$3:G196),\"\"),\"\")","v":""},{"$f":"IF($C197=1,IF(WEEKDAY($K197)=H$1,1+COUNTA(H$3:H196)-COUNTBLANK(H$3:H196),\"\"),\"\")","v":""},{"$f":"IF($C197=1,IF(WEEKDAY($K197)=I$1,1+COUNTA(I$3:I196)-COUNTBLANK(I$3:I196),\"\"),\"\")","v":19},{"$f":"IF($C197=1,IF(WEEKDAY($K197)=J$1,1+COUNTA(J$3:J196)-COUNTBLANK(J$3:J196),\"\"),\"\")","v":""},"2019-03-02"]
["2019-03-03",0,1,{"$f":"IF($C198=1,IF(WEEKDAY($K198)=D$1,1+COUNTA(D$3:D197)-COUNTBLANK(D$3:D197),\"\"),\"\")","v":""},{"$f":"IF($C198=1,IF(WEEKDAY($K198)=E$1,1+COUNTA(E$3:E197)-COUNTBLANK(E$3:E197),\"\"),\"\")","v":""},{"$f":"IF($C198=1,IF(WEEKDAY($K198)=F$1,1+COUNTA(F$3:F197)-COUNTBLANK(F$3:F197),\"\"),\"\")","v":""},{"$f":"IF($C198=1,IF(WEEKDAY($K198)=G$1,1+COUNTA(G$3:G197)-COUNTBLANK(G$3:G197),\"\"),\"\")","v":""},{"$f":"IF($C198=1,IF(WEEKDAY($K198)=H$1,1+COUNTA(H$3:H197)-COUNTBLANK(H$3:H197),\"\"),\"\")","v":""},{"$f":"IF($C198=1,IF(WEEKDAY($K198)=I$1,1+COUNTA(I$3:I197)-COUNTBLANK(I$3:I197),\"\"),\"\")","v":""},{"$f":"IF($C198=1,IF(WEEKDAY($K198)=J$1,1+COUNTA(J$3:J197)-COUNTBLANK(J$3:J197),\"\"),\"\")","v":18},"2019-03-03"]
["2019-03-04",1,1,{"$f":"IF($C199=1,IF(WEEKDAY($K199)=D$1,1+COUNTA(D$3:D198)-COUNTBLANK(D$3:D198),\"\"),\"\")","v":22},{"$f":"IF($C199=1,IF(WEEKDAY($K199)=E$1,1+COUNTA(E$3:E198)-COUNTBLANK(E$3:E198),\"\"),\"\")","v":""},{"$f":"IF($C199=1,IF(WEEKDAY($K199)=F$1,1+COUNTA(F$3:F198)-COUNTBLANK(F$3:F198),\"\"),\"\")","v":""},{"$f":"IF($C199=1,IF(WEEKDAY($K199)=G$1,1+COUNTA(G$3:G198)-COUNTBLANK(G$3:G198),\"\"),\"\")","v":""},{"$f":"IF($C199=1,IF(WEEKDAY($K199)=H$1,1+COUNTA(H$3:H198)-COUNTBLANK(H$3:H198),\"\"),\"\")","v":""},{"$f":"IF($C199=1,IF(WEEKDAY($K199)=I$1,1+COUNTA(I$3:I198)-COUNTBLANK(I$3:I198),\"\"),\"\")","v":""},{"$f":"IF($C199=1,IF(WEEKDAY($K199)=J$1,1+COUNTA(J$3:J198)-COUNTBLANK(J$3:J198),\"\"),\"\")","v":""},"2019-03-04"]
["2019-03-05",1,1,{"$f":"IF($C200=1,IF(WEEKDAY($K200)=D$1,1+COUNTA(D$3:D199)-COUNTBLANK(D$3:D199),\"\"),\"\")","v":""},{"$f":"IF($C200=1,IF(WEEKDAY($K200)=E$1,1+COUNTA(E$3:E199)-COUNTBLANK(E$3:E199),\"\"),\"\")","v":22},{"$f":"IF($C200=1,IF(WEEKDAY($K200)=F$1,1+COUNTA(F$3:F199)-COUNTBLANK(F$3:F199),\"\"),\"\")","v":""},{"$f":"IF($C200=1,IF(WEEKDAY($K200)=G$1,1+COUNTA(G$3:G199)-COUNTBLANK(G$3:G199),\"\"),\"\")","v":""},{"$f":"IF($C200=1,IF(WEEKDAY($K200)=H$1,1+COUNTA(H$3:H199)-COUNTBLANK(H$3:H199),\"\"),\"\")","v":""},{"$f":"IF($C200=1,IF(WEEKDAY($K200)=I$1,1+COUNTA(I$3:I199)-COUNTBLANK(I$3:I199),\"\"),\"\")","v":""},{"$f":"IF($C200=1,IF(WEEKDAY($K200)=J$1,1+COUNTA(J$3:J199)-COUNTBLANK(J$3:J199),\"\"),\"\")","v":""},"2019-03-05"]
["2019-03-06",1,1,{"$f":"IF($C201=1,IF(WEEKDAY($K201)=D$1,1+COUNTA(D$3:D200)-COUNTBLANK(D$3:D200),\"\"),\"\")","v":""},{"$f":"IF($C201=1,IF(WEEKDAY($K201)=E$1,1+COUNTA(E$3:E200)-COUNTBLANK(E$3:E200),\"\"),\"\")","v":""},{"$f":"IF($C201=1,IF(WEEKDAY($K201)=F$1,1+COUNTA(F$3:F200)-COUNTBLANK(F$3:F200),\"\"),\"\")","v":22},{"$f":"IF($C201=1,IF(WEEKDAY($K201)=G$1,1+COUNTA(G$3:G200)-COUNTBLANK(G$3:G200),\"\"),\"\")","v":""},{"$f":"IF($C201=1,IF(WEEKDAY($K201)=H$1,1+COUNTA(H$3:H200)-COUNTBLANK(H$3:H200),\"\"),\"\")","v":""},{"$f":"IF($C201=1,IF(WEEKDAY($K201)=I$1,1+COUNTA(I$3:I200)-COUNTBLANK(I$3:I200),\"\"),\"\")","v":""},{"$f":"IF($C201=1,IF(WEEKDAY($K201)=J$1,1+COUNTA(J$3:J200)-COUNTBLANK(J$3:J200),\"\"),\"\")","v":""},"2019-03-06"]
["2019-03-07",1,1,{"$f":"IF($C202=1,IF(WEEKDAY($K202)=D$1,1+COUNTA(D$3:D201)-COUNTBLANK(D$3:D201),\"\"),\"\")","v":""},{"$f":"IF($C202=1,IF(WEEKDAY($K202)=E$1,1+COUNTA(E$3:E201)-COUNTBLANK(E$3:E201),\"\"),\"\")","v":""},{"$f":"IF($C202=1,IF(WEEKDAY($K202)=F$1,1+COUNTA(F$3:F201)-COUNTBLANK(F$3:F201),\"\"),\"\")","v":""},{"$f":"IF($C202=1,IF(WEEKDAY($K202)=G$1,1+COUNTA(G$3:G201)-COUNTBLANK(G$3:G201),\"\"),\"\")","v":20},{"$f":"IF($C202=1,IF(WEEKDAY($K202)=H$1,1+COUNTA(H$3:H201)-COUNTBLANK(H$3:H201),\"\"),\"\")","v":""},{"$f":"IF($C202=1,IF(WEEKDAY($K202)=I$1,1+COUNTA(I$3:I201)-COUNTBLANK(I$3:I201),\"\"),\"\")","v":""},{"$f":"IF($C202=1,IF(WEEKDAY($K202)=J$1,1+COUNTA(J$3:J201)-COUNTBLANK(J$3:J201),\"\"),\"\")","v":""},"2019-03-07"]
["2019-03-08",1,1,{"$f":"IF($C203=1,IF(WEEKDAY($K203)=D$1,1+COUNTA(D$3:D202)-COUNTBLANK(D$3:D202),\"\"),\"\")","v":""},{"$f":"IF($C203=1,IF(WEEKDAY($K203)=E$1,1+COUNTA(E$3:E202)-COUNTBLANK(E$3:E202),\"\"),\"\")","v":""},{"$f":"IF($C203=1,IF(WEEKDAY($K203)=F$1,1+COUNTA(F$3:F202)-COUNTBLANK(F$3:F202),\"\"),\"\")","v":""},{"$f":"IF($C203=1,IF(WEEKDAY($K203)=G$1,1+COUNTA(G$3:G202)-COUNTBLANK(G$3:G202),\"\"),\"\")","v":""},{"$f":"IF($C203=1,IF(WEEKDAY($K203)=H$1,1+COUNTA(H$3:H202)-COUNTBLANK(H$3:H202),\"\"),\"\")","v":22},{"$f":"IF($C203=1,IF(WEEKDAY($K203)=I$1,1+COUNTA(I$3:I202)-COUNTBLANK(I$3:I202),\"\"),\"\")","v":""},{"$f":"IF($C203=1,IF(WEEKDAY($K203)=J$1,1+COUNTA(J$3:J202)-COUNTBLANK(J$3:J202),\"\"),\"\")","v":""},"2019-03-08"]
["2019-03-09",0,0,{"$f":"IF($C204=1,IF(WEEKDAY($K204)=D$1,1+COUNTA(D$3:D203)-COUNTBLANK(D$3:D203),\"\"),\"\")","v":""},{"$f":"IF($C204=1,IF(WEEKDAY($K204)=E$1,1+COUNTA(E$3:E203)-COUNTBLANK(E$3:E203),\"\"),\"\")","v":""},{"$f":"IF($C204=1,IF(WEEKDAY($K204)=F$1,1+COUNTA(F$3:F203)-COUNTBLANK(F$3:F203),\"\"),\"\")","v":""},{"$f":"IF($C204=1,IF(WEEKDAY($K204)=G$1,1+COUNTA(G$3:G203)-COUNTBLANK(G$3:G203),\"\"),\"\")","v":""},{"$f":"IF($C204=1,IF(WEEKDAY($K204)=H$1,1+COUNTA(H$3:H203)-COUNTBLANK(H$3:H203),\"\"),\"\")","v":""},{"$f":"IF($C204=1,IF(WEEKDAY($K204)=I$1,1+COUNTA(I$3:I203)-COUNTBLANK(I$3:I203),\"\"),\"\")","v":""},{"$f":"IF($C204=1,IF(WEEKDAY($K204)=J$1,1+COUNTA(J$3:J203)-COUNTBLANK(J$3:J203),\"\"),\"\")","v":""},"2019-03-09"]
["2019-03-10",0,0,{"$f":"IF($C205=1,IF(WEEKDAY($K205)=D$1,1+COUNTA(D$3:D204)-COUNTBLANK(D$3:D204),\"\"),\"\")","v":""},{"$f":"IF($C205=1,IF(WEEKDAY($K205)=E$1,1+COUNTA(E$3:E204)-COUNTBLANK(E$3:E204),\"\"),\"\")","v":""},{"$f":"IF($C205=1,IF(WEEKDAY($K205)=F$1,1+COUNTA(F$3:F204)-COUNTBLANK(F$3:F204),\"\"),\"\")","v":""},{"$f":"IF($C205=1,IF(WEEKDAY($K205)=G$1,1+COUNTA(G$3:G204)-COUNTBLANK(G$3:G204),\"\"),\"\")","v":""},{"$f":"IF($C205=1,IF(WEEKDAY($K205)=H$1,1+COUNTA(H$3:H204)-COUNTBLANK(H$3:H204),\"\"),\"\")","v":""},{"$f":"IF($C205=1,IF(WEEKDAY($K205)=I$1,1+COUNTA(I$3:I204)-COUNTBLANK(I$3:I204),\"\"),\"\")","v":""},{"$f":"IF($C205=1,IF(WEEKDAY($K205)=J$1,1+COUNTA(J$3:J204)-COUNTBLANK(J$3:J204),\"\"),\"\")","v":""},"2019-03-10"]
["2019-03-11",0,0,{"$f":"IF($C206=1,IF(WEEKDAY($K206)=D$1,1+COUNTA(D$3:D205)-COUNTBLANK(D$3:D205),\"\"),\"\")","v":""},{"$f":"IF($C206=1,IF(WEEKDAY($K206)=E$1,1+COUNTA(E$3:E205)-COUNTBLANK(E$3:E205),\"\"),\"\")","v":""},{"$f":"IF($C206=1,IF(WEEKDAY($K206)=F$1,1+COUNTA(F$3:F205)-COUNTBLANK(F$3:F205),\"\"),\"\")","v":""},{"$f":"IF($C206=1,IF(WEEKDAY($K206)=G$1,1+COUNTA(G$3:G205)-COUNTBLANK(G$3:G205),\"\"),\"\")","v":""},{"$f":"IF($C206=1,IF(WEEKDAY($K206)=H$1,1+COUNTA(H$3:H205)-COUNTBLANK(H$3:H205),\"\"),\"\")","v":""},{"$f":"IF($C206=1,IF(WEEKDAY($K206)=I$1,1+COUNTA(I$3:I205)-COUNTBLANK(I$3:I205),\"\"),\"\")","v":""},{"$f":"IF($C206=1,IF(WEEKDAY($K206)=J$1,1+COUNTA(J$3:J205)-COUNTBLANK(J$3:J205),\"\"),\"\")","v":""},"2019-03-11"]
["2019-03-12",0,0,{"$f":"IF($C207=1,IF(WEEKDAY($K207)=D$1,1+COUNTA(D$3:D206)-COUNTBLANK(D$3:D206),\"\"),\"\")","v":""},{"$f":"IF($C207=1,IF(WEEKDAY($K207)=E$1,1+COUNTA(E$3:E206)-COUNTBLANK(E$3:E206),\"\"),\"\")","v":""},{"$f":"IF($C207=1,IF(WEEKDAY($K207)=F$1,1+COUNTA(F$3:F206)-COUNTBLANK(F$3:F206),\"\"),\"\")","v":""},{"$f":"IF($C207=1,IF(WEEKDAY($K207)=G$1,1+COUNTA(G$3:G206)-COUNTBLANK(G$3:G206),\"\"),\"\")","v":""},{"$f":"IF($C207=1,IF(WEEKDAY($K207)=H$1,1+COUNTA(H$3:H206)-COUNTBLANK(H$3:H206),\"\"),\"\")","v":""},{"$f":"IF($C207=1,IF(WEEKDAY($K207)=I$1,1+COUNTA(I$3:I206)-COUNTBLANK(I$3:I206),\"\"),\"\")","v":""},{"$f":"IF($C207=1,IF(WEEKDAY($K207)=J$1,1+COUNTA(J$3:J206)-COUNTBLANK(J$3:J206),\"\"),\"\")","v":""},"2019-03-12"]
["2019-03-13",0,0,{"$f":"IF($C208=1,IF(WEEKDAY($K208)=D$1,1+COUNTA(D$3:D207)-COUNTBLANK(D$3:D207),\"\"),\"\")","v":""},{"$f":"IF($C208=1,IF(WEEKDAY($K208)=E$1,1+COUNTA(E$3:E207)-COUNTBLANK(E$3:E207),\"\"),\"\")","v":""},{"$f":"IF($C208=1,IF(WEEKDAY($K208)=F$1,1+COUNTA(F$3:F207)-COUNTBLANK(F$3:F207),\"\"),\"\")","v":""},{"$f":"IF($C208=1,IF(WEEKDAY($K208)=G$1,1+COUNTA(G$3:G207)-COUNTBLANK(G$3:G207),\"\"),\"\")","v":""},{"$f":"IF($C208=1,IF(WEEKDAY($K208)=H$1,1+COUNTA(H$3:H207)-COUNTBLANK(H$3:H207),\"\"),\"\")","v":""},{"$f":"IF($C208=1,IF(WEEKDAY($K208)=I$1,1+COUNTA(I$3:I207)-COUNTBLANK(I$3:I207),\"\"),\"\")","v":""},{"$f":"IF($C208=1,IF(WEEKDAY($K208)=J$1,1+COUNTA(J$3:J207)-COUNTBLANK(J$3:J207),\"\"),\"\")","v":""},"2019-03-13"]
["2019-03-14",0,0,{"$f":"IF($C209=1,IF(WEEKDAY($K209)=D$1,1+COUNTA(D$3:D208)-COUNTBLANK(D$3:D208),\"\"),\"\")","v":""},{"$f":"IF($C209=1,IF(WEEKDAY($K209)=E$1,1+COUNTA(E$3:E208)-COUNTBLANK(E$3:E208),\"\"),\"\")","v":""},{"$f":"IF($C209=1,IF(WEEKDAY($K209)=F$1,1+COUNTA(F$3:F208)-COUNTBLANK(F$3:F208),\"\"),\"\")","v":""},{"$f":"IF($C209=1,IF(WEEKDAY($K209)=G$1,1+COUNTA(G$3:G208)-COUNTBLANK(G$3:G208),\"\"),\"\")","v":""},{"$f":"IF($C209=1,IF(WEEKDAY($K209)=H$1,1+COUNTA(H$3:H208)-COUNTBLANK(H$3:H208),\"\"),\"\")","v":""},{"$f":"IF($C209=1,IF(WEEKDAY($K209)=I$1,1+COUNTA(I$3:I208)-COUNTBLANK(I$3:I208),\"\"),\"\")","v":""},{"$f":"IF($C209=1,IF(WEEKDAY($K209)=J$1,1+COUNTA(J$3:J208)-COUNTBLANK(J$3:J208),\"\"),\"\")","v":""},"2019-03-14"]
["2019-03-15",0,0,{"$f":"IF($C210=1,IF(WEEKDAY($K210)=D$1,1+COUNTA(D$3:D209)-COUNTBLANK(D$3:D209),\"\"),\"\")","v":""},{"$f":"IF($C210=1,IF(WEEKDAY($K210)=E$1,1+COUNTA(E$3:E209)-COUNTBLANK(E$3:E209),\"\"),\"\")","v":""},{"$f":"IF($C210=1,IF(WEEKDAY($K210)=F$1,1+COUNTA(F$3:F209)-COUNTBLANK(F$3:F209),\"\"),\"\")","v":""},{"$f":"IF($C210=1,IF(WEEKDAY($K210)=G$1,1+COUNTA(G$3:G209)-COUNTBLANK(G$3:G209),\"\"),\"\")","v":""},{"$f":"IF($C210=1,IF(WEEKDAY($K210)=H$1,1+COUNTA(H$3:H209)-COUNTBLANK(H$3:H209),\"\"),\"\")","v":""},{"$f":"IF($C210=1,IF(WEEKDAY($K210)=I$1,1+COUNTA(I$3:I209)-COUNTBLANK(I$3:I209),\"\"),\"\")","v":""},{"$f":"IF($C210=1,IF(WEEKDAY($K210)=J$1,1+COUNTA(J$3:J209)-COUNTBLANK(J$3:J209),\"\"),\"\")","v":""},"2019-03-15"]
["2019-03-16",0,0,{"$f":"IF($C211=1,IF(WEEKDAY($K211)=D$1,1+COUNTA(D$3:D210)-COUNTBLANK(D$3:D210),\"\"),\"\")","v":""},{"$f":"IF($C211=1,IF(WEEKDAY($K211)=E$1,1+COUNTA(E$3:E210)-COUNTBLANK(E$3:E210),\"\"),\"\")","v":""},{"$f":"IF($C211=1,IF(WEEKDAY($K211)=F$1,1+COUNTA(F$3:F210)-COUNTBLANK(F$3:F210),\"\"),\"\")","v":""},{"$f":"IF($C211=1,IF(WEEKDAY($K211)=G$1,1+COUNTA(G$3:G210)-COUNTBLANK(G$3:G210),\"\"),\"\")","v":""},{"$f":"IF($C211=1,IF(WEEKDAY($K211)=H$1,1+COUNTA(H$3:H210)-COUNTBLANK(H$3:H210),\"\"),\"\")","v":""},{"$f":"IF($C211=1,IF(WEEKDAY($K211)=I$1,1+COUNTA(I$3:I210)-COUNTBLANK(I$3:I210),\"\"),\"\")","v":""},{"$f":"IF($C211=1,IF(WEEKDAY($K211)=J$1,1+COUNTA(J$3:J210)-COUNTBLANK(J$3:J210),\"\"),\"\")","v":""},"2019-03-16"]
["2019-03-17",0,0,{"$f":"IF($C212=1,IF(WEEKDAY($K212)=D$1,1+COUNTA(D$3:D211)-COUNTBLANK(D$3:D211),\"\"),\"\")","v":""},{"$f":"IF($C212=1,IF(WEEKDAY($K212)=E$1,1+COUNTA(E$3:E211)-COUNTBLANK(E$3:E211),\"\"),\"\")","v":""},{"$f":"IF($C212=1,IF(WEEKDAY($K212)=F$1,1+COUNTA(F$3:F211)-COUNTBLANK(F$3:F211),\"\"),\"\")","v":""},{"$f":"IF($C212=1,IF(WEEKDAY($K212)=G$1,1+COUNTA(G$3:G211)-COUNTBLANK(G$3:G211),\"\"),\"\")","v":""},{"$f":"IF($C212=1,IF(WEEKDAY($K212)=H$1,1+COUNTA(H$3:H211)-COUNTBLANK(H$3:H211),\"\"),\"\")","v":""},{"$f":"IF($C212=1,IF(WEEKDAY($K212)=I$1,1+COUNTA(I$3:I211)-COUNTBLANK(I$3:I211),\"\"),\"\")","v":""},{"$f":"IF($C212=1,IF(WEEKDAY($K212)=J$1,1+COUNTA(J$3:J211)-COUNTBLANK(J$3:J211),\"\"),\"\")","v":""},"2019-03-17"]
["2019-03-18",0,0,{"$f":"IF($C213=1,IF(WEEKDAY($K213)=D$1,1+COUNTA(D$3:D212)-COUNTBLANK(D$3:D212),\"\"),\"\")","v":""},{"$f":"IF($C213=1,IF(WEEKDAY($K213)=E$1,1+COUNTA(E$3:E212)-COUNTBLANK(E$3:E212),\"\"),\"\")","v":""},{"$f":"IF($C213=1,IF(WEEKDAY($K213)=F$1,1+COUNTA(F$3:F212)-COUNTBLANK(F$3:F212),\"\"),\"\")","v":""},{"$f":"IF($C213=1,IF(WEEKDAY($K213)=G$1,1+COUNTA(G$3:G212)-COUNTBLANK(G$3:G212),\"\"),\"\")","v":""},{"$f":"IF($C213=1,IF(WEEKDAY($K213)=H$1,1+COUNTA(H$3:H212)-COUNTBLANK(H$3:H212),\"\"),\"\")","v":""},{"$f":"IF($C213=1,IF(WEEKDAY($K213)=I$1,1+COUNTA(I$3:I212)-COUNTBLANK(I$3:I212),\"\"),\"\")","v":""},{"$f":"IF($C213=1,IF(WEEKDAY($K213)=J$1,1+COUNTA(J$3:J212)-COUNTBLANK(J$3:J212),\"\"),\"\")","v":""},"2019-03-18"]
["2019-03-19",0,0,{"$f":"IF($C214=1,IF(WEEKDAY($K214)=D$1,1+COUNTA(D$3:D213)-COUNTBLANK(D$3:D213),\"\"),\"\")","v":""},{"$f":"IF($C214=1,IF(WEEKDAY($K214)=E$1,1+COUNTA(E$3:E213)-COUNTBLANK(E$3:E213),\"\"),\"\")","v":""},{"$f":"IF($C214=1,IF(WEEKDAY($K214)=F$1,1+COUNTA(F$3:F213)-COUNTBLANK(F$3:F213),\"\"),\"\")","v":""},{"$f":"IF($C214=1,IF(WEEKDAY($K214)=G$1,1+COUNTA(G$3:G213)-COUNTBLANK(G$3:G213),\"\"),\"\")","v":""},{"$f":"IF($C214=1,IF(WEEKDAY($K214)=H$1,1+COUNTA(H$3:H213)-COUNTBLANK(H$3:H213),\"\"),\"\")","v":""},{"$f":"IF($C214=1,IF(WEEKDAY($K214)=I$1,1+COUNTA(I$3:I213)-COUNTBLANK(I$3:I213),\"\"),\"\")","v":""},{"$f":"IF($C214=1,IF(WEEKDAY($K214)=J$1,1+COUNTA(J$3:J213)-COUNTBLANK(J$3:J213),\"\"),\"\")","v":""},"2019-03-19"]
["2019-03-20",0,0,{"$f":"IF($C215=1,IF(WEEKDAY($K215)=D$1,1+COUNTA(D$3:D214)-COUNTBLANK(D$3:D214),\"\"),\"\")","v":""},{"$f":"IF($C215=1,IF(WEEKDAY($K215)=E$1,1+COUNTA(E$3:E214)-COUNTBLANK(E$3:E214),\"\"),\"\")","v":""},{"$f":"IF($C215=1,IF(WEEKDAY($K215)=F$1,1+COUNTA(F$3:F214)-COUNTBLANK(F$3:F214),\"\"),\"\")","v":""},{"$f":"IF($C215=1,IF(WEEKDAY($K215)=G$1,1+COUNTA(G$3:G214)-COUNTBLANK(G$3:G214),\"\"),\"\")","v":""},{"$f":"IF($C215=1,IF(WEEKDAY($K215)=H$1,1+COUNTA(H$3:H214)-COUNTBLANK(H$3:H214),\"\"),\"\")","v":""},{"$f":"IF($C215=1,IF(WEEKDAY($K215)=I$1,1+COUNTA(I$3:I214)-COUNTBLANK(I$3:I214),\"\"),\"\")","v":""},{"$f":"IF($C215=1,IF(WEEKDAY($K215)=J$1,1+COUNTA(J$3:J214)-COUNTBLANK(J$3:J214),\"\"),\"\")","v":""},"2019-03-20"]
["2019-03-21",0,0,{"$f":"IF($C216=1,IF(WEEKDAY($K216)=D$1,1+COUNTA(D$3:D215)-COUNTBLANK(D$3:D215),\"\"),\"\")","v":""},{"$f":"IF($C216=1,IF(WEEKDAY($K216)=E$1,1+COUNTA(E$3:E215)-COUNTBLANK(E$3:E215),\"\"),\"\")","v":""},{"$f":"IF($C216=1,IF(WEEKDAY($K216)=F$1,1+COUNTA(F$3:F215)-COUNTBLANK(F$3:F215),\"\"),\"\")","v":""},{"$f":"IF($C216=1,IF(WEEKDAY($K216)=G$1,1+COUNTA(G$3:G215)-COUNTBLANK(G$3:G215),\"\"),\"\")","v":""},{"$f":"IF($C216=1,IF(WEEKDAY($K216)=H$1,1+COUNTA(H$3:H215)-COUNTBLANK(H$3:H215),\"\"),\"\")","v":""},{"$f":"IF($C216=1,IF(WEEKDAY($K216)=I$1,1+COUNTA(I$3:I215)-COUNTBLANK(I$3:I215),\"\"),\"\")","v":""},{"$f":"IF($C216=1,IF(WEEKDAY($K216)=J$1,1+COUNTA(J$3:J215)-COUNTBLANK(J$3:J215),\"\"),\"\")","v":""},"2019-03-21"]
["2019-03-22",0,0,{"$f":"IF($C217=1,IF(WEEKDAY($K217)=D$1,1+COUNTA(D$3:D216)-COUNTBLANK(D$3:D216),\"\"),\"\")","v":""},{"$f":"IF($C217=1,IF(WEEKDAY($K217)=E$1,1+COUNTA(E$3:E216)-COUNTBLANK(E$3:E216),\"\"),\"\")","v":""},{"$f":"IF($C217=1,IF(WEEKDAY($K217)=F$1,1+COUNTA(F$3:F216)-COUNTBLANK(F$3:F216),\"\"),\"\")","v":""},{"$f":"IF($C217=1,IF(WEEKDAY($K217)=G$1,1+COUNTA(G$3:G216)-COUNTBLANK(G$3:G216),\"\"),\"\")","v":""},{"$f":"IF($C217=1,IF(WEEKDAY($K217)=H$1,1+COUNTA(H$3:H216)-COUNTBLANK(H$3:H216),\"\"),\"\")","v":""},{"$f":"IF($C217=1,IF(WEEKDAY($K217)=I$1,1+COUNTA(I$3:I216)-COUNTBLANK(I$3:I216),\"\"),\"\")","v":""},{"$f":"IF($C217=1,IF(WEEKDAY($K217)=J$1,1+COUNTA(J$3:J216)-COUNTBLANK(J$3:J216),\"\"),\"\")","v":""},"2019-03-22"]
["2019-03-23",0,0,{"$f":"IF($C218=1,IF(WEEKDAY($K218)=D$1,1+COUNTA(D$3:D217)-COUNTBLANK(D$3:D217),\"\"),\"\")","v":""},{"$f":"IF($C218=1,IF(WEEKDAY($K218)=E$1,1+COUNTA(E$3:E217)-COUNTBLANK(E$3:E217),\"\"),\"\")","v":""},{"$f":"IF($C218=1,IF(WEEKDAY($K218)=F$1,1+COUNTA(F$3:F217)-COUNTBLANK(F$3:F217),\"\"),\"\")","v":""},{"$f":"IF($C218=1,IF(WEEKDAY($K218)=G$1,1+COUNTA(G$3:G217)-COUNTBLANK(G$3:G217),\"\"),\"\")","v":""},{"$f":"IF($C218=1,IF(WEEKDAY($K218)=H$1,1+COUNTA(H$3:H217)-COUNTBLANK(H$3:H217),\"\"),\"\")","v":""},{"$f":"IF($C218=1,IF(WEEKDAY($K218)=I$1,1+COUNTA(I$3:I217)-COUNTBLANK(I$3:I217),\"\"),\"\")","v":""},{"$f":"IF($C218=1,IF(WEEKDAY($K218)=J$1,1+COUNTA(J$3:J217)-COUNTBLANK(J$3:J217),\"\"),\"\")","v":""},"2019-03-23"]
["2019-03-24",0,0,{"$f":"IF($C219=1,IF(WEEKDAY($K219)=D$1,1+COUNTA(D$3:D218)-COUNTBLANK(D$3:D218),\"\"),\"\")","v":""},{"$f":"IF($C219=1,IF(WEEKDAY($K219)=E$1,1+COUNTA(E$3:E218)-COUNTBLANK(E$3:E218),\"\"),\"\")","v":""},{"$f":"IF($C219=1,IF(WEEKDAY($K219)=F$1,1+COUNTA(F$3:F218)-COUNTBLANK(F$3:F218),\"\"),\"\")","v":""},{"$f":"IF($C219=1,IF(WEEKDAY($K219)=G$1,1+COUNTA(G$3:G218)-COUNTBLANK(G$3:G218),\"\"),\"\")","v":""},{"$f":"IF($C219=1,IF(WEEKDAY($K219)=H$1,1+COUNTA(H$3:H218)-COUNTBLANK(H$3:H218),\"\"),\"\")","v":""},{"$f":"IF($C219=1,IF(WEEKDAY($K219)=I$1,1+COUNTA(I$3:I218)-COUNTBLANK(I$3:I218),\"\"),\"\")","v":""},{"$f":"IF($C219=1,IF(WEEKDAY($K219)=J$1,1+COUNTA(J$3:J218)-COUNTBLANK(J$3:J218),\"\"),\"\")","v":""},"2019-03-24"]
["2019-03-25",1,1,{"$f":"IF($C220=1,IF(WEEKDAY($K220)=D$1,1+COUNTA(D$3:D219)-COUNTBLANK(D$3:D219),\"\"),\"\")","v":23},{"$f":"IF($C220=1,IF(WEEKDAY($K220)=E$1,1+COUNTA(E$3:E219)-COUNTBLANK(E$3:E219),\"\"),\"\")","v":""},{"$f":"IF($C220=1,IF(WEEKDAY($K220)=F$1,1+COUNTA(F$3:F219)-COUNTBLANK(F$3:F219),\"\"),\"\")","v":""},{"$f":"IF($C220=1,IF(WEEKDAY($K220)=G$1,1+COUNTA(G$3:G219)-COUNTBLANK(G$3:G219),\"\"),\"\")","v":""},{"$f":"IF($C220=1,IF(WEEKDAY($K220)=H$1,1+COUNTA(H$3:H219)-COUNTBLANK(H$3:H219),\"\"),\"\")","v":""},{"$f":"IF($C220=1,IF(WEEKDAY($K220)=I$1,1+COUNTA(I$3:I219)-COUNTBLANK(I$3:I219),\"\"),\"\")","v":""},{"$f":"IF($C220=1,IF(WEEKDAY($K220)=J$1,1+COUNTA(J$3:J219)-COUNTBLANK(J$3:J219),\"\"),\"\")","v":""},"2019-03-25"]
["2019-03-26",1,1,{"$f":"IF($C221=1,IF(WEEKDAY($K221)=D$1,1+COUNTA(D$3:D220)-COUNTBLANK(D$3:D220),\"\"),\"\")","v":""},{"$f":"IF($C221=1,IF(WEEKDAY($K221)=E$1,1+COUNTA(E$3:E220)-COUNTBLANK(E$3:E220),\"\"),\"\")","v":23},{"$f":"IF($C221=1,IF(WEEKDAY($K221)=F$1,1+COUNTA(F$3:F220)-COUNTBLANK(F$3:F220),\"\"),\"\")","v":""},{"$f":"IF($C221=1,IF(WEEKDAY($K221)=G$1,1+COUNTA(G$3:G220)-COUNTBLANK(G$3:G220),\"\"),\"\")","v":""},{"$f":"IF($C221=1,IF(WEEKDAY($K221)=H$1,1+COUNTA(H$3:H220)-COUNTBLANK(H$3:H220),\"\"),\"\")","v":""},{"$f":"IF($C221=1,IF(WEEKDAY($K221)=I$1,1+COUNTA(I$3:I220)-COUNTBLANK(I$3:I220),\"\"),\"\")","v":""},{"$f":"IF($C221=1,IF(WEEKDAY($K221)=J$1,1+COUNTA(J$3:J220)-COUNTBLANK(J$3:J220),\"\"),\"\")","v":""},"2019-03-26"]
["2019-03-27",1,1,{"$f":"IF($C222=1,IF(WEEKDAY($K222)=D$1,1+COUNTA(D$3:D221)-COUNTBLANK(D$3:D221),\"\"),\"\")","v":""},{"$f":"IF($C222=1,IF(WEEKDAY($K222)=E$1,1+COUNTA(E$3:E221)-COUNTBLANK(E$3:E221),\"\"),\"\")","v":""},{"$f":"IF($C222=1,IF(WEEKDAY($K222)=F$1,1+COUNTA(F$3:F221)-COUNTBLANK(F$3:F221),\"\"),\"\")","v":23},{"$f":"IF($C222=1,IF(WEEKDAY($K222)=G$1,1+COUNTA(G$3:G221)-COUNTBLANK(G$3:G221),\"\"),\"\")","v":""},{"$f":"IF($C222=1,IF(WEEKDAY($K222)=H$1,1+COUNTA(H$3:H221)-COUNTBLANK(H$3:H221),\"\"),\"\")","v":""},{"$f":"IF($C222=1,IF(WEEKDAY($K222)=I$1,1+COUNTA(I$3:I221)-COUNTBLANK(I$3:I221),\"\"),\"\")","v":""},{"$f":"IF($C222=1,IF(WEEKDAY($K222)=J$1,1+COUNTA(J$3:J221)-COUNTBLANK(J$3:J221),\"\"),\"\")","v":""},"2019-03-27"]
["2019-03-28",1,1,{"$f":"IF($C223=1,IF(WEEKDAY($K223)=D$1,1+COUNTA(D$3:D222)-COUNTBLANK(D$3:D222),\"\"),\"\")","v":""},{"$f":"IF($C223=1,IF(WEEKDAY($K223)=E$1,1+COUNTA(E$3:E222)-COUNTBLANK(E$3:E222),\"\"),\"\")","v":""},{"$f":"IF($C223=1,IF(WEEKDAY($K223)=F$1,1+COUNTA(F$3:F222)-COUNTBLANK(F$3:F222),\"\"),\"\")","v":""},{"$f":"IF($C223=1,IF(WEEKDAY($K223)=G$1,1+COUNTA(G$3:G222)-COUNTBLANK(G$3:G222),\"\"),\"\")","v":21},{"$f":"IF($C223=1,IF(WEEKDAY($K223)=H$1,1+COUNTA(H$3:H222)-COUNTBLANK(H$3:H222),\"\"),\"\")","v":""},{"$f":"IF($C223=1,IF(WEEKDAY($K223)=I$1,1+COUNTA(I$3:I222)-COUNTBLANK(I$3:I222),\"\"),\"\")","v":""},{"$f":"IF($C223=1,IF(WEEKDAY($K223)=J$1,1+COUNTA(J$3:J222)-COUNTBLANK(J$3:J222),\"\"),\"\")","v":""},"2019-03-28"]
["2019-03-29",1,1,{"$f":"IF($C224=1,IF(WEEKDAY($K224)=D$1,1+COUNTA(D$3:D223)-COUNTBLANK(D$3:D223),\"\"),\"\")","v":""},{"$f":"IF($C224=1,IF(WEEKDAY($K224)=E$1,1+COUNTA(E$3:E223)-COUNTBLANK(E$3:E223),\"\"),\"\")","v":""},{"$f":"IF($C224=1,IF(WEEKDAY($K224)=F$1,1+COUNTA(F$3:F223)-COUNTBLANK(F$3:F223),\"\"),\"\")","v":""},{"$f":"IF($C224=1,IF(WEEKDAY($K224)=G$1,1+COUNTA(G$3:G223)-COUNTBLANK(G$3:G223),\"\"),\"\")","v":""},{"$f":"IF($C224=1,IF(WEEKDAY($K224)=H$1,1+COUNTA(H$3:H223)-COUNTBLANK(H$3:H223),\"\"),\"\")","v":23},{"$f":"IF($C224=1,IF(WEEKDAY($K224)=I$1,1+COUNTA(I$3:I223)-COUNTBLANK(I$3:I223),\"\"),\"\")","v":""},{"$f":"IF($C224=1,IF(WEEKDAY($K224)=J$1,1+COUNTA(J$3:J223)-COUNTBLANK(J$3:J223),\"\"),\"\")","v":""},"2019-03-29"]
["2019-03-30",0,1,{"$f":"IF($C225=1,IF(WEEKDAY($K225)=D$1,1+COUNTA(D$3:D224)-COUNTBLANK(D$3:D224),\"\"),\"\")","v":""},{"$f":"IF($C225=1,IF(WEEKDAY($K225)=E$1,1+COUNTA(E$3:E224)-COUNTBLANK(E$3:E224),\"\"),\"\")","v":""},{"$f":"IF($C225=1,IF(WEEKDAY($K225)=F$1,1+COUNTA(F$3:F224)-COUNTBLANK(F$3:F224),\"\"),\"\")","v":""},{"$f":"IF($C225=1,IF(WEEKDAY($K225)=G$1,1+COUNTA(G$3:G224)-COUNTBLANK(G$3:G224),\"\"),\"\")","v":""},{"$f":"IF($C225=1,IF(WEEKDAY($K225)=H$1,1+COUNTA(H$3:H224)-COUNTBLANK(H$3:H224),\"\"),\"\")","v":""},{"$f":"IF($C225=1,IF(WEEKDAY($K225)=I$1,1+COUNTA(I$3:I224)-COUNTBLANK(I$3:I224),\"\"),\"\")","v":20},{"$f":"IF($C225=1,IF(WEEKDAY($K225)=J$1,1+COUNTA(J$3:J224)-COUNTBLANK(J$3:J224),\"\"),\"\")","v":""},"2019-03-30"]
["2019-03-31",0,1,{"$f":"IF($C226=1,IF(WEEKDAY($K226)=D$1,1+COUNTA(D$3:D225)-COUNTBLANK(D$3:D225),\"\"),\"\")","v":""},{"$f":"IF($C226=1,IF(WEEKDAY($K226)=E$1,1+COUNTA(E$3:E225)-COUNTBLANK(E$3:E225),\"\"),\"\")","v":""},{"$f":"IF($C226=1,IF(WEEKDAY($K226)=F$1,1+COUNTA(F$3:F225)-COUNTBLANK(F$3:F225),\"\"),\"\")","v":""},{"$f":"IF($C226=1,IF(WEEKDAY($K226)=G$1,1+COUNTA(G$3:G225)-COUNTBLANK(G$3:G225),\"\"),\"\")","v":""},{"$f":"IF($C226=1,IF(WEEKDAY($K226)=H$1,1+COUNTA(H$3:H225)-COUNTBLANK(H$3:H225),\"\"),\"\")","v":""},{"$f":"IF($C226=1,IF(WEEKDAY($K226)=I$1,1+COUNTA(I$3:I225)-COUNTBLANK(I$3:I225),\"\"),\"\")","v":""},{"$f":"IF($C226=1,IF(WEEKDAY($K226)=J$1,1+COUNTA(J$3:J225)-COUNTBLANK(J$3:J225),\"\"),\"\")","v":19},"2019-03-31"]
["2019-04-01",1,1,{"$f":"IF($C227=1,IF(WEEKDAY($K227)=D$1,1+COUNTA(D$3:D226)-COUNTBLANK(D$3:D226),\"\"),\"\")","v":24},{"$f":"IF($C227=1,IF(WEEKDAY($K227)=E$1,1+COUNTA(E$3:E226)-COUNTBLANK(E$3:E226),\"\"),\"\")","v":""},{"$f":"IF($C227=1,IF(WEEKDAY($K227)=F$1,1+COUNTA(F$3:F226)-COUNTBLANK(F$3:F226),\"\"),\"\")","v":""},{"$f":"IF($C227=1,IF(WEEKDAY($K227)=G$1,1+COUNTA(G$3:G226)-COUNTBLANK(G$3:G226),\"\"),\"\")","v":""},{"$f":"IF($C227=1,IF(WEEKDAY($K227)=H$1,1+COUNTA(H$3:H226)-COUNTBLANK(H$3:H226),\"\"),\"\")","v":""},{"$f":"IF($C227=1,IF(WEEKDAY($K227)=I$1,1+COUNTA(I$3:I226)-COUNTBLANK(I$3:I226),\"\"),\"\")","v":""},{"$f":"IF($C227=1,IF(WEEKDAY($K227)=J$1,1+COUNTA(J$3:J226)-COUNTBLANK(J$3:J226),\"\"),\"\")","v":""},"2019-04-01"]
["2019-04-02",1,1,{"$f":"IF($C228=1,IF(WEEKDAY($K228)=D$1,1+COUNTA(D$3:D227)-COUNTBLANK(D$3:D227),\"\"),\"\")","v":""},{"$f":"IF($C228=1,IF(WEEKDAY($K228)=E$1,1+COUNTA(E$3:E227)-COUNTBLANK(E$3:E227),\"\"),\"\")","v":24},{"$f":"IF($C228=1,IF(WEEKDAY($K228)=F$1,1+COUNTA(F$3:F227)-COUNTBLANK(F$3:F227),\"\"),\"\")","v":""},{"$f":"IF($C228=1,IF(WEEKDAY($K228)=G$1,1+COUNTA(G$3:G227)-COUNTBLANK(G$3:G227),\"\"),\"\")","v":""},{"$f":"IF($C228=1,IF(WEEKDAY($K228)=H$1,1+COUNTA(H$3:H227)-COUNTBLANK(H$3:H227),\"\"),\"\")","v":""},{"$f":"IF($C228=1,IF(WEEKDAY($K228)=I$1,1+COUNTA(I$3:I227)-COUNTBLANK(I$3:I227),\"\"),\"\")","v":""},{"$f":"IF($C228=1,IF(WEEKDAY($K228)=J$1,1+COUNTA(J$3:J227)-COUNTBLANK(J$3:J227),\"\"),\"\")","v":""},"2019-04-02"]
["2019-04-03",1,1,{"$f":"IF($C229=1,IF(WEEKDAY($K229)=D$1,1+COUNTA(D$3:D228)-COUNTBLANK(D$3:D228),\"\"),\"\")","v":""},{"$f":"IF($C229=1,IF(WEEKDAY($K229)=E$1,1+COUNTA(E$3:E228)-COUNTBLANK(E$3:E228),\"\"),\"\")","v":""},{"$f":"IF($C229=1,IF(WEEKDAY($K229)=F$1,1+COUNTA(F$3:F228)-COUNTBLANK(F$3:F228),\"\"),\"\")","v":24},{"$f":"IF($C229=1,IF(WEEKDAY($K229)=G$1,1+COUNTA(G$3:G228)-COUNTBLANK(G$3:G228),\"\"),\"\")","v":""},{"$f":"IF($C229=1,IF(WEEKDAY($K229)=H$1,1+COUNTA(H$3:H228)-COUNTBLANK(H$3:H228),\"\"),\"\")","v":""},{"$f":"IF($C229=1,IF(WEEKDAY($K229)=I$1,1+COUNTA(I$3:I228)-COUNTBLANK(I$3:I228),\"\"),\"\")","v":""},{"$f":"IF($C229=1,IF(WEEKDAY($K229)=J$1,1+COUNTA(J$3:J228)-COUNTBLANK(J$3:J228),\"\"),\"\")","v":""},"2019-04-03"]
["2019-04-04",1,1,{"$f":"IF($C230=1,IF(WEEKDAY($K230)=D$1,1+COUNTA(D$3:D229)-COUNTBLANK(D$3:D229),\"\"),\"\")","v":""},{"$f":"IF($C230=1,IF(WEEKDAY($K230)=E$1,1+COUNTA(E$3:E229)-COUNTBLANK(E$3:E229),\"\"),\"\")","v":""},{"$f":"IF($C230=1,IF(WEEKDAY($K230)=F$1,1+COUNTA(F$3:F229)-COUNTBLANK(F$3:F229),\"\"),\"\")","v":""},{"$f":"IF($C230=1,IF(WEEKDAY($K230)=G$1,1+COUNTA(G$3:G229)-COUNTBLANK(G$3:G229),\"\"),\"\")","v":22},{"$f":"IF($C230=1,IF(WEEKDAY($K230)=H$1,1+COUNTA(H$3:H229)-COUNTBLANK(H$3:H229),\"\"),\"\")","v":""},{"$f":"IF($C230=1,IF(WEEKDAY($K230)=I$1,1+COUNTA(I$3:I229)-COUNTBLANK(I$3:I229),\"\"),\"\")","v":""},{"$f":"IF($C230=1,IF(WEEKDAY($K230)=J$1,1+COUNTA(J$3:J229)-COUNTBLANK(J$3:J229),\"\"),\"\")","v":""},"2019-04-04"]
["2019-04-05",1,1,{"$f":"IF($C231=1,IF(WEEKDAY($K231)=D$1,1+COUNTA(D$3:D230)-COUNTBLANK(D$3:D230),\"\"),\"\")","v":""},{"$f":"IF($C231=1,IF(WEEKDAY($K231)=E$1,1+COUNTA(E$3:E230)-COUNTBLANK(E$3:E230),\"\"),\"\")","v":""},{"$f":"IF($C231=1,IF(WEEKDAY($K231)=F$1,1+COUNTA(F$3:F230)-COUNTBLANK(F$3:F230),\"\"),\"\")","v":""},{"$f":"IF($C231=1,IF(WEEKDAY($K231)=G$1,1+COUNTA(G$3:G230)-COUNTBLANK(G$3:G230),\"\"),\"\")","v":""},{"$f":"IF($C231=1,IF(WEEKDAY($K231)=H$1,1+COUNTA(H$3:H230)-COUNTBLANK(H$3:H230),\"\"),\"\")","v":24},{"$f":"IF($C231=1,IF(WEEKDAY($K231)=I$1,1+COUNTA(I$3:I230)-COUNTBLANK(I$3:I230),\"\"),\"\")","v":""},{"$f":"IF($C231=1,IF(WEEKDAY($K231)=J$1,1+COUNTA(J$3:J230)-COUNTBLANK(J$3:J230),\"\"),\"\")","v":""},"2019-04-05"]
["2019-04-06",0,1,{"$f":"IF($C232=1,IF(WEEKDAY($K232)=D$1,1+COUNTA(D$3:D231)-COUNTBLANK(D$3:D231),\"\"),\"\")","v":""},{"$f":"IF($C232=1,IF(WEEKDAY($K232)=E$1,1+COUNTA(E$3:E231)-COUNTBLANK(E$3:E231),\"\"),\"\")","v":""},{"$f":"IF($C232=1,IF(WEEKDAY($K232)=F$1,1+COUNTA(F$3:F231)-COUNTBLANK(F$3:F231),\"\"),\"\")","v":""},{"$f":"IF($C232=1,IF(WEEKDAY($K232)=G$1,1+COUNTA(G$3:G231)-COUNTBLANK(G$3:G231),\"\"),\"\")","v":""},{"$f":"IF($C232=1,IF(WEEKDAY($K232)=H$1,1+COUNTA(H$3:H231)-COUNTBLANK(H$3:H231),\"\"),\"\")","v":""},{"$f":"IF($C232=1,IF(WEEKDAY($K232)=I$1,1+COUNTA(I$3:I231)-COUNTBLANK(I$3:I231),\"\"),\"\")","v":21},{"$f":"IF($C232=1,IF(WEEKDAY($K232)=J$1,1+COUNTA(J$3:J231)-COUNTBLANK(J$3:J231),\"\"),\"\")","v":""},"2019-04-06"]
["2019-04-07",0,1,{"$f":"IF($C233=1,IF(WEEKDAY($K233)=D$1,1+COUNTA(D$3:D232)-COUNTBLANK(D$3:D232),\"\"),\"\")","v":""},{"$f":"IF($C233=1,IF(WEEKDAY($K233)=E$1,1+COUNTA(E$3:E232)-COUNTBLANK(E$3:E232),\"\"),\"\")","v":""},{"$f":"IF($C233=1,IF(WEEKDAY($K233)=F$1,1+COUNTA(F$3:F232)-COUNTBLANK(F$3:F232),\"\"),\"\")","v":""},{"$f":"IF($C233=1,IF(WEEKDAY($K233)=G$1,1+COUNTA(G$3:G232)-COUNTBLANK(G$3:G232),\"\"),\"\")","v":""},{"$f":"IF($C233=1,IF(WEEKDAY($K233)=H$1,1+COUNTA(H$3:H232)-COUNTBLANK(H$3:H232),\"\"),\"\")","v":""},{"$f":"IF($C233=1,IF(WEEKDAY($K233)=I$1,1+COUNTA(I$3:I232)-COUNTBLANK(I$3:I232),\"\"),\"\")","v":""},{"$f":"IF($C233=1,IF(WEEKDAY($K233)=J$1,1+COUNTA(J$3:J232)-COUNTBLANK(J$3:J232),\"\"),\"\")","v":20},"2019-04-07"]
["2019-04-08",1,1,{"$f":"IF($C234=1,IF(WEEKDAY($K234)=D$1,1+COUNTA(D$3:D233)-COUNTBLANK(D$3:D233),\"\"),\"\")","v":25},{"$f":"IF($C234=1,IF(WEEKDAY($K234)=E$1,1+COUNTA(E$3:E233)-COUNTBLANK(E$3:E233),\"\"),\"\")","v":""},{"$f":"IF($C234=1,IF(WEEKDAY($K234)=F$1,1+COUNTA(F$3:F233)-COUNTBLANK(F$3:F233),\"\"),\"\")","v":""},{"$f":"IF($C234=1,IF(WEEKDAY($K234)=G$1,1+COUNTA(G$3:G233)-COUNTBLANK(G$3:G233),\"\"),\"\")","v":""},{"$f":"IF($C234=1,IF(WEEKDAY($K234)=H$1,1+COUNTA(H$3:H233)-COUNTBLANK(H$3:H233),\"\"),\"\")","v":""},{"$f":"IF($C234=1,IF(WEEKDAY($K234)=I$1,1+COUNTA(I$3:I233)-COUNTBLANK(I$3:I233),\"\"),\"\")","v":""},{"$f":"IF($C234=1,IF(WEEKDAY($K234)=J$1,1+COUNTA(J$3:J233)-COUNTBLANK(J$3:J233),\"\"),\"\")","v":""},"2019-04-08"]
["2019-04-09",1,1,{"$f":"IF($C235=1,IF(WEEKDAY($K235)=D$1,1+COUNTA(D$3:D234)-COUNTBLANK(D$3:D234),\"\"),\"\")","v":""},{"$f":"IF($C235=1,IF(WEEKDAY($K235)=E$1,1+COUNTA(E$3:E234)-COUNTBLANK(E$3:E234),\"\"),\"\")","v":25},{"$f":"IF($C235=1,IF(WEEKDAY($K235)=F$1,1+COUNTA(F$3:F234)-COUNTBLANK(F$3:F234),\"\"),\"\")","v":""},{"$f":"IF($C235=1,IF(WEEKDAY($K235)=G$1,1+COUNTA(G$3:G234)-COUNTBLANK(G$3:G234),\"\"),\"\")","v":""},{"$f":"IF($C235=1,IF(WEEKDAY($K235)=H$1,1+COUNTA(H$3:H234)-COUNTBLANK(H$3:H234),\"\"),\"\")","v":""},{"$f":"IF($C235=1,IF(WEEKDAY($K235)=I$1,1+COUNTA(I$3:I234)-COUNTBLANK(I$3:I234),\"\"),\"\")","v":""},{"$f":"IF($C235=1,IF(WEEKDAY($K235)=J$1,1+COUNTA(J$3:J234)-COUNTBLANK(J$3:J234),\"\"),\"\")","v":""},"2019-04-09"]
["2019-04-10",1,1,{"$f":"IF($C236=1,IF(WEEKDAY($K236)=D$1,1+COUNTA(D$3:D235)-COUNTBLANK(D$3:D235),\"\"),\"\")","v":""},{"$f":"IF($C236=1,IF(WEEKDAY($K236)=E$1,1+COUNTA(E$3:E235)-COUNTBLANK(E$3:E235),\"\"),\"\")","v":""},{"$f":"IF($C236=1,IF(WEEKDAY($K236)=F$1,1+COUNTA(F$3:F235)-COUNTBLANK(F$3:F235),\"\"),\"\")","v":25},{"$f":"IF($C236=1,IF(WEEKDAY($K236)=G$1,1+COUNTA(G$3:G235)-COUNTBLANK(G$3:G235),\"\"),\"\")","v":""},{"$f":"IF($C236=1,IF(WEEKDAY($K236)=H$1,1+COUNTA(H$3:H235)-COUNTBLANK(H$3:H235),\"\"),\"\")","v":""},{"$f":"IF($C236=1,IF(WEEKDAY($K236)=I$1,1+COUNTA(I$3:I235)-COUNTBLANK(I$3:I235),\"\"),\"\")","v":""},{"$f":"IF($C236=1,IF(WEEKDAY($K236)=J$1,1+COUNTA(J$3:J235)-COUNTBLANK(J$3:J235),\"\"),\"\")","v":""},"2019-04-10"]
["2019-04-11",1,1,{"$f":"IF($C237=1,IF(WEEKDAY($K237)=D$1,1+COUNTA(D$3:D236)-COUNTBLANK(D$3:D236),\"\"),\"\")","v":""},{"$f":"IF($C237=1,IF(WEEKDAY($K237)=E$1,1+COUNTA(E$3:E236)-COUNTBLANK(E$3:E236),\"\"),\"\")","v":""},{"$f":"IF($C237=1,IF(WEEKDAY($K237)=F$1,1+COUNTA(F$3:F236)-COUNTBLANK(F$3:F236),\"\"),\"\")","v":""},{"$f":"IF($C237=1,IF(WEEKDAY($K237)=G$1,1+COUNTA(G$3:G236)-COUNTBLANK(G$3:G236),\"\"),\"\")","v":23},{"$f":"IF($C237=1,IF(WEEKDAY($K237)=H$1,1+COUNTA(H$3:H236)-COUNTBLANK(H$3:H236),\"\"),\"\")","v":""},{"$f":"IF($C237=1,IF(WEEKDAY($K237)=I$1,1+COUNTA(I$3:I236)-COUNTBLANK(I$3:I236),\"\"),\"\")","v":""},{"$f":"IF($C237=1,IF(WEEKDAY($K237)=J$1,1+COUNTA(J$3:J236)-COUNTBLANK(J$3:J236),\"\"),\"\")","v":""},"2019-04-11"]
["2019-04-12",1,1,{"$f":"IF($C238=1,IF(WEEKDAY($K238)=D$1,1+COUNTA(D$3:D237)-COUNTBLANK(D$3:D237),\"\"),\"\")","v":""},{"$f":"IF($C238=1,IF(WEEKDAY($K238)=E$1,1+COUNTA(E$3:E237)-COUNTBLANK(E$3:E237),\"\"),\"\")","v":""},{"$f":"IF($C238=1,IF(WEEKDAY($K238)=F$1,1+COUNTA(F$3:F237)-COUNTBLANK(F$3:F237),\"\"),\"\")","v":""},{"$f":"IF($C238=1,IF(WEEKDAY($K238)=G$1,1+COUNTA(G$3:G237)-COUNTBLANK(G$3:G237),\"\"),\"\")","v":""},{"$f":"IF($C238=1,IF(WEEKDAY($K238)=H$1,1+COUNTA(H$3:H237)-COUNTBLANK(H$3:H237),\"\"),\"\")","v":25},{"$f":"IF($C238=1,IF(WEEKDAY($K238)=I$1,1+COUNTA(I$3:I237)-COUNTBLANK(I$3:I237),\"\"),\"\")","v":""},{"$f":"IF($C238=1,IF(WEEKDAY($K238)=J$1,1+COUNTA(J$3:J237)-COUNTBLANK(J$3:J237),\"\"),\"\")","v":""},"2019-04-12"]
["2019-04-13",0,1,{"$f":"IF($C239=1,IF(WEEKDAY($K239)=D$1,1+COUNTA(D$3:D238)-COUNTBLANK(D$3:D238),\"\"),\"\")","v":""},{"$f":"IF($C239=1,IF(WEEKDAY($K239)=E$1,1+COUNTA(E$3:E238)-COUNTBLANK(E$3:E238),\"\"),\"\")","v":""},{"$f":"IF($C239=1,IF(WEEKDAY($K239)=F$1,1+COUNTA(F$3:F238)-COUNTBLANK(F$3:F238),\"\"),\"\")","v":""},{"$f":"IF($C239=1,IF(WEEKDAY($K239)=G$1,1+COUNTA(G$3:G238)-COUNTBLANK(G$3:G238),\"\"),\"\")","v":""},{"$f":"IF($C239=1,IF(WEEKDAY($K239)=H$1,1+COUNTA(H$3:H238)-COUNTBLANK(H$3:H238),\"\"),\"\")","v":""},{"$f":"IF($C239=1,IF(WEEKDAY($K239)=I$1,1+COUNTA(I$3:I238)-COUNTBLANK(I$3:I238),\"\"),\"\")","v":22},{"$f":"IF($C239=1,IF(WEEKDAY($K239)=J$1,1+COUNTA(J$3:J238)-COUNTBLANK(J$3:J238),\"\"),\"\")","v":""},"2019-04-13"]
["2019-04-14",0,1,{"$f":"IF($C240=1,IF(WEEKDAY($K240)=D$1,1+COUNTA(D$3:D239)-COUNTBLANK(D$3:D239),\"\"),\"\")","v":""},{"$f":"IF($C240=1,IF(WEEKDAY($K240)=E$1,1+COUNTA(E$3:E239)-COUNTBLANK(E$3:E239),\"\"),\"\")","v":""},{"$f":"IF($C240=1,IF(WEEKDAY($K240)=F$1,1+COUNTA(F$3:F239)-COUNTBLANK(F$3:F239),\"\"),\"\")","v":""},{"$f":"IF($C240=1,IF(WEEKDAY($K240)=G$1,1+COUNTA(G$3:G239)-COUNTBLANK(G$3:G239),\"\"),\"\")","v":""},{"$f":"IF($C240=1,IF(WEEKDAY($K240)=H$1,1+COUNTA(H$3:H239)-COUNTBLANK(H$3:H239),\"\"),\"\")","v":""},{"$f":"IF($C240=1,IF(WEEKDAY($K240)=I$1,1+COUNTA(I$3:I239)-COUNTBLANK(I$3:I239),\"\"),\"\")","v":""},{"$f":"IF($C240=1,IF(WEEKDAY($K240)=J$1,1+COUNTA(J$3:J239)-COUNTBLANK(J$3:J239),\"\"),\"\")","v":21},"2019-04-14"]
["2019-04-15",1,1,{"$f":"IF($C241=1,IF(WEEKDAY($K241)=D$1,1+COUNTA(D$3:D240)-COUNTBLANK(D$3:D240),\"\"),\"\")","v":26},{"$f":"IF($C241=1,IF(WEEKDAY($K241)=E$1,1+COUNTA(E$3:E240)-COUNTBLANK(E$3:E240),\"\"),\"\")","v":""},{"$f":"IF($C241=1,IF(WEEKDAY($K241)=F$1,1+COUNTA(F$3:F240)-COUNTBLANK(F$3:F240),\"\"),\"\")","v":""},{"$f":"IF($C241=1,IF(WEEKDAY($K241)=G$1,1+COUNTA(G$3:G240)-COUNTBLANK(G$3:G240),\"\"),\"\")","v":""},{"$f":"IF($C241=1,IF(WEEKDAY($K241)=H$1,1+COUNTA(H$3:H240)-COUNTBLANK(H$3:H240),\"\"),\"\")","v":""},{"$f":"IF($C241=1,IF(WEEKDAY($K241)=I$1,1+COUNTA(I$3:I240)-COUNTBLANK(I$3:I240),\"\"),\"\")","v":""},{"$f":"IF($C241=1,IF(WEEKDAY($K241)=J$1,1+COUNTA(J$3:J240)-COUNTBLANK(J$3:J240),\"\"),\"\")","v":""},"2019-04-15"]
["2019-04-16",1,1,{"$f":"IF($C242=1,IF(WEEKDAY($K242)=D$1,1+COUNTA(D$3:D241)-COUNTBLANK(D$3:D241),\"\"),\"\")","v":""},{"$f":"IF($C242=1,IF(WEEKDAY($K242)=E$1,1+COUNTA(E$3:E241)-COUNTBLANK(E$3:E241),\"\"),\"\")","v":26},{"$f":"IF($C242=1,IF(WEEKDAY($K242)=F$1,1+COUNTA(F$3:F241)-COUNTBLANK(F$3:F241),\"\"),\"\")","v":""},{"$f":"IF($C242=1,IF(WEEKDAY($K242)=G$1,1+COUNTA(G$3:G241)-COUNTBLANK(G$3:G241),\"\"),\"\")","v":""},{"$f":"IF($C242=1,IF(WEEKDAY($K242)=H$1,1+COUNTA(H$3:H241)-COUNTBLANK(H$3:H241),\"\"),\"\")","v":""},{"$f":"IF($C242=1,IF(WEEKDAY($K242)=I$1,1+COUNTA(I$3:I241)-COUNTBLANK(I$3:I241),\"\"),\"\")","v":""},{"$f":"IF($C242=1,IF(WEEKDAY($K242)=J$1,1+COUNTA(J$3:J241)-COUNTBLANK(J$3:J241),\"\"),\"\")","v":""},"2019-04-16"]
["2019-04-17",1,1,{"$f":"IF($C243=1,IF(WEEKDAY($K243)=D$1,1+COUNTA(D$3:D242)-COUNTBLANK(D$3:D242),\"\"),\"\")","v":""},{"$f":"IF($C243=1,IF(WEEKDAY($K243)=E$1,1+COUNTA(E$3:E242)-COUNTBLANK(E$3:E242),\"\"),\"\")","v":""},{"$f":"IF($C243=1,IF(WEEKDAY($K243)=F$1,1+COUNTA(F$3:F242)-COUNTBLANK(F$3:F242),\"\"),\"\")","v":26},{"$f":"IF($C243=1,IF(WEEKDAY($K243)=G$1,1+COUNTA(G$3:G242)-COUNTBLANK(G$3:G242),\"\"),\"\")","v":""},{"$f":"IF($C243=1,IF(WEEKDAY($K243)=H$1,1+COUNTA(H$3:H242)-COUNTBLANK(H$3:H242),\"\"),\"\")","v":""},{"$f":"IF($C243=1,IF(WEEKDAY($K243)=I$1,1+COUNTA(I$3:I242)-COUNTBLANK(I$3:I242),\"\"),\"\")","v":""},{"$f":"IF($C243=1,IF(WEEKDAY($K243)=J$1,1+COUNTA(J$3:J242)-COUNTBLANK(J$3:J242),\"\"),\"\")","v":""},"2019-04-17"]
["2019-04-18",1,1,{"$f":"IF($C244=1,IF(WEEKDAY($K244)=D$1,1+COUNTA(D$3:D243)-COUNTBLANK(D$3:D243),\"\"),\"\")","v":""},{"$f":"IF($C244=1,IF(WEEKDAY($K244)=E$1,1+COUNTA(E$3:E243)-COUNTBLANK(E$3:E243),\"\"),\"\")","v":""},{"$f":"IF($C244=1,IF(WEEKDAY($K244)=F$1,1+COUNTA(F$3:F243)-COUNTBLANK(F$3:F243),\"\"),\"\")","v":""},{"$f":"IF($C244=1,IF(WEEKDAY($K244)=G$1,1+COUNTA(G$3:G243)-COUNTBLANK(G$3:G243),\"\"),\"\")","v":24},{"$f":"IF($C244=1,IF(WEEKDAY($K244)=H$1,1+COUNTA(H$3:H243)-COUNTBLANK(H$3:H243),\"\"),\"\")","v":""},{"$f":"IF($C244=1,IF(WEEKDAY($K244)=I$1,1+COUNTA(I$3:I243)-COUNTBLANK(I$3:I243),\"\"),\"\")","v":""},{"$f":"IF($C244=1,IF(WEEKDAY($K244)=J$1,1+COUNTA(J$3:J243)-COUNTBLANK(J$3:J243),\"\"),\"\")","v":""},"2019-04-18"]
["2019-04-19",1,1,{"$f":"IF($C245=1,IF(WEEKDAY($K245)=D$1,1+COUNTA(D$3:D244)-COUNTBLANK(D$3:D244),\"\"),\"\")","v":""},{"$f":"IF($C245=1,IF(WEEKDAY($K245)=E$1,1+COUNTA(E$3:E244)-COUNTBLANK(E$3:E244),\"\"),\"\")","v":""},{"$f":"IF($C245=1,IF(WEEKDAY($K245)=F$1,1+COUNTA(F$3:F244)-COUNTBLANK(F$3:F244),\"\"),\"\")","v":""},{"$f":"IF($C245=1,IF(WEEKDAY($K245)=G$1,1+COUNTA(G$3:G244)-COUNTBLANK(G$3:G244),\"\"),\"\")","v":""},{"$f":"IF($C245=1,IF(WEEKDAY($K245)=H$1,1+COUNTA(H$3:H244)-COUNTBLANK(H$3:H244),\"\"),\"\")","v":26},{"$f":"IF($C245=1,IF(WEEKDAY($K245)=I$1,1+COUNTA(I$3:I244)-COUNTBLANK(I$3:I244),\"\"),\"\")","v":""},{"$f":"IF($C245=1,IF(WEEKDAY($K245)=J$1,1+COUNTA(J$3:J244)-COUNTBLANK(J$3:J244),\"\"),\"\")","v":""},"2019-04-19"]
["2019-04-20",0,0,{"$f":"IF($C246=1,IF(WEEKDAY($K246)=D$1,1+COUNTA(D$3:D245)-COUNTBLANK(D$3:D245),\"\"),\"\")","v":""},{"$f":"IF($C246=1,IF(WEEKDAY($K246)=E$1,1+COUNTA(E$3:E245)-COUNTBLANK(E$3:E245),\"\"),\"\")","v":""},{"$f":"IF($C246=1,IF(WEEKDAY($K246)=F$1,1+COUNTA(F$3:F245)-COUNTBLANK(F$3:F245),\"\"),\"\")","v":""},{"$f":"IF($C246=1,IF(WEEKDAY($K246)=G$1,1+COUNTA(G$3:G245)-COUNTBLANK(G$3:G245),\"\"),\"\")","v":""},{"$f":"IF($C246=1,IF(WEEKDAY($K246)=H$1,1+COUNTA(H$3:H245)-COUNTBLANK(H$3:H245),\"\"),\"\")","v":""},{"$f":"IF($C246=1,IF(WEEKDAY($K246)=I$1,1+COUNTA(I$3:I245)-COUNTBLANK(I$3:I245),\"\"),\"\")","v":""},{"$f":"IF($C246=1,IF(WEEKDAY($K246)=J$1,1+COUNTA(J$3:J245)-COUNTBLANK(J$3:J245),\"\"),\"\")","v":""},"2019-04-20"]
["2019-04-21",0,1,{"$f":"IF($C247=1,IF(WEEKDAY($K247)=D$1,1+COUNTA(D$3:D246)-COUNTBLANK(D$3:D246),\"\"),\"\")","v":""},{"$f":"IF($C247=1,IF(WEEKDAY($K247)=E$1,1+COUNTA(E$3:E246)-COUNTBLANK(E$3:E246),\"\"),\"\")","v":""},{"$f":"IF($C247=1,IF(WEEKDAY($K247)=F$1,1+COUNTA(F$3:F246)-COUNTBLANK(F$3:F246),\"\"),\"\")","v":""},{"$f":"IF($C247=1,IF(WEEKDAY($K247)=G$1,1+COUNTA(G$3:G246)-COUNTBLANK(G$3:G246),\"\"),\"\")","v":""},{"$f":"IF($C247=1,IF(WEEKDAY($K247)=H$1,1+COUNTA(H$3:H246)-COUNTBLANK(H$3:H246),\"\"),\"\")","v":""},{"$f":"IF($C247=1,IF(WEEKDAY($K247)=I$1,1+COUNTA(I$3:I246)-COUNTBLANK(I$3:I246),\"\"),\"\")","v":""},{"$f":"IF($C247=1,IF(WEEKDAY($K247)=J$1,1+COUNTA(J$3:J246)-COUNTBLANK(J$3:J246),\"\"),\"\")","v":22},"2019-04-21"]
["2019-04-22",0,0,{"$f":"IF($C248=1,IF(WEEKDAY($K248)=D$1,1+COUNTA(D$3:D247)-COUNTBLANK(D$3:D247),\"\"),\"\")","v":""},{"$f":"IF($C248=1,IF(WEEKDAY($K248)=E$1,1+COUNTA(E$3:E247)-COUNTBLANK(E$3:E247),\"\"),\"\")","v":""},{"$f":"IF($C248=1,IF(WEEKDAY($K248)=F$1,1+COUNTA(F$3:F247)-COUNTBLANK(F$3:F247),\"\"),\"\")","v":""},{"$f":"IF($C248=1,IF(WEEKDAY($K248)=G$1,1+COUNTA(G$3:G247)-COUNTBLANK(G$3:G247),\"\"),\"\")","v":""},{"$f":"IF($C248=1,IF(WEEKDAY($K248)=H$1,1+COUNTA(H$3:H247)-COUNTBLANK(H$3:H247),\"\"),\"\")","v":""},{"$f":"IF($C248=1,IF(WEEKDAY($K248)=I$1,1+COUNTA(I$3:I247)-COUNTBLANK(I$3:I247),\"\"),\"\")","v":""},{"$f":"IF($C248=1,IF(WEEKDAY($K248)=J$1,1+COUNTA(J$3:J247)-COUNTBLANK(J$3:J247),\"\"),\"\")","v":""},"2019-04-22"]
["2019-04-23",1,1,{"$f":"IF($C249=1,IF(WEEKDAY($K249)=D$1,1+COUNTA(D$3:D248)-COUNTBLANK(D$3:D248),\"\"),\"\")","v":""},{"$f":"IF($C249=1,IF(WEEKDAY($K249)=E$1,1+COUNTA(E$3:E248)-COUNTBLANK(E$3:E248),\"\"),\"\")","v":27},{"$f":"IF($C249=1,IF(WEEKDAY($K249)=F$1,1+COUNTA(F$3:F248)-COUNTBLANK(F$3:F248),\"\"),\"\")","v":""},{"$f":"IF($C249=1,IF(WEEKDAY($K249)=G$1,1+COUNTA(G$3:G248)-COUNTBLANK(G$3:G248),\"\"),\"\")","v":""},{"$f":"IF($C249=1,IF(WEEKDAY($K249)=H$1,1+COUNTA(H$3:H248)-COUNTBLANK(H$3:H248),\"\"),\"\")","v":""},{"$f":"IF($C249=1,IF(WEEKDAY($K249)=I$1,1+COUNTA(I$3:I248)-COUNTBLANK(I$3:I248),\"\"),\"\")","v":""},{"$f":"IF($C249=1,IF(WEEKDAY($K249)=J$1,1+COUNTA(J$3:J248)-COUNTBLANK(J$3:J248),\"\"),\"\")","v":""},"2019-04-23"]
["2019-04-24",1,1,{"$f":"IF($C250=1,IF(WEEKDAY($K250)=D$1,1+COUNTA(D$3:D249)-COUNTBLANK(D$3:D249),\"\"),\"\")","v":""},{"$f":"IF($C250=1,IF(WEEKDAY($K250)=E$1,1+COUNTA(E$3:E249)-COUNTBLANK(E$3:E249),\"\"),\"\")","v":""},{"$f":"IF($C250=1,IF(WEEKDAY($K250)=F$1,1+COUNTA(F$3:F249)-COUNTBLANK(F$3:F249),\"\"),\"\")","v":27},{"$f":"IF($C250=1,IF(WEEKDAY($K250)=G$1,1+COUNTA(G$3:G249)-COUNTBLANK(G$3:G249),\"\"),\"\")","v":""},{"$f":"IF($C250=1,IF(WEEKDAY($K250)=H$1,1+COUNTA(H$3:H249)-COUNTBLANK(H$3:H249),\"\"),\"\")","v":""},{"$f":"IF($C250=1,IF(WEEKDAY($K250)=I$1,1+COUNTA(I$3:I249)-COUNTBLANK(I$3:I249),\"\"),\"\")","v":""},{"$f":"IF($C250=1,IF(WEEKDAY($K250)=J$1,1+COUNTA(J$3:J249)-COUNTBLANK(J$3:J249),\"\"),\"\")","v":""},"2019-04-24"]
["2019-04-25",1,1,{"$f":"IF($C251=1,IF(WEEKDAY($K251)=D$1,1+COUNTA(D$3:D250)-COUNTBLANK(D$3:D250),\"\"),\"\")","v":""},{"$f":"IF($C251=1,IF(WEEKDAY($K251)=E$1,1+COUNTA(E$3:E250)-COUNTBLANK(E$3:E250),\"\"),\"\")","v":""},{"$f":"IF($C251=1,IF(WEEKDAY($K251)=F$1,1+COUNTA(F$3:F250)-COUNTBLANK(F$3:F250),\"\"),\"\")","v":""},{"$f":"IF($C251=1,IF(WEEKDAY($K251)=G$1,1+COUNTA(G$3:G250)-COUNTBLANK(G$3:G250),\"\"),\"\")","v":25},{"$f":"IF($C251=1,IF(WEEKDAY($K251)=H$1,1+COUNTA(H$3:H250)-COUNTBLANK(H$3:H250),\"\"),\"\")","v":""},{"$f":"IF($C251=1,IF(WEEKDAY($K251)=I$1,1+COUNTA(I$3:I250)-COUNTBLANK(I$3:I250),\"\"),\"\")","v":""},{"$f":"IF($C251=1,IF(WEEKDAY($K251)=J$1,1+COUNTA(J$3:J250)-COUNTBLANK(J$3:J250),\"\"),\"\")","v":""},"2019-04-25"]
["2019-04-26",1,1,{"$f":"IF($C252=1,IF(WEEKDAY($K252)=D$1,1+COUNTA(D$3:D251)-COUNTBLANK(D$3:D251),\"\"),\"\")","v":""},{"$f":"IF($C252=1,IF(WEEKDAY($K252)=E$1,1+COUNTA(E$3:E251)-COUNTBLANK(E$3:E251),\"\"),\"\")","v":""},{"$f":"IF($C252=1,IF(WEEKDAY($K252)=F$1,1+COUNTA(F$3:F251)-COUNTBLANK(F$3:F251),\"\"),\"\")","v":""},{"$f":"IF($C252=1,IF(WEEKDAY($K252)=G$1,1+COUNTA(G$3:G251)-COUNTBLANK(G$3:G251),\"\"),\"\")","v":""},{"$f":"IF($C252=1,IF(WEEKDAY($K252)=H$1,1+COUNTA(H$3:H251)-COUNTBLANK(H$3:H251),\"\"),\"\")","v":27},{"$f":"IF($C252=1,IF(WEEKDAY($K252)=I$1,1+COUNTA(I$3:I251)-COUNTBLANK(I$3:I251),\"\"),\"\")","v":""},{"$f":"IF($C252=1,IF(WEEKDAY($K252)=J$1,1+COUNTA(J$3:J251)-COUNTBLANK(J$3:J251),\"\"),\"\")","v":""},"2019-04-26"]
["2019-04-27",0,1,{"$f":"IF($C253=1,IF(WEEKDAY($K253)=D$1,1+COUNTA(D$3:D252)-COUNTBLANK(D$3:D252),\"\"),\"\")","v":""},{"$f":"IF($C253=1,IF(WEEKDAY($K253)=E$1,1+COUNTA(E$3:E252)-COUNTBLANK(E$3:E252),\"\"),\"\")","v":""},{"$f":"IF($C253=1,IF(WEEKDAY($K253)=F$1,1+COUNTA(F$3:F252)-COUNTBLANK(F$3:F252),\"\"),\"\")","v":""},{"$f":"IF($C253=1,IF(WEEKDAY($K253)=G$1,1+COUNTA(G$3:G252)-COUNTBLANK(G$3:G252),\"\"),\"\")","v":""},{"$f":"IF($C253=1,IF(WEEKDAY($K253)=H$1,1+COUNTA(H$3:H252)-COUNTBLANK(H$3:H252),\"\"),\"\")","v":""},{"$f":"IF($C253=1,IF(WEEKDAY($K253)=I$1,1+COUNTA(I$3:I252)-COUNTBLANK(I$3:I252),\"\"),\"\")","v":23},{"$f":"IF($C253=1,IF(WEEKDAY($K253)=J$1,1+COUNTA(J$3:J252)-COUNTBLANK(J$3:J252),\"\"),\"\")","v":""},"2019-04-27"]
["2019-04-28",0,1,{"$f":"IF($C254=1,IF(WEEKDAY($K254)=D$1,1+COUNTA(D$3:D253)-COUNTBLANK(D$3:D253),\"\"),\"\")","v":""},{"$f":"IF($C254=1,IF(WEEKDAY($K254)=E$1,1+COUNTA(E$3:E253)-COUNTBLANK(E$3:E253),\"\"),\"\")","v":""},{"$f":"IF($C254=1,IF(WEEKDAY($K254)=F$1,1+COUNTA(F$3:F253)-COUNTBLANK(F$3:F253),\"\"),\"\")","v":""},{"$f":"IF($C254=1,IF(WEEKDAY($K254)=G$1,1+COUNTA(G$3:G253)-COUNTBLANK(G$3:G253),\"\"),\"\")","v":""},{"$f":"IF($C254=1,IF(WEEKDAY($K254)=H$1,1+COUNTA(H$3:H253)-COUNTBLANK(H$3:H253),\"\"),\"\")","v":""},{"$f":"IF($C254=1,IF(WEEKDAY($K254)=I$1,1+COUNTA(I$3:I253)-COUNTBLANK(I$3:I253),\"\"),\"\")","v":""},{"$f":"IF($C254=1,IF(WEEKDAY($K254)=J$1,1+COUNTA(J$3:J253)-COUNTBLANK(J$3:J253),\"\"),\"\")","v":23},"2019-04-28"]
["2019-04-29",1,1,{"$f":"IF($C255=1,IF(WEEKDAY($K255)=D$1,1+COUNTA(D$3:D254)-COUNTBLANK(D$3:D254),\"\"),\"\")","v":27},{"$f":"IF($C255=1,IF(WEEKDAY($K255)=E$1,1+COUNTA(E$3:E254)-COUNTBLANK(E$3:E254),\"\"),\"\")","v":""},{"$f":"IF($C255=1,IF(WEEKDAY($K255)=F$1,1+COUNTA(F$3:F254)-COUNTBLANK(F$3:F254),\"\"),\"\")","v":""},{"$f":"IF($C255=1,IF(WEEKDAY($K255)=G$1,1+COUNTA(G$3:G254)-COUNTBLANK(G$3:G254),\"\"),\"\")","v":""},{"$f":"IF($C255=1,IF(WEEKDAY($K255)=H$1,1+COUNTA(H$3:H254)-COUNTBLANK(H$3:H254),\"\"),\"\")","v":""},{"$f":"IF($C255=1,IF(WEEKDAY($K255)=I$1,1+COUNTA(I$3:I254)-COUNTBLANK(I$3:I254),\"\"),\"\")","v":""},{"$f":"IF($C255=1,IF(WEEKDAY($K255)=J$1,1+COUNTA(J$3:J254)-COUNTBLANK(J$3:J254),\"\"),\"\")","v":""},"2019-04-29"]
["2019-04-30",1,1,{"$f":"IF($C256=1,IF(WEEKDAY($K256)=D$1,1+COUNTA(D$3:D255)-COUNTBLANK(D$3:D255),\"\"),\"\")","v":""},{"$f":"IF($C256=1,IF(WEEKDAY($K256)=E$1,1+COUNTA(E$3:E255)-COUNTBLANK(E$3:E255),\"\"),\"\")","v":28},{"$f":"IF($C256=1,IF(WEEKDAY($K256)=F$1,1+COUNTA(F$3:F255)-COUNTBLANK(F$3:F255),\"\"),\"\")","v":""},{"$f":"IF($C256=1,IF(WEEKDAY($K256)=G$1,1+COUNTA(G$3:G255)-COUNTBLANK(G$3:G255),\"\"),\"\")","v":""},{"$f":"IF($C256=1,IF(WEEKDAY($K256)=H$1,1+COUNTA(H$3:H255)-COUNTBLANK(H$3:H255),\"\"),\"\")","v":""},{"$f":"IF($C256=1,IF(WEEKDAY($K256)=I$1,1+COUNTA(I$3:I255)-COUNTBLANK(I$3:I255),\"\"),\"\")","v":""},{"$f":"IF($C256=1,IF(WEEKDAY($K256)=J$1,1+COUNTA(J$3:J255)-COUNTBLANK(J$3:J255),\"\"),\"\")","v":""},"2019-04-30"]
["2019-05-01",0,0,{"$f":"IF($C257=1,IF(WEEKDAY($K257)=D$1,1+COUNTA(D$3:D256)-COUNTBLANK(D$3:D256),\"\"),\"\")","v":""},{"$f":"IF($C257=1,IF(WEEKDAY($K257)=E$1,1+COUNTA(E$3:E256)-COUNTBLANK(E$3:E256),\"\"),\"\")","v":""},{"$f":"IF($C257=1,IF(WEEKDAY($K257)=F$1,1+COUNTA(F$3:F256)-COUNTBLANK(F$3:F256),\"\"),\"\")","v":""},{"$f":"IF($C257=1,IF(WEEKDAY($K257)=G$1,1+COUNTA(G$3:G256)-COUNTBLANK(G$3:G256),\"\"),\"\")","v":""},{"$f":"IF($C257=1,IF(WEEKDAY($K257)=H$1,1+COUNTA(H$3:H256)-COUNTBLANK(H$3:H256),\"\"),\"\")","v":""},{"$f":"IF($C257=1,IF(WEEKDAY($K257)=I$1,1+COUNTA(I$3:I256)-COUNTBLANK(I$3:I256),\"\"),\"\")","v":""},{"$f":"IF($C257=1,IF(WEEKDAY($K257)=J$1,1+COUNTA(J$3:J256)-COUNTBLANK(J$3:J256),\"\"),\"\")","v":""},"2019-05-01"]
["2019-05-02",1,1,{"$f":"IF($C258=1,IF(WEEKDAY($K258)=D$1,1+COUNTA(D$3:D257)-COUNTBLANK(D$3:D257),\"\"),\"\")","v":""},{"$f":"IF($C258=1,IF(WEEKDAY($K258)=E$1,1+COUNTA(E$3:E257)-COUNTBLANK(E$3:E257),\"\"),\"\")","v":""},{"$f":"IF($C258=1,IF(WEEKDAY($K258)=F$1,1+COUNTA(F$3:F257)-COUNTBLANK(F$3:F257),\"\"),\"\")","v":""},{"$f":"IF($C258=1,IF(WEEKDAY($K258)=G$1,1+COUNTA(G$3:G257)-COUNTBLANK(G$3:G257),\"\"),\"\")","v":26},{"$f":"IF($C258=1,IF(WEEKDAY($K258)=H$1,1+COUNTA(H$3:H257)-COUNTBLANK(H$3:H257),\"\"),\"\")","v":""},{"$f":"IF($C258=1,IF(WEEKDAY($K258)=I$1,1+COUNTA(I$3:I257)-COUNTBLANK(I$3:I257),\"\"),\"\")","v":""},{"$f":"IF($C258=1,IF(WEEKDAY($K258)=J$1,1+COUNTA(J$3:J257)-COUNTBLANK(J$3:J257),\"\"),\"\")","v":""},"2019-05-02"]
["2019-05-03",{"$f":"IF(SUM(D259:J259)>0.5,IF(SUM(I259:J259)=0,1,0),0)","v":1},{"$f":"IF(OR(K259=L$15,K259=L$16,K259=L$17,K259=L$18,K259=L$19,K259=L$20,K259=L$21,K259=L$22,K259=L$23,K259=L$24,K259=L$25,K259=L$26,K259=L$27,K259=L$28),0,IF(K259<L$7,1,IF(AND(K259>M$7,K259<L$8),1,IF(AND(K259>M$8,K259<L$9),1,IF(AND(K259>M$9,K259<L$10),1,IF(AND(K259>M$10,K259<L$11),1,IF(AND(K259>M$11),1,0)))))))","v":1},{"$f":"IF($C259=1,IF(WEEKDAY($K259)=D$1,1+COUNTA(D$3:D258)-COUNTBLANK(D$3:D258),\"\"),\"\")","v":""},{"$f":"IF($C259=1,IF(WEEKDAY($K259)=E$1,1+COUNTA(E$3:E258)-COUNTBLANK(E$3:E258),\"\"),\"\")","v":""},{"$f":"IF($C259=1,IF(WEEKDAY($K259)=F$1,1+COUNTA(F$3:F258)-COUNTBLANK(F$3:F258),\"\"),\"\")","v":""},{"$f":"IF($C259=1,IF(WEEKDAY($K259)=G$1,1+COUNTA(G$3:G258)-COUNTBLANK(G$3:G258),\"\"),\"\")","v":""},{"$f":"IF($C259=1,IF(WEEKDAY($K259)=H$1,1+COUNTA(H$3:H258)-COUNTBLANK(H$3:H258),\"\"),\"\")","v":28},{"$f":"IF($C259=1,IF(WEEKDAY($K259)=I$1,1+COUNTA(I$3:I258)-COUNTBLANK(I$3:I258),\"\"),\"\")","v":""},{"$f":"IF($C259=1,IF(WEEKDAY($K259)=J$1,1+COUNTA(J$3:J258)-COUNTBLANK(J$3:J258),\"\"),\"\")","v":""},"2019-05-03"]
[{"$f":"K260","v":"2019-05-04"},0,1,{"$f":"IF($C260=1,IF(WEEKDAY($K260)=D$1,1+COUNTA(D$3:D259)-COUNTBLANK(D$3:D259),\"\"),\"\")","v":""},{"$f":"IF($C260=1,IF(WEEKDAY($K260)=E$1,1+COUNTA(E$3:E259)-COUNTBLANK(E$3:E259),\"\"),\"\")","v":""},{"$f":"IF($C260=1,IF(WEEKDAY($K260)=F$1,1+COUNTA(F$3:F259)-COUNTBLANK(F$3:F259),\"\"),\"\")","v":""},{"$f":"IF($C260=1,IF(WEEKDAY($K260)=G$1,1+COUNTA(G$3:G259)-COUNTBLANK(G$3:G259),\"\"),\"\")","v":""},{"$f":"IF($C260=1,IF(WEEKDAY($K260)=H$1,1+COUNTA(H$3:H259)-COUNTBLANK(H$3:H259),\"\"),\"\")","v":""},{"$f":"IF($C260=1,IF(WEEKDAY($K260)=I$1,1+COUNTA(I$3:I259)-COUNTBLANK(I$3:I259),\"\"),\"\")","v":24},{"$f":"IF($C260=1,IF(WEEKDAY($K260)=J$1,1+COUNTA(J$3:J259)-COUNTBLANK(J$3:J259),\"\"),\"\")","v":""},{"$f":"1+K259","v":"2019-05-04"}]
["2019-05-05",0,1,{"$f":"IF($C261=1,IF(WEEKDAY($K261)=D$1,1+COUNTA(D$3:D260)-COUNTBLANK(D$3:D260),\"\"),\"\")","v":""},{"$f":"IF($C261=1,IF(WEEKDAY($K261)=E$1,1+COUNTA(E$3:E260)-COUNTBLANK(E$3:E260),\"\"),\"\")","v":""},{"$f":"IF($C261=1,IF(WEEKDAY($K261)=F$1,1+COUNTA(F$3:F260)-COUNTBLANK(F$3:F260),\"\"),\"\")","v":""},{"$f":"IF($C261=1,IF(WEEKDAY($K261)=G$1,1+COUNTA(G$3:G260)-COUNTBLANK(G$3:G260),\"\"),\"\")","v":""},{"$f":"IF($C261=1,IF(WEEKDAY($K261)=H$1,1+COUNTA(H$3:H260)-COUNTBLANK(H$3:H260),\"\"),\"\")","v":""},{"$f":"IF($C261=1,IF(WEEKDAY($K261)=I$1,1+COUNTA(I$3:I260)-COUNTBLANK(I$3:I260),\"\"),\"\")","v":""},{"$f":"IF($C261=1,IF(WEEKDAY($K261)=J$1,1+COUNTA(J$3:J260)-COUNTBLANK(J$3:J260),\"\"),\"\")","v":24},"2019-05-05"]
["2019-05-06",1,1,{"$f":"IF($C262=1,IF(WEEKDAY($K262)=D$1,1+COUNTA(D$3:D261)-COUNTBLANK(D$3:D261),\"\"),\"\")","v":28},{"$f":"IF($C262=1,IF(WEEKDAY($K262)=E$1,1+COUNTA(E$3:E261)-COUNTBLANK(E$3:E261),\"\"),\"\")","v":""},{"$f":"IF($C262=1,IF(WEEKDAY($K262)=F$1,1+COUNTA(F$3:F261)-COUNTBLANK(F$3:F261),\"\"),\"\")","v":""},{"$f":"IF($C262=1,IF(WEEKDAY($K262)=G$1,1+COUNTA(G$3:G261)-COUNTBLANK(G$3:G261),\"\"),\"\")","v":""},{"$f":"IF($C262=1,IF(WEEKDAY($K262)=H$1,1+COUNTA(H$3:H261)-COUNTBLANK(H$3:H261),\"\"),\"\")","v":""},{"$f":"IF($C262=1,IF(WEEKDAY($K262)=I$1,1+COUNTA(I$3:I261)-COUNTBLANK(I$3:I261),\"\"),\"\")","v":""},{"$f":"IF($C262=1,IF(WEEKDAY($K262)=J$1,1+COUNTA(J$3:J261)-COUNTBLANK(J$3:J261),\"\"),\"\")","v":""},"2019-05-06"]
["2019-05-07",0,0,{"$f":"IF($C263=1,IF(WEEKDAY($K263)=D$1,1+COUNTA(D$3:D262)-COUNTBLANK(D$3:D262),\"\"),\"\")","v":""},{"$f":"IF($C263=1,IF(WEEKDAY($K263)=E$1,1+COUNTA(E$3:E262)-COUNTBLANK(E$3:E262),\"\"),\"\")","v":""},{"$f":"IF($C263=1,IF(WEEKDAY($K263)=F$1,1+COUNTA(F$3:F262)-COUNTBLANK(F$3:F262),\"\"),\"\")","v":""},{"$f":"IF($C263=1,IF(WEEKDAY($K263)=G$1,1+COUNTA(G$3:G262)-COUNTBLANK(G$3:G262),\"\"),\"\")","v":""},{"$f":"IF($C263=1,IF(WEEKDAY($K263)=H$1,1+COUNTA(H$3:H262)-COUNTBLANK(H$3:H262),\"\"),\"\")","v":""},{"$f":"IF($C263=1,IF(WEEKDAY($K263)=I$1,1+COUNTA(I$3:I262)-COUNTBLANK(I$3:I262),\"\"),\"\")","v":""},{"$f":"IF($C263=1,IF(WEEKDAY($K263)=J$1,1+COUNTA(J$3:J262)-COUNTBLANK(J$3:J262),\"\"),\"\")","v":""},"2019-05-07"]
["2019-05-08",0,0,{"$f":"IF($C264=1,IF(WEEKDAY($K264)=D$1,1+COUNTA(D$3:D263)-COUNTBLANK(D$3:D263),\"\"),\"\")","v":""},{"$f":"IF($C264=1,IF(WEEKDAY($K264)=E$1,1+COUNTA(E$3:E263)-COUNTBLANK(E$3:E263),\"\"),\"\")","v":""},{"$f":"IF($C264=1,IF(WEEKDAY($K264)=F$1,1+COUNTA(F$3:F263)-COUNTBLANK(F$3:F263),\"\"),\"\")","v":""},{"$f":"IF($C264=1,IF(WEEKDAY($K264)=G$1,1+COUNTA(G$3:G263)-COUNTBLANK(G$3:G263),\"\"),\"\")","v":""},{"$f":"IF($C264=1,IF(WEEKDAY($K264)=H$1,1+COUNTA(H$3:H263)-COUNTBLANK(H$3:H263),\"\"),\"\")","v":""},{"$f":"IF($C264=1,IF(WEEKDAY($K264)=I$1,1+COUNTA(I$3:I263)-COUNTBLANK(I$3:I263),\"\"),\"\")","v":""},{"$f":"IF($C264=1,IF(WEEKDAY($K264)=J$1,1+COUNTA(J$3:J263)-COUNTBLANK(J$3:J263),\"\"),\"\")","v":""},"2019-05-08"]
["2019-05-09",0,0,{"$f":"IF($C265=1,IF(WEEKDAY($K265)=D$1,1+COUNTA(D$3:D264)-COUNTBLANK(D$3:D264),\"\"),\"\")","v":""},{"$f":"IF($C265=1,IF(WEEKDAY($K265)=E$1,1+COUNTA(E$3:E264)-COUNTBLANK(E$3:E264),\"\"),\"\")","v":""},{"$f":"IF($C265=1,IF(WEEKDAY($K265)=F$1,1+COUNTA(F$3:F264)-COUNTBLANK(F$3:F264),\"\"),\"\")","v":""},{"$f":"IF($C265=1,IF(WEEKDAY($K265)=G$1,1+COUNTA(G$3:G264)-COUNTBLANK(G$3:G264),\"\"),\"\")","v":""},{"$f":"IF($C265=1,IF(WEEKDAY($K265)=H$1,1+COUNTA(H$3:H264)-COUNTBLANK(H$3:H264),\"\"),\"\")","v":""},{"$f":"IF($C265=1,IF(WEEKDAY($K265)=I$1,1+COUNTA(I$3:I264)-COUNTBLANK(I$3:I264),\"\"),\"\")","v":""},{"$f":"IF($C265=1,IF(WEEKDAY($K265)=J$1,1+COUNTA(J$3:J264)-COUNTBLANK(J$3:J264),\"\"),\"\")","v":""},"2019-05-09"]
["2019-05-10",0,0,{"$f":"IF($C266=1,IF(WEEKDAY($K266)=D$1,1+COUNTA(D$3:D265)-COUNTBLANK(D$3:D265),\"\"),\"\")","v":""},{"$f":"IF($C266=1,IF(WEEKDAY($K266)=E$1,1+COUNTA(E$3:E265)-COUNTBLANK(E$3:E265),\"\"),\"\")","v":""},{"$f":"IF($C266=1,IF(WEEKDAY($K266)=F$1,1+COUNTA(F$3:F265)-COUNTBLANK(F$3:F265),\"\"),\"\")","v":""},{"$f":"IF($C266=1,IF(WEEKDAY($K266)=G$1,1+COUNTA(G$3:G265)-COUNTBLANK(G$3:G265),\"\"),\"\")","v":""},{"$f":"IF($C266=1,IF(WEEKDAY($K266)=H$1,1+COUNTA(H$3:H265)-COUNTBLANK(H$3:H265),\"\"),\"\")","v":""},{"$f":"IF($C266=1,IF(WEEKDAY($K266)=I$1,1+COUNTA(I$3:I265)-COUNTBLANK(I$3:I265),\"\"),\"\")","v":""},{"$f":"IF($C266=1,IF(WEEKDAY($K266)=J$1,1+COUNTA(J$3:J265)-COUNTBLANK(J$3:J265),\"\"),\"\")","v":""},"2019-05-10"]
["2019-05-11",0,0,{"$f":"IF($C267=1,IF(WEEKDAY($K267)=D$1,1+COUNTA(D$3:D266)-COUNTBLANK(D$3:D266),\"\"),\"\")","v":""},{"$f":"IF($C267=1,IF(WEEKDAY($K267)=E$1,1+COUNTA(E$3:E266)-COUNTBLANK(E$3:E266),\"\"),\"\")","v":""},{"$f":"IF($C267=1,IF(WEEKDAY($K267)=F$1,1+COUNTA(F$3:F266)-COUNTBLANK(F$3:F266),\"\"),\"\")","v":""},{"$f":"IF($C267=1,IF(WEEKDAY($K267)=G$1,1+COUNTA(G$3:G266)-COUNTBLANK(G$3:G266),\"\"),\"\")","v":""},{"$f":"IF($C267=1,IF(WEEKDAY($K267)=H$1,1+COUNTA(H$3:H266)-COUNTBLANK(H$3:H266),\"\"),\"\")","v":""},{"$f":"IF($C267=1,IF(WEEKDAY($K267)=I$1,1+COUNTA(I$3:I266)-COUNTBLANK(I$3:I266),\"\"),\"\")","v":""},{"$f":"IF($C267=1,IF(WEEKDAY($K267)=J$1,1+COUNTA(J$3:J266)-COUNTBLANK(J$3:J266),\"\"),\"\")","v":""},"2019-05-11"]
["2019-05-12",0,0,{"$f":"IF($C268=1,IF(WEEKDAY($K268)=D$1,1+COUNTA(D$3:D267)-COUNTBLANK(D$3:D267),\"\"),\"\")","v":""},{"$f":"IF($C268=1,IF(WEEKDAY($K268)=E$1,1+COUNTA(E$3:E267)-COUNTBLANK(E$3:E267),\"\"),\"\")","v":""},{"$f":"IF($C268=1,IF(WEEKDAY($K268)=F$1,1+COUNTA(F$3:F267)-COUNTBLANK(F$3:F267),\"\"),\"\")","v":""},{"$f":"IF($C268=1,IF(WEEKDAY($K268)=G$1,1+COUNTA(G$3:G267)-COUNTBLANK(G$3:G267),\"\"),\"\")","v":""},{"$f":"IF($C268=1,IF(WEEKDAY($K268)=H$1,1+COUNTA(H$3:H267)-COUNTBLANK(H$3:H267),\"\"),\"\")","v":""},{"$f":"IF($C268=1,IF(WEEKDAY($K268)=I$1,1+COUNTA(I$3:I267)-COUNTBLANK(I$3:I267),\"\"),\"\")","v":""},{"$f":"IF($C268=1,IF(WEEKDAY($K268)=J$1,1+COUNTA(J$3:J267)-COUNTBLANK(J$3:J267),\"\"),\"\")","v":""},"2019-05-12"]
["2019-05-13",0,0,{"$f":"IF($C269=1,IF(WEEKDAY($K269)=D$1,1+COUNTA(D$3:D268)-COUNTBLANK(D$3:D268),\"\"),\"\")","v":""},{"$f":"IF($C269=1,IF(WEEKDAY($K269)=E$1,1+COUNTA(E$3:E268)-COUNTBLANK(E$3:E268),\"\"),\"\")","v":""},{"$f":"IF($C269=1,IF(WEEKDAY($K269)=F$1,1+COUNTA(F$3:F268)-COUNTBLANK(F$3:F268),\"\"),\"\")","v":""},{"$f":"IF($C269=1,IF(WEEKDAY($K269)=G$1,1+COUNTA(G$3:G268)-COUNTBLANK(G$3:G268),\"\"),\"\")","v":""},{"$f":"IF($C269=1,IF(WEEKDAY($K269)=H$1,1+COUNTA(H$3:H268)-COUNTBLANK(H$3:H268),\"\"),\"\")","v":""},{"$f":"IF($C269=1,IF(WEEKDAY($K269)=I$1,1+COUNTA(I$3:I268)-COUNTBLANK(I$3:I268),\"\"),\"\")","v":""},{"$f":"IF($C269=1,IF(WEEKDAY($K269)=J$1,1+COUNTA(J$3:J268)-COUNTBLANK(J$3:J268),\"\"),\"\")","v":""},"2019-05-13"]
["2019-05-14",0,0,{"$f":"IF($C270=1,IF(WEEKDAY($K270)=D$1,1+COUNTA(D$3:D269)-COUNTBLANK(D$3:D269),\"\"),\"\")","v":""},{"$f":"IF($C270=1,IF(WEEKDAY($K270)=E$1,1+COUNTA(E$3:E269)-COUNTBLANK(E$3:E269),\"\"),\"\")","v":""},{"$f":"IF($C270=1,IF(WEEKDAY($K270)=F$1,1+COUNTA(F$3:F269)-COUNTBLANK(F$3:F269),\"\"),\"\")","v":""},{"$f":"IF($C270=1,IF(WEEKDAY($K270)=G$1,1+COUNTA(G$3:G269)-COUNTBLANK(G$3:G269),\"\"),\"\")","v":""},{"$f":"IF($C270=1,IF(WEEKDAY($K270)=H$1,1+COUNTA(H$3:H269)-COUNTBLANK(H$3:H269),\"\"),\"\")","v":""},{"$f":"IF($C270=1,IF(WEEKDAY($K270)=I$1,1+COUNTA(I$3:I269)-COUNTBLANK(I$3:I269),\"\"),\"\")","v":""},{"$f":"IF($C270=1,IF(WEEKDAY($K270)=J$1,1+COUNTA(J$3:J269)-COUNTBLANK(J$3:J269),\"\"),\"\")","v":""},"2019-05-14"]
["2019-05-15",0,0,{"$f":"IF($C271=1,IF(WEEKDAY($K271)=D$1,1+COUNTA(D$3:D270)-COUNTBLANK(D$3:D270),\"\"),\"\")","v":""},{"$f":"IF($C271=1,IF(WEEKDAY($K271)=E$1,1+COUNTA(E$3:E270)-COUNTBLANK(E$3:E270),\"\"),\"\")","v":""},{"$f":"IF($C271=1,IF(WEEKDAY($K271)=F$1,1+COUNTA(F$3:F270)-COUNTBLANK(F$3:F270),\"\"),\"\")","v":""},{"$f":"IF($C271=1,IF(WEEKDAY($K271)=G$1,1+COUNTA(G$3:G270)-COUNTBLANK(G$3:G270),\"\"),\"\")","v":""},{"$f":"IF($C271=1,IF(WEEKDAY($K271)=H$1,1+COUNTA(H$3:H270)-COUNTBLANK(H$3:H270),\"\"),\"\")","v":""},{"$f":"IF($C271=1,IF(WEEKDAY($K271)=I$1,1+COUNTA(I$3:I270)-COUNTBLANK(I$3:I270),\"\"),\"\")","v":""},{"$f":"IF($C271=1,IF(WEEKDAY($K271)=J$1,1+COUNTA(J$3:J270)-COUNTBLANK(J$3:J270),\"\"),\"\")","v":""},"2019-05-15"]
["2019-05-16",0,0,{"$f":"IF($C272=1,IF(WEEKDAY($K272)=D$1,1+COUNTA(D$3:D271)-COUNTBLANK(D$3:D271),\"\"),\"\")","v":""},{"$f":"IF($C272=1,IF(WEEKDAY($K272)=E$1,1+COUNTA(E$3:E271)-COUNTBLANK(E$3:E271),\"\"),\"\")","v":""},{"$f":"IF($C272=1,IF(WEEKDAY($K272)=F$1,1+COUNTA(F$3:F271)-COUNTBLANK(F$3:F271),\"\"),\"\")","v":""},{"$f":"IF($C272=1,IF(WEEKDAY($K272)=G$1,1+COUNTA(G$3:G271)-COUNTBLANK(G$3:G271),\"\"),\"\")","v":""},{"$f":"IF($C272=1,IF(WEEKDAY($K272)=H$1,1+COUNTA(H$3:H271)-COUNTBLANK(H$3:H271),\"\"),\"\")","v":""},{"$f":"IF($C272=1,IF(WEEKDAY($K272)=I$1,1+COUNTA(I$3:I271)-COUNTBLANK(I$3:I271),\"\"),\"\")","v":""},{"$f":"IF($C272=1,IF(WEEKDAY($K272)=J$1,1+COUNTA(J$3:J271)-COUNTBLANK(J$3:J271),\"\"),\"\")","v":""},"2019-05-16"]
["2019-05-17",0,0,{"$f":"IF($C273=1,IF(WEEKDAY($K273)=D$1,1+COUNTA(D$3:D272)-COUNTBLANK(D$3:D272),\"\"),\"\")","v":""},{"$f":"IF($C273=1,IF(WEEKDAY($K273)=E$1,1+COUNTA(E$3:E272)-COUNTBLANK(E$3:E272),\"\"),\"\")","v":""},{"$f":"IF($C273=1,IF(WEEKDAY($K273)=F$1,1+COUNTA(F$3:F272)-COUNTBLANK(F$3:F272),\"\"),\"\")","v":""},{"$f":"IF($C273=1,IF(WEEKDAY($K273)=G$1,1+COUNTA(G$3:G272)-COUNTBLANK(G$3:G272),\"\"),\"\")","v":""},{"$f":"IF($C273=1,IF(WEEKDAY($K273)=H$1,1+COUNTA(H$3:H272)-COUNTBLANK(H$3:H272),\"\"),\"\")","v":""},{"$f":"IF($C273=1,IF(WEEKDAY($K273)=I$1,1+COUNTA(I$3:I272)-COUNTBLANK(I$3:I272),\"\"),\"\")","v":""},{"$f":"IF($C273=1,IF(WEEKDAY($K273)=J$1,1+COUNTA(J$3:J272)-COUNTBLANK(J$3:J272),\"\"),\"\")","v":""},"2019-05-17"]
["2019-05-18",0,0,{"$f":"IF($C274=1,IF(WEEKDAY($K274)=D$1,1+COUNTA(D$3:D273)-COUNTBLANK(D$3:D273),\"\"),\"\")","v":""},{"$f":"IF($C274=1,IF(WEEKDAY($K274)=E$1,1+COUNTA(E$3:E273)-COUNTBLANK(E$3:E273),\"\"),\"\")","v":""},{"$f":"IF($C274=1,IF(WEEKDAY($K274)=F$1,1+COUNTA(F$3:F273)-COUNTBLANK(F$3:F273),\"\"),\"\")","v":""},{"$f":"IF($C274=1,IF(WEEKDAY($K274)=G$1,1+COUNTA(G$3:G273)-COUNTBLANK(G$3:G273),\"\"),\"\")","v":""},{"$f":"IF($C274=1,IF(WEEKDAY($K274)=H$1,1+COUNTA(H$3:H273)-COUNTBLANK(H$3:H273),\"\"),\"\")","v":""},{"$f":"IF($C274=1,IF(WEEKDAY($K274)=I$1,1+COUNTA(I$3:I273)-COUNTBLANK(I$3:I273),\"\"),\"\")","v":""},{"$f":"IF($C274=1,IF(WEEKDAY($K274)=J$1,1+COUNTA(J$3:J273)-COUNTBLANK(J$3:J273),\"\"),\"\")","v":""},"2019-05-18"]
["2019-05-19",0,0,{"$f":"IF($C275=1,IF(WEEKDAY($K275)=D$1,1+COUNTA(D$3:D274)-COUNTBLANK(D$3:D274),\"\"),\"\")","v":""},{"$f":"IF($C275=1,IF(WEEKDAY($K275)=E$1,1+COUNTA(E$3:E274)-COUNTBLANK(E$3:E274),\"\"),\"\")","v":""},{"$f":"IF($C275=1,IF(WEEKDAY($K275)=F$1,1+COUNTA(F$3:F274)-COUNTBLANK(F$3:F274),\"\"),\"\")","v":""},{"$f":"IF($C275=1,IF(WEEKDAY($K275)=G$1,1+COUNTA(G$3:G274)-COUNTBLANK(G$3:G274),\"\"),\"\")","v":""},{"$f":"IF($C275=1,IF(WEEKDAY($K275)=H$1,1+COUNTA(H$3:H274)-COUNTBLANK(H$3:H274),\"\"),\"\")","v":""},{"$f":"IF($C275=1,IF(WEEKDAY($K275)=I$1,1+COUNTA(I$3:I274)-COUNTBLANK(I$3:I274),\"\"),\"\")","v":""},{"$f":"IF($C275=1,IF(WEEKDAY($K275)=J$1,1+COUNTA(J$3:J274)-COUNTBLANK(J$3:J274),\"\"),\"\")","v":""},"2019-05-19"]
["2019-05-20",1,1,{"$f":"IF($C276=1,IF(WEEKDAY($K276)=D$1,1+COUNTA(D$3:D275)-COUNTBLANK(D$3:D275),\"\"),\"\")","v":29},{"$f":"IF($C276=1,IF(WEEKDAY($K276)=E$1,1+COUNTA(E$3:E275)-COUNTBLANK(E$3:E275),\"\"),\"\")","v":""},{"$f":"IF($C276=1,IF(WEEKDAY($K276)=F$1,1+COUNTA(F$3:F275)-COUNTBLANK(F$3:F275),\"\"),\"\")","v":""},{"$f":"IF($C276=1,IF(WEEKDAY($K276)=G$1,1+COUNTA(G$3:G275)-COUNTBLANK(G$3:G275),\"\"),\"\")","v":""},{"$f":"IF($C276=1,IF(WEEKDAY($K276)=H$1,1+COUNTA(H$3:H275)-COUNTBLANK(H$3:H275),\"\"),\"\")","v":""},{"$f":"IF($C276=1,IF(WEEKDAY($K276)=I$1,1+COUNTA(I$3:I275)-COUNTBLANK(I$3:I275),\"\"),\"\")","v":""},{"$f":"IF($C276=1,IF(WEEKDAY($K276)=J$1,1+COUNTA(J$3:J275)-COUNTBLANK(J$3:J275),\"\"),\"\")","v":""},"2019-05-20"]
["2019-05-21",1,1,{"$f":"IF($C277=1,IF(WEEKDAY($K277)=D$1,1+COUNTA(D$3:D276)-COUNTBLANK(D$3:D276),\"\"),\"\")","v":""},{"$f":"IF($C277=1,IF(WEEKDAY($K277)=E$1,1+COUNTA(E$3:E276)-COUNTBLANK(E$3:E276),\"\"),\"\")","v":29},{"$f":"IF($C277=1,IF(WEEKDAY($K277)=F$1,1+COUNTA(F$3:F276)-COUNTBLANK(F$3:F276),\"\"),\"\")","v":""},{"$f":"IF($C277=1,IF(WEEKDAY($K277)=G$1,1+COUNTA(G$3:G276)-COUNTBLANK(G$3:G276),\"\"),\"\")","v":""},{"$f":"IF($C277=1,IF(WEEKDAY($K277)=H$1,1+COUNTA(H$3:H276)-COUNTBLANK(H$3:H276),\"\"),\"\")","v":""},{"$f":"IF($C277=1,IF(WEEKDAY($K277)=I$1,1+COUNTA(I$3:I276)-COUNTBLANK(I$3:I276),\"\"),\"\")","v":""},{"$f":"IF($C277=1,IF(WEEKDAY($K277)=J$1,1+COUNTA(J$3:J276)-COUNTBLANK(J$3:J276),\"\"),\"\")","v":""},"2019-05-21"]
["2019-05-22",1,1,{"$f":"IF($C278=1,IF(WEEKDAY($K278)=D$1,1+COUNTA(D$3:D277)-COUNTBLANK(D$3:D277),\"\"),\"\")","v":""},{"$f":"IF($C278=1,IF(WEEKDAY($K278)=E$1,1+COUNTA(E$3:E277)-COUNTBLANK(E$3:E277),\"\"),\"\")","v":""},{"$f":"IF($C278=1,IF(WEEKDAY($K278)=F$1,1+COUNTA(F$3:F277)-COUNTBLANK(F$3:F277),\"\"),\"\")","v":28},{"$f":"IF($C278=1,IF(WEEKDAY($K278)=G$1,1+COUNTA(G$3:G277)-COUNTBLANK(G$3:G277),\"\"),\"\")","v":""},{"$f":"IF($C278=1,IF(WEEKDAY($K278)=H$1,1+COUNTA(H$3:H277)-COUNTBLANK(H$3:H277),\"\"),\"\")","v":""},{"$f":"IF($C278=1,IF(WEEKDAY($K278)=I$1,1+COUNTA(I$3:I277)-COUNTBLANK(I$3:I277),\"\"),\"\")","v":""},{"$f":"IF($C278=1,IF(WEEKDAY($K278)=J$1,1+COUNTA(J$3:J277)-COUNTBLANK(J$3:J277),\"\"),\"\")","v":""},"2019-05-22"]
["2019-05-23",1,1,{"$f":"IF($C279=1,IF(WEEKDAY($K279)=D$1,1+COUNTA(D$3:D278)-COUNTBLANK(D$3:D278),\"\"),\"\")","v":""},{"$f":"IF($C279=1,IF(WEEKDAY($K279)=E$1,1+COUNTA(E$3:E278)-COUNTBLANK(E$3:E278),\"\"),\"\")","v":""},{"$f":"IF($C279=1,IF(WEEKDAY($K279)=F$1,1+COUNTA(F$3:F278)-COUNTBLANK(F$3:F278),\"\"),\"\")","v":""},{"$f":"IF($C279=1,IF(WEEKDAY($K279)=G$1,1+COUNTA(G$3:G278)-COUNTBLANK(G$3:G278),\"\"),\"\")","v":27},{"$f":"IF($C279=1,IF(WEEKDAY($K279)=H$1,1+COUNTA(H$3:H278)-COUNTBLANK(H$3:H278),\"\"),\"\")","v":""},{"$f":"IF($C279=1,IF(WEEKDAY($K279)=I$1,1+COUNTA(I$3:I278)-COUNTBLANK(I$3:I278),\"\"),\"\")","v":""},{"$f":"IF($C279=1,IF(WEEKDAY($K279)=J$1,1+COUNTA(J$3:J278)-COUNTBLANK(J$3:J278),\"\"),\"\")","v":""},"2019-05-23"]
["2019-05-24",1,1,{"$f":"IF($C280=1,IF(WEEKDAY($K280)=D$1,1+COUNTA(D$3:D279)-COUNTBLANK(D$3:D279),\"\"),\"\")","v":""},{"$f":"IF($C280=1,IF(WEEKDAY($K280)=E$1,1+COUNTA(E$3:E279)-COUNTBLANK(E$3:E279),\"\"),\"\")","v":""},{"$f":"IF($C280=1,IF(WEEKDAY($K280)=F$1,1+COUNTA(F$3:F279)-COUNTBLANK(F$3:F279),\"\"),\"\")","v":""},{"$f":"IF($C280=1,IF(WEEKDAY($K280)=G$1,1+COUNTA(G$3:G279)-COUNTBLANK(G$3:G279),\"\"),\"\")","v":""},{"$f":"IF($C280=1,IF(WEEKDAY($K280)=H$1,1+COUNTA(H$3:H279)-COUNTBLANK(H$3:H279),\"\"),\"\")","v":29},{"$f":"IF($C280=1,IF(WEEKDAY($K280)=I$1,1+COUNTA(I$3:I279)-COUNTBLANK(I$3:I279),\"\"),\"\")","v":""},{"$f":"IF($C280=1,IF(WEEKDAY($K280)=J$1,1+COUNTA(J$3:J279)-COUNTBLANK(J$3:J279),\"\"),\"\")","v":""},"2019-05-24"]
["2019-05-25",0,1,{"$f":"IF($C281=1,IF(WEEKDAY($K281)=D$1,1+COUNTA(D$3:D280)-COUNTBLANK(D$3:D280),\"\"),\"\")","v":""},{"$f":"IF($C281=1,IF(WEEKDAY($K281)=E$1,1+COUNTA(E$3:E280)-COUNTBLANK(E$3:E280),\"\"),\"\")","v":""},{"$f":"IF($C281=1,IF(WEEKDAY($K281)=F$1,1+COUNTA(F$3:F280)-COUNTBLANK(F$3:F280),\"\"),\"\")","v":""},{"$f":"IF($C281=1,IF(WEEKDAY($K281)=G$1,1+COUNTA(G$3:G280)-COUNTBLANK(G$3:G280),\"\"),\"\")","v":""},{"$f":"IF($C281=1,IF(WEEKDAY($K281)=H$1,1+COUNTA(H$3:H280)-COUNTBLANK(H$3:H280),\"\"),\"\")","v":""},{"$f":"IF($C281=1,IF(WEEKDAY($K281)=I$1,1+COUNTA(I$3:I280)-COUNTBLANK(I$3:I280),\"\"),\"\")","v":25},{"$f":"IF($C281=1,IF(WEEKDAY($K281)=J$1,1+COUNTA(J$3:J280)-COUNTBLANK(J$3:J280),\"\"),\"\")","v":""},"2019-05-25"]
["2019-05-26",0,1,{"$f":"IF($C282=1,IF(WEEKDAY($K282)=D$1,1+COUNTA(D$3:D281)-COUNTBLANK(D$3:D281),\"\"),\"\")","v":""},{"$f":"IF($C282=1,IF(WEEKDAY($K282)=E$1,1+COUNTA(E$3:E281)-COUNTBLANK(E$3:E281),\"\"),\"\")","v":""},{"$f":"IF($C282=1,IF(WEEKDAY($K282)=F$1,1+COUNTA(F$3:F281)-COUNTBLANK(F$3:F281),\"\"),\"\")","v":""},{"$f":"IF($C282=1,IF(WEEKDAY($K282)=G$1,1+COUNTA(G$3:G281)-COUNTBLANK(G$3:G281),\"\"),\"\")","v":""},{"$f":"IF($C282=1,IF(WEEKDAY($K282)=H$1,1+COUNTA(H$3:H281)-COUNTBLANK(H$3:H281),\"\"),\"\")","v":""},{"$f":"IF($C282=1,IF(WEEKDAY($K282)=I$1,1+COUNTA(I$3:I281)-COUNTBLANK(I$3:I281),\"\"),\"\")","v":""},{"$f":"IF($C282=1,IF(WEEKDAY($K282)=J$1,1+COUNTA(J$3:J281)-COUNTBLANK(J$3:J281),\"\"),\"\")","v":25},"2019-05-26"]
["2019-05-27",1,1,{"$f":"IF($C283=1,IF(WEEKDAY($K283)=D$1,1+COUNTA(D$3:D282)-COUNTBLANK(D$3:D282),\"\"),\"\")","v":30},{"$f":"IF($C283=1,IF(WEEKDAY($K283)=E$1,1+COUNTA(E$3:E282)-COUNTBLANK(E$3:E282),\"\"),\"\")","v":""},{"$f":"IF($C283=1,IF(WEEKDAY($K283)=F$1,1+COUNTA(F$3:F282)-COUNTBLANK(F$3:F282),\"\"),\"\")","v":""},{"$f":"IF($C283=1,IF(WEEKDAY($K283)=G$1,1+COUNTA(G$3:G282)-COUNTBLANK(G$3:G282),\"\"),\"\")","v":""},{"$f":"IF($C283=1,IF(WEEKDAY($K283)=H$1,1+COUNTA(H$3:H282)-COUNTBLANK(H$3:H282),\"\"),\"\")","v":""},{"$f":"IF($C283=1,IF(WEEKDAY($K283)=I$1,1+COUNTA(I$3:I282)-COUNTBLANK(I$3:I282),\"\"),\"\")","v":""},{"$f":"IF($C283=1,IF(WEEKDAY($K283)=J$1,1+COUNTA(J$3:J282)-COUNTBLANK(J$3:J282),\"\"),\"\")","v":""},"2019-05-27"]
["2019-05-28",1,1,{"$f":"IF($C284=1,IF(WEEKDAY($K284)=D$1,1+COUNTA(D$3:D283)-COUNTBLANK(D$3:D283),\"\"),\"\")","v":""},{"$f":"IF($C284=1,IF(WEEKDAY($K284)=E$1,1+COUNTA(E$3:E283)-COUNTBLANK(E$3:E283),\"\"),\"\")","v":30},{"$f":"IF($C284=1,IF(WEEKDAY($K284)=F$1,1+COUNTA(F$3:F283)-COUNTBLANK(F$3:F283),\"\"),\"\")","v":""},{"$f":"IF($C284=1,IF(WEEKDAY($K284)=G$1,1+COUNTA(G$3:G283)-COUNTBLANK(G$3:G283),\"\"),\"\")","v":""},{"$f":"IF($C284=1,IF(WEEKDAY($K284)=H$1,1+COUNTA(H$3:H283)-COUNTBLANK(H$3:H283),\"\"),\"\")","v":""},{"$f":"IF($C284=1,IF(WEEKDAY($K284)=I$1,1+COUNTA(I$3:I283)-COUNTBLANK(I$3:I283),\"\"),\"\")","v":""},{"$f":"IF($C284=1,IF(WEEKDAY($K284)=J$1,1+COUNTA(J$3:J283)-COUNTBLANK(J$3:J283),\"\"),\"\")","v":""},"2019-05-28"]
["2019-05-29",1,1,{"$f":"IF($C285=1,IF(WEEKDAY($K285)=D$1,1+COUNTA(D$3:D284)-COUNTBLANK(D$3:D284),\"\"),\"\")","v":""},{"$f":"IF($C285=1,IF(WEEKDAY($K285)=E$1,1+COUNTA(E$3:E284)-COUNTBLANK(E$3:E284),\"\"),\"\")","v":""},{"$f":"IF($C285=1,IF(WEEKDAY($K285)=F$1,1+COUNTA(F$3:F284)-COUNTBLANK(F$3:F284),\"\"),\"\")","v":29},{"$f":"IF($C285=1,IF(WEEKDAY($K285)=G$1,1+COUNTA(G$3:G284)-COUNTBLANK(G$3:G284),\"\"),\"\")","v":""},{"$f":"IF($C285=1,IF(WEEKDAY($K285)=H$1,1+COUNTA(H$3:H284)-COUNTBLANK(H$3:H284),\"\"),\"\")","v":""},{"$f":"IF($C285=1,IF(WEEKDAY($K285)=I$1,1+COUNTA(I$3:I284)-COUNTBLANK(I$3:I284),\"\"),\"\")","v":""},{"$f":"IF($C285=1,IF(WEEKDAY($K285)=J$1,1+COUNTA(J$3:J284)-COUNTBLANK(J$3:J284),\"\"),\"\")","v":""},"2019-05-29"]
["2019-05-30",0,0,{"$f":"IF($C286=1,IF(WEEKDAY($K286)=D$1,1+COUNTA(D$3:D285)-COUNTBLANK(D$3:D285),\"\"),\"\")","v":""},{"$f":"IF($C286=1,IF(WEEKDAY($K286)=E$1,1+COUNTA(E$3:E285)-COUNTBLANK(E$3:E285),\"\"),\"\")","v":""},{"$f":"IF($C286=1,IF(WEEKDAY($K286)=F$1,1+COUNTA(F$3:F285)-COUNTBLANK(F$3:F285),\"\"),\"\")","v":""},{"$f":"IF($C286=1,IF(WEEKDAY($K286)=G$1,1+COUNTA(G$3:G285)-COUNTBLANK(G$3:G285),\"\"),\"\")","v":""},{"$f":"IF($C286=1,IF(WEEKDAY($K286)=H$1,1+COUNTA(H$3:H285)-COUNTBLANK(H$3:H285),\"\"),\"\")","v":""},{"$f":"IF($C286=1,IF(WEEKDAY($K286)=I$1,1+COUNTA(I$3:I285)-COUNTBLANK(I$3:I285),\"\"),\"\")","v":""},{"$f":"IF($C286=1,IF(WEEKDAY($K286)=J$1,1+COUNTA(J$3:J285)-COUNTBLANK(J$3:J285),\"\"),\"\")","v":""},"2019-05-30"]
["2019-05-31",1,1,{"$f":"IF($C287=1,IF(WEEKDAY($K287)=D$1,1+COUNTA(D$3:D286)-COUNTBLANK(D$3:D286),\"\"),\"\")","v":""},{"$f":"IF($C287=1,IF(WEEKDAY($K287)=E$1,1+COUNTA(E$3:E286)-COUNTBLANK(E$3:E286),\"\"),\"\")","v":""},{"$f":"IF($C287=1,IF(WEEKDAY($K287)=F$1,1+COUNTA(F$3:F286)-COUNTBLANK(F$3:F286),\"\"),\"\")","v":""},{"$f":"IF($C287=1,IF(WEEKDAY($K287)=G$1,1+COUNTA(G$3:G286)-COUNTBLANK(G$3:G286),\"\"),\"\")","v":""},{"$f":"IF($C287=1,IF(WEEKDAY($K287)=H$1,1+COUNTA(H$3:H286)-COUNTBLANK(H$3:H286),\"\"),\"\")","v":30},{"$f":"IF($C287=1,IF(WEEKDAY($K287)=I$1,1+COUNTA(I$3:I286)-COUNTBLANK(I$3:I286),\"\"),\"\")","v":""},{"$f":"IF($C287=1,IF(WEEKDAY($K287)=J$1,1+COUNTA(J$3:J286)-COUNTBLANK(J$3:J286),\"\"),\"\")","v":""},"2019-05-31"]
["2019-06-01",0,1,{"$f":"IF($C288=1,IF(WEEKDAY($K288)=D$1,1+COUNTA(D$3:D287)-COUNTBLANK(D$3:D287),\"\"),\"\")","v":""},{"$f":"IF($C288=1,IF(WEEKDAY($K288)=E$1,1+COUNTA(E$3:E287)-COUNTBLANK(E$3:E287),\"\"),\"\")","v":""},{"$f":"IF($C288=1,IF(WEEKDAY($K288)=F$1,1+COUNTA(F$3:F287)-COUNTBLANK(F$3:F287),\"\"),\"\")","v":""},{"$f":"IF($C288=1,IF(WEEKDAY($K288)=G$1,1+COUNTA(G$3:G287)-COUNTBLANK(G$3:G287),\"\"),\"\")","v":""},{"$f":"IF($C288=1,IF(WEEKDAY($K288)=H$1,1+COUNTA(H$3:H287)-COUNTBLANK(H$3:H287),\"\"),\"\")","v":""},{"$f":"IF($C288=1,IF(WEEKDAY($K288)=I$1,1+COUNTA(I$3:I287)-COUNTBLANK(I$3:I287),\"\"),\"\")","v":26},{"$f":"IF($C288=1,IF(WEEKDAY($K288)=J$1,1+COUNTA(J$3:J287)-COUNTBLANK(J$3:J287),\"\"),\"\")","v":""},"2019-06-01"]
["2019-06-02",0,1,{"$f":"IF($C289=1,IF(WEEKDAY($K289)=D$1,1+COUNTA(D$3:D288)-COUNTBLANK(D$3:D288),\"\"),\"\")","v":""},{"$f":"IF($C289=1,IF(WEEKDAY($K289)=E$1,1+COUNTA(E$3:E288)-COUNTBLANK(E$3:E288),\"\"),\"\")","v":""},{"$f":"IF($C289=1,IF(WEEKDAY($K289)=F$1,1+COUNTA(F$3:F288)-COUNTBLANK(F$3:F288),\"\"),\"\")","v":""},{"$f":"IF($C289=1,IF(WEEKDAY($K289)=G$1,1+COUNTA(G$3:G288)-COUNTBLANK(G$3:G288),\"\"),\"\")","v":""},{"$f":"IF($C289=1,IF(WEEKDAY($K289)=H$1,1+COUNTA(H$3:H288)-COUNTBLANK(H$3:H288),\"\"),\"\")","v":""},{"$f":"IF($C289=1,IF(WEEKDAY($K289)=I$1,1+COUNTA(I$3:I288)-COUNTBLANK(I$3:I288),\"\"),\"\")","v":""},{"$f":"IF($C289=1,IF(WEEKDAY($K289)=J$1,1+COUNTA(J$3:J288)-COUNTBLANK(J$3:J288),\"\"),\"\")","v":26},"2019-06-02"]
["2019-06-03",1,1,{"$f":"IF($C290=1,IF(WEEKDAY($K290)=D$1,1+COUNTA(D$3:D289)-COUNTBLANK(D$3:D289),\"\"),\"\")","v":31},{"$f":"IF($C290=1,IF(WEEKDAY($K290)=E$1,1+COUNTA(E$3:E289)-COUNTBLANK(E$3:E289),\"\"),\"\")","v":""},{"$f":"IF($C290=1,IF(WEEKDAY($K290)=F$1,1+COUNTA(F$3:F289)-COUNTBLANK(F$3:F289),\"\"),\"\")","v":""},{"$f":"IF($C290=1,IF(WEEKDAY($K290)=G$1,1+COUNTA(G$3:G289)-COUNTBLANK(G$3:G289),\"\"),\"\")","v":""},{"$f":"IF($C290=1,IF(WEEKDAY($K290)=H$1,1+COUNTA(H$3:H289)-COUNTBLANK(H$3:H289),\"\"),\"\")","v":""},{"$f":"IF($C290=1,IF(WEEKDAY($K290)=I$1,1+COUNTA(I$3:I289)-COUNTBLANK(I$3:I289),\"\"),\"\")","v":""},{"$f":"IF($C290=1,IF(WEEKDAY($K290)=J$1,1+COUNTA(J$3:J289)-COUNTBLANK(J$3:J289),\"\"),\"\")","v":""},"2019-06-03"]
["2019-06-04",1,1,{"$f":"IF($C291=1,IF(WEEKDAY($K291)=D$1,1+COUNTA(D$3:D290)-COUNTBLANK(D$3:D290),\"\"),\"\")","v":""},{"$f":"IF($C291=1,IF(WEEKDAY($K291)=E$1,1+COUNTA(E$3:E290)-COUNTBLANK(E$3:E290),\"\"),\"\")","v":31},{"$f":"IF($C291=1,IF(WEEKDAY($K291)=F$1,1+COUNTA(F$3:F290)-COUNTBLANK(F$3:F290),\"\"),\"\")","v":""},{"$f":"IF($C291=1,IF(WEEKDAY($K291)=G$1,1+COUNTA(G$3:G290)-COUNTBLANK(G$3:G290),\"\"),\"\")","v":""},{"$f":"IF($C291=1,IF(WEEKDAY($K291)=H$1,1+COUNTA(H$3:H290)-COUNTBLANK(H$3:H290),\"\"),\"\")","v":""},{"$f":"IF($C291=1,IF(WEEKDAY($K291)=I$1,1+COUNTA(I$3:I290)-COUNTBLANK(I$3:I290),\"\"),\"\")","v":""},{"$f":"IF($C291=1,IF(WEEKDAY($K291)=J$1,1+COUNTA(J$3:J290)-COUNTBLANK(J$3:J290),\"\"),\"\")","v":""},"2019-06-04"]
["2019-06-05",1,1,{"$f":"IF($C292=1,IF(WEEKDAY($K292)=D$1,1+COUNTA(D$3:D291)-COUNTBLANK(D$3:D291),\"\"),\"\")","v":""},{"$f":"IF($C292=1,IF(WEEKDAY($K292)=E$1,1+COUNTA(E$3:E291)-COUNTBLANK(E$3:E291),\"\"),\"\")","v":""},{"$f":"IF($C292=1,IF(WEEKDAY($K292)=F$1,1+COUNTA(F$3:F291)-COUNTBLANK(F$3:F291),\"\"),\"\")","v":30},{"$f":"IF($C292=1,IF(WEEKDAY($K292)=G$1,1+COUNTA(G$3:G291)-COUNTBLANK(G$3:G291),\"\"),\"\")","v":""},{"$f":"IF($C292=1,IF(WEEKDAY($K292)=H$1,1+COUNTA(H$3:H291)-COUNTBLANK(H$3:H291),\"\"),\"\")","v":""},{"$f":"IF($C292=1,IF(WEEKDAY($K292)=I$1,1+COUNTA(I$3:I291)-COUNTBLANK(I$3:I291),\"\"),\"\")","v":""},{"$f":"IF($C292=1,IF(WEEKDAY($K292)=J$1,1+COUNTA(J$3:J291)-COUNTBLANK(J$3:J291),\"\"),\"\")","v":""},"2019-06-05"]
["2019-06-06",1,1,{"$f":"IF($C293=1,IF(WEEKDAY($K293)=D$1,1+COUNTA(D$3:D292)-COUNTBLANK(D$3:D292),\"\"),\"\")","v":""},{"$f":"IF($C293=1,IF(WEEKDAY($K293)=E$1,1+COUNTA(E$3:E292)-COUNTBLANK(E$3:E292),\"\"),\"\")","v":""},{"$f":"IF($C293=1,IF(WEEKDAY($K293)=F$1,1+COUNTA(F$3:F292)-COUNTBLANK(F$3:F292),\"\"),\"\")","v":""},{"$f":"IF($C293=1,IF(WEEKDAY($K293)=G$1,1+COUNTA(G$3:G292)-COUNTBLANK(G$3:G292),\"\"),\"\")","v":28},{"$f":"IF($C293=1,IF(WEEKDAY($K293)=H$1,1+COUNTA(H$3:H292)-COUNTBLANK(H$3:H292),\"\"),\"\")","v":""},{"$f":"IF($C293=1,IF(WEEKDAY($K293)=I$1,1+COUNTA(I$3:I292)-COUNTBLANK(I$3:I292),\"\"),\"\")","v":""},{"$f":"IF($C293=1,IF(WEEKDAY($K293)=J$1,1+COUNTA(J$3:J292)-COUNTBLANK(J$3:J292),\"\"),\"\")","v":""},"2019-06-06"]
["2019-06-07",1,1,{"$f":"IF($C294=1,IF(WEEKDAY($K294)=D$1,1+COUNTA(D$3:D293)-COUNTBLANK(D$3:D293),\"\"),\"\")","v":""},{"$f":"IF($C294=1,IF(WEEKDAY($K294)=E$1,1+COUNTA(E$3:E293)-COUNTBLANK(E$3:E293),\"\"),\"\")","v":""},{"$f":"IF($C294=1,IF(WEEKDAY($K294)=F$1,1+COUNTA(F$3:F293)-COUNTBLANK(F$3:F293),\"\"),\"\")","v":""},{"$f":"IF($C294=1,IF(WEEKDAY($K294)=G$1,1+COUNTA(G$3:G293)-COUNTBLANK(G$3:G293),\"\"),\"\")","v":""},{"$f":"IF($C294=1,IF(WEEKDAY($K294)=H$1,1+COUNTA(H$3:H293)-COUNTBLANK(H$3:H293),\"\"),\"\")","v":31},{"$f":"IF($C294=1,IF(WEEKDAY($K294)=I$1,1+COUNTA(I$3:I293)-COUNTBLANK(I$3:I293),\"\"),\"\")","v":""},{"$f":"IF($C294=1,IF(WEEKDAY($K294)=J$1,1+COUNTA(J$3:J293)-COUNTBLANK(J$3:J293),\"\"),\"\")","v":""},"2019-06-07"]
["2019-06-08",0,1,{"$f":"IF($C295=1,IF(WEEKDAY($K295)=D$1,1+COUNTA(D$3:D294)-COUNTBLANK(D$3:D294),\"\"),\"\")","v":""},{"$f":"IF($C295=1,IF(WEEKDAY($K295)=E$1,1+COUNTA(E$3:E294)-COUNTBLANK(E$3:E294),\"\"),\"\")","v":""},{"$f":"IF($C295=1,IF(WEEKDAY($K295)=F$1,1+COUNTA(F$3:F294)-COUNTBLANK(F$3:F294),\"\"),\"\")","v":""},{"$f":"IF($C295=1,IF(WEEKDAY($K295)=G$1,1+COUNTA(G$3:G294)-COUNTBLANK(G$3:G294),\"\"),\"\")","v":""},{"$f":"IF($C295=1,IF(WEEKDAY($K295)=H$1,1+COUNTA(H$3:H294)-COUNTBLANK(H$3:H294),\"\"),\"\")","v":""},{"$f":"IF($C295=1,IF(WEEKDAY($K295)=I$1,1+COUNTA(I$3:I294)-COUNTBLANK(I$3:I294),\"\"),\"\")","v":27},{"$f":"IF($C295=1,IF(WEEKDAY($K295)=J$1,1+COUNTA(J$3:J294)-COUNTBLANK(J$3:J294),\"\"),\"\")","v":""},"2019-06-08"]
["2019-06-09",0,1,{"$f":"IF($C296=1,IF(WEEKDAY($K296)=D$1,1+COUNTA(D$3:D295)-COUNTBLANK(D$3:D295),\"\"),\"\")","v":""},{"$f":"IF($C296=1,IF(WEEKDAY($K296)=E$1,1+COUNTA(E$3:E295)-COUNTBLANK(E$3:E295),\"\"),\"\")","v":""},{"$f":"IF($C296=1,IF(WEEKDAY($K296)=F$1,1+COUNTA(F$3:F295)-COUNTBLANK(F$3:F295),\"\"),\"\")","v":""},{"$f":"IF($C296=1,IF(WEEKDAY($K296)=G$1,1+COUNTA(G$3:G295)-COUNTBLANK(G$3:G295),\"\"),\"\")","v":""},{"$f":"IF($C296=1,IF(WEEKDAY($K296)=H$1,1+COUNTA(H$3:H295)-COUNTBLANK(H$3:H295),\"\"),\"\")","v":""},{"$f":"IF($C296=1,IF(WEEKDAY($K296)=I$1,1+COUNTA(I$3:I295)-COUNTBLANK(I$3:I295),\"\"),\"\")","v":""},{"$f":"IF($C296=1,IF(WEEKDAY($K296)=J$1,1+COUNTA(J$3:J295)-COUNTBLANK(J$3:J295),\"\"),\"\")","v":27},"2019-06-09"]
["2019-06-10",1,1,{"$f":"IF($C297=1,IF(WEEKDAY($K297)=D$1,1+COUNTA(D$3:D296)-COUNTBLANK(D$3:D296),\"\"),\"\")","v":32},{"$f":"IF($C297=1,IF(WEEKDAY($K297)=E$1,1+COUNTA(E$3:E296)-COUNTBLANK(E$3:E296),\"\"),\"\")","v":""},{"$f":"IF($C297=1,IF(WEEKDAY($K297)=F$1,1+COUNTA(F$3:F296)-COUNTBLANK(F$3:F296),\"\"),\"\")","v":""},{"$f":"IF($C297=1,IF(WEEKDAY($K297)=G$1,1+COUNTA(G$3:G296)-COUNTBLANK(G$3:G296),\"\"),\"\")","v":""},{"$f":"IF($C297=1,IF(WEEKDAY($K297)=H$1,1+COUNTA(H$3:H296)-COUNTBLANK(H$3:H296),\"\"),\"\")","v":""},{"$f":"IF($C297=1,IF(WEEKDAY($K297)=I$1,1+COUNTA(I$3:I296)-COUNTBLANK(I$3:I296),\"\"),\"\")","v":""},{"$f":"IF($C297=1,IF(WEEKDAY($K297)=J$1,1+COUNTA(J$3:J296)-COUNTBLANK(J$3:J296),\"\"),\"\")","v":""},"2019-06-10"]
["2019-06-11",1,1,{"$f":"IF($C298=1,IF(WEEKDAY($K298)=D$1,1+COUNTA(D$3:D297)-COUNTBLANK(D$3:D297),\"\"),\"\")","v":""},{"$f":"IF($C298=1,IF(WEEKDAY($K298)=E$1,1+COUNTA(E$3:E297)-COUNTBLANK(E$3:E297),\"\"),\"\")","v":32},{"$f":"IF($C298=1,IF(WEEKDAY($K298)=F$1,1+COUNTA(F$3:F297)-COUNTBLANK(F$3:F297),\"\"),\"\")","v":""},{"$f":"IF($C298=1,IF(WEEKDAY($K298)=G$1,1+COUNTA(G$3:G297)-COUNTBLANK(G$3:G297),\"\"),\"\")","v":""},{"$f":"IF($C298=1,IF(WEEKDAY($K298)=H$1,1+COUNTA(H$3:H297)-COUNTBLANK(H$3:H297),\"\"),\"\")","v":""},{"$f":"IF($C298=1,IF(WEEKDAY($K298)=I$1,1+COUNTA(I$3:I297)-COUNTBLANK(I$3:I297),\"\"),\"\")","v":""},{"$f":"IF($C298=1,IF(WEEKDAY($K298)=J$1,1+COUNTA(J$3:J297)-COUNTBLANK(J$3:J297),\"\"),\"\")","v":""},"2019-06-11"]
["2019-06-12",1,1,{"$f":"IF($C299=1,IF(WEEKDAY($K299)=D$1,1+COUNTA(D$3:D298)-COUNTBLANK(D$3:D298),\"\"),\"\")","v":""},{"$f":"IF($C299=1,IF(WEEKDAY($K299)=E$1,1+COUNTA(E$3:E298)-COUNTBLANK(E$3:E298),\"\"),\"\")","v":""},{"$f":"IF($C299=1,IF(WEEKDAY($K299)=F$1,1+COUNTA(F$3:F298)-COUNTBLANK(F$3:F298),\"\"),\"\")","v":31},{"$f":"IF($C299=1,IF(WEEKDAY($K299)=G$1,1+COUNTA(G$3:G298)-COUNTBLANK(G$3:G298),\"\"),\"\")","v":""},{"$f":"IF($C299=1,IF(WEEKDAY($K299)=H$1,1+COUNTA(H$3:H298)-COUNTBLANK(H$3:H298),\"\"),\"\")","v":""},{"$f":"IF($C299=1,IF(WEEKDAY($K299)=I$1,1+COUNTA(I$3:I298)-COUNTBLANK(I$3:I298),\"\"),\"\")","v":""},{"$f":"IF($C299=1,IF(WEEKDAY($K299)=J$1,1+COUNTA(J$3:J298)-COUNTBLANK(J$3:J298),\"\"),\"\")","v":""},"2019-06-12"]
["2019-06-13",1,1,{"$f":"IF($C300=1,IF(WEEKDAY($K300)=D$1,1+COUNTA(D$3:D299)-COUNTBLANK(D$3:D299),\"\"),\"\")","v":""},{"$f":"IF($C300=1,IF(WEEKDAY($K300)=E$1,1+COUNTA(E$3:E299)-COUNTBLANK(E$3:E299),\"\"),\"\")","v":""},{"$f":"IF($C300=1,IF(WEEKDAY($K300)=F$1,1+COUNTA(F$3:F299)-COUNTBLANK(F$3:F299),\"\"),\"\")","v":""},{"$f":"IF($C300=1,IF(WEEKDAY($K300)=G$1,1+COUNTA(G$3:G299)-COUNTBLANK(G$3:G299),\"\"),\"\")","v":29},{"$f":"IF($C300=1,IF(WEEKDAY($K300)=H$1,1+COUNTA(H$3:H299)-COUNTBLANK(H$3:H299),\"\"),\"\")","v":""},{"$f":"IF($C300=1,IF(WEEKDAY($K300)=I$1,1+COUNTA(I$3:I299)-COUNTBLANK(I$3:I299),\"\"),\"\")","v":""},{"$f":"IF($C300=1,IF(WEEKDAY($K300)=J$1,1+COUNTA(J$3:J299)-COUNTBLANK(J$3:J299),\"\"),\"\")","v":""},"2019-06-13"]
["2019-06-14",1,1,{"$f":"IF($C301=1,IF(WEEKDAY($K301)=D$1,1+COUNTA(D$3:D300)-COUNTBLANK(D$3:D300),\"\"),\"\")","v":""},{"$f":"IF($C301=1,IF(WEEKDAY($K301)=E$1,1+COUNTA(E$3:E300)-COUNTBLANK(E$3:E300),\"\"),\"\")","v":""},{"$f":"IF($C301=1,IF(WEEKDAY($K301)=F$1,1+COUNTA(F$3:F300)-COUNTBLANK(F$3:F300),\"\"),\"\")","v":""},{"$f":"IF($C301=1,IF(WEEKDAY($K301)=G$1,1+COUNTA(G$3:G300)-COUNTBLANK(G$3:G300),\"\"),\"\")","v":""},{"$f":"IF($C301=1,IF(WEEKDAY($K301)=H$1,1+COUNTA(H$3:H300)-COUNTBLANK(H$3:H300),\"\"),\"\")","v":32},{"$f":"IF($C301=1,IF(WEEKDAY($K301)=I$1,1+COUNTA(I$3:I300)-COUNTBLANK(I$3:I300),\"\"),\"\")","v":""},{"$f":"IF($C301=1,IF(WEEKDAY($K301)=J$1,1+COUNTA(J$3:J300)-COUNTBLANK(J$3:J300),\"\"),\"\")","v":""},"2019-06-14"]
["2019-06-15",0,1,{"$f":"IF($C302=1,IF(WEEKDAY($K302)=D$1,1+COUNTA(D$3:D301)-COUNTBLANK(D$3:D301),\"\"),\"\")","v":""},{"$f":"IF($C302=1,IF(WEEKDAY($K302)=E$1,1+COUNTA(E$3:E301)-COUNTBLANK(E$3:E301),\"\"),\"\")","v":""},{"$f":"IF($C302=1,IF(WEEKDAY($K302)=F$1,1+COUNTA(F$3:F301)-COUNTBLANK(F$3:F301),\"\"),\"\")","v":""},{"$f":"IF($C302=1,IF(WEEKDAY($K302)=G$1,1+COUNTA(G$3:G301)-COUNTBLANK(G$3:G301),\"\"),\"\")","v":""},{"$f":"IF($C302=1,IF(WEEKDAY($K302)=H$1,1+COUNTA(H$3:H301)-COUNTBLANK(H$3:H301),\"\"),\"\")","v":""},{"$f":"IF($C302=1,IF(WEEKDAY($K302)=I$1,1+COUNTA(I$3:I301)-COUNTBLANK(I$3:I301),\"\"),\"\")","v":28},{"$f":"IF($C302=1,IF(WEEKDAY($K302)=J$1,1+COUNTA(J$3:J301)-COUNTBLANK(J$3:J301),\"\"),\"\")","v":""},"2019-06-15"]
["2019-06-16",0,1,{"$f":"IF($C303=1,IF(WEEKDAY($K303)=D$1,1+COUNTA(D$3:D302)-COUNTBLANK(D$3:D302),\"\"),\"\")","v":""},{"$f":"IF($C303=1,IF(WEEKDAY($K303)=E$1,1+COUNTA(E$3:E302)-COUNTBLANK(E$3:E302),\"\"),\"\")","v":""},{"$f":"IF($C303=1,IF(WEEKDAY($K303)=F$1,1+COUNTA(F$3:F302)-COUNTBLANK(F$3:F302),\"\"),\"\")","v":""},{"$f":"IF($C303=1,IF(WEEKDAY($K303)=G$1,1+COUNTA(G$3:G302)-COUNTBLANK(G$3:G302),\"\"),\"\")","v":""},{"$f":"IF($C303=1,IF(WEEKDAY($K303)=H$1,1+COUNTA(H$3:H302)-COUNTBLANK(H$3:H302),\"\"),\"\")","v":""},{"$f":"IF($C303=1,IF(WEEKDAY($K303)=I$1,1+COUNTA(I$3:I302)-COUNTBLANK(I$3:I302),\"\"),\"\")","v":""},{"$f":"IF($C303=1,IF(WEEKDAY($K303)=J$1,1+COUNTA(J$3:J302)-COUNTBLANK(J$3:J302),\"\"),\"\")","v":28},"2019-06-16"]
["2019-06-17",1,1,{"$f":"IF($C304=1,IF(WEEKDAY($K304)=D$1,1+COUNTA(D$3:D303)-COUNTBLANK(D$3:D303),\"\"),\"\")","v":33},{"$f":"IF($C304=1,IF(WEEKDAY($K304)=E$1,1+COUNTA(E$3:E303)-COUNTBLANK(E$3:E303),\"\"),\"\")","v":""},{"$f":"IF($C304=1,IF(WEEKDAY($K304)=F$1,1+COUNTA(F$3:F303)-COUNTBLANK(F$3:F303),\"\"),\"\")","v":""},{"$f":"IF($C304=1,IF(WEEKDAY($K304)=G$1,1+COUNTA(G$3:G303)-COUNTBLANK(G$3:G303),\"\"),\"\")","v":""},{"$f":"IF($C304=1,IF(WEEKDAY($K304)=H$1,1+COUNTA(H$3:H303)-COUNTBLANK(H$3:H303),\"\"),\"\")","v":""},{"$f":"IF($C304=1,IF(WEEKDAY($K304)=I$1,1+COUNTA(I$3:I303)-COUNTBLANK(I$3:I303),\"\"),\"\")","v":""},{"$f":"IF($C304=1,IF(WEEKDAY($K304)=J$1,1+COUNTA(J$3:J303)-COUNTBLANK(J$3:J303),\"\"),\"\")","v":""},"2019-06-17"]
["2019-06-18",1,1,{"$f":"IF($C305=1,IF(WEEKDAY($K305)=D$1,1+COUNTA(D$3:D304)-COUNTBLANK(D$3:D304),\"\"),\"\")","v":""},{"$f":"IF($C305=1,IF(WEEKDAY($K305)=E$1,1+COUNTA(E$3:E304)-COUNTBLANK(E$3:E304),\"\"),\"\")","v":33},{"$f":"IF($C305=1,IF(WEEKDAY($K305)=F$1,1+COUNTA(F$3:F304)-COUNTBLANK(F$3:F304),\"\"),\"\")","v":""},{"$f":"IF($C305=1,IF(WEEKDAY($K305)=G$1,1+COUNTA(G$3:G304)-COUNTBLANK(G$3:G304),\"\"),\"\")","v":""},{"$f":"IF($C305=1,IF(WEEKDAY($K305)=H$1,1+COUNTA(H$3:H304)-COUNTBLANK(H$3:H304),\"\"),\"\")","v":""},{"$f":"IF($C305=1,IF(WEEKDAY($K305)=I$1,1+COUNTA(I$3:I304)-COUNTBLANK(I$3:I304),\"\"),\"\")","v":""},{"$f":"IF($C305=1,IF(WEEKDAY($K305)=J$1,1+COUNTA(J$3:J304)-COUNTBLANK(J$3:J304),\"\"),\"\")","v":""},"2019-06-18"]
["2019-06-19",1,1,{"$f":"IF($C306=1,IF(WEEKDAY($K306)=D$1,1+COUNTA(D$3:D305)-COUNTBLANK(D$3:D305),\"\"),\"\")","v":""},{"$f":"IF($C306=1,IF(WEEKDAY($K306)=E$1,1+COUNTA(E$3:E305)-COUNTBLANK(E$3:E305),\"\"),\"\")","v":""},{"$f":"IF($C306=1,IF(WEEKDAY($K306)=F$1,1+COUNTA(F$3:F305)-COUNTBLANK(F$3:F305),\"\"),\"\")","v":32},{"$f":"IF($C306=1,IF(WEEKDAY($K306)=G$1,1+COUNTA(G$3:G305)-COUNTBLANK(G$3:G305),\"\"),\"\")","v":""},{"$f":"IF($C306=1,IF(WEEKDAY($K306)=H$1,1+COUNTA(H$3:H305)-COUNTBLANK(H$3:H305),\"\"),\"\")","v":""},{"$f":"IF($C306=1,IF(WEEKDAY($K306)=I$1,1+COUNTA(I$3:I305)-COUNTBLANK(I$3:I305),\"\"),\"\")","v":""},{"$f":"IF($C306=1,IF(WEEKDAY($K306)=J$1,1+COUNTA(J$3:J305)-COUNTBLANK(J$3:J305),\"\"),\"\")","v":""},"2019-06-19"]
["2019-06-20",1,1,{"$f":"IF($C307=1,IF(WEEKDAY($K307)=D$1,1+COUNTA(D$3:D306)-COUNTBLANK(D$3:D306),\"\"),\"\")","v":""},{"$f":"IF($C307=1,IF(WEEKDAY($K307)=E$1,1+COUNTA(E$3:E306)-COUNTBLANK(E$3:E306),\"\"),\"\")","v":""},{"$f":"IF($C307=1,IF(WEEKDAY($K307)=F$1,1+COUNTA(F$3:F306)-COUNTBLANK(F$3:F306),\"\"),\"\")","v":""},{"$f":"IF($C307=1,IF(WEEKDAY($K307)=G$1,1+COUNTA(G$3:G306)-COUNTBLANK(G$3:G306),\"\"),\"\")","v":30},{"$f":"IF($C307=1,IF(WEEKDAY($K307)=H$1,1+COUNTA(H$3:H306)-COUNTBLANK(H$3:H306),\"\"),\"\")","v":""},{"$f":"IF($C307=1,IF(WEEKDAY($K307)=I$1,1+COUNTA(I$3:I306)-COUNTBLANK(I$3:I306),\"\"),\"\")","v":""},{"$f":"IF($C307=1,IF(WEEKDAY($K307)=J$1,1+COUNTA(J$3:J306)-COUNTBLANK(J$3:J306),\"\"),\"\")","v":""},"2019-06-20"]
["2019-06-21",1,1,{"$f":"IF($C308=1,IF(WEEKDAY($K308)=D$1,1+COUNTA(D$3:D307)-COUNTBLANK(D$3:D307),\"\"),\"\")","v":""},{"$f":"IF($C308=1,IF(WEEKDAY($K308)=E$1,1+COUNTA(E$3:E307)-COUNTBLANK(E$3:E307),\"\"),\"\")","v":""},{"$f":"IF($C308=1,IF(WEEKDAY($K308)=F$1,1+COUNTA(F$3:F307)-COUNTBLANK(F$3:F307),\"\"),\"\")","v":""},{"$f":"IF($C308=1,IF(WEEKDAY($K308)=G$1,1+COUNTA(G$3:G307)-COUNTBLANK(G$3:G307),\"\"),\"\")","v":""},{"$f":"IF($C308=1,IF(WEEKDAY($K308)=H$1,1+COUNTA(H$3:H307)-COUNTBLANK(H$3:H307),\"\"),\"\")","v":33},{"$f":"IF($C308=1,IF(WEEKDAY($K308)=I$1,1+COUNTA(I$3:I307)-COUNTBLANK(I$3:I307),\"\"),\"\")","v":""},{"$f":"IF($C308=1,IF(WEEKDAY($K308)=J$1,1+COUNTA(J$3:J307)-COUNTBLANK(J$3:J307),\"\"),\"\")","v":""},"2019-06-21"]
["2019-06-22",0,1,{"$f":"IF($C309=1,IF(WEEKDAY($K309)=D$1,1+COUNTA(D$3:D308)-COUNTBLANK(D$3:D308),\"\"),\"\")","v":""},{"$f":"IF($C309=1,IF(WEEKDAY($K309)=E$1,1+COUNTA(E$3:E308)-COUNTBLANK(E$3:E308),\"\"),\"\")","v":""},{"$f":"IF($C309=1,IF(WEEKDAY($K309)=F$1,1+COUNTA(F$3:F308)-COUNTBLANK(F$3:F308),\"\"),\"\")","v":""},{"$f":"IF($C309=1,IF(WEEKDAY($K309)=G$1,1+COUNTA(G$3:G308)-COUNTBLANK(G$3:G308),\"\"),\"\")","v":""},{"$f":"IF($C309=1,IF(WEEKDAY($K309)=H$1,1+COUNTA(H$3:H308)-COUNTBLANK(H$3:H308),\"\"),\"\")","v":""},{"$f":"IF($C309=1,IF(WEEKDAY($K309)=I$1,1+COUNTA(I$3:I308)-COUNTBLANK(I$3:I308),\"\"),\"\")","v":29},{"$f":"IF($C309=1,IF(WEEKDAY($K309)=J$1,1+COUNTA(J$3:J308)-COUNTBLANK(J$3:J308),\"\"),\"\")","v":""},"2019-06-22"]
["2019-06-23",0,1,{"$f":"IF($C310=1,IF(WEEKDAY($K310)=D$1,1+COUNTA(D$3:D309)-COUNTBLANK(D$3:D309),\"\"),\"\")","v":""},{"$f":"IF($C310=1,IF(WEEKDAY($K310)=E$1,1+COUNTA(E$3:E309)-COUNTBLANK(E$3:E309),\"\"),\"\")","v":""},{"$f":"IF($C310=1,IF(WEEKDAY($K310)=F$1,1+COUNTA(F$3:F309)-COUNTBLANK(F$3:F309),\"\"),\"\")","v":""},{"$f":"IF($C310=1,IF(WEEKDAY($K310)=G$1,1+COUNTA(G$3:G309)-COUNTBLANK(G$3:G309),\"\"),\"\")","v":""},{"$f":"IF($C310=1,IF(WEEKDAY($K310)=H$1,1+COUNTA(H$3:H309)-COUNTBLANK(H$3:H309),\"\"),\"\")","v":""},{"$f":"IF($C310=1,IF(WEEKDAY($K310)=I$1,1+COUNTA(I$3:I309)-COUNTBLANK(I$3:I309),\"\"),\"\")","v":""},{"$f":"IF($C310=1,IF(WEEKDAY($K310)=J$1,1+COUNTA(J$3:J309)-COUNTBLANK(J$3:J309),\"\"),\"\")","v":29},"2019-06-23"]
["2019-06-24",1,1,{"$f":"IF($C311=1,IF(WEEKDAY($K311)=D$1,1+COUNTA(D$3:D310)-COUNTBLANK(D$3:D310),\"\"),\"\")","v":34},{"$f":"IF($C311=1,IF(WEEKDAY($K311)=E$1,1+COUNTA(E$3:E310)-COUNTBLANK(E$3:E310),\"\"),\"\")","v":""},{"$f":"IF($C311=1,IF(WEEKDAY($K311)=F$1,1+COUNTA(F$3:F310)-COUNTBLANK(F$3:F310),\"\"),\"\")","v":""},{"$f":"IF($C311=1,IF(WEEKDAY($K311)=G$1,1+COUNTA(G$3:G310)-COUNTBLANK(G$3:G310),\"\"),\"\")","v":""},{"$f":"IF($C311=1,IF(WEEKDAY($K311)=H$1,1+COUNTA(H$3:H310)-COUNTBLANK(H$3:H310),\"\"),\"\")","v":""},{"$f":"IF($C311=1,IF(WEEKDAY($K311)=I$1,1+COUNTA(I$3:I310)-COUNTBLANK(I$3:I310),\"\"),\"\")","v":""},{"$f":"IF($C311=1,IF(WEEKDAY($K311)=J$1,1+COUNTA(J$3:J310)-COUNTBLANK(J$3:J310),\"\"),\"\")","v":""},"2019-06-24"]
["2019-06-25",1,1,{"$f":"IF($C312=1,IF(WEEKDAY($K312)=D$1,1+COUNTA(D$3:D311)-COUNTBLANK(D$3:D311),\"\"),\"\")","v":""},{"$f":"IF($C312=1,IF(WEEKDAY($K312)=E$1,1+COUNTA(E$3:E311)-COUNTBLANK(E$3:E311),\"\"),\"\")","v":34},{"$f":"IF($C312=1,IF(WEEKDAY($K312)=F$1,1+COUNTA(F$3:F311)-COUNTBLANK(F$3:F311),\"\"),\"\")","v":""},{"$f":"IF($C312=1,IF(WEEKDAY($K312)=G$1,1+COUNTA(G$3:G311)-COUNTBLANK(G$3:G311),\"\"),\"\")","v":""},{"$f":"IF($C312=1,IF(WEEKDAY($K312)=H$1,1+COUNTA(H$3:H311)-COUNTBLANK(H$3:H311),\"\"),\"\")","v":""},{"$f":"IF($C312=1,IF(WEEKDAY($K312)=I$1,1+COUNTA(I$3:I311)-COUNTBLANK(I$3:I311),\"\"),\"\")","v":""},{"$f":"IF($C312=1,IF(WEEKDAY($K312)=J$1,1+COUNTA(J$3:J311)-COUNTBLANK(J$3:J311),\"\"),\"\")","v":""},"2019-06-25"]
["2019-06-26",1,1,{"$f":"IF($C313=1,IF(WEEKDAY($K313)=D$1,1+COUNTA(D$3:D312)-COUNTBLANK(D$3:D312),\"\"),\"\")","v":""},{"$f":"IF($C313=1,IF(WEEKDAY($K313)=E$1,1+COUNTA(E$3:E312)-COUNTBLANK(E$3:E312),\"\"),\"\")","v":""},{"$f":"IF($C313=1,IF(WEEKDAY($K313)=F$1,1+COUNTA(F$3:F312)-COUNTBLANK(F$3:F312),\"\"),\"\")","v":33},{"$f":"IF($C313=1,IF(WEEKDAY($K313)=G$1,1+COUNTA(G$3:G312)-COUNTBLANK(G$3:G312),\"\"),\"\")","v":""},{"$f":"IF($C313=1,IF(WEEKDAY($K313)=H$1,1+COUNTA(H$3:H312)-COUNTBLANK(H$3:H312),\"\"),\"\")","v":""},{"$f":"IF($C313=1,IF(WEEKDAY($K313)=I$1,1+COUNTA(I$3:I312)-COUNTBLANK(I$3:I312),\"\"),\"\")","v":""},{"$f":"IF($C313=1,IF(WEEKDAY($K313)=J$1,1+COUNTA(J$3:J312)-COUNTBLANK(J$3:J312),\"\"),\"\")","v":""},"2019-06-26"]
["2019-06-27",1,1,{"$f":"IF($C314=1,IF(WEEKDAY($K314)=D$1,1+COUNTA(D$3:D313)-COUNTBLANK(D$3:D313),\"\"),\"\")","v":""},{"$f":"IF($C314=1,IF(WEEKDAY($K314)=E$1,1+COUNTA(E$3:E313)-COUNTBLANK(E$3:E313),\"\"),\"\")","v":""},{"$f":"IF($C314=1,IF(WEEKDAY($K314)=F$1,1+COUNTA(F$3:F313)-COUNTBLANK(F$3:F313),\"\"),\"\")","v":""},{"$f":"IF($C314=1,IF(WEEKDAY($K314)=G$1,1+COUNTA(G$3:G313)-COUNTBLANK(G$3:G313),\"\"),\"\")","v":31},{"$f":"IF($C314=1,IF(WEEKDAY($K314)=H$1,1+COUNTA(H$3:H313)-COUNTBLANK(H$3:H313),\"\"),\"\")","v":""},{"$f":"IF($C314=1,IF(WEEKDAY($K314)=I$1,1+COUNTA(I$3:I313)-COUNTBLANK(I$3:I313),\"\"),\"\")","v":""},{"$f":"IF($C314=1,IF(WEEKDAY($K314)=J$1,1+COUNTA(J$3:J313)-COUNTBLANK(J$3:J313),\"\"),\"\")","v":""},"2019-06-27"]
["2019-06-28",1,1,{"$f":"IF($C315=1,IF(WEEKDAY($K315)=D$1,1+COUNTA(D$3:D314)-COUNTBLANK(D$3:D314),\"\"),\"\")","v":""},{"$f":"IF($C315=1,IF(WEEKDAY($K315)=E$1,1+COUNTA(E$3:E314)-COUNTBLANK(E$3:E314),\"\"),\"\")","v":""},{"$f":"IF($C315=1,IF(WEEKDAY($K315)=F$1,1+COUNTA(F$3:F314)-COUNTBLANK(F$3:F314),\"\"),\"\")","v":""},{"$f":"IF($C315=1,IF(WEEKDAY($K315)=G$1,1+COUNTA(G$3:G314)-COUNTBLANK(G$3:G314),\"\"),\"\")","v":""},{"$f":"IF($C315=1,IF(WEEKDAY($K315)=H$1,1+COUNTA(H$3:H314)-COUNTBLANK(H$3:H314),\"\"),\"\")","v":34},{"$f":"IF($C315=1,IF(WEEKDAY($K315)=I$1,1+COUNTA(I$3:I314)-COUNTBLANK(I$3:I314),\"\"),\"\")","v":""},{"$f":"IF($C315=1,IF(WEEKDAY($K315)=J$1,1+COUNTA(J$3:J314)-COUNTBLANK(J$3:J314),\"\"),\"\")","v":""},"2019-06-28"]
["2019-06-29",0,1,{"$f":"IF($C316=1,IF(WEEKDAY($K316)=D$1,1+COUNTA(D$3:D315)-COUNTBLANK(D$3:D315),\"\"),\"\")","v":""},{"$f":"IF($C316=1,IF(WEEKDAY($K316)=E$1,1+COUNTA(E$3:E315)-COUNTBLANK(E$3:E315),\"\"),\"\")","v":""},{"$f":"IF($C316=1,IF(WEEKDAY($K316)=F$1,1+COUNTA(F$3:F315)-COUNTBLANK(F$3:F315),\"\"),\"\")","v":""},{"$f":"IF($C316=1,IF(WEEKDAY($K316)=G$1,1+COUNTA(G$3:G315)-COUNTBLANK(G$3:G315),\"\"),\"\")","v":""},{"$f":"IF($C316=1,IF(WEEKDAY($K316)=H$1,1+COUNTA(H$3:H315)-COUNTBLANK(H$3:H315),\"\"),\"\")","v":""},{"$f":"IF($C316=1,IF(WEEKDAY($K316)=I$1,1+COUNTA(I$3:I315)-COUNTBLANK(I$3:I315),\"\"),\"\")","v":30},{"$f":"IF($C316=1,IF(WEEKDAY($K316)=J$1,1+COUNTA(J$3:J315)-COUNTBLANK(J$3:J315),\"\"),\"\")","v":""},"2019-06-29"]
["2019-06-30",0,1,{"$f":"IF($C317=1,IF(WEEKDAY($K317)=D$1,1+COUNTA(D$3:D316)-COUNTBLANK(D$3:D316),\"\"),\"\")","v":""},{"$f":"IF($C317=1,IF(WEEKDAY($K317)=E$1,1+COUNTA(E$3:E316)-COUNTBLANK(E$3:E316),\"\"),\"\")","v":""},{"$f":"IF($C317=1,IF(WEEKDAY($K317)=F$1,1+COUNTA(F$3:F316)-COUNTBLANK(F$3:F316),\"\"),\"\")","v":""},{"$f":"IF($C317=1,IF(WEEKDAY($K317)=G$1,1+COUNTA(G$3:G316)-COUNTBLANK(G$3:G316),\"\"),\"\")","v":""},{"$f":"IF($C317=1,IF(WEEKDAY($K317)=H$1,1+COUNTA(H$3:H316)-COUNTBLANK(H$3:H316),\"\"),\"\")","v":""},{"$f":"IF($C317=1,IF(WEEKDAY($K317)=I$1,1+COUNTA(I$3:I316)-COUNTBLANK(I$3:I316),\"\"),\"\")","v":""},{"$f":"IF($C317=1,IF(WEEKDAY($K317)=J$1,1+COUNTA(J$3:J316)-COUNTBLANK(J$3:J316),\"\"),\"\")","v":30},"2019-06-30"]
["2019-07-01",1,1,{"$f":"IF($C318=1,IF(WEEKDAY($K318)=D$1,1+COUNTA(D$3:D317)-COUNTBLANK(D$3:D317),\"\"),\"\")","v":35},{"$f":"IF($C318=1,IF(WEEKDAY($K318)=E$1,1+COUNTA(E$3:E317)-COUNTBLANK(E$3:E317),\"\"),\"\")","v":""},{"$f":"IF($C318=1,IF(WEEKDAY($K318)=F$1,1+COUNTA(F$3:F317)-COUNTBLANK(F$3:F317),\"\"),\"\")","v":""},{"$f":"IF($C318=1,IF(WEEKDAY($K318)=G$1,1+COUNTA(G$3:G317)-COUNTBLANK(G$3:G317),\"\"),\"\")","v":""},{"$f":"IF($C318=1,IF(WEEKDAY($K318)=H$1,1+COUNTA(H$3:H317)-COUNTBLANK(H$3:H317),\"\"),\"\")","v":""},{"$f":"IF($C318=1,IF(WEEKDAY($K318)=I$1,1+COUNTA(I$3:I317)-COUNTBLANK(I$3:I317),\"\"),\"\")","v":""},{"$f":"IF($C318=1,IF(WEEKDAY($K318)=J$1,1+COUNTA(J$3:J317)-COUNTBLANK(J$3:J317),\"\"),\"\")","v":""},"2019-07-01"]
["2019-07-02",1,1,{"$f":"IF($C319=1,IF(WEEKDAY($K319)=D$1,1+COUNTA(D$3:D318)-COUNTBLANK(D$3:D318),\"\"),\"\")","v":""},{"$f":"IF($C319=1,IF(WEEKDAY($K319)=E$1,1+COUNTA(E$3:E318)-COUNTBLANK(E$3:E318),\"\"),\"\")","v":35},{"$f":"IF($C319=1,IF(WEEKDAY($K319)=F$1,1+COUNTA(F$3:F318)-COUNTBLANK(F$3:F318),\"\"),\"\")","v":""},{"$f":"IF($C319=1,IF(WEEKDAY($K319)=G$1,1+COUNTA(G$3:G318)-COUNTBLANK(G$3:G318),\"\"),\"\")","v":""},{"$f":"IF($C319=1,IF(WEEKDAY($K319)=H$1,1+COUNTA(H$3:H318)-COUNTBLANK(H$3:H318),\"\"),\"\")","v":""},{"$f":"IF($C319=1,IF(WEEKDAY($K319)=I$1,1+COUNTA(I$3:I318)-COUNTBLANK(I$3:I318),\"\"),\"\")","v":""},{"$f":"IF($C319=1,IF(WEEKDAY($K319)=J$1,1+COUNTA(J$3:J318)-COUNTBLANK(J$3:J318),\"\"),\"\")","v":""},"2019-07-02"]
["2019-07-03",1,1,{"$f":"IF($C320=1,IF(WEEKDAY($K320)=D$1,1+COUNTA(D$3:D319)-COUNTBLANK(D$3:D319),\"\"),\"\")","v":""},{"$f":"IF($C320=1,IF(WEEKDAY($K320)=E$1,1+COUNTA(E$3:E319)-COUNTBLANK(E$3:E319),\"\"),\"\")","v":""},{"$f":"IF($C320=1,IF(WEEKDAY($K320)=F$1,1+COUNTA(F$3:F319)-COUNTBLANK(F$3:F319),\"\"),\"\")","v":34},{"$f":"IF($C320=1,IF(WEEKDAY($K320)=G$1,1+COUNTA(G$3:G319)-COUNTBLANK(G$3:G319),\"\"),\"\")","v":""},{"$f":"IF($C320=1,IF(WEEKDAY($K320)=H$1,1+COUNTA(H$3:H319)-COUNTBLANK(H$3:H319),\"\"),\"\")","v":""},{"$f":"IF($C320=1,IF(WEEKDAY($K320)=I$1,1+COUNTA(I$3:I319)-COUNTBLANK(I$3:I319),\"\"),\"\")","v":""},{"$f":"IF($C320=1,IF(WEEKDAY($K320)=J$1,1+COUNTA(J$3:J319)-COUNTBLANK(J$3:J319),\"\"),\"\")","v":""},"2019-07-03"]
["2019-07-04",1,1,{"$f":"IF($C321=1,IF(WEEKDAY($K321)=D$1,1+COUNTA(D$3:D320)-COUNTBLANK(D$3:D320),\"\"),\"\")","v":""},{"$f":"IF($C321=1,IF(WEEKDAY($K321)=E$1,1+COUNTA(E$3:E320)-COUNTBLANK(E$3:E320),\"\"),\"\")","v":""},{"$f":"IF($C321=1,IF(WEEKDAY($K321)=F$1,1+COUNTA(F$3:F320)-COUNTBLANK(F$3:F320),\"\"),\"\")","v":""},{"$f":"IF($C321=1,IF(WEEKDAY($K321)=G$1,1+COUNTA(G$3:G320)-COUNTBLANK(G$3:G320),\"\"),\"\")","v":32},{"$f":"IF($C321=1,IF(WEEKDAY($K321)=H$1,1+COUNTA(H$3:H320)-COUNTBLANK(H$3:H320),\"\"),\"\")","v":""},{"$f":"IF($C321=1,IF(WEEKDAY($K321)=I$1,1+COUNTA(I$3:I320)-COUNTBLANK(I$3:I320),\"\"),\"\")","v":""},{"$f":"IF($C321=1,IF(WEEKDAY($K321)=J$1,1+COUNTA(J$3:J320)-COUNTBLANK(J$3:J320),\"\"),\"\")","v":""},"2019-07-04"]
["2019-07-05",1,1,{"$f":"IF($C322=1,IF(WEEKDAY($K322)=D$1,1+COUNTA(D$3:D321)-COUNTBLANK(D$3:D321),\"\"),\"\")","v":""},{"$f":"IF($C322=1,IF(WEEKDAY($K322)=E$1,1+COUNTA(E$3:E321)-COUNTBLANK(E$3:E321),\"\"),\"\")","v":""},{"$f":"IF($C322=1,IF(WEEKDAY($K322)=F$1,1+COUNTA(F$3:F321)-COUNTBLANK(F$3:F321),\"\"),\"\")","v":""},{"$f":"IF($C322=1,IF(WEEKDAY($K322)=G$1,1+COUNTA(G$3:G321)-COUNTBLANK(G$3:G321),\"\"),\"\")","v":""},{"$f":"IF($C322=1,IF(WEEKDAY($K322)=H$1,1+COUNTA(H$3:H321)-COUNTBLANK(H$3:H321),\"\"),\"\")","v":35},{"$f":"IF($C322=1,IF(WEEKDAY($K322)=I$1,1+COUNTA(I$3:I321)-COUNTBLANK(I$3:I321),\"\"),\"\")","v":""},{"$f":"IF($C322=1,IF(WEEKDAY($K322)=J$1,1+COUNTA(J$3:J321)-COUNTBLANK(J$3:J321),\"\"),\"\")","v":""},"2019-07-05"]
["2019-07-06",{"$f":"IF(SUM(D323:J323)>0.5,IF(SUM(I323:J323)=0,1,0),0)","v":0},{"$f":"IF(OR(K323=L$15,K323=L$16,K323=L$17,K323=L$18,K323=L$19,K323=L$20,K323=L$21,K323=L$22,K323=L$23,K323=L$24,K323=L$25,K323=L$26,K323=L$27,K323=L$28),0,IF(K323<L$7,1,IF(AND(K323>M$7,K323<L$8),1,IF(AND(K323>M$8,K323<L$9),1,IF(AND(K323>M$9,K323<L$10),1,IF(AND(K323>M$10,K323<L$11),1,IF(AND(K323>M$11),1,0)))))))","v":0},{"$f":"IF($C323=1,IF(WEEKDAY($K323)=D$1,1+COUNTA(D$3:D322)-COUNTBLANK(D$3:D322),\"\"),\"\")","v":""},{"$f":"IF($C323=1,IF(WEEKDAY($K323)=E$1,1+COUNTA(E$3:E322)-COUNTBLANK(E$3:E322),\"\"),\"\")","v":""},{"$f":"IF($C323=1,IF(WEEKDAY($K323)=F$1,1+COUNTA(F$3:F322)-COUNTBLANK(F$3:F322),\"\"),\"\")","v":""},{"$f":"IF($C323=1,IF(WEEKDAY($K323)=G$1,1+COUNTA(G$3:G322)-COUNTBLANK(G$3:G322),\"\"),\"\")","v":""},{"$f":"IF($C323=1,IF(WEEKDAY($K323)=H$1,1+COUNTA(H$3:H322)-COUNTBLANK(H$3:H322),\"\"),\"\")","v":""},{"$f":"IF($C323=1,IF(WEEKDAY($K323)=I$1,1+COUNTA(I$3:I322)-COUNTBLANK(I$3:I322),\"\"),\"\")","v":""},{"$f":"IF($C323=1,IF(WEEKDAY($K323)=J$1,1+COUNTA(J$3:J322)-COUNTBLANK(J$3:J322),\"\"),\"\")","v":""},"2019-07-06"]
[{"$f":"K324","v":"2019-07-07"},0,0,{"$f":"IF($C324=1,IF(WEEKDAY($K324)=D$1,1+COUNTA(D$3:D323)-COUNTBLANK(D$3:D323),\"\"),\"\")","v":""},{"$f":"IF($C324=1,IF(WEEKDAY($K324)=E$1,1+COUNTA(E$3:E323)-COUNTBLANK(E$3:E323),\"\"),\"\")","v":""},{"$f":"IF($C324=1,IF(WEEKDAY($K324)=F$1,1+COUNTA(F$3:F323)-COUNTBLANK(F$3:F323),\"\"),\"\")","v":""},{"$f":"IF($C324=1,IF(WEEKDAY($K324)=G$1,1+COUNTA(G$3:G323)-COUNTBLANK(G$3:G323),\"\"),\"\")","v":""},{"$f":"IF($C324=1,IF(WEEKDAY($K324)=H$1,1+COUNTA(H$3:H323)-COUNTBLANK(H$3:H323),\"\"),\"\")","v":""},{"$f":"IF($C324=1,IF(WEEKDAY($K324)=I$1,1+COUNTA(I$3:I323)-COUNTBLANK(I$3:I323),\"\"),\"\")","v":""},{"$f":"IF($C324=1,IF(WEEKDAY($K324)=J$1,1+COUNTA(J$3:J323)-COUNTBLANK(J$3:J323),\"\"),\"\")","v":""},{"$f":"1+K323","v":"2019-07-07"}]
["2019-07-08",0,0,{"$f":"IF($C325=1,IF(WEEKDAY($K325)=D$1,1+COUNTA(D$3:D324)-COUNTBLANK(D$3:D324),\"\"),\"\")","v":""},{"$f":"IF($C325=1,IF(WEEKDAY($K325)=E$1,1+COUNTA(E$3:E324)-COUNTBLANK(E$3:E324),\"\"),\"\")","v":""},{"$f":"IF($C325=1,IF(WEEKDAY($K325)=F$1,1+COUNTA(F$3:F324)-COUNTBLANK(F$3:F324),\"\"),\"\")","v":""},{"$f":"IF($C325=1,IF(WEEKDAY($K325)=G$1,1+COUNTA(G$3:G324)-COUNTBLANK(G$3:G324),\"\"),\"\")","v":""},{"$f":"IF($C325=1,IF(WEEKDAY($K325)=H$1,1+COUNTA(H$3:H324)-COUNTBLANK(H$3:H324),\"\"),\"\")","v":""},{"$f":"IF($C325=1,IF(WEEKDAY($K325)=I$1,1+COUNTA(I$3:I324)-COUNTBLANK(I$3:I324),\"\"),\"\")","v":""},{"$f":"IF($C325=1,IF(WEEKDAY($K325)=J$1,1+COUNTA(J$3:J324)-COUNTBLANK(J$3:J324),\"\"),\"\")","v":""},"2019-07-08"]
["2019-07-09",0,0,{"$f":"IF($C326=1,IF(WEEKDAY($K326)=D$1,1+COUNTA(D$3:D325)-COUNTBLANK(D$3:D325),\"\"),\"\")","v":""},{"$f":"IF($C326=1,IF(WEEKDAY($K326)=E$1,1+COUNTA(E$3:E325)-COUNTBLANK(E$3:E325),\"\"),\"\")","v":""},{"$f":"IF($C326=1,IF(WEEKDAY($K326)=F$1,1+COUNTA(F$3:F325)-COUNTBLANK(F$3:F325),\"\"),\"\")","v":""},{"$f":"IF($C326=1,IF(WEEKDAY($K326)=G$1,1+COUNTA(G$3:G325)-COUNTBLANK(G$3:G325),\"\"),\"\")","v":""},{"$f":"IF($C326=1,IF(WEEKDAY($K326)=H$1,1+COUNTA(H$3:H325)-COUNTBLANK(H$3:H325),\"\"),\"\")","v":""},{"$f":"IF($C326=1,IF(WEEKDAY($K326)=I$1,1+COUNTA(I$3:I325)-COUNTBLANK(I$3:I325),\"\"),\"\")","v":""},{"$f":"IF($C326=1,IF(WEEKDAY($K326)=J$1,1+COUNTA(J$3:J325)-COUNTBLANK(J$3:J325),\"\"),\"\")","v":""},"2019-07-09"]
["2019-07-10",0,0,{"$f":"IF($C327=1,IF(WEEKDAY($K327)=D$1,1+COUNTA(D$3:D326)-COUNTBLANK(D$3:D326),\"\"),\"\")","v":""},{"$f":"IF($C327=1,IF(WEEKDAY($K327)=E$1,1+COUNTA(E$3:E326)-COUNTBLANK(E$3:E326),\"\"),\"\")","v":""},{"$f":"IF($C327=1,IF(WEEKDAY($K327)=F$1,1+COUNTA(F$3:F326)-COUNTBLANK(F$3:F326),\"\"),\"\")","v":""},{"$f":"IF($C327=1,IF(WEEKDAY($K327)=G$1,1+COUNTA(G$3:G326)-COUNTBLANK(G$3:G326),\"\"),\"\")","v":""},{"$f":"IF($C327=1,IF(WEEKDAY($K327)=H$1,1+COUNTA(H$3:H326)-COUNTBLANK(H$3:H326),\"\"),\"\")","v":""},{"$f":"IF($C327=1,IF(WEEKDAY($K327)=I$1,1+COUNTA(I$3:I326)-COUNTBLANK(I$3:I326),\"\"),\"\")","v":""},{"$f":"IF($C327=1,IF(WEEKDAY($K327)=J$1,1+COUNTA(J$3:J326)-COUNTBLANK(J$3:J326),\"\"),\"\")","v":""},"2019-07-10"]
["2019-07-11",0,0,{"$f":"IF($C328=1,IF(WEEKDAY($K328)=D$1,1+COUNTA(D$3:D327)-COUNTBLANK(D$3:D327),\"\"),\"\")","v":""},{"$f":"IF($C328=1,IF(WEEKDAY($K328)=E$1,1+COUNTA(E$3:E327)-COUNTBLANK(E$3:E327),\"\"),\"\")","v":""},{"$f":"IF($C328=1,IF(WEEKDAY($K328)=F$1,1+COUNTA(F$3:F327)-COUNTBLANK(F$3:F327),\"\"),\"\")","v":""},{"$f":"IF($C328=1,IF(WEEKDAY($K328)=G$1,1+COUNTA(G$3:G327)-COUNTBLANK(G$3:G327),\"\"),\"\")","v":""},{"$f":"IF($C328=1,IF(WEEKDAY($K328)=H$1,1+COUNTA(H$3:H327)-COUNTBLANK(H$3:H327),\"\"),\"\")","v":""},{"$f":"IF($C328=1,IF(WEEKDAY($K328)=I$1,1+COUNTA(I$3:I327)-COUNTBLANK(I$3:I327),\"\"),\"\")","v":""},{"$f":"IF($C328=1,IF(WEEKDAY($K328)=J$1,1+COUNTA(J$3:J327)-COUNTBLANK(J$3:J327),\"\"),\"\")","v":""},"2019-07-11"]
["2019-07-12",0,0,{"$f":"IF($C329=1,IF(WEEKDAY($K329)=D$1,1+COUNTA(D$3:D328)-COUNTBLANK(D$3:D328),\"\"),\"\")","v":""},{"$f":"IF($C329=1,IF(WEEKDAY($K329)=E$1,1+COUNTA(E$3:E328)-COUNTBLANK(E$3:E328),\"\"),\"\")","v":""},{"$f":"IF($C329=1,IF(WEEKDAY($K329)=F$1,1+COUNTA(F$3:F328)-COUNTBLANK(F$3:F328),\"\"),\"\")","v":""},{"$f":"IF($C329=1,IF(WEEKDAY($K329)=G$1,1+COUNTA(G$3:G328)-COUNTBLANK(G$3:G328),\"\"),\"\")","v":""},{"$f":"IF($C329=1,IF(WEEKDAY($K329)=H$1,1+COUNTA(H$3:H328)-COUNTBLANK(H$3:H328),\"\"),\"\")","v":""},{"$f":"IF($C329=1,IF(WEEKDAY($K329)=I$1,1+COUNTA(I$3:I328)-COUNTBLANK(I$3:I328),\"\"),\"\")","v":""},{"$f":"IF($C329=1,IF(WEEKDAY($K329)=J$1,1+COUNTA(J$3:J328)-COUNTBLANK(J$3:J328),\"\"),\"\")","v":""},"2019-07-12"]
["2019-07-13",0,0,{"$f":"IF($C330=1,IF(WEEKDAY($K330)=D$1,1+COUNTA(D$3:D329)-COUNTBLANK(D$3:D329),\"\"),\"\")","v":""},{"$f":"IF($C330=1,IF(WEEKDAY($K330)=E$1,1+COUNTA(E$3:E329)-COUNTBLANK(E$3:E329),\"\"),\"\")","v":""},{"$f":"IF($C330=1,IF(WEEKDAY($K330)=F$1,1+COUNTA(F$3:F329)-COUNTBLANK(F$3:F329),\"\"),\"\")","v":""},{"$f":"IF($C330=1,IF(WEEKDAY($K330)=G$1,1+COUNTA(G$3:G329)-COUNTBLANK(G$3:G329),\"\"),\"\")","v":""},{"$f":"IF($C330=1,IF(WEEKDAY($K330)=H$1,1+COUNTA(H$3:H329)-COUNTBLANK(H$3:H329),\"\"),\"\")","v":""},{"$f":"IF($C330=1,IF(WEEKDAY($K330)=I$1,1+COUNTA(I$3:I329)-COUNTBLANK(I$3:I329),\"\"),\"\")","v":""},{"$f":"IF($C330=1,IF(WEEKDAY($K330)=J$1,1+COUNTA(J$3:J329)-COUNTBLANK(J$3:J329),\"\"),\"\")","v":""},"2019-07-13"]
["2019-07-14",0,0,{"$f":"IF($C331=1,IF(WEEKDAY($K331)=D$1,1+COUNTA(D$3:D330)-COUNTBLANK(D$3:D330),\"\"),\"\")","v":""},{"$f":"IF($C331=1,IF(WEEKDAY($K331)=E$1,1+COUNTA(E$3:E330)-COUNTBLANK(E$3:E330),\"\"),\"\")","v":""},{"$f":"IF($C331=1,IF(WEEKDAY($K331)=F$1,1+COUNTA(F$3:F330)-COUNTBLANK(F$3:F330),\"\"),\"\")","v":""},{"$f":"IF($C331=1,IF(WEEKDAY($K331)=G$1,1+COUNTA(G$3:G330)-COUNTBLANK(G$3:G330),\"\"),\"\")","v":""},{"$f":"IF($C331=1,IF(WEEKDAY($K331)=H$1,1+COUNTA(H$3:H330)-COUNTBLANK(H$3:H330),\"\"),\"\")","v":""},{"$f":"IF($C331=1,IF(WEEKDAY($K331)=I$1,1+COUNTA(I$3:I330)-COUNTBLANK(I$3:I330),\"\"),\"\")","v":""},{"$f":"IF($C331=1,IF(WEEKDAY($K331)=J$1,1+COUNTA(J$3:J330)-COUNTBLANK(J$3:J330),\"\"),\"\")","v":""},"2019-07-14"]
["2019-07-15",0,0,{"$f":"IF($C332=1,IF(WEEKDAY($K332)=D$1,1+COUNTA(D$3:D331)-COUNTBLANK(D$3:D331),\"\"),\"\")","v":""},{"$f":"IF($C332=1,IF(WEEKDAY($K332)=E$1,1+COUNTA(E$3:E331)-COUNTBLANK(E$3:E331),\"\"),\"\")","v":""},{"$f":"IF($C332=1,IF(WEEKDAY($K332)=F$1,1+COUNTA(F$3:F331)-COUNTBLANK(F$3:F331),\"\"),\"\")","v":""},{"$f":"IF($C332=1,IF(WEEKDAY($K332)=G$1,1+COUNTA(G$3:G331)-COUNTBLANK(G$3:G331),\"\"),\"\")","v":""},{"$f":"IF($C332=1,IF(WEEKDAY($K332)=H$1,1+COUNTA(H$3:H331)-COUNTBLANK(H$3:H331),\"\"),\"\")","v":""},{"$f":"IF($C332=1,IF(WEEKDAY($K332)=I$1,1+COUNTA(I$3:I331)-COUNTBLANK(I$3:I331),\"\"),\"\")","v":""},{"$f":"IF($C332=1,IF(WEEKDAY($K332)=J$1,1+COUNTA(J$3:J331)-COUNTBLANK(J$3:J331),\"\"),\"\")","v":""},"2019-07-15"]
["2019-07-16",0,0,{"$f":"IF($C333=1,IF(WEEKDAY($K333)=D$1,1+COUNTA(D$3:D332)-COUNTBLANK(D$3:D332),\"\"),\"\")","v":""},{"$f":"IF($C333=1,IF(WEEKDAY($K333)=E$1,1+COUNTA(E$3:E332)-COUNTBLANK(E$3:E332),\"\"),\"\")","v":""},{"$f":"IF($C333=1,IF(WEEKDAY($K333)=F$1,1+COUNTA(F$3:F332)-COUNTBLANK(F$3:F332),\"\"),\"\")","v":""},{"$f":"IF($C333=1,IF(WEEKDAY($K333)=G$1,1+COUNTA(G$3:G332)-COUNTBLANK(G$3:G332),\"\"),\"\")","v":""},{"$f":"IF($C333=1,IF(WEEKDAY($K333)=H$1,1+COUNTA(H$3:H332)-COUNTBLANK(H$3:H332),\"\"),\"\")","v":""},{"$f":"IF($C333=1,IF(WEEKDAY($K333)=I$1,1+COUNTA(I$3:I332)-COUNTBLANK(I$3:I332),\"\"),\"\")","v":""},{"$f":"IF($C333=1,IF(WEEKDAY($K333)=J$1,1+COUNTA(J$3:J332)-COUNTBLANK(J$3:J332),\"\"),\"\")","v":""},"2019-07-16"]
["2019-07-17",0,0,{"$f":"IF($C334=1,IF(WEEKDAY($K334)=D$1,1+COUNTA(D$3:D333)-COUNTBLANK(D$3:D333),\"\"),\"\")","v":""},{"$f":"IF($C334=1,IF(WEEKDAY($K334)=E$1,1+COUNTA(E$3:E333)-COUNTBLANK(E$3:E333),\"\"),\"\")","v":""},{"$f":"IF($C334=1,IF(WEEKDAY($K334)=F$1,1+COUNTA(F$3:F333)-COUNTBLANK(F$3:F333),\"\"),\"\")","v":""},{"$f":"IF($C334=1,IF(WEEKDAY($K334)=G$1,1+COUNTA(G$3:G333)-COUNTBLANK(G$3:G333),\"\"),\"\")","v":""},{"$f":"IF($C334=1,IF(WEEKDAY($K334)=H$1,1+COUNTA(H$3:H333)-COUNTBLANK(H$3:H333),\"\"),\"\")","v":""},{"$f":"IF($C334=1,IF(WEEKDAY($K334)=I$1,1+COUNTA(I$3:I333)-COUNTBLANK(I$3:I333),\"\"),\"\")","v":""},{"$f":"IF($C334=1,IF(WEEKDAY($K334)=J$1,1+COUNTA(J$3:J333)-COUNTBLANK(J$3:J333),\"\"),\"\")","v":""},"2019-07-17"]
["2019-07-18",0,0,{"$f":"IF($C335=1,IF(WEEKDAY($K335)=D$1,1+COUNTA(D$3:D334)-COUNTBLANK(D$3:D334),\"\"),\"\")","v":""},{"$f":"IF($C335=1,IF(WEEKDAY($K335)=E$1,1+COUNTA(E$3:E334)-COUNTBLANK(E$3:E334),\"\"),\"\")","v":""},{"$f":"IF($C335=1,IF(WEEKDAY($K335)=F$1,1+COUNTA(F$3:F334)-COUNTBLANK(F$3:F334),\"\"),\"\")","v":""},{"$f":"IF($C335=1,IF(WEEKDAY($K335)=G$1,1+COUNTA(G$3:G334)-COUNTBLANK(G$3:G334),\"\"),\"\")","v":""},{"$f":"IF($C335=1,IF(WEEKDAY($K335)=H$1,1+COUNTA(H$3:H334)-COUNTBLANK(H$3:H334),\"\"),\"\")","v":""},{"$f":"IF($C335=1,IF(WEEKDAY($K335)=I$1,1+COUNTA(I$3:I334)-COUNTBLANK(I$3:I334),\"\"),\"\")","v":""},{"$f":"IF($C335=1,IF(WEEKDAY($K335)=J$1,1+COUNTA(J$3:J334)-COUNTBLANK(J$3:J334),\"\"),\"\")","v":""},"2019-07-18"]
["2019-07-19",0,0,{"$f":"IF($C336=1,IF(WEEKDAY($K336)=D$1,1+COUNTA(D$3:D335)-COUNTBLANK(D$3:D335),\"\"),\"\")","v":""},{"$f":"IF($C336=1,IF(WEEKDAY($K336)=E$1,1+COUNTA(E$3:E335)-COUNTBLANK(E$3:E335),\"\"),\"\")","v":""},{"$f":"IF($C336=1,IF(WEEKDAY($K336)=F$1,1+COUNTA(F$3:F335)-COUNTBLANK(F$3:F335),\"\"),\"\")","v":""},{"$f":"IF($C336=1,IF(WEEKDAY($K336)=G$1,1+COUNTA(G$3:G335)-COUNTBLANK(G$3:G335),\"\"),\"\")","v":""},{"$f":"IF($C336=1,IF(WEEKDAY($K336)=H$1,1+COUNTA(H$3:H335)-COUNTBLANK(H$3:H335),\"\"),\"\")","v":""},{"$f":"IF($C336=1,IF(WEEKDAY($K336)=I$1,1+COUNTA(I$3:I335)-COUNTBLANK(I$3:I335),\"\"),\"\")","v":""},{"$f":"IF($C336=1,IF(WEEKDAY($K336)=J$1,1+COUNTA(J$3:J335)-COUNTBLANK(J$3:J335),\"\"),\"\")","v":""},"2019-07-19"]
["2019-07-20",0,0,{"$f":"IF($C337=1,IF(WEEKDAY($K337)=D$1,1+COUNTA(D$3:D336)-COUNTBLANK(D$3:D336),\"\"),\"\")","v":""},{"$f":"IF($C337=1,IF(WEEKDAY($K337)=E$1,1+COUNTA(E$3:E336)-COUNTBLANK(E$3:E336),\"\"),\"\")","v":""},{"$f":"IF($C337=1,IF(WEEKDAY($K337)=F$1,1+COUNTA(F$3:F336)-COUNTBLANK(F$3:F336),\"\"),\"\")","v":""},{"$f":"IF($C337=1,IF(WEEKDAY($K337)=G$1,1+COUNTA(G$3:G336)-COUNTBLANK(G$3:G336),\"\"),\"\")","v":""},{"$f":"IF($C337=1,IF(WEEKDAY($K337)=H$1,1+COUNTA(H$3:H336)-COUNTBLANK(H$3:H336),\"\"),\"\")","v":""},{"$f":"IF($C337=1,IF(WEEKDAY($K337)=I$1,1+COUNTA(I$3:I336)-COUNTBLANK(I$3:I336),\"\"),\"\")","v":""},{"$f":"IF($C337=1,IF(WEEKDAY($K337)=J$1,1+COUNTA(J$3:J336)-COUNTBLANK(J$3:J336),\"\"),\"\")","v":""},"2019-07-20"]
["2019-07-21",0,0,{"$f":"IF($C338=1,IF(WEEKDAY($K338)=D$1,1+COUNTA(D$3:D337)-COUNTBLANK(D$3:D337),\"\"),\"\")","v":""},{"$f":"IF($C338=1,IF(WEEKDAY($K338)=E$1,1+COUNTA(E$3:E337)-COUNTBLANK(E$3:E337),\"\"),\"\")","v":""},{"$f":"IF($C338=1,IF(WEEKDAY($K338)=F$1,1+COUNTA(F$3:F337)-COUNTBLANK(F$3:F337),\"\"),\"\")","v":""},{"$f":"IF($C338=1,IF(WEEKDAY($K338)=G$1,1+COUNTA(G$3:G337)-COUNTBLANK(G$3:G337),\"\"),\"\")","v":""},{"$f":"IF($C338=1,IF(WEEKDAY($K338)=H$1,1+COUNTA(H$3:H337)-COUNTBLANK(H$3:H337),\"\"),\"\")","v":""},{"$f":"IF($C338=1,IF(WEEKDAY($K338)=I$1,1+COUNTA(I$3:I337)-COUNTBLANK(I$3:I337),\"\"),\"\")","v":""},{"$f":"IF($C338=1,IF(WEEKDAY($K338)=J$1,1+COUNTA(J$3:J337)-COUNTBLANK(J$3:J337),\"\"),\"\")","v":""},"2019-07-21"]
["2019-07-22",0,0,{"$f":"IF($C339=1,IF(WEEKDAY($K339)=D$1,1+COUNTA(D$3:D338)-COUNTBLANK(D$3:D338),\"\"),\"\")","v":""},{"$f":"IF($C339=1,IF(WEEKDAY($K339)=E$1,1+COUNTA(E$3:E338)-COUNTBLANK(E$3:E338),\"\"),\"\")","v":""},{"$f":"IF($C339=1,IF(WEEKDAY($K339)=F$1,1+COUNTA(F$3:F338)-COUNTBLANK(F$3:F338),\"\"),\"\")","v":""},{"$f":"IF($C339=1,IF(WEEKDAY($K339)=G$1,1+COUNTA(G$3:G338)-COUNTBLANK(G$3:G338),\"\"),\"\")","v":""},{"$f":"IF($C339=1,IF(WEEKDAY($K339)=H$1,1+COUNTA(H$3:H338)-COUNTBLANK(H$3:H338),\"\"),\"\")","v":""},{"$f":"IF($C339=1,IF(WEEKDAY($K339)=I$1,1+COUNTA(I$3:I338)-COUNTBLANK(I$3:I338),\"\"),\"\")","v":""},{"$f":"IF($C339=1,IF(WEEKDAY($K339)=J$1,1+COUNTA(J$3:J338)-COUNTBLANK(J$3:J338),\"\"),\"\")","v":""},"2019-07-22"]
["2019-07-23",0,0,{"$f":"IF($C340=1,IF(WEEKDAY($K340)=D$1,1+COUNTA(D$3:D339)-COUNTBLANK(D$3:D339),\"\"),\"\")","v":""},{"$f":"IF($C340=1,IF(WEEKDAY($K340)=E$1,1+COUNTA(E$3:E339)-COUNTBLANK(E$3:E339),\"\"),\"\")","v":""},{"$f":"IF($C340=1,IF(WEEKDAY($K340)=F$1,1+COUNTA(F$3:F339)-COUNTBLANK(F$3:F339),\"\"),\"\")","v":""},{"$f":"IF($C340=1,IF(WEEKDAY($K340)=G$1,1+COUNTA(G$3:G339)-COUNTBLANK(G$3:G339),\"\"),\"\")","v":""},{"$f":"IF($C340=1,IF(WEEKDAY($K340)=H$1,1+COUNTA(H$3:H339)-COUNTBLANK(H$3:H339),\"\"),\"\")","v":""},{"$f":"IF($C340=1,IF(WEEKDAY($K340)=I$1,1+COUNTA(I$3:I339)-COUNTBLANK(I$3:I339),\"\"),\"\")","v":""},{"$f":"IF($C340=1,IF(WEEKDAY($K340)=J$1,1+COUNTA(J$3:J339)-COUNTBLANK(J$3:J339),\"\"),\"\")","v":""},"2019-07-23"]
["2019-07-24",0,0,{"$f":"IF($C341=1,IF(WEEKDAY($K341)=D$1,1+COUNTA(D$3:D340)-COUNTBLANK(D$3:D340),\"\"),\"\")","v":""},{"$f":"IF($C341=1,IF(WEEKDAY($K341)=E$1,1+COUNTA(E$3:E340)-COUNTBLANK(E$3:E340),\"\"),\"\")","v":""},{"$f":"IF($C341=1,IF(WEEKDAY($K341)=F$1,1+COUNTA(F$3:F340)-COUNTBLANK(F$3:F340),\"\"),\"\")","v":""},{"$f":"IF($C341=1,IF(WEEKDAY($K341)=G$1,1+COUNTA(G$3:G340)-COUNTBLANK(G$3:G340),\"\"),\"\")","v":""},{"$f":"IF($C341=1,IF(WEEKDAY($K341)=H$1,1+COUNTA(H$3:H340)-COUNTBLANK(H$3:H340),\"\"),\"\")","v":""},{"$f":"IF($C341=1,IF(WEEKDAY($K341)=I$1,1+COUNTA(I$3:I340)-COUNTBLANK(I$3:I340),\"\"),\"\")","v":""},{"$f":"IF($C341=1,IF(WEEKDAY($K341)=J$1,1+COUNTA(J$3:J340)-COUNTBLANK(J$3:J340),\"\"),\"\")","v":""},"2019-07-24"]
["2019-07-25",0,0,{"$f":"IF($C342=1,IF(WEEKDAY($K342)=D$1,1+COUNTA(D$3:D341)-COUNTBLANK(D$3:D341),\"\"),\"\")","v":""},{"$f":"IF($C342=1,IF(WEEKDAY($K342)=E$1,1+COUNTA(E$3:E341)-COUNTBLANK(E$3:E341),\"\"),\"\")","v":""},{"$f":"IF($C342=1,IF(WEEKDAY($K342)=F$1,1+COUNTA(F$3:F341)-COUNTBLANK(F$3:F341),\"\"),\"\")","v":""},{"$f":"IF($C342=1,IF(WEEKDAY($K342)=G$1,1+COUNTA(G$3:G341)-COUNTBLANK(G$3:G341),\"\"),\"\")","v":""},{"$f":"IF($C342=1,IF(WEEKDAY($K342)=H$1,1+COUNTA(H$3:H341)-COUNTBLANK(H$3:H341),\"\"),\"\")","v":""},{"$f":"IF($C342=1,IF(WEEKDAY($K342)=I$1,1+COUNTA(I$3:I341)-COUNTBLANK(I$3:I341),\"\"),\"\")","v":""},{"$f":"IF($C342=1,IF(WEEKDAY($K342)=J$1,1+COUNTA(J$3:J341)-COUNTBLANK(J$3:J341),\"\"),\"\")","v":""},"2019-07-25"]
["2019-07-26",0,0,{"$f":"IF($C343=1,IF(WEEKDAY($K343)=D$1,1+COUNTA(D$3:D342)-COUNTBLANK(D$3:D342),\"\"),\"\")","v":""},{"$f":"IF($C343=1,IF(WEEKDAY($K343)=E$1,1+COUNTA(E$3:E342)-COUNTBLANK(E$3:E342),\"\"),\"\")","v":""},{"$f":"IF($C343=1,IF(WEEKDAY($K343)=F$1,1+COUNTA(F$3:F342)-COUNTBLANK(F$3:F342),\"\"),\"\")","v":""},{"$f":"IF($C343=1,IF(WEEKDAY($K343)=G$1,1+COUNTA(G$3:G342)-COUNTBLANK(G$3:G342),\"\"),\"\")","v":""},{"$f":"IF($C343=1,IF(WEEKDAY($K343)=H$1,1+COUNTA(H$3:H342)-COUNTBLANK(H$3:H342),\"\"),\"\")","v":""},{"$f":"IF($C343=1,IF(WEEKDAY($K343)=I$1,1+COUNTA(I$3:I342)-COUNTBLANK(I$3:I342),\"\"),\"\")","v":""},{"$f":"IF($C343=1,IF(WEEKDAY($K343)=J$1,1+COUNTA(J$3:J342)-COUNTBLANK(J$3:J342),\"\"),\"\")","v":""},"2019-07-26"]
["2019-07-27",0,0,{"$f":"IF($C344=1,IF(WEEKDAY($K344)=D$1,1+COUNTA(D$3:D343)-COUNTBLANK(D$3:D343),\"\"),\"\")","v":""},{"$f":"IF($C344=1,IF(WEEKDAY($K344)=E$1,1+COUNTA(E$3:E343)-COUNTBLANK(E$3:E343),\"\"),\"\")","v":""},{"$f":"IF($C344=1,IF(WEEKDAY($K344)=F$1,1+COUNTA(F$3:F343)-COUNTBLANK(F$3:F343),\"\"),\"\")","v":""},{"$f":"IF($C344=1,IF(WEEKDAY($K344)=G$1,1+COUNTA(G$3:G343)-COUNTBLANK(G$3:G343),\"\"),\"\")","v":""},{"$f":"IF($C344=1,IF(WEEKDAY($K344)=H$1,1+COUNTA(H$3:H343)-COUNTBLANK(H$3:H343),\"\"),\"\")","v":""},{"$f":"IF($C344=1,IF(WEEKDAY($K344)=I$1,1+COUNTA(I$3:I343)-COUNTBLANK(I$3:I343),\"\"),\"\")","v":""},{"$f":"IF($C344=1,IF(WEEKDAY($K344)=J$1,1+COUNTA(J$3:J343)-COUNTBLANK(J$3:J343),\"\"),\"\")","v":""},"2019-07-27"]
["2019-07-28",0,0,{"$f":"IF($C345=1,IF(WEEKDAY($K345)=D$1,1+COUNTA(D$3:D344)-COUNTBLANK(D$3:D344),\"\"),\"\")","v":""},{"$f":"IF($C345=1,IF(WEEKDAY($K345)=E$1,1+COUNTA(E$3:E344)-COUNTBLANK(E$3:E344),\"\"),\"\")","v":""},{"$f":"IF($C345=1,IF(WEEKDAY($K345)=F$1,1+COUNTA(F$3:F344)-COUNTBLANK(F$3:F344),\"\"),\"\")","v":""},{"$f":"IF($C345=1,IF(WEEKDAY($K345)=G$1,1+COUNTA(G$3:G344)-COUNTBLANK(G$3:G344),\"\"),\"\")","v":""},{"$f":"IF($C345=1,IF(WEEKDAY($K345)=H$1,1+COUNTA(H$3:H344)-COUNTBLANK(H$3:H344),\"\"),\"\")","v":""},{"$f":"IF($C345=1,IF(WEEKDAY($K345)=I$1,1+COUNTA(I$3:I344)-COUNTBLANK(I$3:I344),\"\"),\"\")","v":""},{"$f":"IF($C345=1,IF(WEEKDAY($K345)=J$1,1+COUNTA(J$3:J344)-COUNTBLANK(J$3:J344),\"\"),\"\")","v":""},"2019-07-28"]
["2019-07-29",0,0,{"$f":"IF($C346=1,IF(WEEKDAY($K346)=D$1,1+COUNTA(D$3:D345)-COUNTBLANK(D$3:D345),\"\"),\"\")","v":""},{"$f":"IF($C346=1,IF(WEEKDAY($K346)=E$1,1+COUNTA(E$3:E345)-COUNTBLANK(E$3:E345),\"\"),\"\")","v":""},{"$f":"IF($C346=1,IF(WEEKDAY($K346)=F$1,1+COUNTA(F$3:F345)-COUNTBLANK(F$3:F345),\"\"),\"\")","v":""},{"$f":"IF($C346=1,IF(WEEKDAY($K346)=G$1,1+COUNTA(G$3:G345)-COUNTBLANK(G$3:G345),\"\"),\"\")","v":""},{"$f":"IF($C346=1,IF(WEEKDAY($K346)=H$1,1+COUNTA(H$3:H345)-COUNTBLANK(H$3:H345),\"\"),\"\")","v":""},{"$f":"IF($C346=1,IF(WEEKDAY($K346)=I$1,1+COUNTA(I$3:I345)-COUNTBLANK(I$3:I345),\"\"),\"\")","v":""},{"$f":"IF($C346=1,IF(WEEKDAY($K346)=J$1,1+COUNTA(J$3:J345)-COUNTBLANK(J$3:J345),\"\"),\"\")","v":""},"2019-07-29"]
["2019-07-30",0,0,{"$f":"IF($C347=1,IF(WEEKDAY($K347)=D$1,1+COUNTA(D$3:D346)-COUNTBLANK(D$3:D346),\"\"),\"\")","v":""},{"$f":"IF($C347=1,IF(WEEKDAY($K347)=E$1,1+COUNTA(E$3:E346)-COUNTBLANK(E$3:E346),\"\"),\"\")","v":""},{"$f":"IF($C347=1,IF(WEEKDAY($K347)=F$1,1+COUNTA(F$3:F346)-COUNTBLANK(F$3:F346),\"\"),\"\")","v":""},{"$f":"IF($C347=1,IF(WEEKDAY($K347)=G$1,1+COUNTA(G$3:G346)-COUNTBLANK(G$3:G346),\"\"),\"\")","v":""},{"$f":"IF($C347=1,IF(WEEKDAY($K347)=H$1,1+COUNTA(H$3:H346)-COUNTBLANK(H$3:H346),\"\"),\"\")","v":""},{"$f":"IF($C347=1,IF(WEEKDAY($K347)=I$1,1+COUNTA(I$3:I346)-COUNTBLANK(I$3:I346),\"\"),\"\")","v":""},{"$f":"IF($C347=1,IF(WEEKDAY($K347)=J$1,1+COUNTA(J$3:J346)-COUNTBLANK(J$3:J346),\"\"),\"\")","v":""},"2019-07-30"]
["2019-07-31",0,0,{"$f":"IF($C348=1,IF(WEEKDAY($K348)=D$1,1+COUNTA(D$3:D347)-COUNTBLANK(D$3:D347),\"\"),\"\")","v":""},{"$f":"IF($C348=1,IF(WEEKDAY($K348)=E$1,1+COUNTA(E$3:E347)-COUNTBLANK(E$3:E347),\"\"),\"\")","v":""},{"$f":"IF($C348=1,IF(WEEKDAY($K348)=F$1,1+COUNTA(F$3:F347)-COUNTBLANK(F$3:F347),\"\"),\"\")","v":""},{"$f":"IF($C348=1,IF(WEEKDAY($K348)=G$1,1+COUNTA(G$3:G347)-COUNTBLANK(G$3:G347),\"\"),\"\")","v":""},{"$f":"IF($C348=1,IF(WEEKDAY($K348)=H$1,1+COUNTA(H$3:H347)-COUNTBLANK(H$3:H347),\"\"),\"\")","v":""},{"$f":"IF($C348=1,IF(WEEKDAY($K348)=I$1,1+COUNTA(I$3:I347)-COUNTBLANK(I$3:I347),\"\"),\"\")","v":""},{"$f":"IF($C348=1,IF(WEEKDAY($K348)=J$1,1+COUNTA(J$3:J347)-COUNTBLANK(J$3:J347),\"\"),\"\")","v":""},"2019-07-31"]
["2019-08-01",0,0,{"$f":"IF($C349=1,IF(WEEKDAY($K349)=D$1,1+COUNTA(D$3:D348)-COUNTBLANK(D$3:D348),\"\"),\"\")","v":""},{"$f":"IF($C349=1,IF(WEEKDAY($K349)=E$1,1+COUNTA(E$3:E348)-COUNTBLANK(E$3:E348),\"\"),\"\")","v":""},{"$f":"IF($C349=1,IF(WEEKDAY($K349)=F$1,1+COUNTA(F$3:F348)-COUNTBLANK(F$3:F348),\"\"),\"\")","v":""},{"$f":"IF($C349=1,IF(WEEKDAY($K349)=G$1,1+COUNTA(G$3:G348)-COUNTBLANK(G$3:G348),\"\"),\"\")","v":""},{"$f":"IF($C349=1,IF(WEEKDAY($K349)=H$1,1+COUNTA(H$3:H348)-COUNTBLANK(H$3:H348),\"\"),\"\")","v":""},{"$f":"IF($C349=1,IF(WEEKDAY($K349)=I$1,1+COUNTA(I$3:I348)-COUNTBLANK(I$3:I348),\"\"),\"\")","v":""},{"$f":"IF($C349=1,IF(WEEKDAY($K349)=J$1,1+COUNTA(J$3:J348)-COUNTBLANK(J$3:J348),\"\"),\"\")","v":""},"2019-08-01"]
["2019-08-02",0,0,{"$f":"IF($C350=1,IF(WEEKDAY($K350)=D$1,1+COUNTA(D$3:D349)-COUNTBLANK(D$3:D349),\"\"),\"\")","v":""},{"$f":"IF($C350=1,IF(WEEKDAY($K350)=E$1,1+COUNTA(E$3:E349)-COUNTBLANK(E$3:E349),\"\"),\"\")","v":""},{"$f":"IF($C350=1,IF(WEEKDAY($K350)=F$1,1+COUNTA(F$3:F349)-COUNTBLANK(F$3:F349),\"\"),\"\")","v":""},{"$f":"IF($C350=1,IF(WEEKDAY($K350)=G$1,1+COUNTA(G$3:G349)-COUNTBLANK(G$3:G349),\"\"),\"\")","v":""},{"$f":"IF($C350=1,IF(WEEKDAY($K350)=H$1,1+COUNTA(H$3:H349)-COUNTBLANK(H$3:H349),\"\"),\"\")","v":""},{"$f":"IF($C350=1,IF(WEEKDAY($K350)=I$1,1+COUNTA(I$3:I349)-COUNTBLANK(I$3:I349),\"\"),\"\")","v":""},{"$f":"IF($C350=1,IF(WEEKDAY($K350)=J$1,1+COUNTA(J$3:J349)-COUNTBLANK(J$3:J349),\"\"),\"\")","v":""},"2019-08-02"]
["2019-08-03",0,0,{"$f":"IF($C351=1,IF(WEEKDAY($K351)=D$1,1+COUNTA(D$3:D350)-COUNTBLANK(D$3:D350),\"\"),\"\")","v":""},{"$f":"IF($C351=1,IF(WEEKDAY($K351)=E$1,1+COUNTA(E$3:E350)-COUNTBLANK(E$3:E350),\"\"),\"\")","v":""},{"$f":"IF($C351=1,IF(WEEKDAY($K351)=F$1,1+COUNTA(F$3:F350)-COUNTBLANK(F$3:F350),\"\"),\"\")","v":""},{"$f":"IF($C351=1,IF(WEEKDAY($K351)=G$1,1+COUNTA(G$3:G350)-COUNTBLANK(G$3:G350),\"\"),\"\")","v":""},{"$f":"IF($C351=1,IF(WEEKDAY($K351)=H$1,1+COUNTA(H$3:H350)-COUNTBLANK(H$3:H350),\"\"),\"\")","v":""},{"$f":"IF($C351=1,IF(WEEKDAY($K351)=I$1,1+COUNTA(I$3:I350)-COUNTBLANK(I$3:I350),\"\"),\"\")","v":""},{"$f":"IF($C351=1,IF(WEEKDAY($K351)=J$1,1+COUNTA(J$3:J350)-COUNTBLANK(J$3:J350),\"\"),\"\")","v":""},"2019-08-03"]
["2019-08-04",0,0,{"$f":"IF($C352=1,IF(WEEKDAY($K352)=D$1,1+COUNTA(D$3:D351)-COUNTBLANK(D$3:D351),\"\"),\"\")","v":""},{"$f":"IF($C352=1,IF(WEEKDAY($K352)=E$1,1+COUNTA(E$3:E351)-COUNTBLANK(E$3:E351),\"\"),\"\")","v":""},{"$f":"IF($C352=1,IF(WEEKDAY($K352)=F$1,1+COUNTA(F$3:F351)-COUNTBLANK(F$3:F351),\"\"),\"\")","v":""},{"$f":"IF($C352=1,IF(WEEKDAY($K352)=G$1,1+COUNTA(G$3:G351)-COUNTBLANK(G$3:G351),\"\"),\"\")","v":""},{"$f":"IF($C352=1,IF(WEEKDAY($K352)=H$1,1+COUNTA(H$3:H351)-COUNTBLANK(H$3:H351),\"\"),\"\")","v":""},{"$f":"IF($C352=1,IF(WEEKDAY($K352)=I$1,1+COUNTA(I$3:I351)-COUNTBLANK(I$3:I351),\"\"),\"\")","v":""},{"$f":"IF($C352=1,IF(WEEKDAY($K352)=J$1,1+COUNTA(J$3:J351)-COUNTBLANK(J$3:J351),\"\"),\"\")","v":""},"2019-08-04"]
["2019-08-05",0,0,{"$f":"IF($C353=1,IF(WEEKDAY($K353)=D$1,1+COUNTA(D$3:D352)-COUNTBLANK(D$3:D352),\"\"),\"\")","v":""},{"$f":"IF($C353=1,IF(WEEKDAY($K353)=E$1,1+COUNTA(E$3:E352)-COUNTBLANK(E$3:E352),\"\"),\"\")","v":""},{"$f":"IF($C353=1,IF(WEEKDAY($K353)=F$1,1+COUNTA(F$3:F352)-COUNTBLANK(F$3:F352),\"\"),\"\")","v":""},{"$f":"IF($C353=1,IF(WEEKDAY($K353)=G$1,1+COUNTA(G$3:G352)-COUNTBLANK(G$3:G352),\"\"),\"\")","v":""},{"$f":"IF($C353=1,IF(WEEKDAY($K353)=H$1,1+COUNTA(H$3:H352)-COUNTBLANK(H$3:H352),\"\"),\"\")","v":""},{"$f":"IF($C353=1,IF(WEEKDAY($K353)=I$1,1+COUNTA(I$3:I352)-COUNTBLANK(I$3:I352),\"\"),\"\")","v":""},{"$f":"IF($C353=1,IF(WEEKDAY($K353)=J$1,1+COUNTA(J$3:J352)-COUNTBLANK(J$3:J352),\"\"),\"\")","v":""},"2019-08-05"]
["2019-08-06",0,0,{"$f":"IF($C354=1,IF(WEEKDAY($K354)=D$1,1+COUNTA(D$3:D353)-COUNTBLANK(D$3:D353),\"\"),\"\")","v":""},{"$f":"IF($C354=1,IF(WEEKDAY($K354)=E$1,1+COUNTA(E$3:E353)-COUNTBLANK(E$3:E353),\"\"),\"\")","v":""},{"$f":"IF($C354=1,IF(WEEKDAY($K354)=F$1,1+COUNTA(F$3:F353)-COUNTBLANK(F$3:F353),\"\"),\"\")","v":""},{"$f":"IF($C354=1,IF(WEEKDAY($K354)=G$1,1+COUNTA(G$3:G353)-COUNTBLANK(G$3:G353),\"\"),\"\")","v":""},{"$f":"IF($C354=1,IF(WEEKDAY($K354)=H$1,1+COUNTA(H$3:H353)-COUNTBLANK(H$3:H353),\"\"),\"\")","v":""},{"$f":"IF($C354=1,IF(WEEKDAY($K354)=I$1,1+COUNTA(I$3:I353)-COUNTBLANK(I$3:I353),\"\"),\"\")","v":""},{"$f":"IF($C354=1,IF(WEEKDAY($K354)=J$1,1+COUNTA(J$3:J353)-COUNTBLANK(J$3:J353),\"\"),\"\")","v":""},"2019-08-06"]
["2019-08-07",0,0,{"$f":"IF($C355=1,IF(WEEKDAY($K355)=D$1,1+COUNTA(D$3:D354)-COUNTBLANK(D$3:D354),\"\"),\"\")","v":""},{"$f":"IF($C355=1,IF(WEEKDAY($K355)=E$1,1+COUNTA(E$3:E354)-COUNTBLANK(E$3:E354),\"\"),\"\")","v":""},{"$f":"IF($C355=1,IF(WEEKDAY($K355)=F$1,1+COUNTA(F$3:F354)-COUNTBLANK(F$3:F354),\"\"),\"\")","v":""},{"$f":"IF($C355=1,IF(WEEKDAY($K355)=G$1,1+COUNTA(G$3:G354)-COUNTBLANK(G$3:G354),\"\"),\"\")","v":""},{"$f":"IF($C355=1,IF(WEEKDAY($K355)=H$1,1+COUNTA(H$3:H354)-COUNTBLANK(H$3:H354),\"\"),\"\")","v":""},{"$f":"IF($C355=1,IF(WEEKDAY($K355)=I$1,1+COUNTA(I$3:I354)-COUNTBLANK(I$3:I354),\"\"),\"\")","v":""},{"$f":"IF($C355=1,IF(WEEKDAY($K355)=J$1,1+COUNTA(J$3:J354)-COUNTBLANK(J$3:J354),\"\"),\"\")","v":""},"2019-08-07"]
["2019-08-08",0,0,{"$f":"IF($C356=1,IF(WEEKDAY($K356)=D$1,1+COUNTA(D$3:D355)-COUNTBLANK(D$3:D355),\"\"),\"\")","v":""},{"$f":"IF($C356=1,IF(WEEKDAY($K356)=E$1,1+COUNTA(E$3:E355)-COUNTBLANK(E$3:E355),\"\"),\"\")","v":""},{"$f":"IF($C356=1,IF(WEEKDAY($K356)=F$1,1+COUNTA(F$3:F355)-COUNTBLANK(F$3:F355),\"\"),\"\")","v":""},{"$f":"IF($C356=1,IF(WEEKDAY($K356)=G$1,1+COUNTA(G$3:G355)-COUNTBLANK(G$3:G355),\"\"),\"\")","v":""},{"$f":"IF($C356=1,IF(WEEKDAY($K356)=H$1,1+COUNTA(H$3:H355)-COUNTBLANK(H$3:H355),\"\"),\"\")","v":""},{"$f":"IF($C356=1,IF(WEEKDAY($K356)=I$1,1+COUNTA(I$3:I355)-COUNTBLANK(I$3:I355),\"\"),\"\")","v":""},{"$f":"IF($C356=1,IF(WEEKDAY($K356)=J$1,1+COUNTA(J$3:J355)-COUNTBLANK(J$3:J355),\"\"),\"\")","v":""},"2019-08-08"]
["2019-08-09",0,0,{"$f":"IF($C357=1,IF(WEEKDAY($K357)=D$1,1+COUNTA(D$3:D356)-COUNTBLANK(D$3:D356),\"\"),\"\")","v":""},{"$f":"IF($C357=1,IF(WEEKDAY($K357)=E$1,1+COUNTA(E$3:E356)-COUNTBLANK(E$3:E356),\"\"),\"\")","v":""},{"$f":"IF($C357=1,IF(WEEKDAY($K357)=F$1,1+COUNTA(F$3:F356)-COUNTBLANK(F$3:F356),\"\"),\"\")","v":""},{"$f":"IF($C357=1,IF(WEEKDAY($K357)=G$1,1+COUNTA(G$3:G356)-COUNTBLANK(G$3:G356),\"\"),\"\")","v":""},{"$f":"IF($C357=1,IF(WEEKDAY($K357)=H$1,1+COUNTA(H$3:H356)-COUNTBLANK(H$3:H356),\"\"),\"\")","v":""},{"$f":"IF($C357=1,IF(WEEKDAY($K357)=I$1,1+COUNTA(I$3:I356)-COUNTBLANK(I$3:I356),\"\"),\"\")","v":""},{"$f":"IF($C357=1,IF(WEEKDAY($K357)=J$1,1+COUNTA(J$3:J356)-COUNTBLANK(J$3:J356),\"\"),\"\")","v":""},"2019-08-09"]
["2019-08-10",0,0,{"$f":"IF($C358=1,IF(WEEKDAY($K358)=D$1,1+COUNTA(D$3:D357)-COUNTBLANK(D$3:D357),\"\"),\"\")","v":""},{"$f":"IF($C358=1,IF(WEEKDAY($K358)=E$1,1+COUNTA(E$3:E357)-COUNTBLANK(E$3:E357),\"\"),\"\")","v":""},{"$f":"IF($C358=1,IF(WEEKDAY($K358)=F$1,1+COUNTA(F$3:F357)-COUNTBLANK(F$3:F357),\"\"),\"\")","v":""},{"$f":"IF($C358=1,IF(WEEKDAY($K358)=G$1,1+COUNTA(G$3:G357)-COUNTBLANK(G$3:G357),\"\"),\"\")","v":""},{"$f":"IF($C358=1,IF(WEEKDAY($K358)=H$1,1+COUNTA(H$3:H357)-COUNTBLANK(H$3:H357),\"\"),\"\")","v":""},{"$f":"IF($C358=1,IF(WEEKDAY($K358)=I$1,1+COUNTA(I$3:I357)-COUNTBLANK(I$3:I357),\"\"),\"\")","v":""},{"$f":"IF($C358=1,IF(WEEKDAY($K358)=J$1,1+COUNTA(J$3:J357)-COUNTBLANK(J$3:J357),\"\"),\"\")","v":""},"2019-08-10"]
["2019-08-11",0,0,{"$f":"IF($C359=1,IF(WEEKDAY($K359)=D$1,1+COUNTA(D$3:D358)-COUNTBLANK(D$3:D358),\"\"),\"\")","v":""},{"$f":"IF($C359=1,IF(WEEKDAY($K359)=E$1,1+COUNTA(E$3:E358)-COUNTBLANK(E$3:E358),\"\"),\"\")","v":""},{"$f":"IF($C359=1,IF(WEEKDAY($K359)=F$1,1+COUNTA(F$3:F358)-COUNTBLANK(F$3:F358),\"\"),\"\")","v":""},{"$f":"IF($C359=1,IF(WEEKDAY($K359)=G$1,1+COUNTA(G$3:G358)-COUNTBLANK(G$3:G358),\"\"),\"\")","v":""},{"$f":"IF($C359=1,IF(WEEKDAY($K359)=H$1,1+COUNTA(H$3:H358)-COUNTBLANK(H$3:H358),\"\"),\"\")","v":""},{"$f":"IF($C359=1,IF(WEEKDAY($K359)=I$1,1+COUNTA(I$3:I358)-COUNTBLANK(I$3:I358),\"\"),\"\")","v":""},{"$f":"IF($C359=1,IF(WEEKDAY($K359)=J$1,1+COUNTA(J$3:J358)-COUNTBLANK(J$3:J358),\"\"),\"\")","v":""},"2019-08-11"]
["2019-08-12",0,0,{"$f":"IF($C360=1,IF(WEEKDAY($K360)=D$1,1+COUNTA(D$3:D359)-COUNTBLANK(D$3:D359),\"\"),\"\")","v":""},{"$f":"IF($C360=1,IF(WEEKDAY($K360)=E$1,1+COUNTA(E$3:E359)-COUNTBLANK(E$3:E359),\"\"),\"\")","v":""},{"$f":"IF($C360=1,IF(WEEKDAY($K360)=F$1,1+COUNTA(F$3:F359)-COUNTBLANK(F$3:F359),\"\"),\"\")","v":""},{"$f":"IF($C360=1,IF(WEEKDAY($K360)=G$1,1+COUNTA(G$3:G359)-COUNTBLANK(G$3:G359),\"\"),\"\")","v":""},{"$f":"IF($C360=1,IF(WEEKDAY($K360)=H$1,1+COUNTA(H$3:H359)-COUNTBLANK(H$3:H359),\"\"),\"\")","v":""},{"$f":"IF($C360=1,IF(WEEKDAY($K360)=I$1,1+COUNTA(I$3:I359)-COUNTBLANK(I$3:I359),\"\"),\"\")","v":""},{"$f":"IF($C360=1,IF(WEEKDAY($K360)=J$1,1+COUNTA(J$3:J359)-COUNTBLANK(J$3:J359),\"\"),\"\")","v":""},"2019-08-12"]
["2019-08-13",0,0,{"$f":"IF($C361=1,IF(WEEKDAY($K361)=D$1,1+COUNTA(D$3:D360)-COUNTBLANK(D$3:D360),\"\"),\"\")","v":""},{"$f":"IF($C361=1,IF(WEEKDAY($K361)=E$1,1+COUNTA(E$3:E360)-COUNTBLANK(E$3:E360),\"\"),\"\")","v":""},{"$f":"IF($C361=1,IF(WEEKDAY($K361)=F$1,1+COUNTA(F$3:F360)-COUNTBLANK(F$3:F360),\"\"),\"\")","v":""},{"$f":"IF($C361=1,IF(WEEKDAY($K361)=G$1,1+COUNTA(G$3:G360)-COUNTBLANK(G$3:G360),\"\"),\"\")","v":""},{"$f":"IF($C361=1,IF(WEEKDAY($K361)=H$1,1+COUNTA(H$3:H360)-COUNTBLANK(H$3:H360),\"\"),\"\")","v":""},{"$f":"IF($C361=1,IF(WEEKDAY($K361)=I$1,1+COUNTA(I$3:I360)-COUNTBLANK(I$3:I360),\"\"),\"\")","v":""},{"$f":"IF($C361=1,IF(WEEKDAY($K361)=J$1,1+COUNTA(J$3:J360)-COUNTBLANK(J$3:J360),\"\"),\"\")","v":""},"2019-08-13"]
["2019-08-14",0,0,{"$f":"IF($C362=1,IF(WEEKDAY($K362)=D$1,1+COUNTA(D$3:D361)-COUNTBLANK(D$3:D361),\"\"),\"\")","v":""},{"$f":"IF($C362=1,IF(WEEKDAY($K362)=E$1,1+COUNTA(E$3:E361)-COUNTBLANK(E$3:E361),\"\"),\"\")","v":""},{"$f":"IF($C362=1,IF(WEEKDAY($K362)=F$1,1+COUNTA(F$3:F361)-COUNTBLANK(F$3:F361),\"\"),\"\")","v":""},{"$f":"IF($C362=1,IF(WEEKDAY($K362)=G$1,1+COUNTA(G$3:G361)-COUNTBLANK(G$3:G361),\"\"),\"\")","v":""},{"$f":"IF($C362=1,IF(WEEKDAY($K362)=H$1,1+COUNTA(H$3:H361)-COUNTBLANK(H$3:H361),\"\"),\"\")","v":""},{"$f":"IF($C362=1,IF(WEEKDAY($K362)=I$1,1+COUNTA(I$3:I361)-COUNTBLANK(I$3:I361),\"\"),\"\")","v":""},{"$f":"IF($C362=1,IF(WEEKDAY($K362)=J$1,1+COUNTA(J$3:J361)-COUNTBLANK(J$3:J361),\"\"),\"\")","v":""},"2019-08-14"]
["2019-08-15",0,0,{"$f":"IF($C363=1,IF(WEEKDAY($K363)=D$1,1+COUNTA(D$3:D362)-COUNTBLANK(D$3:D362),\"\"),\"\")","v":""},{"$f":"IF($C363=1,IF(WEEKDAY($K363)=E$1,1+COUNTA(E$3:E362)-COUNTBLANK(E$3:E362),\"\"),\"\")","v":""},{"$f":"IF($C363=1,IF(WEEKDAY($K363)=F$1,1+COUNTA(F$3:F362)-COUNTBLANK(F$3:F362),\"\"),\"\")","v":""},{"$f":"IF($C363=1,IF(WEEKDAY($K363)=G$1,1+COUNTA(G$3:G362)-COUNTBLANK(G$3:G362),\"\"),\"\")","v":""},{"$f":"IF($C363=1,IF(WEEKDAY($K363)=H$1,1+COUNTA(H$3:H362)-COUNTBLANK(H$3:H362),\"\"),\"\")","v":""},{"$f":"IF($C363=1,IF(WEEKDAY($K363)=I$1,1+COUNTA(I$3:I362)-COUNTBLANK(I$3:I362),\"\"),\"\")","v":""},{"$f":"IF($C363=1,IF(WEEKDAY($K363)=J$1,1+COUNTA(J$3:J362)-COUNTBLANK(J$3:J362),\"\"),\"\")","v":""},"2019-08-15"]
["2019-08-16",0,0,{"$f":"IF($C364=1,IF(WEEKDAY($K364)=D$1,1+COUNTA(D$3:D363)-COUNTBLANK(D$3:D363),\"\"),\"\")","v":""},{"$f":"IF($C364=1,IF(WEEKDAY($K364)=E$1,1+COUNTA(E$3:E363)-COUNTBLANK(E$3:E363),\"\"),\"\")","v":""},{"$f":"IF($C364=1,IF(WEEKDAY($K364)=F$1,1+COUNTA(F$3:F363)-COUNTBLANK(F$3:F363),\"\"),\"\")","v":""},{"$f":"IF($C364=1,IF(WEEKDAY($K364)=G$1,1+COUNTA(G$3:G363)-COUNTBLANK(G$3:G363),\"\"),\"\")","v":""},{"$f":"IF($C364=1,IF(WEEKDAY($K364)=H$1,1+COUNTA(H$3:H363)-COUNTBLANK(H$3:H363),\"\"),\"\")","v":""},{"$f":"IF($C364=1,IF(WEEKDAY($K364)=I$1,1+COUNTA(I$3:I363)-COUNTBLANK(I$3:I363),\"\"),\"\")","v":""},{"$f":"IF($C364=1,IF(WEEKDAY($K364)=J$1,1+COUNTA(J$3:J363)-COUNTBLANK(J$3:J363),\"\"),\"\")","v":""},"2019-08-16"]
["2019-08-17",0,0,{"$f":"IF($C365=1,IF(WEEKDAY($K365)=D$1,1+COUNTA(D$3:D364)-COUNTBLANK(D$3:D364),\"\"),\"\")","v":""},{"$f":"IF($C365=1,IF(WEEKDAY($K365)=E$1,1+COUNTA(E$3:E364)-COUNTBLANK(E$3:E364),\"\"),\"\")","v":""},{"$f":"IF($C365=1,IF(WEEKDAY($K365)=F$1,1+COUNTA(F$3:F364)-COUNTBLANK(F$3:F364),\"\"),\"\")","v":""},{"$f":"IF($C365=1,IF(WEEKDAY($K365)=G$1,1+COUNTA(G$3:G364)-COUNTBLANK(G$3:G364),\"\"),\"\")","v":""},{"$f":"IF($C365=1,IF(WEEKDAY($K365)=H$1,1+COUNTA(H$3:H364)-COUNTBLANK(H$3:H364),\"\"),\"\")","v":""},{"$f":"IF($C365=1,IF(WEEKDAY($K365)=I$1,1+COUNTA(I$3:I364)-COUNTBLANK(I$3:I364),\"\"),\"\")","v":""},{"$f":"IF($C365=1,IF(WEEKDAY($K365)=J$1,1+COUNTA(J$3:J364)-COUNTBLANK(J$3:J364),\"\"),\"\")","v":""},"2019-08-17"]
["2019-08-18",0,0,{"$f":"IF($C366=1,IF(WEEKDAY($K366)=D$1,1+COUNTA(D$3:D365)-COUNTBLANK(D$3:D365),\"\"),\"\")","v":""},{"$f":"IF($C366=1,IF(WEEKDAY($K366)=E$1,1+COUNTA(E$3:E365)-COUNTBLANK(E$3:E365),\"\"),\"\")","v":""},{"$f":"IF($C366=1,IF(WEEKDAY($K366)=F$1,1+COUNTA(F$3:F365)-COUNTBLANK(F$3:F365),\"\"),\"\")","v":""},{"$f":"IF($C366=1,IF(WEEKDAY($K366)=G$1,1+COUNTA(G$3:G365)-COUNTBLANK(G$3:G365),\"\"),\"\")","v":""},{"$f":"IF($C366=1,IF(WEEKDAY($K366)=H$1,1+COUNTA(H$3:H365)-COUNTBLANK(H$3:H365),\"\"),\"\")","v":""},{"$f":"IF($C366=1,IF(WEEKDAY($K366)=I$1,1+COUNTA(I$3:I365)-COUNTBLANK(I$3:I365),\"\"),\"\")","v":""},{"$f":"IF($C366=1,IF(WEEKDAY($K366)=J$1,1+COUNTA(J$3:J365)-COUNTBLANK(J$3:J365),\"\"),\"\")","v":""},"2019-08-18"]
["2019-08-19",0,0,{"$f":"IF($C367=1,IF(WEEKDAY($K367)=D$1,1+COUNTA(D$3:D366)-COUNTBLANK(D$3:D366),\"\"),\"\")","v":""},{"$f":"IF($C367=1,IF(WEEKDAY($K367)=E$1,1+COUNTA(E$3:E366)-COUNTBLANK(E$3:E366),\"\"),\"\")","v":""},{"$f":"IF($C367=1,IF(WEEKDAY($K367)=F$1,1+COUNTA(F$3:F366)-COUNTBLANK(F$3:F366),\"\"),\"\")","v":""},{"$f":"IF($C367=1,IF(WEEKDAY($K367)=G$1,1+COUNTA(G$3:G366)-COUNTBLANK(G$3:G366),\"\"),\"\")","v":""},{"$f":"IF($C367=1,IF(WEEKDAY($K367)=H$1,1+COUNTA(H$3:H366)-COUNTBLANK(H$3:H366),\"\"),\"\")","v":""},{"$f":"IF($C367=1,IF(WEEKDAY($K367)=I$1,1+COUNTA(I$3:I366)-COUNTBLANK(I$3:I366),\"\"),\"\")","v":""},{"$f":"IF($C367=1,IF(WEEKDAY($K367)=J$1,1+COUNTA(J$3:J366)-COUNTBLANK(J$3:J366),\"\"),\"\")","v":""},"2019-08-19"]
["2019-08-20",1,1,{"$f":"IF($C368=1,IF(WEEKDAY($K368)=D$1,1+COUNTA(D$3:D367)-COUNTBLANK(D$3:D367),\"\"),\"\")","v":""},{"$f":"IF($C368=1,IF(WEEKDAY($K368)=E$1,1+COUNTA(E$3:E367)-COUNTBLANK(E$3:E367),\"\"),\"\")","v":36},{"$f":"IF($C368=1,IF(WEEKDAY($K368)=F$1,1+COUNTA(F$3:F367)-COUNTBLANK(F$3:F367),\"\"),\"\")","v":""},{"$f":"IF($C368=1,IF(WEEKDAY($K368)=G$1,1+COUNTA(G$3:G367)-COUNTBLANK(G$3:G367),\"\"),\"\")","v":""},{"$f":"IF($C368=1,IF(WEEKDAY($K368)=H$1,1+COUNTA(H$3:H367)-COUNTBLANK(H$3:H367),\"\"),\"\")","v":""},{"$f":"IF($C368=1,IF(WEEKDAY($K368)=I$1,1+COUNTA(I$3:I367)-COUNTBLANK(I$3:I367),\"\"),\"\")","v":""},{"$f":"IF($C368=1,IF(WEEKDAY($K368)=J$1,1+COUNTA(J$3:J367)-COUNTBLANK(J$3:J367),\"\"),\"\")","v":""},"2019-08-20"]

{"sheet":"edt-Jour-rouge","index":1,"n_rows":129,"n_cols":62,"rows_kept":129,"hidden":true,"merged":[[0,13,0,15],[2,3,2,6],[2,7,2,8],[2,13,2,14],[3,2,3,6],[3,7,3,8],[4,2,4,6],[4,7,4,8],[5,2,5,6],[5,7,5,8],[6,2,6,6],[6,7,6,8],[7,2,7,6],[7,7,7,8],[8,2,8,6],[8,7,8,8],[9,2,9,6],[9,7,9,8],[10,2,10,6],[10,7,10,8],[11,2,11,6],[11,7,11,8],[12,2,12,6],[12,7,12,8],[13,2,13,6],[13,7,13,8],[14,2,14,6],[14,7,14,8],[15,2,15,6],[15,7,15,8],[16,2,16,6],[16,7,16,8],[17,2,17,6],[17,7,17,8],[18,2,18,6],[18,7,18,8],[19,2,19,6],[19,7,19,8],[20,2,20,6],[20,7,20,8],[21,2,21,6],[22,2,22,6],[22,7,22,8],[23,2,23,6],[23,7,23,8],[24,2,24,6],[24,7,24,8],[25,2,25,6],[25,7,25,8],[26,2,26,6],[26,7,26,8],[27,2,27,6],[27,7,27,8],[28,2,28,6],[28,7,28,8],[29,2,29,6],[29,7,29,8],[30,2,30,6],[30,7,30,8],[31,2,31,6],[31,7,31,8],[32,2,32,6],[32,7,32,8],[33,2,33,6],[33,7,33,8],[34,2,34,6],[34,7,34,8],[35,2,35,6],[35,7,35,8],[36,2,36,6],[36,7,36,8],[37,2,37,6],[37,7,37,8],[38,2,38,6],[38,7,38,8],[39,2,39,6],[39,7,39,8],[66,28,66,29],[68,26,71,26],[68,27,71,27],[68,28,71,28],[68,29,71,29],[68,30,71,30],[68,31,71,31],[68,32,71,32],[68,33,71,33],[68,34,71,34],[68,35,71,35],[68,36,71,36],[68,37,71,37],[68,38,71,38],[68,39,71,39],[68,40,71,40],[68,41,71,41],[68,42,71,42],[68,43,71,43],[68,44,71,44],[68,45,71,45],[68,46,71,46],[68,47,71,47],[68,48,71,48],[68,49,71,49],[68,50,71,50],[68,51,71,51],[68,52,71,52],[68,53,71,53],[68,54,71,54],[68,55,71,55],[68,56,71,56],[68,57,71,57],[68,58,71,58],[68,59,71,59],[68,60,71,60],[68,61,71,61],[72,24,72,25],[85,24,85,45],[86,38,86,41],[87,25,87,36],[87,39,87,45],[88,25,88,36],[88,39,88,45],[89,25,89,36],[89,39,89,45],[90,25,90,36],[90,39,90,45],[91,26,91,33],[91,34,92,45],[93,34,93,45],[94,34,94,39],[94,40,94,45],[95,34,95,39],[95,40,95,45],[96,34,96,39],[96,40,96,45],[97,34,97,39],[97,40,97,45],[98,34,98,39],[98,40,98,45],[99,34,99,39],[99,40,99,45],[100,34,100,39],[100,40,100,45],[101,34,101,39],[101,40,101,45],[102,34,102,39],[102,40,102,45],[103,34,103,39],[103,40,103,45],[104,34,104,39],[104,40,104,45],[105,34,105,39],[105,40,105,45],[106,34,106,39],[106,40,106,45],[107,34,107,39],[107,40,107,45],[108,34,108,39],[108,40,108,45],[109,34,109,39],[109,40,109,45],[110,34,110,39],[110,40,110,45],[111,34,111,39],[111,40,111,45],[112,34,112,39],[112,40,112,45],[113,34,113,39],[113,40,113,45],[114,34,114,39],[114,40,114,45],[115,34,115,39],[115,40,115,45],[116,34,116,39],[116,40,116,45],[117,34,117,39],[117,40,117,45],[118,34,118,39],[118,40,118,45],[119,34,119,39],[119,40,119,45],[120,34,120,39],[120,40,120,45],[121,34,121,39],[121,40,121,45],[122,34,122,39],[122,40,122,45],[123,34,123,39],[123,40,123,45],[124,34,124,39],[124,40,124,45],[125,34,125,39],[125,40,125,45],[126,34,126,39],[126,40,126,45],[127,34,127,39],[127,40,127,45],[128,34,128,39],[128,40,128,45],[130,24,130,36],[131,25,131,36],[131,39,131,45],[132,25,132,36],[132,39,132,45],[133,25,133,36],[133,39,133,45],[134,25,134,36],[134,39,134,45]]}
[null,"NOM :",{"$nulls":11},"Fond vert = cellules modifiables",{"$nulls":9},"affichage glissant sur 5 semaines"]
[{"$nulls":22},1]
[{"$nulls":3}," N° et titre de l'activité",{"$nulls":3},{"$f":"IF(O4>0.5,O4&\" et \"&O4+1,\"\")","v":"1 et 2"},{"$nulls":3},"Cor / Synt",null,"Lundi",{"$nulls":9},1]
[1,1,{"$nulls":5},{"$f":"IF($N$3=\"Lundi\",Congés_auto!S39,IF($N$3=\"Mardi\",Congés_auto!T39,IF($N$3=\"Mercredi\",Congés_auto!U39,IF($N$3=\"Jeudi\",Congés_auto!V39,IF($N$3=\"Vendredi\",Congés_auto!W39,IF($N$3=\"Samedi\",Congés_auto!X39,0))))))","v":"2018-08-20"},{"$nulls":5},"GROUPE",1]
[{"$f":"A4+1","v":2},{"$f":"IF(OR($O$4=1,$O$4=2),$AA95,IF(OR($O$4=3,$O$4=4),$AC95,IF(OR($O$4=5,$O$4=6),$AE95,IF(OR($O$4=7,$O$4=8),$AG95,\"\"))))","v":""},{"$nulls":5},{"$f":"IF($N$3=\"Lundi\",Congés_auto!S40,IF($N$3=\"Mardi\",Congés_auto!T40,IF($N$3=\"Mercredi\",Congés_auto!U40,IF($N$3=\"Jeudi\",Congés_auto!V40,IF($N$3=\"Vendredi\",Congés_auto!W40,IF($N$3=\"Samedi\",Congés_auto!X40,0))))))","v":"2018-08-27"}]
[{"$f":"A5+1","v":3},2,{"$nulls":5},{"$f":"IF($N$3=\"Lundi\",Congés_auto!S41,IF($N$3=\"Mardi\",Congés_auto!T41,IF($N$3=\"Mercredi\",Congés_auto!U41,IF($N$3=\"Jeudi\",Congés_auto!V41,IF($N$3=\"Vendredi\",Congés_auto!W41,IF($N$3=\"Samedi\",Congés_auto!X41,0))))))","v":"2018-09-03"}]
[4,3,{"$nulls":5},{"$f":"IF($N$3=\"Lundi\",Congés_auto!S42,IF($N$3=\"Mardi\",Congés_auto!T42,IF($N$3=\"Mercredi\",Congés_auto!U42,IF($N$3=\"Jeudi\",Congés_auto!V42,IF($N$3=\"Vendredi\",Congés_auto!W42,IF($N$3=\"Samedi\",Congés_auto!X42,0))))))","v":"2018-09-10"}]
[5,44,{"$nulls":5},{"$f":"IF($N$3=\"Lundi\",Congés_auto!S43,IF($N$3=\"Mardi\",Congés_auto!T43,IF($N$3=\"Mercredi\",Congés_auto!U43,IF($N$3=\"Jeudi\",Congés_auto!V43,IF($N$3=\"Vendredi\",Congés_auto!W43,IF($N$3=\"Samedi\",Congés_auto!X43,0))))))","v":"2018-09-17"}]
[6,"",{"$nulls":5},{"$f":"IF($N$3=\"Lundi\",Congés_auto!S44,IF($N$3=\"Mardi\",Congés_auto!T44,IF($N$3=\"Mercredi\",Congés_auto!U44,IF($N$3=\"Jeudi\",Congés_auto!V44,IF($N$3=\"Vendredi\",Congés_auto!W44,IF($N$3=\"Samedi\",Congés_auto!X44,0))))))","v":"2018-09-24"}]
[7,4,{"$nulls":5},{"$f":"IF($N$3=\"Lundi\",Congés_auto!S45,IF($N$3=\"Mardi\",Congés_auto!T45,IF($N$3=\"Mercredi\",Congés_auto!U45,IF($N$3=\"Jeudi\",Congés_auto!V45,IF($N$3=\"Vendredi\",Congés_auto!W45,IF($N$3=\"Samedi\",Congés_auto!X45,0))))))","v":"2018-10-01"}]
[8,5,{"$nulls":5},{"$f":"IF($N$3=\"Lundi\",Congés_auto!S46,IF($N$3=\"Mardi\",Congés_auto!T46,IF($N$3=\"Mercredi\",Congés_auto!U46,IF($N$3=\"Jeudi\",Congés_auto!V46,IF($N$3=\"Vendredi\",Congés_auto!W46,IF($N$3=\"Samedi\",Congés_auto!X46,0))))))","v":"2018-10-08"}]
[9,44,{"$nulls":5},{"$f":"IF($N$3=\"Lundi\",Congés_auto!S47,IF($N$3=\"Mardi\",Congés_auto!T47,IF($N$3=\"Mercredi\",Congés_auto!U47,IF($N$3=\"Jeudi\",Congés_auto!V47,IF($N$3=\"Vendredi\",Congés_auto!W47,IF($N$3=\"Samedi\",Congés_auto!X47,0))))))","v":"2018-10-29"}]
[10,"",{"$nulls":5},{"$f":"IF($N$3=\"Lundi\",Congés_auto!S48,IF($N$3=\"Mardi\",Congés_auto!T48,IF($N$3=\"Mercredi\",Congés_auto!U48,IF($N$3=\"Jeudi\",Congés_auto!V48,IF($N$3=\"Vendredi\",Congés_auto!W48,IF($N$3=\"Samedi\",Congés_auto!X48,0))))))","v":"2018-11-05"}]
[11,6,{"$nulls":5},{"$f":"IF($N$3=\"Lundi\",Congés_auto!S49,IF($N$3=\"Mardi\",Congés_auto!T49,IF($N$3=\"Mercredi\",Congés_auto!U49,IF($N$3=\"Jeudi\",Congés_auto!V49,IF($N$3=\"Vendredi\",Congés_auto!W49,IF($N$3=\"Samedi\",Congés_auto!X49,0))))))","v":"2018-11-12"}]
[12,7,{"$nulls":5},{"$f":"IF($N$3=\"Lundi\",Congés_auto!S50,IF($N$3=\"Mardi\",Congés_auto!T50,IF($N$3=\"Mercredi\",Congés_auto!U50,IF($N$3=\"Jeudi\",Congés_auto!V50,IF($N$3=\"Vendredi\",Congés_auto!W50,IF($N$3=\"Samedi\",Congés_auto!X50,0))))))","v":"2018-11-19"}]
[13,44,{"$nulls":5},{"$f":"IF($N$3=\"Lundi\",Congés_auto!S51,IF($N$3=\"Mardi\",Congés_auto!T51,IF($N$3=\"Mercredi\",Congés_auto!U51,IF($N$3=\"Jeudi\",Congés_auto!V51,IF($N$3=\"Vendredi\",Congés_auto!W51,IF($N$3=\"Samedi\",Congés_auto!X51,0))))))","v":"2018-11-26"}]
[14,"",{"$nulls":5},{"$f":"IF($N$3=\"Lundi\",Congés_auto!S52,IF($N$3=\"Mardi\",Congés_auto!T52,IF($N$3=\"Mercredi\",Congés_auto!U52,IF($N$3=\"Jeudi\",Congés_auto!V52,IF($N$3=\"Vendredi\",Congés_auto!W52,IF($N$3=\"Samedi\",Congés_auto!X52,0))))))","v":"2018-12-03"}]
[15,8,{"$nulls":5},{"$f":"IF($N$3=\"Lundi\",Congés_auto!S53,IF($N$3=\"Mardi\",Congés_auto!T53,IF($N$3=\"Mercredi\",Congés_auto!U53,IF($N$3=\"Jeudi\",Congés_auto!V53,IF($N$3=\"Vendredi\",Congés_auto!W53,IF($N$3=\"Samedi\",Congés_auto!X53,0))))))","v":"2018-12-10"}]
[16,9,{"$nulls":5},{"$f":"IF($N$3=\"Lundi\",Congés_auto!S54,IF($N$3=\"Mardi\",Congés_auto!T54,IF($N$3=\"Mercredi\",Congés_auto!U54,IF($N$3=\"Jeudi\",Congés_auto!V54,IF($N$3=\"Vendredi\",Congés_auto!W54,IF($N$3=\"Samedi\",Congés_auto!X54,0))))))","v":"2018-12-17"}]
[17,45,{"$nulls":5},{"$f":"IF($N$3=\"Lundi\",Congés_auto!S55,IF($N$3=\"Mardi\",Congés_auto!T55,IF($N$3=\"Mercredi\",Congés_auto!U55,IF($N$3=\"Jeudi\",Congés_auto!V55,IF($N$3=\"Vendredi\",Congés_auto!W55,IF($N$3=\"Samedi\",Congés_auto!X55,0))))))","v":"2019-01-28"}]
[18,"",{"$nulls":5},{"$f":"IF($N$3=\"Lundi\",Congés_auto!S56,IF($N$3=\"Mardi\",Congés_auto!T56,IF($N$3=\"Mercredi\",Congés_auto!U56,IF($N$3=\"Jeudi\",Congés_auto!V56,IF($N$3=\"Vendredi\",Congés_auto!W56,IF($N$3=\"Samedi\",Congés_auto!X56,0))))))","v":"2019-02-04"}]
[18,null,{"$f":"D3","v":" N° et titre de l'activité"},{"$nulls":8},"Cor / Synt"]
[19,{"$f":"IF(OR($O$4=1,$O$4=2),$AA112,IF(OR($O$4=3,$O$4=4),$AC112,IF(OR($O$4=5,$O$4=6),$AE112,IF(OR($O$4=7,$O$4=8),$AG112,\"\"))))","v":10},{"$nulls":5},{"$f":"IF($N$3=\"Lundi\",Congés_auto!S57,IF($N$3=\"Mardi\",Congés_auto!T57,IF($N$3=\"Mercredi\",Congés_auto!U57,IF($N$3=\"Jeudi\",Congés_auto!V57,IF($N$3=\"Vendredi\",Congés_auto!W57,IF($N$3=\"Samedi\",Congés_auto!X57,0))))))","v":"2019-02-11"}]
[20,11,{"$nulls":5},{"$f":"IF($N$3=\"Lundi\",Congés_auto!S58,IF($N$3=\"Mardi\",Congés_auto!T58,IF($N$3=\"Mercredi\",Congés_auto!U58,IF($N$3=\"Jeudi\",Congés_auto!V58,IF($N$3=\"Vendredi\",Congés_auto!W58,IF($N$3=\"Samedi\",Congés_auto!X58,0))))))","v":"2019-02-18"}]
[21,45,{"$nulls":5},{"$f":"IF($N$3=\"Lundi\",Congés_auto!S59,IF($N$3=\"Mardi\",Congés_auto!T59,IF($N$3=\"Mercredi\",Congés_auto!U59,IF($N$3=\"Jeudi\",Congés_auto!V59,IF($N$3=\"Vendredi\",Congés_auto!W59,IF($N$3=\"Samedi\",Congés_auto!X59,0))))))","v":"2019-02-25"}]
[22,"",{"$nulls":5},{"$f":"IF($N$3=\"Lundi\",Congés_auto!S60,IF($N$3=\"Mardi\",Congés_auto!T60,IF($N$3=\"Mercredi\",Congés_auto!U60,IF($N$3=\"Jeudi\",Congés_auto!V60,IF($N$3=\"Vendredi\",Congés_auto!W60,IF($N$3=\"Samedi\",Congés_auto!X60,0))))))","v":"2019-03-04"}]
[23,12,{"$nulls":5},{"$f":"IF($N$3=\"Lundi\",Congés_auto!S61,IF($N$3=\"Mardi\",Congés_auto!T61,IF($N$3=\"Mercredi\",Congés_auto!U61,IF($N$3=\"Jeudi\",Congés_auto!V61,IF($N$3=\"Vendredi\",Congés_auto!W61,IF($N$3=\"Samedi\",Congés_auto!X61,0))))))","v":"2019-03-25"}]
[24,13,{"$nulls":5},{"$f":"IF($N$3=\"Lundi\",Congés_auto!S62,IF($N$3=\"Mardi\",Congés_auto!T62,IF($N$3=\"Mercredi\",Congés_auto!U62,IF($N$3=\"Jeudi\",Congés_auto!V62,IF($N$3=\"Vendredi\",Congés_auto!W62,IF($N$3=\"Samedi\",Congés_auto!X62,0))))))","v":"2019-04-01"}]
[25,45,{"$nulls":5},{"$f":"IF($N$3=\"Lundi\",Congés_auto!S63,IF($N$3=\"Mardi\",Congés_auto!T63,IF($N$3=\"Mercredi\",Congés_auto!U63,IF($N$3=\"Jeudi\",Congés_auto!V63,IF($N$3=\"Vendredi\",Congés_auto!W63,IF($N$3=\"Samedi\",Congés_auto!X63,0))))))","v":"2019-04-08"}]
[26,"",{"$nulls":5},{"$f":"IF($N$3=\"Lundi\",Congés_auto!S64,IF($N$3=\"Mardi\",Congés_auto!T64,IF($N$3=\"Mercredi\",Congés_auto!U64,IF($N$3=\"Jeudi\",Congés_auto!V64,IF($N$3=\"Vendredi\",Congés_auto!W64,IF($N$3=\"Samedi\",Congés_auto!X64,0))))))","v":"2019-04-15"}]
[27,14,{"$nulls":5},{"$f":"IF($N$3=\"Lundi\",Congés_auto!S65,IF($N$3=\"Mardi\",Congés_auto!T65,IF($N$3=\"Mercredi\",Congés_auto!U65,IF($N$3=\"Jeudi\",Congés_auto!V65,IF($N$3=\"Vendredi\",Congés_auto!W65,IF($N$3=\"Samedi\",Congés_auto!X65,0))))))","v":"2019-04-29"}]
[28,15,{"$nulls":5},{"$f":"IF($N$3=\"Lundi\",Congés_auto!S66,IF($N$3=\"Mardi\",Congés_auto!T66,IF($N$3=\"Mercredi\",Congés_auto!U66,IF($N$3=\"Jeudi\",Congés_auto!V66,IF($N$3=\"Vendredi\",Congés_auto!W66,IF($N$3=\"Samedi\",Congés_auto!X66,0))))))","v":"2019-05-06"}]
[29,43,{"$nulls":5},{"$f":"IF($N$3=\"Lundi\",Congés_auto!S67,IF($N$3=\"Mardi\",Congés_auto!T67,IF($N$3=\"Mercredi\",Congés_auto!U67,IF($N$3=\"Jeudi\",Congés_auto!V67,IF($N$3=\"Vendredi\",Congés_auto!W67,IF($N$3=\"Samedi\",Congés_auto!X67,0))))))","v":"2019-05-20"}]
[30,"",{"$nulls":5},{"$f":"IF($N$3=\"Lundi\",Congés_auto!S68,IF($N$3=\"Mardi\",Congés_auto!T68,IF($N$3=\"Mercredi\",Congés_auto!U68,IF($N$3=\"Jeudi\",Congés_auto!V68,IF($N$3=\"Vendredi\",Congés_auto!W68,IF($N$3=\"Samedi\",Congés_auto!X68,0))))))","v":"2019-05-27"}]
[31,16,{"$nulls":5},{"$f":"IF($N$3=\"Lundi\",Congés_auto!S69,IF($N$3=\"Mardi\",Congés_auto!T69,IF($N$3=\"Mercredi\",Congés_auto!U69,IF($N$3=\"Jeudi\",Congés_auto!V69,IF($N$3=\"Vendredi\",Congés_auto!W69,IF($N$3=\"Samedi\",Congés_auto!X69,0))))))","v":"2019-06-03"}]
[32,17,{"$nulls":5},{"$f":"IF($N$3=\"Lundi\",Congés_auto!S70,IF($N$3=\"Mardi\",Congés_auto!T70,IF($N$3=\"Mercredi\",Congés_auto!U70,IF($N$3=\"Jeudi\",Congés_auto!V70,IF($N$3=\"Vendredi\",Congés_auto!W70,IF($N$3=\"Samedi\",Congés_auto!X70,0))))))","v":"2019-06-10"}]
[33,43,{"$nulls":5},{"$f":"IF($N$3=\"Lundi\",Congés_auto!S71,IF($N$3=\"Mardi\",Congés_auto!T71,IF($N$3=\"Mercredi\",Congés_auto!U71,IF($N$3=\"Jeudi\",Congés_auto!V71,IF($N$3=\"Vendredi\",Congés_auto!W71,IF($N$3=\"Samedi\",Congés_auto!X71,0))))))","v":"2019-06-17"}]
[34,"",{"$nulls":5},{"$f":"IF($N$3=\"Lundi\",Congés_auto!S72,IF($N$3=\"Mardi\",Congés_auto!T72,IF($N$3=\"Mercredi\",Congés_auto!U72,IF($N$3=\"Jeudi\",Congés_auto!V72,IF($N$3=\"Vendredi\",Congés_auto!W72,IF($N$3=\"Samedi\",Congés_auto!X72,0))))))","v":"2019-06-24"}]
[35,18,{"$nulls":5},{"$f":"IF($N$3=\"Lundi\",Congés_auto!S73,IF($N$3=\"Mardi\",Congés_auto!T73,IF($N$3=\"Mercredi\",Congés_auto!U73,IF($N$3=\"Jeudi\",Congés_auto!V73,IF($N$3=\"Vendredi\",Congés_auto!W73,IF($N$3=\"Samedi\",Congés_auto!X73,0))))))","v":"2019-07-01"}]
[36,47,{"$nulls":5},{"$f":"IF($N$3=\"Lundi\",Congés_auto!S74,IF($N$3=\"Mardi\",Congés_auto!T74,IF($N$3=\"Mercredi\",Congés_auto!U74,IF($N$3=\"Jeudi\",Congés_auto!V74,IF($N$3=\"Vendredi\",Congés_auto!W74,IF($N$3=\"Samedi\",Congés_auto!X74,0))))))","v":""}]
[]
[]
[null,"   Les membres de mon groupe :"]
{"$rows_empty":22}
[{"$nulls":28},"Modifier u2 et w2 - Planning pour 8 ou 6 grp",{"$nulls":6},"Sem B 2h",null,"NON"]
[{"$nulls":27},"Planning",{"$f":"T1","v":0},null,null,{"$f":"N3","v":"Lundi"},{"$nulls":10},0]
[]
[{"$nulls":26},{"$f":"Z94","v":"2018-08-20"},{"$f":"OFFSET($Z$94,AA74,0)","v":"2018-08-27"},{"$f":"OFFSET($Z$94,AB74,0)","v":"2018-09-03"},"2018-09-10","2018-09-17","2018-09-24","2018-10-01","2018-10-08","2018-10-29","2018-11-05","2018-11-12","2018-11-19","2018-11-26","2018-12-03","2018-12-10","2018-12-17","2019-01-28","2019-02-04","2019-02-11","2019-02-18","2019-02-25","2019-03-04","2019-03-25","2019-04-01","2019-04-08","2019-04-15","2019-04-29","2019-05-06","2019-05-20","2019-05-27","2019-06-03","2019-06-10","2019-06-17","2019-06-24","","00:00:00"]
[]
[]
[]
[{"$nulls":24},"Temps",null,2,2,2,2,2,2,2,2,2,2,2,2,2,2,2,2,2,2,2,2,2,2,2,2,2,2,2,2,2,2,2,2,2,2,2,2]
[{"$nulls":25},"Semaine",1,{"$f":"AA74+1","v":2},{"$f":"AB74+1","v":3},4,5,6,7,8,9,10,11,12,13,14,15,16,17,18,{"$f":"AR74+1","v":19},{"$f":"AS74+1","v":20},21,22,23,24,25,26,27,28,29,30,31,32,33,34,35,36]
[{"$nulls":25},"Grp  1",1,41,2,3,44,41,{"$f":"AC75+2","v":4},{"$f":"AD75+2","v":5},44,41,{"$f":"AG75+2","v":6},{"$f":"AH75+2","v":7},44,41,{"$f":"AK75+2","v":8},{"$f":"AL75+2","v":9},45,41,{"$f":"AO75+2","v":10},{"$f":"AP75+2","v":11},45,41,{"$f":"AS75+2","v":12},{"$f":"AT75+2","v":13},45,41,{"$f":"AW75+2","v":14},{"$f":"AX75+2","v":15},43,41,{"$f":"BA75+2","v":16},{"$f":"BB75+2","v":17},43,41,{"$f":"BE75+2","v":18},47]
[{"$nulls":25},"Grp  2",1,41,2,3,44,41,{"$f":"AC76+2","v":4},{"$f":"AD76+2","v":5},44,41,{"$f":"AG76+2","v":6},{"$f":"AH76+2","v":7},44,41,{"$f":"AK76+2","v":8},{"$f":"AL76+2","v":9},45,41,{"$f":"AO76+2","v":10},{"$f":"AP76+2","v":11},45,41,{"$f":"AS76+2","v":12},{"$f":"AT76+2","v":13},45,41,{"$f":"AW76+2","v":14},{"$f":"AX76+2","v":15},43,41,{"$f":"BA76+2","v":16},{"$f":"BB76+2","v":17},43,41,{"$f":"BE76+2","v":18},47]
[{"$nulls":23},"FREQUENCE(A1:A30;{1,8;2,7})",null,"Grp  3",1,2,41,3,44,{"$f":"AB77+2","v":4},41,{"$f":"AD77+2","v":5},44,{"$f":"AF77+2","v":6},41,{"$f":"AH77+2","v":7},44,{"$f":"AJ77+2","v":8},41,{"$f":"AL77+2","v":9},45,{"$f":"AN77+2","v":10},41,{"$f":"AP77+2","v":11},45,{"$f":"AR77+2","v":12},41,{"$f":"AT77+2","v":13},45,{"$f":"AV77+2","v":14},41,{"$f":"AX77+2","v":15},43,{"$f":"AZ77+2","v":16},41,{"$f":"BB77+2","v":17},43,{"$f":"BD77+2","v":18},41,47]
[{"$nulls":25},"Grp  4",1,2,41,3,45,4,41,{"$f":"AD78+2","v":5},45,6,41,{"$f":"AH78+2","v":7},45,8,41,{"$f":"AL78+2","v":9},44,10,41,{"$f":"AP78+2","v":11},44,12,41,{"$f":"AT78+2","v":13},44,14,41,{"$f":"AX78+2","v":15},43,16,41,{"$f":"BB78+2","v":17},43,18,41,47]
[{"$nulls":25},"Grp  5",1,2,3,41,45,4,{"$f":"AC79+2","v":5},41,45,6,{"$f":"AG79+2","v":7},41,45,8,{"$f":"AK79+2","v":9},41,44,10,{"$f":"AO79+2","v":11},41,44,12,{"$f":"AS79+2","v":13},41,44,14,{"$f":"AW79+2","v":15},41,43,16,{"$f":"BA79+2","v":17},41,43,18,{"$f":"BE79+2","v":19},41]
[{"$nulls":25},"Grp  6",1,2,3,41,45,4,{"$f":"AC80+2","v":5},41,45,6,{"$f":"AG80+2","v":7},41,45,8,{"$f":"AK80+2","v":9},41,44,10,{"$f":"AO80+2","v":11},41,44,12,{"$f":"AS80+2","v":13},41,44,15,{"$f":"AW80+2","v":15},41,43,17,{"$f":"BA80+2","v":17},41,43,19,{"$f":"BE80+2","v":19},41]
[{"$nulls":25},"Grp  7",1,3,2,44,41,5,{"$f":"AC81+2","v":4},44,41,7,{"$f":"AG81+2","v":6},44,41,9,{"$f":"AK81+2","v":8},45,41,11,{"$f":"AO81+2","v":10},45,41,13,{"$f":"AS81+2","v":12},45,41,15,{"$f":"AW81+2","v":14},43,41,17,{"$f":"BA81+2","v":16},43,41,19,{"$f":"BE81+2","v":18},47]
[{"$nulls":25},"Grp  8",1,3,2,44,41,5,{"$f":"AC82+2","v":4},44,41,7,{"$f":"AG82+2","v":6},44,41,9,{"$f":"AK82+2","v":8},45,41,11,{"$f":"AO82+2","v":10},45,41,13,{"$f":"AS82+2","v":12},45,41,15,{"$f":"AW82+2","v":14},43,41,17,{"$f":"BA82+2","v":16},43,41,19,{"$f":"BE82+2","v":18},47]
[{"$nulls":33},"DT1 --> 0,5 h",{"$nulls":6},"DT2 --> 1 h"]
[{"$nulls":33},"Travail noté"]
[]
[{"$nulls":23},{"$f":"CONCATENATE(AJ87,Y88)","v":"01"},"Les groupes"]
[{"$nulls":30},{"$f":"IF(LEFT(T1,1)=\"3\",\"Troisième\",IF(LEFT(T1,1)=\"4\",\"Quatrième\",IF(LEFT(T1,1)=\"5\",\"Cinquiéme\",\"Sixième\")))","v":"Sixième"},{"$nulls":4},{"$f":"T1","v":0},null,null,{"$f":"N3","v":"Lundi"},{"$nulls":4},{"$f":"O3","v":0}]
[{"$nulls":17},{"$error":"#N/A"},{"$error":"#N/A"},{"$error":"#N/A"},{"$error":"#N/A"},{"$error":"#N/A"},1,null,1,{"$f":"IF(ISNA(R88),\"\",R88)&\"  --  \"&IF(ISNA(S88),\"\",S88)&\" --  \"&IF(ISNA(T88),\"\",T88)&\" --  \"&IF(ISNA(U88),\"\",U88)&\"  --  \"&IF(ISNA(V88),\"\",V88)","v":"  --   --   --    --  "},{"$nulls":12},5,{"$f":"IF(ISNA(R92),\"\",R92)&\"  --  \"&IF(ISNA(S92),\"\",S92)&\" --  \"&IF(ISNA(T92),\"\",T92)&\" --  \"&IF(ISNA(U92),\"\",U92)&\"  --  \"&IF(ISNA(V92),\"\",V92)","v":"  --   --   --    --  "}]
[{"$nulls":17},{"$error":"#N/A"},{"$error":"#N/A"},{"$error":"#N/A"},{"$error":"#N/A"},{"$error":"#N/A"},2,null,2,{"$f":"IF(ISNA(R89),\"\",R89)&\"  --  \"&IF(ISNA(S89),\"\",S89)&\" --  \"&IF(ISNA(T89),\"\",T89)&\" --  \"&IF(ISNA(U89),\"\",U89)&\"  --  \"&IF(ISNA(V89),\"\",V89)","v":"  --   --   --    --  "},{"$nulls":12},6,{"$f":"IF(ISNA(R93),\"\",R93)&\"  --  \"&IF(ISNA(S93),\"\",S93)&\" --  \"&IF(ISNA(T93),\"\",T93)&\" --  \"&IF(ISNA(U93),\"\",U93)&\"  --  \"&IF(ISNA(V93),\"\",V93)","v":"  --   --   --    --  "}]
[{"$nulls":17},{"$error":"#N/A"},{"$error":"#N/A"},{"$error":"#N/A"},{"$error":"#N/A"},{"$error":"#N/A"},3,null,3,{"$f":"IF(ISNA(R90),\"\",R90)&\"  --  \"&IF(ISNA(S90),\"\",S90)&\" --  \"&IF(ISNA(T90),\"\",T90)&\" --  \"&IF(ISNA(U90),\"\",U90)&\"  --  \"&IF(ISNA(V90),\"\",V90)","v":"  --   --   --    --  "},{"$nulls":12},7,{"$f":"IF(ISNA(R94),\"\",R94)&\"  --  \"&IF(ISNA(S94),\"\",S94)&\" --  \"&IF(ISNA(T94),\"\",T94)&\" --  \"&IF(ISNA(U94),\"\",U94)&\"  --  \"&IF(ISNA(V94),\"\",V94)","v":"  --   --   --    --  "}]
[{"$nulls":17},{"$error":"#N/A"},{"$error":"#N/A"},{"$error":"#N/A"},{"$error":"#N/A"},{"$error":"#N/A"},4,null,4,{"$f":"IF(ISNA(R91),\"\",R91)&\"  --  \"&IF(ISNA(S91),\"\",S91)&\" --  \"&IF(ISNA(T91),\"\",T91)&\" --  \"&IF(ISNA(U91),\"\",U91)&\"  --  \"&IF(ISNA(V91),\"\",V91)","v":"  --   --   --    --  "},{"$nulls":12},8,{"$f":"IF(ISNA(R95),\"\",R95)&\"  --  \"&IF(ISNA(S95),\"\",S95)&\" --  \"&IF(ISNA(T95),\"\",T95)&\" --  \"&IF(ISNA(U95),\"\",U95)&\"  --  \"&IF(ISNA(V95),\"\",V95)","v":"  --   --   --    --  "}]
[{"$nulls":17},{"$error":"#N/A"},{"$error":"#N/A"},{"$error":"#N/A"},{"$error":"#N/A"},{"$error":"#N/A"},5,{"$nulls":3},"Groupe et N° activité",{"$nulls":7},"Les activités par groupes"]
[{"$nulls":17},{"$error":"#N/A"},{"$error":"#N/A"},{"$error":"#N/A"},{"$error":"#N/A"},{"$error":"#N/A"},null,null,"N° Sem",{"$f":"TEXT(Z94,\"jjjj\")","v":"jjjj"},"G 1","G2","G3","G4","G5","G6","G7","G8"]
[{"$nulls":17},{"$error":"#N/A"},{"$error":"#N/A"},{"$error":"#N/A"},{"$error":"#N/A"},{"$error":"#N/A"},null,null,1,{"$f":"H4","v":"2018-08-20"},{"$f":"AA75","v":1},{"$f":"AA76","v":1},{"$f":"AA77","v":1},{"$f":"AA78","v":1},{"$f":"AA79","v":1},{"$f":"AA80","v":1},{"$f":"AA81","v":1},{"$f":"AA82","v":1},"Accueil - organisation - rotation et planning  - Départ de l' activité \" Présentation du classeur\"",{"$nulls":11},1]
[{"$nulls":17},{"$error":"#N/A"},{"$error":"#N/A"},{"$error":"#N/A"},{"$error":"#N/A"},{"$error":"#N/A"},null,null,{"$f":"Y94+1","v":2},{"$f":"H5","v":"2018-08-27"},{"$f":"IF(OFFSET($AA$75,0,$Y94)=41,\"\",OFFSET($AA$75,0,$Y94))","v":""},{"$f":"IF(OFFSET($AA$75,$Y$94,$Y94)=41,\"\",OFFSET($AA$75,$Y$94,$Y94))","v":""},{"$f":"IF(OFFSET($AA$75,$Y$95,$Y94)=41,\"\",OFFSET($AA$75,$Y$95,$Y94))","v":2},{"$f":"IF(OFFSET($AA$75,$Y$96,$Y94)=41,\"\",OFFSET($AA$75,$Y$96,$Y94))","v":2},{"$f":"IF(OFFSET($AA$75,$Y$97,$Y94)=41,\"\",OFFSET($AA$75,$Y$97,$Y94))","v":2},{"$f":"IF(OFFSET($AA$75,$Y$98,$Y94)=41,\"\",OFFSET($AA$75,$Y$98,$Y94))","v":2},{"$f":"IF(OFFSET($AA$75,$Y$99,$Y94)=41,\"\",OFFSET($AA$75,$Y$99,$Y94))","v":3},{"$f":"IF(OFFSET($AA$75,$Y$100,$Y94)=41,\"\",OFFSET($AA$75,$Y$100,$Y94))","v":3},{"$error":"#VALUE!"},{"$nulls":5},{"$error":"#VALUE!"},{"$nulls":5},{"$f":"AU94+1","v":2}]
[{"$nulls":17},{"$error":"#N/A"},{"$error":"#N/A"},{"$error":"#N/A"},{"$error":"#N/A"},{"$error":"#N/A"},null,null,{"$f":"Y95+1","v":3},"2018-09-03",{"$f":"IF(OFFSET($AA$75,0,$Y95)=41,\"\",OFFSET($AA$75,0,$Y95))","v":2},{"$f":"IF(OFFSET($AA$75,$Y$94,$Y95)=41,\"\",OFFSET($AA$75,$Y$94,$Y95))","v":2},{"$f":"IF(OFFSET($AA$75,$Y$95,$Y95)=41,\"\",OFFSET($AA$75,$Y$95,$Y95))","v":""},{"$f":"IF(OFFSET($AA$75,$Y$96,$Y95)=41,\"\",OFFSET($AA$75,$Y$96,$Y95))","v":""},{"$f":"IF(OFFSET($AA$75,$Y$97,$Y95)=41,\"\",OFFSET($AA$75,$Y$97,$Y95))","v":3},{"$f":"IF(OFFSET($AA$75,$Y$98,$Y95)=41,\"\",OFFSET($AA$75,$Y$98,$Y95))","v":3},{"$f":"IF(OFFSET($AA$75,$Y$99,$Y95)=41,\"\",OFFSET($AA$75,$Y$99,$Y95))","v":2},{"$f":"IF(OFFSET($AA$75,$Y$100,$Y95)=41,\"\",OFFSET($AA$75,$Y$100,$Y95))","v":2},{"$error":"#VALUE!"},{"$nulls":5},{"$error":"#VALUE!"},{"$nulls":5},{"$f":"AU95+1","v":3}]
[{"$nulls":24},4,"2018-09-10",3,3,3,3,"","",44,44,{"$error":"#VALUE!"},{"$nulls":5},{"$error":"#VALUE!"},{"$nulls":5},4]
[{"$nulls":24},5,"2018-09-17",44,44,44,45,45,45,"","",{"$error":"#VALUE!"},{"$nulls":5},{"$error":"#VALUE!"},{"$nulls":5},5]
[{"$nulls":24},6,"2018-09-24","","",4,4,4,4,5,5,{"$error":"#VALUE!"},{"$nulls":5},{"$error":"#VALUE!"},{"$nulls":5},6]
[{"$nulls":24},7,"2018-10-01",4,4,"","",5,5,4,4,{"$error":"#VALUE!"},{"$nulls":5},{"$error":"#VALUE!"},{"$nulls":5},7]
[{"$nulls":24},8,"2018-10-08",5,5,5,5,"","",44,44,{"$error":"#VALUE!"},{"$nulls":5},{"$error":"#VALUE!"},{"$nulls":5},8]
[{"$nulls":24},9,"2018-10-29",44,44,44,45,45,45,"","",{"$error":"#VALUE!"},{"$nulls":5},{"$error":"#VALUE!"},{"$nulls":5},9]
[{"$nulls":24},10,"2018-11-05","","",6,6,6,6,7,7,{"$error":"#VALUE!"},{"$nulls":5},{"$error":"#VALUE!"},{"$nulls":5},10]
[{"$nulls":24},11,"2018-11-12",6,6,"","",7,7,6,6,{"$error":"#VALUE!"},{"$nulls":5},{"$error":"#VALUE!"},{"$nulls":5},11]
[{"$nulls":24},12,"2018-11-19",7,7,7,7,"","",44,44,{"$error":"#VALUE!"},{"$nulls":5},{"$error":"#VALUE!"},{"$nulls":5},12]
[{"$nulls":24},13,"2018-11-26",44,44,44,45,45,45,"","",{"$error":"#VALUE!"},{"$nulls":5},{"$error":"#VALUE!"},{"$nulls":5},13]
[{"$nulls":24},14,"2018-12-03","","",8,8,8,8,9,9,{"$error":"#VALUE!"},{"$nulls":5},{"$error":"#VALUE!"},{"$nulls":5},14]
[{"$nulls":24},15,"2018-12-10",8,8,"","",9,9,8,8,{"$error":"#VALUE!"},{"$nulls":5},{"$error":"#VALUE!"},{"$nulls":5},15]
[{"$nulls":24},16,"2018-12-17",9,9,9,9,"","",45,45,{"$error":"#VALUE!"},{"$nulls":5},{"$error":"#VALUE!"},{"$nulls":5},16]
[{"$nulls":24},17,"2019-01-28",45,45,45,44,44,44,"","",{"$error":"#VALUE!"},{"$nulls":5},{"$error":"#VALUE!"},{"$nulls":5},17]
[{"$nulls":24},18,"2019-02-04","","",10,10,10,10,11,11,{"$error":"#VALUE!"},{"$nulls":5},{"$error":"#VALUE!"},{"$nulls":5},18]
[{"$nulls":24},19,{"$f":"H23","v":"2019-02-11"},10,10,"","",11,11,10,10,{"$error":"#VALUE!"},{"$nulls":5},{"$error":"#VALUE!"},{"$nulls":5},19]
[{"$nulls":24},20,"2019-02-18",11,11,11,11,"","",45,45,{"$error":"#VALUE!"},{"$nulls":5},{"$error":"#VALUE!"},{"$nulls":5},20]
[{"$nulls":24},21,"2019-02-25",45,45,45,44,44,44,"","",{"$error":"#VALUE!"},{"$nulls":5},{"$error":"#VALUE!"},{"$nulls":5},21]
[{"$nulls":24},22,"2019-03-04","","",12,12,12,12,13,13,{"$error":"#VALUE!"},{"$nulls":5},{"$error":"#VALUE!"},{"$nulls":5},22]
[{"$nulls":24},23,"2019-03-25",12,12,"","",13,13,12,12,{"$error":"#VALUE!"},{"$nulls":5},{"$error":"#VALUE!"},{"$nulls":5},23]
[{"$nulls":24},24,"2019-04-01",13,13,13,13,"","",45,45,{"$error":"#VALUE!"},{"$nulls":5},{"$error":"#VALUE!"},{"$nulls":5},24]
[{"$nulls":24},25,"2019-04-08",45,45,45,44,44,44,"","",{"$error":"#VALUE!"},{"$nulls":5},{"$error":"#VALUE!"},{"$nulls":5},25]
[{"$nulls":24},26,"2019-04-15","","",14,14,14,15,15,15,{"$error":"#VALUE!"},{"$nulls":5},{"$error":"#VALUE!"},{"$nulls":5},26]
[{"$nulls":24},27,"2019-04-29",14,14,"","",15,15,14,14,{"$error":"#VALUE!"},{"$nulls":5},{"$error":"#VALUE!"},{"$nulls":5},27]
[{"$nulls":24},28,"2019-05-06",15,15,15,15,"","",43,43,{"$error":"#VALUE!"},{"$nulls":5},{"$error":"#VALUE!"},{"$nulls":5},28]
[{"$nulls":24},29,"2019-05-20",43,43,43,43,43,43,"","",{"$error":"#VALUE!"},{"$nulls":5},"",{"$nulls":5},29]
[{"$nulls":24},30,"2019-05-27","","",16,16,16,17,17,17,{"$error":"#VALUE!"},{"$nulls":5},{"$error":"#VALUE!"},{"$nulls":5},30]
[{"$nulls":24},31,"2019-06-03",16,16,"","",17,17,16,16,{"$error":"#VALUE!"},{"$nulls":5},{"$error":"#VALUE!"},{"$nulls":5},31]
[{"$nulls":24},32,"2019-06-10",17,17,17,17,"","",43,43,{"$error":"#VALUE!"},{"$nulls":5},{"$error":"#VALUE!"},{"$nulls":5},32]
[{"$nulls":24},33,"2019-06-17",43,43,43,43,43,43,"","",{"$error":"#VALUE!"},{"$nulls":5},"",{"$nulls":5},33]
[{"$nulls":24},34,"2019-06-24","","",18,18,18,19,19,19,{"$error":"#VALUE!"},{"$nulls":5},{"$error":"#VALUE!"},{"$nulls":5},34]
[{"$nulls":24},35,{"$f":"H40","v":""},18,18,"","",19,19,18,18,{"$error":"#VALUE!"},{"$nulls":5},{"$error":"#VALUE!"},{"$nulls":5},35]
[{"$nulls":24},36,null,47,47,47,47,"","",47,47,{"$error":"#VALUE!"},{"$nulls":5},"",{"$nulls":5},36]

{"sheet":"edt-Jour-blanc","index":2,"n_rows":128,"n_cols":62,"rows_kept":128,"hidden":true,"merged":[[0,13,0,15],[1,17,2,18],[2,3,2,6],[2,7,2,8],[2,13,2,14],[3,2,3,6],[3,7,3,8],[4,2,4,6],[4,7,4,8],[5,2,5,6],[5,7,5,8],[6,2,6,6],[6,7,6,8],[7,2,7,6],[7,7,7,8],[8,2,8,6],[8,7,8,8],[9,2,9,6],[9,7,9,8],[10,2,10,6],[10,7,10,8],[11,2,11,6],[11,7,11,8],[12,2,12,6],[12,7,12,8],[13,2,13,6],[13,7,13,8],[14,2,14,6],[14,7,14,8],[15,2,15,6],[15,7,15,8],[16,2,16,6],[16,7,16,8],[17,2,17,6],[17,7,17,8],[18,2,18,6],[18,7,18,8],[19,2,19,6],[19,7,19,8],[20,2,20,6],[20,7,20,8],[21,2,21,6],[21,7,21,8],[22,2,22,6],[22,7,22,8],[23,2,23,6],[23,7,23,8],[24,2,24,6],[24,7,24,8],[25,2,25,6],[25,7,25,8],[26,2,26,6],[26,7,26,8],[27,2,27,6],[27,7,27,8],[28,2,28,6],[28,7,28,8],[29,2,29,6],[29,7,29,8],[30,2,30,6],[30,7,30,8],[31,2,31,6],[31,7,31,8],[32,2,32,6],[32,7,32,8],[33,2,33,6],[33,7,33,8],[34,2,34,6],[34,7,34,8],[35,2,35,6],[35,7,35,8],[36,2,36,6],[36,7,36,8],[37,7,37,8],[38,2,38,6],[38,7,38,8],[65,28,65,29],[67,26,70,26],[67,27,70,27],[67,28,70,28],[67,29,70,29],[67,30,70,30],[67,31,70,31],[67,32,70,32],[67,33,70,33],[67,34,70,34],[67,35,70,35],[67,36,70,36],[67,37,70,37],[67,38,70,38],[67,39,70,39],[67,40,70,40],[67,41,70,41],[67,42,70,42],[67,43,70,43],[67,44,70,44],[67,45,70,45],[67,46,70,46],[67,47,70,47],[67,48,70,48],[67,49,70,49],[67,50,70,50],[67,51,70,51],[67,52,70,52],[67,53,70,53],[67,54,70,54],[67,55,70,55],[67,56,70,56],[67,57,70,57],[67,58,70,58],[67,59,70,59],[67,60,70,60],[67,61,70,61],[71,24,71,25],[84,24,84,45],[85,38,85,41],[86,25,86,36],[86,39,86,45],[87,25,87,36],[87,39,87,45],[88,25,88,36],[88,39,88,45],[89,25,89,36],[89,39,89,45],[90,26,90,33],[90,34,91,45],[92,34,92,45],[93,34,93,39],[93,40,93,45],[94,34,94,39],[94,40,94,45],[95,34,95,39],[95,40,95,45],[96,34,96,39],[96,40,96,45],[97,34,97,39],[97,40,97,45],[98,34,98,39],[98,40,98,45],[99,34,99,39],[99,40,99,45],[100,34,100,39],[100,40,100,45],[101,34,101,39],[101,40,101,45],[102,34,102,39],[102,40,102,45],[103,34,103,39],[103,40,103,45],[104,34,104,39],[104,40,104,45],[105,34,105,39],[105,40,105,45],[106,34,106,39],[106,40,106,45],[107,34,107,39],[107,40,107,45],[108,34,108,39],[108,40,108,45],[109,34,109,39],[109,40,109,45],[110,34,110,39],[110,40,110,45],[111,34,111,39],[111,40,111,45],[112,34,112,39],[112,40,112,45],[113,34,113,39],[113,40,113,45],[114,34,114,39],[114,40,114,45],[115,34,115,39],[115,40,115,45],[116,34,116,39],[116,40,116,45],[117,34,117,39],[117,40,117,45],[118,34,118,39],[118,40,118,45],[119,34,119,39],[119,40,119,45],[120,34,120,39],[120,40,120,45],[121,34,121,39],[121,40,121,45],[122,34,122,39],[122,40,122,45],[123,34,123,39],[123,40,123,45],[124,34,124,39],[124,40,124,45],[125,34,125,39],[125,40,125,45],[126,34,126,39],[126,40,126,45],[127,34,127,39],[127,40,127,45],[129,24,129,36],[130,25,130,36],[130,39,130,45],[131,25,131,36],[131,39,131,45],[132,25,132,36],[132,39,132,45],[133,25,133,36],[133,39,133,45]]}
[null,"NOM :",{"$nulls":11},"Fond vert = cellules modifiables",{"$nulls":9},"affichage glissant sur 5 semaines"]
[{"$nulls":22},1]
[{"$nulls":3},{"$f":"\"TECHNOLOGIE  \"&YEAR(H4)&\"  -  \"&YEAR(H4)+1&\"  \"&\n\"    - N° et titre de l'activité\"","v":"TECHNOLOGIE  2018  -  2019      - N° et titre de l'activité"},{"$nulls":3},{"$f":"O4&\" et \"&O4+1","v":"3 et 4"},{"$nulls":3},"Cor / Synt",null,"jeudi",{"$nulls":9},1]
[1,1,{"$nulls":5},{"$f":"IF(B4=\"\",\"\",IF($N$3=\"Lundi\",Congés_auto!S39,IF($N$3=\"Mardi\",Congés_auto!T39,IF($N$3=\"Mercredi\",Congés_auto!U39,IF($N$3=\"Jeudi\",Congés_auto!V39,IF($N$3=\"Vendredi\",Congés_auto!W39,IF($N$3=\"Samedi\",Congés_auto!X39,0)))))))","v":"2018-08-23"},{"$nulls":5},"GROUPE",3]
[{"$f":"A4+1","v":2},{"$f":"IF(OR($O$4=1,$O$4=2),$AA94,IF(OR($O$4=3,$O$4=4),$AC94,IF(OR($O$4=5,$O$4=6),$AE94,IF(OR($O$4=7,$O$4=8),$AG94,\"\"))))","v":2},{"$nulls":5},{"$f":"IF(B5=\"\",\"\",IF($N$3=\"Lundi\",Congés_auto!S40,IF($N$3=\"Mardi\",Congés_auto!T40,IF($N$3=\"Mercredi\",Congés_auto!U40,IF($N$3=\"Jeudi\",Congés_auto!V40,IF($N$3=\"Vendredi\",Congés_auto!W40,IF($N$3=\"Samedi\",Congés_auto!X40,0)))))))","v":"2018-08-30"}]
[{"$f":"A5+1","v":3},"",{"$nulls":5},{"$f":"IF(B6=\"\",\"\",IF($N$3=\"Lundi\",Congés_auto!S41,IF($N$3=\"Mardi\",Congés_auto!T41,IF($N$3=\"Mercredi\",Congés_auto!U41,IF($N$3=\"Jeudi\",Congés_auto!V41,IF($N$3=\"Vendredi\",Congés_auto!W41,IF($N$3=\"Samedi\",Congés_auto!X41,0)))))))","v":""}]
[4,3,{"$nulls":5},{"$f":"IF(B7=\"\",\"\",IF($N$3=\"Lundi\",Congés_auto!S42,IF($N$3=\"Mardi\",Congés_auto!T42,IF($N$3=\"Mercredi\",Congés_auto!U42,IF($N$3=\"Jeudi\",Congés_auto!V42,IF($N$3=\"Vendredi\",Congés_auto!W42,IF($N$3=\"Samedi\",Congés_auto!X42,0)))))))","v":"2018-09-13"}]
[5,44,{"$nulls":5},{"$f":"IF(B8=\"\",\"\",IF($N$3=\"Lundi\",Congés_auto!S43,IF($N$3=\"Mardi\",Congés_auto!T43,IF($N$3=\"Mercredi\",Congés_auto!U43,IF($N$3=\"Jeudi\",Congés_auto!V43,IF($N$3=\"Vendredi\",Congés_auto!W43,IF($N$3=\"Samedi\",Congés_auto!X43,0)))))))","v":"2018-09-20"}]
[6,4,{"$nulls":5},{"$f":"IF(B9=\"\",\"\",IF($N$3=\"Lundi\",Congés_auto!S44,IF($N$3=\"Mardi\",Congés_auto!T44,IF($N$3=\"Mercredi\",Congés_auto!U44,IF($N$3=\"Jeudi\",Congés_auto!V44,IF($N$3=\"Vendredi\",Congés_auto!W44,IF($N$3=\"Samedi\",Congés_auto!X44,0)))))))","v":"2018-09-27"}]
[7,"",{"$nulls":5},{"$f":"IF(B10=\"\",\"\",IF($N$3=\"Lundi\",Congés_auto!S45,IF($N$3=\"Mardi\",Congés_auto!T45,IF($N$3=\"Mercredi\",Congés_auto!U45,IF($N$3=\"Jeudi\",Congés_auto!V45,IF($N$3=\"Vendredi\",Congés_auto!W45,IF($N$3=\"Samedi\",Congés_auto!X45,0)))))))","v":""}]
[8,5,{"$nulls":5},{"$f":"IF(B11=\"\",\"\",IF($N$3=\"Lundi\",Congés_auto!S46,IF($N$3=\"Mardi\",Congés_auto!T46,IF($N$3=\"Mercredi\",Congés_auto!U46,IF($N$3=\"Jeudi\",Congés_auto!V46,IF($N$3=\"Vendredi\",Congés_auto!W46,IF($N$3=\"Samedi\",Congés_auto!X46,0)))))))","v":"2018-10-11"}]
[9,44,{"$nulls":5},{"$f":"IF(B12=\"\",\"\",IF($N$3=\"Lundi\",Congés_auto!S47,IF($N$3=\"Mardi\",Congés_auto!T47,IF($N$3=\"Mercredi\",Congés_auto!U47,IF($N$3=\"Jeudi\",Congés_auto!V47,IF($N$3=\"Vendredi\",Congés_auto!W47,IF($N$3=\"Samedi\",Congés_auto!X47,0)))))))","v":"2018-11-08"}]
[10,6,{"$nulls":5},{"$f":"IF(B13=\"\",\"\",IF($N$3=\"Lundi\",Congés_auto!S48,IF($N$3=\"Mardi\",Congés_auto!T48,IF($N$3=\"Mercredi\",Congés_auto!U48,IF($N$3=\"Jeudi\",Congés_auto!V48,IF($N$3=\"Vendredi\",Congés_auto!W48,IF($N$3=\"Samedi\",Congés_auto!X48,0)))))))","v":"2018-11-15"}]
[11,"",{"$nulls":5},{"$f":"IF(B14=\"\",\"\",IF($N$3=\"Lundi\",Congés_auto!S49,IF($N$3=\"Mardi\",Congés_auto!T49,IF($N$3=\"Mercredi\",Congés_auto!U49,IF($N$3=\"Jeudi\",Congés_auto!V49,IF($N$3=\"Vendredi\",Congés_auto!W49,IF($N$3=\"Samedi\",Congés_auto!X49,0)))))))","v":""}]
[12,7,{"$nulls":5},{"$f":"IF(B15=\"\",\"\",IF($N$3=\"Lundi\",Congés_auto!S50,IF($N$3=\"Mardi\",Congés_auto!T50,IF($N$3=\"Mercredi\",Congés_auto!U50,IF($N$3=\"Jeudi\",Congés_auto!V50,IF($N$3=\"Vendredi\",Congés_auto!W50,IF($N$3=\"Samedi\",Congés_auto!X50,0)))))))","v":"2018-11-29"}]
[13,44,{"$nulls":5},{"$f":"IF(B16=\"\",\"\",IF($N$3=\"Lundi\",Congés_auto!S51,IF($N$3=\"Mardi\",Congés_auto!T51,IF($N$3=\"Mercredi\",Congés_auto!U51,IF($N$3=\"Jeudi\",Congés_auto!V51,IF($N$3=\"Vendredi\",Congés_auto!W51,IF($N$3=\"Samedi\",Congés_auto!X51,0)))))))","v":"2018-12-06"}]
[14,8,{"$nulls":5},{"$f":"IF(B17=\"\",\"\",IF($N$3=\"Lundi\",Congés_auto!S52,IF($N$3=\"Mardi\",Congés_auto!T52,IF($N$3=\"Mercredi\",Congés_auto!U52,IF($N$3=\"Jeudi\",Congés_auto!V52,IF($N$3=\"Vendredi\",Congés_auto!W52,IF($N$3=\"Samedi\",Congés_auto!X52,0)))))))","v":"2018-12-13"}]
[15,"",{"$nulls":5},{"$f":"IF(B18=\"\",\"\",IF($N$3=\"Lundi\",Congés_auto!S53,IF($N$3=\"Mardi\",Congés_auto!T53,IF($N$3=\"Mercredi\",Congés_auto!U53,IF($N$3=\"Jeudi\",Congés_auto!V53,IF($N$3=\"Vendredi\",Congés_auto!W53,IF($N$3=\"Samedi\",Congés_auto!X53,0)))))))","v":""}]
[16,9,{"$nulls":5},{"$f":"IF(B19=\"\",\"\",IF($N$3=\"Lundi\",Congés_auto!S54,IF($N$3=\"Mardi\",Congés_auto!T54,IF($N$3=\"Mercredi\",Congés_auto!U54,IF($N$3=\"Jeudi\",Congés_auto!V54,IF($N$3=\"Vendredi\",Congés_auto!W54,IF($N$3=\"Samedi\",Congés_auto!X54,0)))))))","v":"2019-02-07"}]
[17,45,{"$nulls":5},{"$f":"IF(B20=\"\",\"\",IF($N$3=\"Lundi\",Congés_auto!S55,IF($N$3=\"Mardi\",Congés_auto!T55,IF($N$3=\"Mercredi\",Congés_auto!U55,IF($N$3=\"Jeudi\",Congés_auto!V55,IF($N$3=\"Vendredi\",Congés_auto!W55,IF($N$3=\"Samedi\",Congés_auto!X55,0)))))))","v":"2019-02-14"}]
[18,10,{"$nulls":5},{"$f":"IF(B21=\"\",\"\",IF($N$3=\"Lundi\",Congés_auto!S56,IF($N$3=\"Mardi\",Congés_auto!T56,IF($N$3=\"Mercredi\",Congés_auto!U56,IF($N$3=\"Jeudi\",Congés_auto!V56,IF($N$3=\"Vendredi\",Congés_auto!W56,IF($N$3=\"Samedi\",Congés_auto!X56,0)))))))","v":"2019-02-21"}]
[19,null,"TECHNOLOGIE  2014  -  2015      - N° et titre de l'activité",{"$nulls":8},"Cor / Synt"]
[20,{"$f":"IF(OR($O$4=1,$O$4=2),$AA111,IF(OR($O$4=3,$O$4=4),$AC111,IF(OR($O$4=5,$O$4=6),$AE111,IF(OR($O$4=7,$O$4=8),$AG111,\"\"))))","v":""},{"$nulls":5},{"$f":"IF(B23=\"\",\"\",IF($N$3=\"Lundi\",Congés_auto!S57,IF($N$3=\"Mardi\",Congés_auto!T57,IF($N$3=\"Mercredi\",Congés_auto!U57,IF($N$3=\"Jeudi\",Congés_auto!V57,IF($N$3=\"Vendredi\",Congés_auto!W57,IF($N$3=\"Samedi\",Congés_auto!X57,0)))))))","v":""}]
[21,11,{"$nulls":5},{"$f":"IF(B24=\"\",\"\",IF($N$3=\"Lundi\",Congés_auto!S58,IF($N$3=\"Mardi\",Congés_auto!T58,IF($N$3=\"Mercredi\",Congés_auto!U58,IF($N$3=\"Jeudi\",Congés_auto!V58,IF($N$3=\"Vendredi\",Congés_auto!W58,IF($N$3=\"Samedi\",Congés_auto!X58,0)))))))","v":"2019-03-07"}]
[22,45,{"$nulls":5},{"$f":"IF(B25=\"\",\"\",IF($N$3=\"Lundi\",Congés_auto!S59,IF($N$3=\"Mardi\",Congés_auto!T59,IF($N$3=\"Mercredi\",Congés_auto!U59,IF($N$3=\"Jeudi\",Congés_auto!V59,IF($N$3=\"Vendredi\",Congés_auto!W59,IF($N$3=\"Samedi\",Congés_auto!X59,0)))))))","v":"2019-03-28"}]
[23,12,{"$nulls":5},{"$f":"IF(B26=\"\",\"\",IF($N$3=\"Lundi\",Congés_auto!S60,IF($N$3=\"Mardi\",Congés_auto!T60,IF($N$3=\"Mercredi\",Congés_auto!U60,IF($N$3=\"Jeudi\",Congés_auto!V60,IF($N$3=\"Vendredi\",Congés_auto!W60,IF($N$3=\"Samedi\",Congés_auto!X60,0)))))))","v":"2019-04-04"}]
[24,"",{"$nulls":5},{"$f":"IF(B27=\"\",\"\",IF($N$3=\"Lundi\",Congés_auto!S61,IF($N$3=\"Mardi\",Congés_auto!T61,IF($N$3=\"Mercredi\",Congés_auto!U61,IF($N$3=\"Jeudi\",Congés_auto!V61,IF($N$3=\"Vendredi\",Congés_auto!W61,IF($N$3=\"Samedi\",Congés_auto!X61,0)))))))","v":""}]
[25,13,{"$nulls":5},{"$f":"IF(B28=\"\",\"\",IF($N$3=\"Lundi\",Congés_auto!S62,IF($N$3=\"Mardi\",Congés_auto!T62,IF($N$3=\"Mercredi\",Congés_auto!U62,IF($N$3=\"Jeudi\",Congés_auto!V62,IF($N$3=\"Vendredi\",Congés_auto!W62,IF($N$3=\"Samedi\",Congés_auto!X62,0)))))))","v":"2019-04-18"}]
[26,45,{"$nulls":5},{"$f":"IF(B29=\"\",\"\",IF($N$3=\"Lundi\",Congés_auto!S63,IF($N$3=\"Mardi\",Congés_auto!T63,IF($N$3=\"Mercredi\",Congés_auto!U63,IF($N$3=\"Jeudi\",Congés_auto!V63,IF($N$3=\"Vendredi\",Congés_auto!W63,IF($N$3=\"Samedi\",Congés_auto!X63,0)))))))","v":"2019-04-25"}]
[27,14,{"$nulls":5},{"$f":"IF(B30=\"\",\"\",IF($N$3=\"Lundi\",Congés_auto!S64,IF($N$3=\"Mardi\",Congés_auto!T64,IF($N$3=\"Mercredi\",Congés_auto!U64,IF($N$3=\"Jeudi\",Congés_auto!V64,IF($N$3=\"Vendredi\",Congés_auto!W64,IF($N$3=\"Samedi\",Congés_auto!X64,0)))))))","v":"2019-05-02"}]
[28,"",{"$nulls":5},{"$f":"IF(B31=\"\",\"\",IF($N$3=\"Lundi\",Congés_auto!S65,IF($N$3=\"Mardi\",Congés_auto!T65,IF($N$3=\"Mercredi\",Congés_auto!U65,IF($N$3=\"Jeudi\",Congés_auto!V65,IF($N$3=\"Vendredi\",Congés_auto!W65,IF($N$3=\"Samedi\",Congés_auto!X65,0)))))))","v":""}]
[29,15,{"$nulls":5},{"$f":"IF(B32=\"\",\"\",IF($N$3=\"Lundi\",Congés_auto!S66,IF($N$3=\"Mardi\",Congés_auto!T66,IF($N$3=\"Mercredi\",Congés_auto!U66,IF($N$3=\"Jeudi\",Congés_auto!V66,IF($N$3=\"Vendredi\",Congés_auto!W66,IF($N$3=\"Samedi\",Congés_auto!X66,0)))))))","v":"2019-06-06"}]
[30,43,{"$nulls":5},{"$f":"IF(B33=\"\",\"\",IF($N$3=\"Lundi\",Congés_auto!S67,IF($N$3=\"Mardi\",Congés_auto!T67,IF($N$3=\"Mercredi\",Congés_auto!U67,IF($N$3=\"Jeudi\",Congés_auto!V67,IF($N$3=\"Vendredi\",Congés_auto!W67,IF($N$3=\"Samedi\",Congés_auto!X67,0)))))))","v":"2019-06-13"}]
[31,16,{"$nulls":5},{"$f":"IF(B34=\"\",\"\",IF($N$3=\"Lundi\",Congés_auto!S68,IF($N$3=\"Mardi\",Congés_auto!T68,IF($N$3=\"Mercredi\",Congés_auto!U68,IF($N$3=\"Jeudi\",Congés_auto!V68,IF($N$3=\"Vendredi\",Congés_auto!W68,IF($N$3=\"Samedi\",Congés_auto!X68,0)))))))","v":"2019-06-20"}]
[32,"",{"$nulls":5},{"$f":"IF(B35=\"\",\"\",IF($N$3=\"Lundi\",Congés_auto!S69,IF($N$3=\"Mardi\",Congés_auto!T69,IF($N$3=\"Mercredi\",Congés_auto!U69,IF($N$3=\"Jeudi\",Congés_auto!V69,IF($N$3=\"Vendredi\",Congés_auto!W69,IF($N$3=\"Samedi\",Congés_auto!X69,0)))))))","v":""}]
[33,17,{"$nulls":5},{"$f":"IF(B36=\"\",\"\",IF($N$3=\"Lundi\",Congés_auto!S70,IF($N$3=\"Mardi\",Congés_auto!T70,IF($N$3=\"Mercredi\",Congés_auto!U70,IF($N$3=\"Jeudi\",Congés_auto!V70,IF($N$3=\"Vendredi\",Congés_auto!W70,IF($N$3=\"Samedi\",Congés_auto!X70,0)))))))","v":"2019-07-04"}]
[34,43,{"$nulls":5},{"$f":"IF(B37=\"\",\"\",IF($N$3=\"Lundi\",Congés_auto!S71,IF($N$3=\"Mardi\",Congés_auto!T71,IF($N$3=\"Mercredi\",Congés_auto!U71,IF($N$3=\"Jeudi\",Congés_auto!V71,IF($N$3=\"Vendredi\",Congés_auto!W71,IF($N$3=\"Samedi\",Congés_auto!X71,0)))))))","v":""}]
[35,18,{"$nulls":5},{"$f":"IF(B38=\"\",\"\",IF($N$3=\"Lundi\",Congés_auto!S72,IF($N$3=\"Mardi\",Congés_auto!T72,IF($N$3=\"Mercredi\",Congés_auto!U72,IF($N$3=\"Jeudi\",Congés_auto!V72,IF($N$3=\"Vendredi\",Congés_auto!W72,IF($N$3=\"Samedi\",Congés_auto!X72,0)))))))","v":""}]
[36,{"$nulls":6},{"$f":"IF(B39=\"\",\"\",IF($N$3=\"Lundi\",Congés_auto!S73,IF($N$3=\"Mardi\",Congés_auto!T73,IF($N$3=\"Mercredi\",Congés_auto!U73,IF($N$3=\"Jeudi\",Congés_auto!V73,IF($N$3=\"Vendredi\",Congés_auto!W73,IF($N$3=\"Samedi\",Congés_auto!X73,0)))))))","v":""}]
[]
[]
[null,"   Les membres de mon groupe :"]
{"$rows_empty":22}
[{"$nulls":28},"Modifier u2 et w2 - Planning pour 8 ou 6 grp",{"$nulls":6},"Sem B 2h",null,"NON"]
[{"$nulls":27},"Planning",{"$f":"T1","v":0},null,null,{"$f":"N3","v":"jeudi"},{"$nulls":10},0]
[]
[{"$nulls":26},{"$f":"Z93","v":"2018-08-23"},{"$f":"OFFSET($Z$93,AA73,0)","v":"2018-08-30"},{"$f":"OFFSET($Z$93,AB73,0)","v":""},"2018-09-13","2018-09-20","2018-09-27","","2018-10-11","2018-11-08","2018-11-15","","2018-11-29","2018-12-06","2018-12-13","","2019-02-07","2019-02-14","2019-02-21","","2019-03-07","2019-03-28","2019-04-04","","2019-04-18","2019-04-25","2019-05-02","","2019-06-06","2019-06-13","2019-06-20","","2019-07-04","","","","00:00:00"]
[]
[]
[]
[{"$nulls":24},"Temps",null,2,2,2,2,2,2,2,2,2,2,2,2,2,2,2,2,2,2,2,2,2,2,2,2,2,2,2,2,2,2,2,2,2,2,2,2]
[{"$nulls":25},"Semaine",1,{"$f":"AA73+1","v":2},{"$f":"AB73+1","v":3},4,5,6,7,8,9,10,11,12,13,14,15,16,17,18,{"$f":"AR73+1","v":19},{"$f":"AS73+1","v":20},21,22,23,24,25,26,27,28,29,30,31,32,33,34,35,36]
[{"$nulls":25},"Grp  1",1,41,2,3,44,41,{"$f":"AC74+2","v":4},{"$f":"AD74+2","v":5},44,41,{"$f":"AG74+2","v":6},{"$f":"AH74+2","v":7},44,41,{"$f":"AK74+2","v":8},{"$f":"AL74+2","v":9},45,41,{"$f":"AO74+2","v":10},{"$f":"AP74+2","v":11},45,41,{"$f":"AS74+2","v":12},{"$f":"AT74+2","v":13},45,41,{"$f":"AW74+2","v":14},{"$f":"AX74+2","v":15},43,41,{"$f":"BA74+2","v":16},{"$f":"BB74+2","v":17},43,41,{"$f":"BE74+2","v":18},47]
[{"$nulls":25},"Grp  2",1,41,2,3,44,41,{"$f":"AC75+2","v":4},{"$f":"AD75+2","v":5},44,41,{"$f":"AG75+2","v":6},{"$f":"AH75+2","v":7},44,41,{"$f":"AK75+2","v":8},{"$f":"AL75+2","v":9},45,41,{"$f":"AO75+2","v":10},{"$f":"AP75+2","v":11},45,41,{"$f":"AS75+2","v":12},{"$f":"AT75+2","v":13},45,41,{"$f":"AW75+2","v":14},{"$f":"AX75+2","v":15},43,41,{"$f":"BA75+2","v":16},{"$f":"BB75+2","v":17},43,41,{"$f":"BE75+2","v":18},47]
[{"$nulls":23},"FREQUENCE(A1:A30;{1,8;2,7})",null,"Grp  3",1,2,41,3,44,{"$f":"AB76+2","v":4},41,{"$f":"AD76+2","v":5},44,{"$f":"AF76+2","v":6},41,{"$f":"AH76+2","v":7},44,{"$f":"AJ76+2","v":8},41,{"$f":"AL76+2","v":9},45,{"$f":"AN76+2","v":10},41,{"$f":"AP76+2","v":11},45,{"$f":"AR76+2","v":12},41,{"$f":"AT76+2","v":13},45,{"$f":"AV76+2","v":14},41,{"$f":"AX76+2","v":15},43,{"$f":"AZ76+2","v":16},41,{"$f":"BB76+2","v":17},43,{"$f":"BD76+2","v":18},41,47]
[{"$nulls":25},"Grp  4",1,2,41,3,45,4,41,{"$f":"AD77+2","v":5},45,6,41,{"$f":"AH77+2","v":7},45,8,41,{"$f":"AL77+2","v":9},44,10,41,{"$f":"AP77+2","v":11},44,12,41,{"$f":"AT77+2","v":13},44,14,41,{"$f":"AX77+2","v":15},43,16,41,{"$f":"BB77+2","v":17},43,18,41,47]
[{"$nulls":25},"Grp  5",1,2,3,41,45,4,{"$f":"AC78+2","v":5},41,45,6,{"$f":"AG78+2","v":7},41,45,8,{"$f":"AK78+2","v":9},41,44,10,{"$f":"AO78+2","v":11},41,44,12,{"$f":"AS78+2","v":13},41,44,14,{"$f":"AW78+2","v":15},41,43,16,{"$f":"BA78+2","v":17},41,43,18,{"$f":"BE78+2","v":19},41]
[{"$nulls":25},"Grp  6",1,2,3,41,45,4,{"$f":"AC79+2","v":5},41,45,6,{"$f":"AG79+2","v":7},41,45,8,{"$f":"AK79+2","v":9},41,44,10,{"$f":"AO79+2","v":11},41,44,12,{"$f":"AS79+2","v":13},41,44,15,{"$f":"AW79+2","v":15},41,43,17,{"$f":"BA79+2","v":17},41,43,19,{"$f":"BE79+2","v":19},41]
[{"$nulls":25},"Grp  7",1,3,2,44,41,5,{"$f":"AC80+2","v":4},44,41,7,{"$f":"AG80+2","v":6},44,41,9,{"$f":"AK80+2","v":8},45,41,11,{"$f":"AO80+2","v":10},45,41,13,{"$f":"AS80+2","v":12},45,41,15,{"$f":"AW80+2","v":14},43,41,17,{"$f":"BA80+2","v":16},43,41,19,{"$f":"BE80+2","v":18},47]
[{"$nulls":25},"Grp  8",1,3,2,44,41,5,{"$f":"AC81+2","v":4},44,41,7,{"$f":"AG81+2","v":6},44,41,9,{"$f":"AK81+2","v":8},45,41,11,{"$f":"AO81+2","v":10},45,41,13,{"$f":"AS81+2","v":12},45,41,15,{"$f":"AW81+2","v":14},43,41,17,{"$f":"BA81+2","v":16},43,41,19,{"$f":"BE81+2","v":18},47]
[{"$nulls":33},"DT1 --> 0,5 h",{"$nulls":6},"DT2 --> 1 h"]
[{"$nulls":33},"Travail noté"]
[]
[{"$nulls":23},{"$f":"CONCATENATE(AJ86,Y87)","v":"01"},"Les groupes"]
[{"$nulls":30},{"$f":"IF(LEFT(T1,1)=\"3\",\"Troisième\",IF(LEFT(T1,1)=\"4\",\"Quatrième\",IF(LEFT(T1,1)=\"5\",\"Cinquiéme\",\"Sixième\")))","v":"Sixième"},{"$nulls":4},{"$f":"T1","v":0},null,null,{"$f":"N3","v":"jeudi"},{"$nulls":4},{"$f":"O3","v":0}]
[{"$nulls":17},{"$error":"#N/A"},{"$error":"#N/A"},{"$error":"#N/A"},{"$error":"#N/A"},{"$error":"#N/A"},1,null,1,{"$f":"IF(ISNA(R87),\"\",R87)&\"  --  \"&IF(ISNA(S87),\"\",S87)&\" --  \"&IF(ISNA(T87),\"\",T87)&\" --  \"&IF(ISNA(U87),\"\",U87)&\"  --  \"&IF(ISNA(V87),\"\",V87)","v":"  --   --   --    --  "},{"$nulls":12},5,{"$f":"IF(ISNA(R91),\"\",R91)&\"  --  \"&IF(ISNA(S91),\"\",S91)&\" --  \"&IF(ISNA(T91),\"\",T91)&\" --  \"&IF(ISNA(U91),\"\",U91)&\"  --  \"&IF(ISNA(V91),\"\",V91)","v":"  --   --   --    --  "}]
[{"$nulls":17},{"$error":"#N/A"},{"$error":"#N/A"},{"$error":"#N/A"},{"$error":"#N/A"},{"$error":"#N/A"},2,null,2,{"$f":"IF(ISNA(R88),\"\",R88)&\"  --  \"&IF(ISNA(S88),\"\",S88)&\" --  \"&IF(ISNA(T88),\"\",T88)&\" --  \"&IF(ISNA(U88),\"\",U88)&\"  --  \"&IF(ISNA(V88),\"\",V88)","v":"  --   --   --    --  "},{"$nulls":12},6,{"$f":"IF(ISNA(R92),\"\",R92)&\"  --  \"&IF(ISNA(S92),\"\",S92)&\" --  \"&IF(ISNA(T92),\"\",T92)&\" --  \"&IF(ISNA(U92),\"\",U92)&\"  --  \"&IF(ISNA(V92),\"\",V92)","v":"  --   --   --    --  "}]
[{"$nulls":17},{"$error":"#N/A"},{"$error":"#N/A"},{"$error":"#N/A"},{"$error":"#N/A"},{"$error":"#N/A"},3,null,3,{"$f":"IF(ISNA(R89),\"\",R89)&\"  --  \"&IF(ISNA(S89),\"\",S89)&\" --  \"&IF(ISNA(T89),\"\",T89)&\" --  \"&IF(ISNA(U89),\"\",U89)&\"  --  \"&IF(ISNA(V89),\"\",V89)","v":"  --   --   --    --  "},{"$nulls":12},7,{"$f":"IF(ISNA(R93),\"\",R93)&\"  --  \"&IF(ISNA(S93),\"\",S93)&\" --  \"&IF(ISNA(T93),\"\",T93)&\" --  \"&IF(ISNA(U93),\"\",U93)&\"  --  \"&IF(ISNA(V93),\"\",V93)","v":"  --   --   --    --  "}]
[{"$nulls":17},{"$error":"#N/A"},{"$error":"#N/A"},{"$error":"#N/A"},{"$error":"#N/A"},{"$error":"#N/A"},4,null,4,{"$f":"IF(ISNA(R90),\"\",R90)&\"  --  \"&IF(ISNA(S90),\"\",S90)&\" --  \"&IF(ISNA(T90),\"\",T90)&\" --  \"&IF(ISNA(U90),\"\",U90)&\"  --  \"&IF(ISNA(V90),\"\",V90)","v":"  --   --   --    --  "},{"$nulls":12},8,{"$f":"IF(ISNA(R94),\"\",R94)&\"  --  \"&IF(ISNA(S94),\"\",S94)&\" --  \"&IF(ISNA(T94),\"\",T94)&\" --  \"&IF(ISNA(U94),\"\",U94)&\"  --  \"&IF(ISNA(V94),\"\",V94)","v":"  --   --   --    --  "}]
[{"$nulls":17},{"$error":"#N/A"},{"$error":"#N/A"},{"$error":"#N/A"},{"$error":"#N/A"},{"$error":"#N/A"},5,{"$nulls":3},"Groupe et N° activité",{"$nulls":7},"Les activités par groupes"]
[{"$nulls":17},{"$error":"#N/A"},{"$error":"#N/A"},{"$error":"#N/A"},{"$error":"#N/A"},{"$error":"#N/A"},null,null,"N° Sem",{"$f":"TEXT(Z93,\"jjjj\")","v":"jjjj"},"G 1","G2","G3","G4","G5","G6","G7","G8"]
[{"$nulls":17},{"$error":"#N/A"},{"$error":"#N/A"},{"$error":"#N/A"},{"$error":"#N/A"},{"$error":"#N/A"},null,null,1,{"$f":"H4","v":"2018-08-23"},{"$f":"AA74","v":1},{"$f":"AA75","v":1},{"$f":"AA76","v":1},{"$f":"AA77","v":1},{"$f":"AA78","v":1},{"$f":"AA79","v":1},{"$f":"AA80","v":1},{"$f":"AA81","v":1},"Accueil - organisation - rotation et planning  - Départ de l' activité \" Présentation du classeur\"",{"$nulls":11},1]
[{"$nulls":17},{"$error":"#N/A"},{"$error":"#N/A"},{"$error":"#N/A"},{"$error":"#N/A"},{"$error":"#N/A"},null,null,{"$f":"Y93+1","v":2},{"$f":"H5","v":"2018-08-30"},{"$f":"IF(OFFSET($AA$74,0,$Y93)=41,\"\",OFFSET($AA$74,0,$Y93))","v":""},{"$f":"IF(OFFSET($AA$74,$Y$93,$Y93)=41,\"\",OFFSET($AA$74,$Y$93,$Y93))","v":""},{"$f":"IF(OFFSET($AA$74,$Y$94,$Y93)=41,\"\",OFFSET($AA$74,$Y$94,$Y93))","v":2},{"$f":"IF(OFFSET($AA$74,$Y$95,$Y93)=41,\"\",OFFSET($AA$74,$Y$95,$Y93))","v":2},{"$f":"IF(OFFSET($AA$74,$Y$96,$Y93)=41,\"\",OFFSET($AA$74,$Y$96,$Y93))","v":2},{"$f":"IF(OFFSET($AA$74,$Y$97,$Y93)=41,\"\",OFFSET($AA$74,$Y$97,$Y93))","v":2},{"$f":"IF(OFFSET($AA$74,$Y$98,$Y93)=41,\"\",OFFSET($AA$74,$Y$98,$Y93))","v":3},{"$f":"IF(OFFSET($AA$74,$Y$99,$Y93)=41,\"\",OFFSET($AA$74,$Y$99,$Y93))","v":3},{"$error":"#VALUE!"},{"$nulls":5},{"$error":"#VALUE!"},{"$nulls":5},{"$f":"AU93+1","v":2}]
[{"$nulls":17},{"$error":"#N/A"},{"$error":"#N/A"},{"$error":"#N/A"},{"$error":"#N/A"},{"$error":"#N/A"},null,null,{"$f":"Y94+1","v":3},"",{"$f":"IF(OFFSET($AA$74,0,$Y94)=41,\"\",OFFSET($AA$74,0,$Y94))","v":2},{"$f":"IF(OFFSET($AA$74,$Y$93,$Y94)=41,\"\",OFFSET($AA$74,$Y$93,$Y94))","v":2},{"$f":"IF(OFFSET($AA$74,$Y$94,$Y94)=41,\"\",OFFSET($AA$74,$Y$94,$Y94))","v":""},{"$f":"IF(OFFSET($AA$74,$Y$95,$Y94)=41,\"\",OFFSET($AA$74,$Y$95,$Y94))","v":""},{"$f":"IF(OFFSET($AA$74,$Y$96,$Y94)=41,\"\",OFFSET($AA$74,$Y$96,$Y94))","v":3},{"$f":"IF(OFFSET($AA$74,$Y$97,$Y94)=41,\"\",OFFSET($AA$74,$Y$97,$Y94))","v":3},{"$f":"IF(OFFSET($AA$74,$Y$98,$Y94)=41,\"\",OFFSET($AA$74,$Y$98,$Y94))","v":2},{"$f":"IF(OFFSET($AA$74,$Y$99,$Y94)=41,\"\",OFFSET($AA$74,$Y$99,$Y94))","v":2},{"$error":"#VALUE!"},{"$nulls":5},{"$error":"#VALUE!"},{"$nulls":5},{"$f":"AU94+1","v":3}]
[{"$nulls":24},4,"2018-09-13",3,3,3,3,"","",44,44,{"$error":"#VALUE!"},{"$nulls":5},{"$error":"#VALUE!"},{"$nulls":5},4]
[{"$nulls":24},5,"2018-09-20",44,44,44,45,45,45,"","",{"$error":"#VALUE!"},{"$nulls":5},{"$error":"#VALUE!"},{"$nulls":5},5]
[{"$nulls":24},6,"2018-09-27","","",4,4,4,4,5,5,{"$error":"#VALUE!"},{"$nulls":5},{"$error":"#VALUE!"},{"$nulls":5},6]
[{"$nulls":24},7,"",4,4,"","",5,5,4,4,{"$error":"#VALUE!"},{"$nulls":5},{"$error":"#VALUE!"},{"$nulls":5},7]
[{"$nulls":24},8,"2018-10-11",5,5,5,5,"","",44,44,{"$error":"#VALUE!"},{"$nulls":5},{"$error":"#VALUE!"},{"$nulls":5},8]
[{"$nulls":24},9,"2018-11-08",44,44,44,45,45,45,"","",{"$error":"#VALUE!"},{"$nulls":5},{"$error":"#VALUE!"},{"$nulls":5},9]
[{"$nulls":24},10,"2018-11-15","","",6,6,6,6,7,7,{"$error":"#VALUE!"},{"$nulls":5},{"$error":"#VALUE!"},{"$nulls":5},10]
[{"$nulls":24},11,"",6,6,"","",7,7,6,6,{"$error":"#VALUE!"},{"$nulls":5},{"$error":"#VALUE!"},{"$nulls":5},11]
[{"$nulls":24},12,"2018-11-29",7,7,7,7,"","",44,44,{"$error":"#VALUE!"},{"$nulls":5},{"$error":"#VALUE!"},{"$nulls":5},12]
[{"$nulls":24},13,"2018-12-06",44,44,44,45,45,45,"","",{"$error":"#VALUE!"},{"$nulls":5},{"$error":"#VALUE!"},{"$nulls":5},13]
[{"$nulls":24},14,"2018-12-13","","",8,8,8,8,9,9,{"$error":"#VALUE!"},{"$nulls":5},{"$error":"#VALUE!"},{"$nulls":5},14]
[{"$nulls":24},15,"",8,8,"","",9,9,8,8,{"$error":"#VALUE!"},{"$nulls":5},{"$error":"#VALUE!"},{"$nulls":5},15]
[{"$nulls":24},16,"2019-02-07",9,9,9,9,"","",45,45,{"$error":"#VALUE!"},{"$nulls":5},{"$error":"#VALUE!"},{"$nulls":5},16]
[{"$nulls":24},17,"2019-02-14",45,45,45,44,44,44,"","",{"$error":"#VALUE!"},{"$nulls":5},{"$error":"#VALUE!"},{"$nulls":5},17]
[{"$nulls":24},18,"2019-02-21","","",10,10,10,10,11,11,{"$error":"#VALUE!"},{"$nulls":5},{"$error":"#VALUE!"},{"$nulls":5},18]
[{"$nulls":24},19,{"$f":"H23","v":""},10,10,"","",11,11,10,10,{"$error":"#VALUE!"},{"$nulls":5},{"$error":"#VALUE!"},{"$nulls":5},19]
[{"$nulls":24},20,"2019-03-07",11,11,11,11,"","",45,45,{"$error":"#VALUE!"},{"$nulls":5},{"$error":"#VALUE!"},{"$nulls":5},20]
[{"$nulls":24},21,"2019-03-28",45,45,45,44,44,44,"","",{"$error":"#VALUE!"},{"$nulls":5},{"$error":"#VALUE!"},{"$nulls":5},21]
[{"$nulls":24},22,"2019-04-04","","",12,12,12,12,13,13,{"$error":"#VALUE!"},{"$nulls":5},{"$error":"#VALUE!"},{"$nulls":5},22]
[{"$nulls":24},23,"",12,12,"","",13,13,12,12,{"$error":"#VALUE!"},{"$nulls":5},{"$error":"#VALUE!"},{"$nulls":5},23]
[{"$nulls":24},24,"2019-04-18",13,13,13,13,"","",45,45,{"$error":"#VALUE!"},{"$nulls":5},{"$error":"#VALUE!"},{"$nulls":5},24]
[{"$nulls":24},25,"2019-04-25",45,45,45,44,44,44,"","",{"$error":"#VALUE!"},{"$nulls":5},{"$error":"#VALUE!"},{"$nulls":5},25]
[{"$nulls":24},26,"2019-05-02","","",14,14,14,15,15,15,{"$error":"#VALUE!"},{"$nulls":5},{"$error":"#VALUE!"},{"$nulls":5},26]
[{"$nulls":24},27,"",14,14,"","",15,15,14,14,{"$error":"#VALUE!"},{"$nulls":5},{"$error":"#VALUE!"},{"$nulls":5},27]
[{"$nulls":24},28,"2019-06-06",15,15,15,15,"","",43,43,{"$error":"#VALUE!"},{"$nulls":5},{"$error":"#VALUE!"},{"$nulls":5},28]
[{"$nulls":24},29,"2019-06-13",43,43,43,43,43,43,"","",{"$error":"#VALUE!"},{"$nulls":5},"",{"$nulls":5},29]
[{"$nulls":24},30,"2019-06-20","","",16,16,16,17,17,17,{"$error":"#VALUE!"},{"$nulls":5},{"$error":"#VALUE!"},{"$nulls":5},30]
[{"$nulls":24},31,"",16,16,"","",17,17,16,16,{"$error":"#VALUE!"},{"$nulls":5},{"$error":"#VALUE!"},{"$nulls":5},31]
[{"$nulls":24},32,"2019-07-04",17,17,17,17,"","",43,43,{"$error":"#VALUE!"},{"$nulls":5},{"$error":"#VALUE!"},{"$nulls":5},32]
[{"$nulls":24},33,"",43,43,43,43,43,43,"","",{"$error":"#VALUE!"},{"$nulls":5},"",{"$nulls":5},33]
[{"$nulls":24},34,"","","",18,18,18,19,19,19,{"$error":"#VALUE!"},{"$nulls":5},{"$error":"#VALUE!"},{"$nulls":5},34]
[{"$nulls":24},35,"",18,18,"","",19,19,18,18,{"$error":"#VALUE!"},{"$nulls":5},{"$error":"#VALUE!"},{"$nulls":5},35]
[{"$nulls":24},36,null,47,47,47,47,"","",47,47,{"$error":"#VALUE!"},{"$nulls":5},"",{"$nulls":5},36]

{"sheet":"601","index":3,"n_rows":128,"n_cols":62,"rows_kept":128,"merged":[[0,13,0,15],[1,17,2,18],[2,3,2,6],[2,13,2,14],[3,2,3,6],[3,7,3,8],[4,2,4,6],[4,7,4,8],[5,2,5,6],[5,7,5,8],[6,2,6,6],[6,7,6,8],[7,2,7,6],[7,7,7,8],[8,2,8,6],[8,7,8,8],[9,2,9,6],[9,7,9,8],[10,2,10,6],[10,7,10,8],[11,2,11,6],[11,7,11,8],[12,2,12,6],[12,7,12,8],[13,2,13,6],[13,7,13,8],[14,2,14,6],[14,7,14,8],[15,2,15,6],[15,7,15,8],[16,2,16,6],[16,7,16,8],[17,2,17,6],[17,7,17,8],[18,2,18,6],[18,7,18,8],[19,2,19,6],[19,7,19,8],[20,2,20,6],[20,7,20,8],[21,2,21,6],[21,7,21,8],[22,2,22,6],[22,7,22,8],[23,2,23,6],[23,7,23,8],[24,2,24,6],[24,7,24,8],[25,2,25,6],[25,7,25,8],[26,2,26,6],[26,7,26,8],[27,2,27,6],[27,7,27,8],[28,2,28,6],[28,7,28,8],[29,2,29,6],[29,7,29,8],[30,2,30,6],[30,7,30,8],[31,2,31,6],[31,7,31,8],[32,2,32,6],[32,7,32,8],[33,2,33,6],[33,7,33,8],[34,2,34,6],[34,7,34,8],[35,2,35,6],[35,7,35,8],[36,2,36,6],[36,7,36,8],[37,7,37,8],[38,2,38,6],[38,7,38,8],[65,28,65,29],[67,26,70,26],[67,27,70,27],[67,28,70,28],[67,29,70,29],[67,30,70,30],[67,31,70,31],[67,32,70,32],[67,33,70,33],[67,34,70,34],[67,35,70,35],[67,36,70,36],[67,37,70,37],[67,38,70,38],[67,39,70,39],[67,40,70,40],[67,41,70,41],[67,42,70,42],[67,43,70,43],[67,44,70,44],[67,45,70,45],[67,46,70,46],[67,47,70,47],[67,48,70,48],[67,49,70,49],[67,50,70,50],[67,51,70,51],[67,52,70,52],[67,53,70,53],[67,54,70,54],[67,55,70,55],[67,56,70,56],[67,57,70,57],[67,58,70,58],[67,59,70,59],[67,60,70,60],[67,61,70,61],[71,24,71,25],[84,24,84,45],[85,38,85,41],[86,25,86,36],[86,39,86,45],[87,25,87,36],[87,39,87,45],[88,25,88,36],[88,39,88,45],[89,25,89,36],[89,39,89,45],[90,26,90,33],[90,34,91,45],[92,34,92,45],[93,34,93,39],[93,40,93,45],[94,34,94,39],[94,40,94,45],[95,34,95,39],[95,40,95,45],[96,34,96,39],[96,40,96,45],[97,34,97,39],[97,40,97,45],[98,34,98,39],[98,40,98,45],[99,34,99,39],[99,40,99,45],[100,34,100,39],[100,40,100,45],[101,34,101,39],[101,40,101,45],[102,34,102,39],[102,40,102,45],[103,34,103,39],[103,40,103,45],[104,34,104,39],[104,40,104,45],[105,34,105,39],[105,40,105,45],[106,34,106,39],[106,40,106,45],[107,34,107,39],[107,40,107,45],[108,34,108,39],[108,40,108,45],[109,34,109,39],[109,40,109,45],[110,34,110,39],[110,40,110,45],[111,34,111,39],[111,40,111,45],[112,34,112,39],[112,40,112,45],[113,34,113,39],[113,40,113,45],[114,34,114,39],[114,40,114,45],[115,34,115,39],[115,40,115,45],[116,34,116,39],[116,40,116,45],[117,34,117,39],[117,40,117,45],[118,34,118,39],[118,40,118,45],[119,34,119,39],[119,40,119,45],[120,34,120,39],[120,40,120,45],[121,34,121,39],[121,40,121,45],[122,34,122,39],[122,40,122,45],[123,34,123,39],[123,40,123,45],[124,34,124,39],[124,40,124,45],[125,34,125,39],[125,40,125,45],[126,34,126,39],[126,40,126,45],[127,34,127,39],[127,40,127,45],[129,24,129,36],[130,25,130,36],[130,39,130,45],[131,25,131,36],[131,39,131,45],[132,25,132,36],[132,39,132,45],[133,25,133,36],[133,39,133,45]]}
[{"$nulls":3},"NOM :",{"$nulls":9},"Fond vert = cellules modifiables",{"$nulls":9},"affichage glissant sur 5 semaines"]
[{"$nulls":22},1]
["Cor / Synt","N°",null,{"$f":"\"TECHNOLOGIE  \"&YEAR(H4)&\"  -  \"&YEAR(H4)+1&\"  \"&\n\"    - N° et titre de l'activité\"","v":"TECHNOLOGIE  2018  -  2019      - N° et titre de l'activité"},{"$nulls":7},"Temps / H","Semaine","Jeudi",null," ",{"$nulls":7},1]
[1,1,{"$nulls":5},{"$f":"IF(B4=\"\",\"\",IF($N$3=\"Lundi\",Congés_auto!S39,IF($N$3=\"Mardi\",Congés_auto!T39,IF($N$3=\"Mercredi\",Congés_auto!U39,IF($N$3=\"Jeudi\",Congés_auto!V39,IF($N$3=\"Vendredi\",Congés_auto!W39,IF($N$3=\"Samedi\",Congés_auto!X39,0)))))))","v":"2018-08-23"},{"$nulls":3},1,"A","GROUPE",1]
[{"$f":"A4+1","v":2},{"$f":"IF(OR($O$4=1,$O$4=2),$AA94,IF(OR($O$4=3,$O$4=4),$AC94,IF(OR($O$4=5,$O$4=6),$AE94,IF(OR($O$4=7,$O$4=8),$AG94,\"\"))))","v":1},{"$nulls":5},{"$f":"IF(B5=\"\",\"\",IF($N$3=\"Lundi\",Congés_auto!S40,IF($N$3=\"Mardi\",Congés_auto!T40,IF($N$3=\"Mercredi\",Congés_auto!U40,IF($N$3=\"Jeudi\",Congés_auto!V40,IF($N$3=\"Vendredi\",Congés_auto!W40,IF($N$3=\"Samedi\",Congés_auto!X40,0)))))))","v":"2018-08-30"},{"$nulls":3},{"$f":"IF(L4=1,2,1)","v":2},{"$f":"IF(M4=\"A\",\"B\",\"A\")","v":"B"}]
[{"$f":"A5+1","v":3},2,{"$nulls":5},{"$f":"IF(B6=\"\",\"\",IF($N$3=\"Lundi\",Congés_auto!S41,IF($N$3=\"Mardi\",Congés_auto!T41,IF($N$3=\"Mercredi\",Congés_auto!U41,IF($N$3=\"Jeudi\",Congés_auto!V41,IF($N$3=\"Vendredi\",Congés_auto!W41,IF($N$3=\"Samedi\",Congés_auto!X41,0)))))))","v":"2018-09-06"},{"$nulls":3},{"$f":"IF(L5=1,2,1)","v":1},{"$f":"IF(M5=\"A\",\"B\",\"A\")","v":"A"}]
[4,2,{"$nulls":5},{"$f":"IF(B7=\"\",\"\",IF($N$3=\"Lundi\",Congés_auto!S42,IF($N$3=\"Mardi\",Congés_auto!T42,IF($N$3=\"Mercredi\",Congés_auto!U42,IF($N$3=\"Jeudi\",Congés_auto!V42,IF($N$3=\"Vendredi\",Congés_auto!W42,IF($N$3=\"Samedi\",Congés_auto!X42,0)))))))","v":"2018-09-13"},{"$nulls":3},2,"B"]
[5,3,{"$nulls":5},{"$f":"IF(B8=\"\",\"\",IF($N$3=\"Lundi\",Congés_auto!S43,IF($N$3=\"Mardi\",Congés_auto!T43,IF($N$3=\"Mercredi\",Congés_auto!U43,IF($N$3=\"Jeudi\",Congés_auto!V43,IF($N$3=\"Vendredi\",Congés_auto!W43,IF($N$3=\"Samedi\",Congés_auto!X43,0)))))))","v":"2018-09-20"},{"$nulls":3},1,"A"]
[6,3,{"$nulls":5},{"$f":"IF(B9=\"\",\"\",IF($N$3=\"Lundi\",Congés_auto!S44,IF($N$3=\"Mardi\",Congés_auto!T44,IF($N$3=\"Mercredi\",Congés_auto!U44,IF($N$3=\"Jeudi\",Congés_auto!V44,IF($N$3=\"Vendredi\",Congés_auto!W44,IF($N$3=\"Samedi\",Congés_auto!X44,0)))))))","v":"2018-09-27"},{"$nulls":3},2,"B"]
[7,4,{"$nulls":5},{"$f":"IF(B10=\"\",\"\",IF($N$3=\"Lundi\",Congés_auto!S45,IF($N$3=\"Mardi\",Congés_auto!T45,IF($N$3=\"Mercredi\",Congés_auto!U45,IF($N$3=\"Jeudi\",Congés_auto!V45,IF($N$3=\"Vendredi\",Congés_auto!W45,IF($N$3=\"Samedi\",Congés_auto!X45,0)))))))","v":"2018-10-04"},{"$nulls":3},1,"A"]
[8,4,{"$nulls":5},{"$f":"IF(B11=\"\",\"\",IF($N$3=\"Lundi\",Congés_auto!S46,IF($N$3=\"Mardi\",Congés_auto!T46,IF($N$3=\"Mercredi\",Congés_auto!U46,IF($N$3=\"Jeudi\",Congés_auto!V46,IF($N$3=\"Vendredi\",Congés_auto!W46,IF($N$3=\"Samedi\",Congés_auto!X46,0)))))))","v":"2018-10-11"},{"$nulls":3},2,"B"]
[9,5,{"$nulls":5},{"$f":"IF(B12=\"\",\"\",IF($N$3=\"Lundi\",Congés_auto!S47,IF($N$3=\"Mardi\",Congés_auto!T47,IF($N$3=\"Mercredi\",Congés_auto!U47,IF($N$3=\"Jeudi\",Congés_auto!V47,IF($N$3=\"Vendredi\",Congés_auto!W47,IF($N$3=\"Samedi\",Congés_auto!X47,0)))))))","v":"2018-11-08"},{"$nulls":3},1,"A"]
[10,5,{"$nulls":5},{"$f":"IF(B13=\"\",\"\",IF($N$3=\"Lundi\",Congés_auto!S48,IF($N$3=\"Mardi\",Congés_auto!T48,IF($N$3=\"Mercredi\",Congés_auto!U48,IF($N$3=\"Jeudi\",Congés_auto!V48,IF($N$3=\"Vendredi\",Congés_auto!W48,IF($N$3=\"Samedi\",Congés_auto!X48,0)))))))","v":"2018-11-15"},{"$nulls":3},2,"B"]
[11,6,{"$nulls":5},{"$f":"IF(B14=\"\",\"\",IF($N$3=\"Lundi\",Congés_auto!S49,IF($N$3=\"Mardi\",Congés_auto!T49,IF($N$3=\"Mercredi\",Congés_auto!U49,IF($N$3=\"Jeudi\",Congés_auto!V49,IF($N$3=\"Vendredi\",Congés_auto!W49,IF($N$3=\"Samedi\",Congés_auto!X49,0)))))))","v":"2018-11-22"},{"$nulls":3},1,"A"]
[12,6,{"$nulls":5},{"$f":"IF(B15=\"\",\"\",IF($N$3=\"Lundi\",Congés_auto!S50,IF($N$3=\"Mardi\",Congés_auto!T50,IF($N$3=\"Mercredi\",Congés_auto!U50,IF($N$3=\"Jeudi\",Congés_auto!V50,IF($N$3=\"Vendredi\",Congés_auto!W50,IF($N$3=\"Samedi\",Congés_auto!X50,0)))))))","v":"2018-11-29"},{"$nulls":3},2,"B"]
[13,7,{"$nulls":5},{"$f":"IF(B16=\"\",\"\",IF($N$3=\"Lundi\",Congés_auto!S51,IF($N$3=\"Mardi\",Congés_auto!T51,IF($N$3=\"Mercredi\",Congés_auto!U51,IF($N$3=\"Jeudi\",Congés_auto!V51,IF($N$3=\"Vendredi\",Congés_auto!W51,IF($N$3=\"Samedi\",Congés_auto!X51,0)))))))","v":"2018-12-06"},{"$nulls":3},1,"A"]
[14,7,{"$nulls":5},{"$f":"IF(B17=\"\",\"\",IF($N$3=\"Lundi\",Congés_auto!S52,IF($N$3=\"Mardi\",Congés_auto!T52,IF($N$3=\"Mercredi\",Congés_auto!U52,IF($N$3=\"Jeudi\",Congés_auto!V52,IF($N$3=\"Vendredi\",Congés_auto!W52,IF($N$3=\"Samedi\",Congés_auto!X52,0)))))))","v":"2018-12-13"},{"$nulls":3},2,"B"]
[15,8,{"$nulls":5},{"$f":"IF(B18=\"\",\"\",IF($N$3=\"Lundi\",Congés_auto!S53,IF($N$3=\"Mardi\",Congés_auto!T53,IF($N$3=\"Mercredi\",Congés_auto!U53,IF($N$3=\"Jeudi\",Congés_auto!V53,IF($N$3=\"Vendredi\",Congés_auto!W53,IF($N$3=\"Samedi\",Congés_auto!X53,0)))))))","v":"2019-01-31"},{"$nulls":3},1,"A"]
[16,8,{"$nulls":5},{"$f":"IF(B19=\"\",\"\",IF($N$3=\"Lundi\",Congés_auto!S54,IF($N$3=\"Mardi\",Congés_auto!T54,IF($N$3=\"Mercredi\",Congés_auto!U54,IF($N$3=\"Jeudi\",Congés_auto!V54,IF($N$3=\"Vendredi\",Congés_auto!W54,IF($N$3=\"Samedi\",Congés_auto!X54,0)))))))","v":"2019-02-07"},{"$nulls":3},2,"B"]
[17,9,{"$nulls":5},{"$f":"IF(B20=\"\",\"\",IF($N$3=\"Lundi\",Congés_auto!S55,IF($N$3=\"Mardi\",Congés_auto!T55,IF($N$3=\"Mercredi\",Congés_auto!U55,IF($N$3=\"Jeudi\",Congés_auto!V55,IF($N$3=\"Vendredi\",Congés_auto!W55,IF($N$3=\"Samedi\",Congés_auto!X55,0)))))))","v":"2019-02-14"},{"$nulls":3},1,"A"]
[18,9,{"$nulls":5},{"$f":"IF(B21=\"\",\"\",IF($N$3=\"Lundi\",Congés_auto!S56,IF($N$3=\"Mardi\",Congés_auto!T56,IF($N$3=\"Mercredi\",Congés_auto!U56,IF($N$3=\"Jeudi\",Congés_auto!V56,IF($N$3=\"Vendredi\",Congés_auto!W56,IF($N$3=\"Samedi\",Congés_auto!X56,0)))))))","v":"2019-02-21"},{"$nulls":3},2,"B"]
[19,10,{"$nulls":5},{"$f":"IF(B22=\"\",\"\",IF($N$3=\"Lundi\",Congés_auto!S57,IF($N$3=\"Mardi\",Congés_auto!T57,IF($N$3=\"Mercredi\",Congés_auto!U57,IF($N$3=\"Jeudi\",Congés_auto!V57,IF($N$3=\"Vendredi\",Congés_auto!W57,IF($N$3=\"Samedi\",Congés_auto!X57,0)))))))","v":"2019-02-28"},{"$nulls":3},1,"A"]
[20,10,{"$nulls":5},{"$f":"IF(B23=\"\",\"\",IF($N$3=\"Lundi\",Congés_auto!S58,IF($N$3=\"Mardi\",Congés_auto!T58,IF($N$3=\"Mercredi\",Congés_auto!U58,IF($N$3=\"Jeudi\",Congés_auto!V58,IF($N$3=\"Vendredi\",Congés_auto!W58,IF($N$3=\"Samedi\",Congés_auto!X58,0)))))))","v":"2019-03-07"},{"$nulls":3},2,"B"]
[21,11,{"$nulls":5},{"$f":"IF(B24=\"\",\"\",IF($N$3=\"Lundi\",Congés_auto!S59,IF($N$3=\"Mardi\",Congés_auto!T59,IF($N$3=\"Mercredi\",Congés_auto!U59,IF($N$3=\"Jeudi\",Congés_auto!V59,IF($N$3=\"Vendredi\",Congés_auto!W59,IF($N$3=\"Samedi\",Congés_auto!X59,0)))))))","v":"2019-03-28"},{"$nulls":3},1,"A"]
[22,11,{"$nulls":5},{"$f":"IF(B25=\"\",\"\",IF($N$3=\"Lundi\",Congés_auto!S60,IF($N$3=\"Mardi\",Congés_auto!T60,IF($N$3=\"Mercredi\",Congés_auto!U60,IF($N$3=\"Jeudi\",Congés_auto!V60,IF($N$3=\"Vendredi\",Congés_auto!W60,IF($N$3=\"Samedi\",Congés_auto!X60,0)))))))","v":"2019-04-04"},{"$nulls":3},2,"B"]
[23,12,{"$nulls":5},{"$f":"IF(B26=\"\",\"\",IF($N$3=\"Lundi\",Congés_auto!S61,IF($N$3=\"Mardi\",Congés_auto!T61,IF($N$3=\"Mercredi\",Congés_auto!U61,IF($N$3=\"Jeudi\",Congés_auto!V61,IF($N$3=\"Vendredi\",Congés_auto!W61,IF($N$3=\"Samedi\",Congés_auto!X61,0)))))))","v":"2019-04-11"},{"$nulls":3},1,"A"]
[24,12,{"$nulls":5},{"$f":"IF(B27=\"\",\"\",IF($N$3=\"Lundi\",Congés_auto!S62,IF($N$3=\"Mardi\",Congés_auto!T62,IF($N$3=\"Mercredi\",Congés_auto!U62,IF($N$3=\"Jeudi\",Congés_auto!V62,IF($N$3=\"Vendredi\",Congés_auto!W62,IF($N$3=\"Samedi\",Congés_auto!X62,0)))))))","v":"2019-04-18"},{"$nulls":3},2,"B"]
[25,13,{"$nulls":5},{"$f":"IF(B28=\"\",\"\",IF($N$3=\"Lundi\",Congés_auto!S63,IF($N$3=\"Mardi\",Congés_auto!T63,IF($N$3=\"Mercredi\",Congés_auto!U63,IF($N$3=\"Jeudi\",Congés_auto!V63,IF($N$3=\"Vendredi\",Congés_auto!W63,IF($N$3=\"Samedi\",Congés_auto!X63,0)))))))","v":"2019-04-25"},{"$nulls":3},1,"A"]
[26,13,{"$nulls":5},{"$f":"IF(B29=\"\",\"\",IF($N$3=\"Lundi\",Congés_auto!S64,IF($N$3=\"Mardi\",Congés_auto!T64,IF($N$3=\"Mercredi\",Congés_auto!U64,IF($N$3=\"Jeudi\",Congés_auto!V64,IF($N$3=\"Vendredi\",Congés_auto!W64,IF($N$3=\"Samedi\",Congés_auto!X64,0)))))))","v":"2019-05-02"},{"$nulls":3},2,"B"]
[27,14,{"$nulls":5},{"$f":"IF(B30=\"\",\"\",IF($N$3=\"Lundi\",Congés_auto!S65,IF($N$3=\"Mardi\",Congés_auto!T65,IF($N$3=\"Mercredi\",Congés_auto!U65,IF($N$3=\"Jeudi\",Congés_auto!V65,IF($N$3=\"Vendredi\",Congés_auto!W65,IF($N$3=\"Samedi\",Congés_auto!X65,0)))))))","v":"2019-05-23"},{"$nulls":3},1,"A"]
[28,14,{"$nulls":5},{"$f":"IF(B31=\"\",\"\",IF($N$3=\"Lundi\",Congés_auto!S66,IF($N$3=\"Mardi\",Congés_auto!T66,IF($N$3=\"Mercredi\",Congés_auto!U66,IF($N$3=\"Jeudi\",Congés_auto!V66,IF($N$3=\"Vendredi\",Congés_auto!W66,IF($N$3=\"Samedi\",Congés_auto!X66,0)))))))","v":"2019-06-06"},{"$nulls":3},2,"B"]
[29,15,{"$nulls":5},{"$f":"IF(B32=\"\",\"\",IF($N$3=\"Lundi\",Congés_auto!S67,IF($N$3=\"Mardi\",Congés_auto!T67,IF($N$3=\"Mercredi\",Congés_auto!U67,IF($N$3=\"Jeudi\",Congés_auto!V67,IF($N$3=\"Vendredi\",Congés_auto!W67,IF($N$3=\"Samedi\",Congés_auto!X67,0)))))))","v":"2019-06-13"},{"$nulls":3},1,"A"]
[30,15,{"$nulls":5},{"$f":"IF(B33=\"\",\"\",IF($N$3=\"Lundi\",Congés_auto!S68,IF($N$3=\"Mardi\",Congés_auto!T68,IF($N$3=\"Mercredi\",Congés_auto!U68,IF($N$3=\"Jeudi\",Congés_auto!V68,IF($N$3=\"Vendredi\",Congés_auto!W68,IF($N$3=\"Samedi\",Congés_auto!X68,0)))))))","v":"2019-06-20"},{"$nulls":3},2,"B"]
[31,16,{"$nulls":5},{"$f":"IF(B34=\"\",\"\",IF($N$3=\"Lundi\",Congés_auto!S69,IF($N$3=\"Mardi\",Congés_auto!T69,IF($N$3=\"Mercredi\",Congés_auto!U69,IF($N$3=\"Jeudi\",Congés_auto!V69,IF($N$3=\"Vendredi\",Congés_auto!W69,IF($N$3=\"Samedi\",Congés_auto!X69,0)))))))","v":"2019-06-27"},{"$nulls":3},1,"A"]
[32,16,{"$nulls":5},{"$f":"IF(B35=\"\",\"\",IF($N$3=\"Lundi\",Congés_auto!S70,IF($N$3=\"Mardi\",Congés_auto!T70,IF($N$3=\"Mercredi\",Congés_auto!U70,IF($N$3=\"Jeudi\",Congés_auto!V70,IF($N$3=\"Vendredi\",Congés_auto!W70,IF($N$3=\"Samedi\",Congés_auto!X70,0)))))))","v":"2019-07-04"},{"$nulls":3},2,"B"]
[33,17,{"$nulls":5},{"$f":"IF(B36=\"\",\"\",IF($N$3=\"Lundi\",Congés_auto!S71,IF($N$3=\"Mardi\",Congés_auto!T71,IF($N$3=\"Mercredi\",Congés_auto!U71,IF($N$3=\"Jeudi\",Congés_auto!V71,IF($N$3=\"Vendredi\",Congés_auto!W71,IF($N$3=\"Samedi\",Congés_auto!X71,0)))))))","v":""},{"$nulls":3},1,"A"]
[34,17,{"$nulls":5},{"$f":"IF(B37=\"\",\"\",IF($N$3=\"Lundi\",Congés_auto!S72,IF($N$3=\"Mardi\",Congés_auto!T72,IF($N$3=\"Mercredi\",Congés_auto!U72,IF($N$3=\"Jeudi\",Congés_auto!V72,IF($N$3=\"Vendredi\",Congés_auto!W72,IF($N$3=\"Samedi\",Congés_auto!X72,0)))))))","v":""},{"$nulls":3},2,"B"]
[35,{"$f":"IF(OR($O$4=1,$O$4=2),$AA127,IF(OR($O$4=3,$O$4=4),$AC127,IF(OR($O$4=5,$O$4=6),$AE127,IF(OR($O$4=7,$O$4=8),$AG127,\"\"))))","v":18},{"$nulls":5},{"$f":"IF(B38=\"\",\"\",IF($N$3=\"Lundi\",Congés_auto!S73,IF($N$3=\"Mardi\",Congés_auto!T73,IF($N$3=\"Mercredi\",Congés_auto!U73,IF($N$3=\"Jeudi\",Congés_auto!V73,IF($N$3=\"Vendredi\",Congés_auto!W73,IF($N$3=\"Samedi\",Congés_auto!X73,0)))))))","v":""},{"$nulls":3},1,"A"]
[36,18,{"$nulls":5},{"$f":"IF(B39=\"\",\"\",IF($N$3=\"Lundi\",Congés_auto!S74,IF($N$3=\"Mardi\",Congés_auto!T74,IF($N$3=\"Mercredi\",Congés_auto!U74,IF($N$3=\"Jeudi\",Congés_auto!V74,IF($N$3=\"Vendredi\",Congés_auto!W74,IF($N$3=\"Samedi\",Congés_auto!X74,0)))))))","v":""},{"$nulls":3},2,"B"]
[]
[]
[null,null,"Binôme avec :"]
{"$rows_empty":22}
[{"$nulls":28},"Modifier u2 et w2 - Planning pour 8 ou 6 grp",{"$nulls":6},"Sem B 2h",null,"NON"]
[{"$nulls":27},"Planning",{"$f":"T1","v":0},null,null,{"$f":"N3","v":"Jeudi"},{"$nulls":10},0]
[]
[{"$nulls":26},{"$f":"Z93","v":"2018-08-23"},{"$f":"OFFSET($Z$93,AA73,0)","v":"2018-08-30"},{"$f":"OFFSET($Z$93,AB73,0)","v":"2018-09-06"},"2018-09-13","2018-09-20","2018-09-27","2018-10-04","2018-10-11","2018-11-08","2018-11-15","2018-11-22","2018-11-29","2018-12-06","2018-12-13","2019-01-31","2019-02-07","2019-02-14","2019-02-21","2019-03-07","2019-03-28","2019-04-04","2019-04-11","2019-04-18","2019-04-25","2019-05-02","2019-05-23","2019-06-06","2019-06-13","2019-06-20","2019-06-27","2019-07-04","","","","","00:00:00"]
[]
[]
[]
[{"$nulls":24},"Temps",null,2,2,2,2,2,2,2,2,2,2,2,2,2,2,2,2,2,2,2,2,2,2,2,2,2,2,2,2,2,2,2,2,2,2,2,2]
[{"$nulls":25},"Semaine",1,{"$f":"AA73+1","v":2},{"$f":"AB73+1","v":3},4,5,6,7,8,9,10,11,12,13,14,15,16,17,18,{"$f":"AR73+1","v":19},{"$f":"AS73+1","v":20},21,22,23,24,25,26,27,28,29,30,31,32,33,34,35,36]
[{"$nulls":25},"Grp  1",1,1,{"$f":"AA74+1","v":2},{"$f":"AB74+1","v":2},3,3,4,4,5,5,6,6,7,7,8,8,9,9,10,{"$f":"AR74+1","v":10},11,11,12,12,13,13,14,14,15,15,16,16,17,17,18,{"$f":"BH74+1","v":18}]
[{"$nulls":25},"Grp  2",1,1,{"$f":"AA75+1","v":2},2,3,3,4,4,5,5,6,6,7,7,8,8,9,9,10,10,11,11,12,12,13,13,14,14,15,15,16,16,17,17,18,18]
[{"$nulls":23},"FREQUENCE(A1:A30;{1,8;2,7})",null,"Grp  3",1,1,2,2,3,3,4,4,5,5,6,6,7,7,8,8,9,9,10,10,11,11,12,12,13,13,14,14,15,15,16,16,17,17,18,18]
[{"$nulls":25},"Grp  4",1,2,2,3,3,4,4,5,5,6,6,7,7,8,8,9,9,10,10,11,11,12,12,13,13,14,14,15,15,16,16,17,17,18,18,19]
[{"$nulls":25},"Grp  5",1,2,2,3,3,4,4,5,5,6,6,7,7,8,8,9,9,10,10,11,11,12,12,13,13,14,14,15,15,16,16,17,17,18,18,19]
[{"$nulls":25},"Grp  6",1,2,2,3,3,4,4,5,5,6,6,7,7,8,8,9,9,10,10,11,11,12,12,13,13,14,14,15,15,16,16,17,17,18,18,19]
[{"$nulls":25},"Grp  7",1,2,2,3,3,4,4,5,5,6,6,7,7,8,8,9,9,10,10,11,11,12,12,13,13,14,14,15,15,16,16,17,17,18,18,19]
[{"$nulls":25},"Grp  8",1,2,2,3,3,4,4,5,5,6,6,7,7,8,8,9,9,10,10,11,11,12,12,13,13,14,14,15,15,16,16,17,17,18,18,19]
[{"$nulls":33},"DT1 --> 0,5 h",{"$nulls":6},"DT2 --> 1 h"]
[{"$nulls":33},"Travail noté"]
[]
[{"$nulls":23},{"$f":"CONCATENATE(AJ86,Y87)","v":"01"},"Les groupes"]
[{"$nulls":30},{"$f":"IF(LEFT(T1,1)=\"3\",\"Troisième\",IF(LEFT(T1,1)=\"4\",\"Quatrième\",IF(LEFT(T1,1)=\"5\",\"Cinquiéme\",\"Sixième\")))","v":"Sixième"},{"$nulls":4},{"$f":"T1","v":0},null,null,{"$f":"N3","v":"Jeudi"},{"$nulls":4},{"$f":"O3","v":0}]
[{"$nulls":17},{"$error":"#N/A"},{"$error":"#N/A"},{"$error":"#N/A"},{"$error":"#N/A"},{"$error":"#N/A"},1,null,1,{"$f":"IF(ISNA(R87),\"\",R87)&\"  --  \"&IF(ISNA(S87),\"\",S87)&\" --  \"&IF(ISNA(T87),\"\",T87)&\" --  \"&IF(ISNA(U87),\"\",U87)&\"  --  \"&IF(ISNA(V87),\"\",V87)","v":"  --   --   --    --  "},{"$nulls":12},5,{"$f":"IF(ISNA(R91),\"\",R91)&\"  --  \"&IF(ISNA(S91),\"\",S91)&\" --  \"&IF(ISNA(T91),\"\",T91)&\" --  \"&IF(ISNA(U91),\"\",U91)&\"  --  \"&IF(ISNA(V91),\"\",V91)","v":"  --   --   --    --  "}]
[{"$nulls":17},{"$error":"#N/A"},{"$error":"#N/A"},{"$error":"#N/A"},{"$error":"#N/A"},{"$error":"#N/A"},2,null,2,{"$f":"IF(ISNA(R88),\"\",R88)&\"  --  \"&IF(ISNA(S88),\"\",S88)&\" --  \"&IF(ISNA(T88),\"\",T88)&\" --  \"&IF(ISNA(U88),\"\",U88)&\"  --  \"&IF(ISNA(V88),\"\",V88)","v":"  --   --   --    --  "},{"$nulls":12},6,{"$f":"IF(ISNA(R92),\"\",R92)&\"  --  \"&IF(ISNA(S92),\"\",S92)&\" --  \"&IF(ISNA(T92),\"\",T92)&\" --  \"&IF(ISNA(U92),\"\",U92)&\"  --  \"&IF(ISNA(V92),\"\",V92)","v":"  --   --   --    --  "}]
[{"$nulls":17},{"$error":"#N/A"},{"$error":"#N/A"},{"$error":"#N/A"},{"$error":"#N/A"},{"$error":"#N/A"},3,null,3,{"$f":"IF(ISNA(R89),\"\",R89)&\"  --  \"&IF(ISNA(S89),\"\",S89)&\" --  \"&IF(ISNA(T89),\"\",T89)&\" --  \"&IF(ISNA(U89),\"\",U89)&\"  --  \"&IF(ISNA(V89),\"\",V89)","v":"  --   --   --    --  "},{"$nulls":12},7,{"$f":"IF(ISNA(R93),\"\",R93)&\"  --  \"&IF(ISNA(S93),\"\",S93)&\" --  \"&IF(ISNA(T93),\"\",T93)&\" --  \"&IF(ISNA(U93),\"\",U93)&\"  --  \"&IF(ISNA(V93),\"\",V93)","v":"  --   --   --    --  "}]
[{"$nulls":17},{"$error":"#N/A"},{"$error":"#N/A"},{"$error":"#N/A"},{"$error":"#N/A"},{"$error":"#N/A"},4,null,4,{"$f":"IF(ISNA(R90),\"\",R90)&\"  --  \"&IF(ISNA(S90),\"\",S90)&\" --  \"&IF(ISNA(T90),\"\",T90)&\" --  \"&IF(ISNA(U90),\"\",U90)&\"  --  \"&IF(ISNA(V90),\"\",V90)","v":"  --   --   --    --  "},{"$nulls":12},8,{"$f":"IF(ISNA(R94),\"\",R94)&\"  --  \"&IF(ISNA(S94),\"\",S94)&\" --  \"&IF(ISNA(T94),\"\",T94)&\" --  \"&IF(ISNA(U94),\"\",U94)&\"  --  \"&IF(ISNA(V94),\"\",V94)","v":"  --   --   --    --  "}]
[{"$nulls":17},{"$error":"#N/A"},{"$error":"#N/A"},{"$error":"#N/A"},{"$error":"#N/A"},{"$error":"#N/A"},5,{"$nulls":3},"Groupe et N° activité",{"$nulls":7},"Les activités par groupes"]
[{"$nulls":17},{"$error":"#N/A"},{"$error":"#N/A"},{"$error":"#N/A"},{"$error":"#N/A"},{"$error":"#N/A"},null,null,"N° Sem",{"$f":"TEXT(Z93,\"jjjj\")","v":"jjjj"},"G 1","G2","G3","G4","G5","G6","G7","G8"]
[{"$nulls":17},{"$error":"#N/A"},{"$error":"#N/A"},{"$error":"#N/A"},{"$error":"#N/A"},{"$error":"#N/A"},null,null,1,{"$f":"H4","v":"2018-08-23"},{"$f":"AA74","v":1},{"$f":"AA75","v":1},{"$f":"AA76","v":1},{"$f":"AA77","v":1},{"$f":"AA78","v":1},{"$f":"AA79","v":1},{"$f":"AA80","v":1},{"$f":"AA81","v":1},"Accueil - organisation - rotation et planning  - Départ de l' activité \" Présentation du classeur\"",{"$nulls":11},1]
[{"$nulls":17},{"$error":"#N/A"},{"$error":"#N/A"},{"$error":"#N/A"},{"$error":"#N/A"},{"$error":"#N/A"},null,null,{"$f":"Y93+1","v":2},{"$f":"H5","v":"2018-08-30"},{"$f":"IF(OFFSET($AA$74,0,$Y93)=41,\"\",OFFSET($AA$74,0,$Y93))","v":1},{"$f":"IF(OFFSET($AA$74,$Y$93,$Y93)=41,\"\",OFFSET($AA$74,$Y$93,$Y93))","v":1},{"$f":"IF(OFFSET($AA$74,$Y$94,$Y93)=41,\"\",OFFSET($AA$74,$Y$94,$Y93))","v":1},{"$f":"IF(OFFSET($AA$74,$Y$95,$Y93)=41,\"\",OFFSET($AA$74,$Y$95,$Y93))","v":2},{"$f":"IF(OFFSET($AA$74,$Y$96,$Y93)=41,\"\",OFFSET($AA$74,$Y$96,$Y93))","v":2},{"$f":"IF(OFFSET($AA$74,$Y$97,$Y93)=41,\"\",OFFSET($AA$74,$Y$97,$Y93))","v":2},{"$f":"IF(OFFSET($AA$74,$Y$98,$Y93)=41,\"\",OFFSET($AA$74,$Y$98,$Y93))","v":2},{"$f":"IF(OFFSET($AA$74,$Y$99,$Y93)=41,\"\",OFFSET($AA$74,$Y$99,$Y93))","v":2},{"$error":"#VALUE!"},{"$nulls":5},{"$error":"#VALUE!"},{"$nulls":5},{"$f":"AU93+1","v":2}]
[{"$nulls":17},{"$error":"#N/A"},{"$error":"#N/A"},{"$error":"#N/A"},{"$error":"#N/A"},{"$error":"#N/A"},null,null,{"$f":"Y94+1","v":3},"2018-09-06",{"$f":"IF(OFFSET($AA$74,0,$Y94)=41,\"\",OFFSET($AA$74,0,$Y94))","v":2},{"$f":"IF(OFFSET($AA$74,$Y$93,$Y94)=41,\"\",OFFSET($AA$74,$Y$93,$Y94))","v":2},{"$f":"IF(OFFSET($AA$74,$Y$94,$Y94)=41,\"\",OFFSET($AA$74,$Y$94,$Y94))","v":2},{"$f":"IF(OFFSET($AA$74,$Y$95,$Y94)=41,\"\",OFFSET($AA$74,$Y$95,$Y94))","v":2},{"$f":"IF(OFFSET($AA$74,$Y$96,$Y94)=41,\"\",OFFSET($AA$74,$Y$96,$Y94))","v":2},{"$f":"IF(OFFSET($AA$74,$Y$97,$Y94)=41,\"\",OFFSET($AA$74,$Y$97,$Y94))","v":2},{"$f":"IF(OFFSET($AA$74,$Y$98,$Y94)=41,\"\",OFFSET($AA$74,$Y$98,$Y94))","v":2},{"$f":"IF(OFFSET($AA$74,$Y$99,$Y94)=41,\"\",OFFSET($AA$74,$Y$99,$Y94))","v":2},{"$error":"#VALUE!"},{"$nulls":5},{"$error":"#VALUE!"},{"$nulls":5},{"$f":"AU94+1","v":3}]
[{"$nulls":24},4,"2018-09-13",2,2,2,3,3,3,3,3,{"$error":"#VALUE!"},{"$nulls":5},{"$error":"#VALUE!"},{"$nulls":5},4]
[{"$nulls":24},5,"2018-09-20",3,3,3,3,3,3,3,3,{"$error":"#VALUE!"},{"$nulls":5},{"$error":"#VALUE!"},{"$nulls":5},5]
[{"$nulls":24},6,"2018-09-27",3,3,3,4,4,4,4,4,{"$error":"#VALUE!"},{"$nulls":5},{"$error":"#VALUE!"},{"$nulls":5},6]
[{"$nulls":24},7,"2018-10-04",4,4,4,4,4,4,4,4,{"$error":"#VALUE!"},{"$nulls":5},{"$error":"#VALUE!"},{"$nulls":5},7]
[{"$nulls":24},8,"2018-10-11",4,4,4,5,5,5,5,5,{"$error":"#VALUE!"},{"$nulls":5},{"$error":"#VALUE!"},{"$nulls":5},8]
[{"$nulls":24},9,"2018-11-08",5,5,5,5,5,5,5,5,{"$error":"#VALUE!"},{"$nulls":5},{"$error":"#VALUE!"},{"$nulls":5},9]
[{"$nulls":24},10,"2018-11-15",5,5,5,6,6,6,6,6,{"$error":"#VALUE!"},{"$nulls":5},{"$error":"#VALUE!"},{"$nulls":5},10]
[{"$nulls":24},11,"2018-11-22",6,6,6,6,6,6,6,6,{"$error":"#VALUE!"},{"$nulls":5},{"$error":"#VALUE!"},{"$nulls":5},11]
[{"$nulls":24},12,"2018-11-29",6,6,6,7,7,7,7,7,{"$error":"#VALUE!"},{"$nulls":5},{"$error":"#VALUE!"},{"$nulls":5},12]
[{"$nulls":24},13,"2018-12-06",7,7,7,7,7,7,7,7,{"$error":"#VALUE!"},{"$nulls":5},{"$error":"#VALUE!"},{"$nulls":5},13]
[{"$nulls":24},14,"2018-12-13",7,7,7,8,8,8,8,8,{"$error":"#VALUE!"},{"$nulls":5},{"$error":"#VALUE!"},{"$nulls":5},14]
[{"$nulls":24},15,"2019-01-31",8,8,8,8,8,8,8,8,{"$error":"#VALUE!"},{"$nulls":5},{"$error":"#VALUE!"},{"$nulls":5},15]
[{"$nulls":24},16,"2019-02-07",8,8,8,9,9,9,9,9,{"$error":"#VALUE!"},{"$nulls":5},{"$error":"#VALUE!"},{"$nulls":5},16]
[{"$nulls":24},17,"2019-02-14",9,9,9,9,9,9,9,9,{"$error":"#VALUE!"},{"$nulls":5},{"$error":"#VALUE!"},{"$nulls":5},17]
[{"$nulls":24},18,"2019-02-21",9,9,9,10,10,10,10,10,{"$error":"#VALUE!"},{"$nulls":5},{"$error":"#VALUE!"},{"$nulls":5},18]
[{"$nulls":24},19,{"$f":"H23","v":"2019-03-07"},10,10,10,10,10,10,10,10,{"$error":"#VALUE!"},{"$nulls":5},{"$error":"#VALUE!"},{"$nulls":5},19]
[{"$nulls":24},20,"2019-03-28",10,10,10,11,11,11,11,11,{"$error":"#VALUE!"},{"$nulls":5},{"$error":"#VALUE!"},{"$nulls":5},20]
[{"$nulls":24},21,"2019-04-04",11,11,11,11,11,11,11,11,{"$error":"#VALUE!"},{"$nulls":5},{"$error":"#VALUE!"},{"$nulls":5},21]
[{"$nulls":24},22,"2019-04-11",11,11,11,12,12,12,12,12,{"$error":"#VALUE!"},{"$nulls":5},{"$error":"#VALUE!"},{"$nulls":5},22]
[{"$nulls":24},23,"2019-04-18",12,12,12,12,12,12,12,12,{"$error":"#VALUE!"},{"$nulls":5},{"$error":"#VALUE!"},{"$nulls":5},23]
[{"$nulls":24},24,"2019-04-25",12,12,12,13,13,13,13,13,{"$error":"#VALUE!"},{"$nulls":5},{"$error":"#VALUE!"},{"$nulls":5},24]
[{"$nulls":24},25,"2019-05-02",13,13,13,13,13,13,13,13,{"$error":"#VALUE!"},{"$nulls":5},{"$error":"#VALUE!"},{"$nulls":5},25]
[{"$nulls":24},26,"2019-05-23",13,13,13,14,14,14,14,14,{"$error":"#VALUE!"},{"$nulls":5},{"$error":"#VALUE!"},{"$nulls":5},26]
[{"$nulls":24},27,"2019-06-06",14,14,14,14,14,14,14,14,{"$error":"#VALUE!"},{"$nulls":5},{"$error":"#VALUE!"},{"$nulls":5},27]
[{"$nulls":24},28,"2019-06-13",14,14,14,15,15,15,15,15,{"$error":"#VALUE!"},{"$nulls":5},{"$error":"#VALUE!"},{"$nulls":5},28]
[{"$nulls":24},29,"2019-06-20",15,15,15,15,15,15,15,15,{"$error":"#VALUE!"},{"$nulls":5},"",{"$nulls":5},29]
[{"$nulls":24},30,"2019-06-27",15,15,15,16,16,16,16,16,{"$error":"#VALUE!"},{"$nulls":5},{"$error":"#VALUE!"},{"$nulls":5},30]
[{"$nulls":24},31,"2019-07-04",16,16,16,16,16,16,16,16,{"$error":"#VALUE!"},{"$nulls":5},{"$error":"#VALUE!"},{"$nulls":5},31]
[{"$nulls":24},32,"",16,16,16,17,17,17,17,17,{"$error":"#VALUE!"},{"$nulls":5},{"$error":"#VALUE!"},{"$nulls":5},32]
[{"$nulls":24},33,"",17,17,17,17,17,17,17,17,{"$error":"#VALUE!"},{"$nulls":5},"",{"$nulls":5},33]
[{"$nulls":24},34,"",17,17,17,18,18,18,18,18,{"$error":"#VALUE!"},{"$nulls":5},{"$error":"#VALUE!"},{"$nulls":5},34]
[{"$nulls":24},35,"",18,18,18,18,18,18,18,18,{"$error":"#VALUE!"},{"$nulls":5},{"$error":"#VALUE!"},{"$nulls":5},35]
[{"$nulls":24},36,null,18,18,18,19,19,19,19,19,{"$error":"#VALUE!"},{"$nulls":5},"",{"$nulls":5},36]

{"sheet":"603","index":4,"n_rows":128,"n_cols":62,"rows_kept":128,"merged":[[0,13,0,15],[1,17,2,18],[2,3,2,6],[2,13,2,14],[3,2,3,6],[3,7,3,8],[4,2,4,6],[4,7,4,8],[5,2,5,6],[5,7,5,8],[6,2,6,6],[6,7,6,8],[7,2,7,6],[7,7,7,8],[8,2,8,6],[8,7,8,8],[9,2,9,6],[9,7,9,8],[10,2,10,6],[10,7,10,8],[11,2,11,6],[11,7,11,8],[12,2,12,6],[12,7,12,8],[13,2,13,6],[13,7,13,8],[14,2,14,6],[14,7,14,8],[15,2,15,6],[15,7,15,8],[16,2,16,6],[16,7,16,8],[17,2,17,6],[17,7,17,8],[18,2,18,6],[18,7,18,8],[19,2,19,6],[19,7,19,8],[20,2,20,6],[20,7,20,8],[21,2,21,6],[21,7,21,8],[22,2,22,6],[22,7,22,8],[23,2,23,6],[23,7,23,8],[24,2,24,6],[24,7,24,8],[25,2,25,6],[25,7,25,8],[26,2,26,6],[26,7,26,8],[27,2,27,6],[27,7,27,8],[28,2,28,6],[28,7,28,8],[29,2,29,6],[29,7,29,8],[30,2,30,6],[30,7,30,8],[31,2,31,6],[31,7,31,8],[32,2,32,6],[32,7,32,8],[33,2,33,6],[33,7,33,8],[34,2,34,6],[34,7,34,8],[35,2,35,6],[35,7,35,8],[36,2,36,6],[36,7,36,8],[37,7,37,8],[38,2,38,6],[38,7,38,8],[65,28,65,29],[67,26,70,26],[67,27,70,27],[67,28,70,28],[67,29,70,29],[67,30,70,30],[67,31,70,31],[67,32,70,32],[67,33,70,33],[67,34,70,34],[67,35,70,35],[67,36,70,36],[67,37,70,37],[67,38,70,38],[67,39,70,39],[67,40,70,40],[67,41,70,41],[67,42,70,42],[67,43,70,43],[67,44,70,44],[67,45,70,45],[67,46,70,46],[67,47,70,47],[67,48,70,48],[67,49,70,49],[67,50,70,50],[67,51,70,51],[67,52,70,52],[67,53,70,53],[67,54,70,54],[67,55,70,55],[67,56,70,56],[67,57,70,57],[67,58,70,58],[67,59,70,59],[67,60,70,60],[67,61,70,61],[71,24,71,25],[84,24,84,45],[85,38,85,41],[86,25,86,36],[86,39,86,45],[87,25,87,36],[87,39,87,45],[88,25,88,36],[88,39,88,45],[89,25,89,36],[89,39,89,45],[90,26,90,33],[90,34,91,45],[92,34,92,45],[93,34,93,39],[93,40,93,45],[94,34,94,39],[94,40,94,45],[95,34,95,39],[95,40,95,45],[96,34,96,39],[96,40,96,45],[97,34,97,39],[97,40,97,45],[98,34,98,39],[98,40,98,45],[99,34,99,39],[99,40,99,45],[100,34,100,39],[100,40,100,45],[101,34,101,39],[101,40,101,45],[102,34,102,39],[102,40,102,45],[103,34,103,39],[103,40,103,45],[104,34,104,39],[104,40,104,45],[105,34,105,39],[105,40,105,45],[106,34,106,39],[106,40,106,45],[107,34,107,39],[107,40,107,45],[108,34,108,39],[108,40,108,45],[109,34,109,39],[109,40,109,45],[110,34,110,39],[110,40,110,45],[111,34,111,39],[111,40,111,45],[112,34,112,39],[112,40,112,45],[113,34,113,39],[113,40,113,45],[114,34,114,39],[114,40,114,45],[115,34,115,39],[115,40,115,45],[116,34,116,39],[116,40,116,45],[117,34,117,39],[117,40,117,45],[118,34,118,39],[118,40,118,45],[119,34,119,39],[119,40,119,45],[120,34,120,39],[120,40,120,45],[121,34,121,39],[121,40,121,45],[122,34,122,39],[122,40,122,45],[123,34,123,39],[123,40,123,45],[124,34,124,39],[124,40,124,45],[125,34,125,39],[125,40,125,45],[126,34,126,39],[126,40,126,45],[127,34,127,39],[127,40,127,45],[129,24,129,36],[130,25,130,36],[130,39,130,45],[131,25,131,36],[131,39,131,45],[132,25,132,36],[132,39,132,45],[133,25,133,36],[133,39,133,45]]}
[{"$nulls":3},"NOM :",{"$nulls":9},"Fond vert = cellules modifiables",{"$nulls":9},"affichage glissant sur 5 semaines"]
[{"$nulls":22},1]
["Cor / Synt","N°",null,{"$f":"\"TECHNOLOGIE  \"&YEAR(H4)&\"  -  \"&YEAR(H4)+1&\"  \"&\n\"    - N° et titre de l'activité\"","v":"TECHNOLOGIE  2018  -  2019      - N° et titre de l'activité"},{"$nulls":7},"Temps / H","Semaine","Vendredi",null," ",{"$nulls":7},1]
[1,1,{"$nulls":5},{"$f":"IF(B4=\"\",\"\",IF($N$3=\"Lundi\",Congés_auto!S39,IF($N$3=\"Mardi\",Congés_auto!T39,IF($N$3=\"Mercredi\",Congés_auto!U39,IF($N$3=\"Jeudi\",Congés_auto!V39,IF($N$3=\"Vendredi\",Congés_auto!W39,IF($N$3=\"Samedi\",Congés_auto!X39,0)))))))","v":"2018-08-24"},{"$nulls":3},1,"A","GROUPE",1]
[{"$f":"A4+1","v":2},{"$f":"IF(OR($O$4=1,$O$4=2),$AA94,IF(OR($O$4=3,$O$4=4),$AC94,IF(OR($O$4=5,$O$4=6),$AE94,IF(OR($O$4=7,$O$4=8),$AG94,\"\"))))","v":1},{"$nulls":5},{"$f":"IF(B5=\"\",\"\",IF($N$3=\"Lundi\",Congés_auto!S40,IF($N$3=\"Mardi\",Congés_auto!T40,IF($N$3=\"Mercredi\",Congés_auto!U40,IF($N$3=\"Jeudi\",Congés_auto!V40,IF($N$3=\"Vendredi\",Congés_auto!W40,IF($N$3=\"Samedi\",Congés_auto!X40,0)))))))","v":"2018-08-31"},{"$nulls":3},{"$f":"IF(L4=1,2,1)","v":2},{"$f":"IF(M4=\"A\",\"B\",\"A\")","v":"B"}]
[{"$f":"A5+1","v":3},2,{"$nulls":5},{"$f":"IF(B6=\"\",\"\",IF($N$3=\"Lundi\",Congés_auto!S41,IF($N$3=\"Mardi\",Congés_auto!T41,IF($N$3=\"Mercredi\",Congés_auto!U41,IF($N$3=\"Jeudi\",Congés_auto!V41,IF($N$3=\"Vendredi\",Congés_auto!W41,IF($N$3=\"Samedi\",Congés_auto!X41,0)))))))","v":"2018-09-07"},{"$nulls":3},{"$f":"IF(L5=1,2,1)","v":1},{"$f":"IF(M5=\"A\",\"B\",\"A\")","v":"A"}]
[4,2,{"$nulls":5},{"$f":"IF(B7=\"\",\"\",IF($N$3=\"Lundi\",Congés_auto!S42,IF($N$3=\"Mardi\",Congés_auto!T42,IF($N$3=\"Mercredi\",Congés_auto!U42,IF($N$3=\"Jeudi\",Congés_auto!V42,IF($N$3=\"Vendredi\",Congés_auto!W42,IF($N$3=\"Samedi\",Congés_auto!X42,0)))))))","v":"2018-09-14"},{"$nulls":3},2,"B"]
[5,3,{"$nulls":5},{"$f":"IF(B8=\"\",\"\",IF($N$3=\"Lundi\",Congés_auto!S43,IF($N$3=\"Mardi\",Congés_auto!T43,IF($N$3=\"Mercredi\",Congés_auto!U43,IF($N$3=\"Jeudi\",Congés_auto!V43,IF($N$3=\"Vendredi\",Congés_auto!W43,IF($N$3=\"Samedi\",Congés_auto!X43,0)))))))","v":"2018-09-21"},{"$nulls":3},1,"A"]
[6,3,{"$nulls":5},{"$f":"IF(B9=\"\",\"\",IF($N$3=\"Lundi\",Congés_auto!S44,IF($N$3=\"Mardi\",Congés_auto!T44,IF($N$3=\"Mercredi\",Congés_auto!U44,IF($N$3=\"Jeudi\",Congés_auto!V44,IF($N$3=\"Vendredi\",Congés_auto!W44,IF($N$3=\"Samedi\",Congés_auto!X44,0)))))))","v":"2018-09-28"},{"$nulls":3},2,"B"]
[7,4,{"$nulls":5},{"$f":"IF(B10=\"\",\"\",IF($N$3=\"Lundi\",Congés_auto!S45,IF($N$3=\"Mardi\",Congés_auto!T45,IF($N$3=\"Mercredi\",Congés_auto!U45,IF($N$3=\"Jeudi\",Congés_auto!V45,IF($N$3=\"Vendredi\",Congés_auto!W45,IF($N$3=\"Samedi\",Congés_auto!X45,0)))))))","v":"2018-10-05"},{"$nulls":3},1,"A"]
[8,4,{"$nulls":5},{"$f":"IF(B11=\"\",\"\",IF($N$3=\"Lundi\",Congés_auto!S46,IF($N$3=\"Mardi\",Congés_auto!T46,IF($N$3=\"Mercredi\",Congés_auto!U46,IF($N$3=\"Jeudi\",Congés_auto!V46,IF($N$3=\"Vendredi\",Congés_auto!W46,IF($N$3=\"Samedi\",Congés_auto!X46,0)))))))","v":"2018-10-12"},{"$nulls":3},2,"B"]
[9,5,{"$nulls":5},{"$f":"IF(B12=\"\",\"\",IF($N$3=\"Lundi\",Congés_auto!S47,IF($N$3=\"Mardi\",Congés_auto!T47,IF($N$3=\"Mercredi\",Congés_auto!U47,IF($N$3=\"Jeudi\",Congés_auto!V47,IF($N$3=\"Vendredi\",Congés_auto!W47,IF($N$3=\"Samedi\",Congés_auto!X47,0)))))))","v":"2018-11-02"},{"$nulls":3},1,"A"]
[10,5,{"$nulls":5},{"$f":"IF(B13=\"\",\"\",IF($N$3=\"Lundi\",Congés_auto!S48,IF($N$3=\"Mardi\",Congés_auto!T48,IF($N$3=\"Mercredi\",Congés_auto!U48,IF($N$3=\"Jeudi\",Congés_auto!V48,IF($N$3=\"Vendredi\",Congés_auto!W48,IF($N$3=\"Samedi\",Congés_auto!X48,0)))))))","v":"2018-11-09"},{"$nulls":3},2,"B"]
[11,6,{"$nulls":5},{"$f":"IF(B14=\"\",\"\",IF($N$3=\"Lundi\",Congés_auto!S49,IF($N$3=\"Mardi\",Congés_auto!T49,IF($N$3=\"Mercredi\",Congés_auto!U49,IF($N$3=\"Jeudi\",Congés_auto!V49,IF($N$3=\"Vendredi\",Congés_auto!W49,IF($N$3=\"Samedi\",Congés_auto!X49,0)))))))","v":"2018-11-16"},{"$nulls":3},1,"A"]
[12,6,{"$nulls":5},{"$f":"IF(B15=\"\",\"\",IF($N$3=\"Lundi\",Congés_auto!S50,IF($N$3=\"Mardi\",Congés_auto!T50,IF($N$3=\"Mercredi\",Congés_auto!U50,IF($N$3=\"Jeudi\",Congés_auto!V50,IF($N$3=\"Vendredi\",Congés_auto!W50,IF($N$3=\"Samedi\",Congés_auto!X50,0)))))))","v":"2018-11-23"},{"$nulls":3},2,"B"]
[13,7,{"$nulls":5},{"$f":"IF(B16=\"\",\"\",IF($N$3=\"Lundi\",Congés_auto!S51,IF($N$3=\"Mardi\",Congés_auto!T51,IF($N$3=\"Mercredi\",Congés_auto!U51,IF($N$3=\"Jeudi\",Congés_auto!V51,IF($N$3=\"Vendredi\",Congés_auto!W51,IF($N$3=\"Samedi\",Congés_auto!X51,0)))))))","v":"2018-11-30"},{"$nulls":3},1,"A"]
[14,7,{"$nulls":5},{"$f":"IF(B17=\"\",\"\",IF($N$3=\"Lundi\",Congés_auto!S52,IF($N$3=\"Mardi\",Congés_auto!T52,IF($N$3=\"Mercredi\",Congés_auto!U52,IF($N$3=\"Jeudi\",Congés_auto!V52,IF($N$3=\"Vendredi\",Congés_auto!W52,IF($N$3=\"Samedi\",Congés_auto!X52,0)))))))","v":"2018-12-07"},{"$nulls":3},2,"B"]
[15,8,{"$nulls":5},{"$f":"IF(B18=\"\",\"\",IF($N$3=\"Lundi\",Congés_auto!S53,IF($N$3=\"Mardi\",Congés_auto!T53,IF($N$3=\"Mercredi\",Congés_auto!U53,IF($N$3=\"Jeudi\",Congés_auto!V53,IF($N$3=\"Vendredi\",Congés_auto!W53,IF($N$3=\"Samedi\",Congés_auto!X53,0)))))))","v":"2018-12-14"},{"$nulls":3},1,"A"]
[16,8,{"$nulls":5},{"$f":"IF(B19=\"\",\"\",IF($N$3=\"Lundi\",Congés_auto!S54,IF($N$3=\"Mardi\",Congés_auto!T54,IF($N$3=\"Mercredi\",Congés_auto!U54,IF($N$3=\"Jeudi\",Congés_auto!V54,IF($N$3=\"Vendredi\",Congés_auto!W54,IF($N$3=\"Samedi\",Congés_auto!X54,0)))))))","v":"2018-12-21"},{"$nulls":3},2,"B"]
[17,9,{"$nulls":5},{"$f":"IF(B20=\"\",\"\",IF($N$3=\"Lundi\",Congés_auto!S55,IF($N$3=\"Mardi\",Congés_auto!T55,IF($N$3=\"Mercredi\",Congés_auto!U55,IF($N$3=\"Jeudi\",Congés_auto!V55,IF($N$3=\"Vendredi\",Congés_auto!W55,IF($N$3=\"Samedi\",Congés_auto!X55,0)))))))","v":"2019-02-01"},{"$nulls":3},1,"A"]
[18,9,{"$nulls":5},{"$f":"IF(B21=\"\",\"\",IF($N$3=\"Lundi\",Congés_auto!S56,IF($N$3=\"Mardi\",Congés_auto!T56,IF($N$3=\"Mercredi\",Congés_auto!U56,IF($N$3=\"Jeudi\",Congés_auto!V56,IF($N$3=\"Vendredi\",Congés_auto!W56,IF($N$3=\"Samedi\",Congés_auto!X56,0)))))))","v":"2019-02-08"},{"$nulls":3},2,"B"]
[19,10,{"$nulls":5},{"$f":"IF(B22=\"\",\"\",IF($N$3=\"Lundi\",Congés_auto!S57,IF($N$3=\"Mardi\",Congés_auto!T57,IF($N$3=\"Mercredi\",Congés_auto!U57,IF($N$3=\"Jeudi\",Congés_auto!V57,IF($N$3=\"Vendredi\",Congés_auto!W57,IF($N$3=\"Samedi\",Congés_auto!X57,0)))))))","v":"2019-02-15"},{"$nulls":3},1,"A"]
[20,10,{"$nulls":5},{"$f":"IF(B23=\"\",\"\",IF($N$3=\"Lundi\",Congés_auto!S58,IF($N$3=\"Mardi\",Congés_auto!T58,IF($N$3=\"Mercredi\",Congés_auto!U58,IF($N$3=\"Jeudi\",Congés_auto!V58,IF($N$3=\"Vendredi\",Congés_auto!W58,IF($N$3=\"Samedi\",Congés_auto!X58,0)))))))","v":"2019-02-22"},{"$nulls":3},2,"B"]
[21,11,{"$nulls":5},{"$f":"IF(B24=\"\",\"\",IF($N$3=\"Lundi\",Congés_auto!S59,IF($N$3=\"Mardi\",Congés_auto!T59,IF($N$3=\"Mercredi\",Congés_auto!U59,IF($N$3=\"Jeudi\",Congés_auto!V59,IF($N$3=\"Vendredi\",Congés_auto!W59,IF($N$3=\"Samedi\",Congés_auto!X59,0)))))))","v":"2019-03-01"},{"$nulls":3},1,"A"]
[22,11,{"$nulls":5},{"$f":"IF(B25=\"\",\"\",IF($N$3=\"Lundi\",Congés_auto!S60,IF($N$3=\"Mardi\",Congés_auto!T60,IF($N$3=\"Mercredi\",Congés_auto!U60,IF($N$3=\"Jeudi\",Congés_auto!V60,IF($N$3=\"Vendredi\",Congés_auto!W60,IF($N$3=\"Samedi\",Congés_auto!X60,0)))))))","v":"2019-03-08"},{"$nulls":3},2,"B"]
[23,12,{"$nulls":5},{"$f":"IF(B26=\"\",\"\",IF($N$3=\"Lundi\",Congés_auto!S61,IF($N$3=\"Mardi\",Congés_auto!T61,IF($N$3=\"Mercredi\",Congés_auto!U61,IF($N$3=\"Jeudi\",Congés_auto!V61,IF($N$3=\"Vendredi\",Congés_auto!W61,IF($N$3=\"Samedi\",Congés_auto!X61,0)))))))","v":"2019-03-29"},{"$nulls":3},1,"A"]
[24,12,{"$nulls":5},{"$f":"IF(B27=\"\",\"\",IF($N$3=\"Lundi\",Congés_auto!S62,IF($N$3=\"Mardi\",Congés_auto!T62,IF($N$3=\"Mercredi\",Congés_auto!U62,IF($N$3=\"Jeudi\",Congés_auto!V62,IF($N$3=\"Vendredi\",Congés_auto!W62,IF($N$3=\"Samedi\",Congés_auto!X62,0)))))))","v":"2019-04-05"},{"$nulls":3},2,"B"]
[25,13,{"$nulls":5},{"$f":"IF(B28=\"\",\"\",IF($N$3=\"Lundi\",Congés_auto!S63,IF($N$3=\"Mardi\",Congés_auto!T63,IF($N$3=\"Mercredi\",Congés_auto!U63,IF($N$3=\"Jeudi\",Congés_auto!V63,IF($N$3=\"Vendredi\",Congés_auto!W63,IF($N$3=\"Samedi\",Congés_auto!X63,0)))))))","v":"2019-04-12"},{"$nulls":3},1,"A"]
[26,13,{"$nulls":5},{"$f":"IF(B29=\"\",\"\",IF($N$3=\"Lundi\",Congés_auto!S64,IF($N$3=\"Mardi\",Congés_auto!T64,IF($N$3=\"Mercredi\",Congés_auto!U64,IF($N$3=\"Jeudi\",Congés_auto!V64,IF($N$3=\"Vendredi\",Congés_auto!W64,IF($N$3=\"Samedi\",Congés_auto!X64,0)))))))","v":"2019-04-19"},{"$nulls":3},2,"B"]
[27,14,{"$nulls":5},{"$f":"IF(B30=\"\",\"\",IF($N$3=\"Lundi\",Congés_auto!S65,IF($N$3=\"Mardi\",Congés_auto!T65,IF($N$3=\"Mercredi\",Congés_auto!U65,IF($N$3=\"Jeudi\",Congés_auto!V65,IF($N$3=\"Vendredi\",Congés_auto!W65,IF($N$3=\"Samedi\",Congés_auto!X65,0)))))))","v":"2019-04-26"},{"$nulls":3},1,"A"]
[28,14,{"$nulls":5},{"$f":"IF(B31=\"\",\"\",IF($N$3=\"Lundi\",Congés_auto!S66,IF($N$3=\"Mardi\",Congés_auto!T66,IF($N$3=\"Mercredi\",Congés_auto!U66,IF($N$3=\"Jeudi\",Congés_auto!V66,IF($N$3=\"Vendredi\",Congés_auto!W66,IF($N$3=\"Samedi\",Congés_auto!X66,0)))))))","v":"2019-05-03"},{"$nulls":3},2,"B"]
[29,15,{"$nulls":5},{"$f":"IF(B32=\"\",\"\",IF($N$3=\"Lundi\",Congés_auto!S67,IF($N$3=\"Mardi\",Congés_auto!T67,IF($N$3=\"Mercredi\",Congés_auto!U67,IF($N$3=\"Jeudi\",Congés_auto!V67,IF($N$3=\"Vendredi\",Congés_auto!W67,IF($N$3=\"Samedi\",Congés_auto!X67,0)))))))","v":"2019-05-24"},{"$nulls":3},1,"A"]
[30,15,{"$nulls":5},{"$f":"IF(B33=\"\",\"\",IF($N$3=\"Lundi\",Congés_auto!S68,IF($N$3=\"Mardi\",Congés_auto!T68,IF($N$3=\"Mercredi\",Congés_auto!U68,IF($N$3=\"Jeudi\",Congés_auto!V68,IF($N$3=\"Vendredi\",Congés_auto!W68,IF($N$3=\"Samedi\",Congés_auto!X68,0)))))))","v":"2019-05-31"},{"$nulls":3},2,"B"]
[31,16,{"$nulls":5},{"$f":"IF(B34=\"\",\"\",IF($N$3=\"Lundi\",Congés_auto!S69,IF($N$3=\"Mardi\",Congés_auto!T69,IF($N$3=\"Mercredi\",Congés_auto!U69,IF($N$3=\"Jeudi\",Congés_auto!V69,IF($N$3=\"Vendredi\",Congés_auto!W69,IF($N$3=\"Samedi\",Congés_auto!X69,0)))))))","v":"2019-06-07"},{"$nulls":3},1,"A"]
[32,16,{"$nulls":5},{"$f":"IF(B35=\"\",\"\",IF($N$3=\"Lundi\",Congés_auto!S70,IF($N$3=\"Mardi\",Congés_auto!T70,IF($N$3=\"Mercredi\",Congés_auto!U70,IF($N$3=\"Jeudi\",Congés_auto!V70,IF($N$3=\"Vendredi\",Congés_auto!W70,IF($N$3=\"Samedi\",Congés_auto!X70,0)))))))","v":"2019-06-14"},{"$nulls":3},2,"B"]
[33,17,{"$nulls":5},{"$f":"IF(B36=\"\",\"\",IF($N$3=\"Lundi\",Congés_auto!S71,IF($N$3=\"Mardi\",Congés_auto!T71,IF($N$3=\"Mercredi\",Congés_auto!U71,IF($N$3=\"Jeudi\",Congés_auto!V71,IF($N$3=\"Vendredi\",Congés_auto!W71,IF($N$3=\"Samedi\",Congés_auto!X71,0)))))))","v":"2019-06-21"},{"$nulls":3},1,"A"]
[34,17,{"$nulls":5},{"$f":"IF(B37=\"\",\"\",IF($N$3=\"Lundi\",Congés_auto!S72,IF($N$3=\"Mardi\",Congés_auto!T72,IF($N$3=\"Mercredi\",Congés_auto!U72,IF($N$3=\"Jeudi\",Congés_auto!V72,IF($N$3=\"Vendredi\",Congés_auto!W72,IF($N$3=\"Samedi\",Congés_auto!X72,0)))))))","v":"2019-06-28"},{"$nulls":3},2,"B"]
[35,{"$f":"IF(OR($O$4=1,$O$4=2),$AA127,IF(OR($O$4=3,$O$4=4),$AC127,IF(OR($O$4=5,$O$4=6),$AE127,IF(OR($O$4=7,$O$4=8),$AG127,\"\"))))","v":18},{"$nulls":5},{"$f":"IF(B38=\"\",\"\",IF($N$3=\"Lundi\",Congés_auto!S73,IF($N$3=\"Mardi\",Congés_auto!T73,IF($N$3=\"Mercredi\",Congés_auto!U73,IF($N$3=\"Jeudi\",Congés_auto!V73,IF($N$3=\"Vendredi\",Congés_auto!W73,IF($N$3=\"Samedi\",Congés_auto!X73,0)))))))","v":"2019-07-05"},{"$nulls":3},1,"A"]
[36,18,{"$nulls":5},{"$f":"IF(B39=\"\",\"\",IF($N$3=\"Lundi\",Congés_auto!S74,IF($N$3=\"Mardi\",Congés_auto!T74,IF($N$3=\"Mercredi\",Congés_auto!U74,IF($N$3=\"Jeudi\",Congés_auto!V74,IF($N$3=\"Vendredi\",Congés_auto!W74,IF($N$3=\"Samedi\",Congés_auto!X74,0)))))))","v":""},{"$nulls":3},2,"B"]
[]
[]
[null,null,"Binôme avec :"]
{"$rows_empty":22}
[{"$nulls":28},"Modifier u2 et w2 - Planning pour 8 ou 6 grp",{"$nulls":6},"Sem B 2h",null,"NON"]
[{"$nulls":27},"Planning",{"$f":"T1","v":0},null,null,{"$f":"N3","v":"Vendredi"},{"$nulls":10},0]
[]
[{"$nulls":26},{"$f":"Z93","v":"2018-08-24"},{"$f":"OFFSET($Z$93,AA73,0)","v":"2018-08-31"},{"$f":"OFFSET($Z$93,AB73,0)","v":"2018-09-07"},"2018-09-14","2018-09-21","2018-09-28","2018-10-05","2018-10-12","2018-11-02","2018-11-09","2018-11-16","2018-11-23","2018-11-30","2018-12-07","2018-12-14","2018-12-21","2019-02-01","2019-02-08","2019-02-22","2019-03-01","2019-03-08","2019-03-29","2019-04-05","2019-04-12","2019-04-19","2019-04-26","2019-05-03","2019-05-24","2019-05-31","2019-06-07","2019-06-14","2019-06-21","2019-06-28","2019-07-05","","00:00:00"]
[]
[]
[]
[{"$nulls":24},"Temps",null,2,2,2,2,2,2,2,2,2,2,2,2,2,2,2,2,2,2,2,2,2,2,2,2,2,2,2,2,2,2,2,2,2,2,2,2]
[{"$nulls":25},"Semaine",1,{"$f":"AA73+1","v":2},{"$f":"AB73+1","v":3},4,5,6,7,8,9,10,11,12,13,14,15,16,17,18,{"$f":"AR73+1","v":19},{"$f":"AS73+1","v":20},21,22,23,24,25,26,27,28,29,30,31,32,33,34,35,36]
[{"$nulls":25},"Grp  1",1,1,{"$f":"AA74+1","v":2},{"$f":"AB74+1","v":2},3,3,4,4,5,5,6,6,7,7,8,8,9,9,10,10,11,11,12,12,13,13,14,14,15,15,16,16,17,17,18,18]
[{"$nulls":25},"Grp  2",1,1,{"$f":"AA75+1","v":2},2,3,3,4,4,5,5,6,6,7,7,8,8,9,9,10,10,11,11,12,12,13,13,14,14,15,15,16,16,17,17,18,18]
[{"$nulls":23},"FREQUENCE(A1:A30;{1,8;2,7})",null,"Grp  3",1,1,2,2,3,3,4,4,5,5,6,6,7,7,8,8,9,9,10,10,11,11,12,12,13,13,14,14,15,15,16,16,17,17,18,18]
[{"$nulls":25},"Grp  4",1,2,2,3,3,4,4,5,5,6,6,7,7,8,8,9,9,10,10,11,11,12,12,13,13,14,14,15,15,16,16,17,17,18,18,19]
[{"$nulls":25},"Grp  5",1,2,2,3,3,4,4,5,5,6,6,7,7,8,8,9,9,10,10,11,11,12,12,13,13,14,14,15,15,16,16,17,17,18,18,19]
[{"$nulls":25},"Grp  6",1,2,2,3,3,4,4,5,5,6,6,7,7,8,8,9,9,10,10,11,11,12,12,13,13,14,14,15,15,16,16,17,17,18,18,19]
[{"$nulls":25},"Grp  7",1,2,2,3,3,4,4,5,5,6,6,7,7,8,8,9,9,10,10,11,11,12,12,13,13,14,14,15,15,16,16,17,17,18,18,19]
[{"$nulls":25},"Grp  8",1,2,2,3,3,4,4,5,5,6,6,7,7,8,8,9,9,10,10,11,11,12,12,13,13,14,14,{"$f":"AZ81+1","v":15},15,16,16,17,17,18,18,19]
[{"$nulls":33},"DT1 --> 0,5 h",{"$nulls":6},"DT2 --> 1 h"]
[{"$nulls":33},"Travail noté"]
[]
[{"$nulls":23},{"$f":"CONCATENATE(AJ86,Y87)","v":"01"},"Les groupes"]
[{"$nulls":30},{"$f":"IF(LEFT(T1,1)=\"3\",\"Troisième\",IF(LEFT(T1,1)=\"4\",\"Quatrième\",IF(LEFT(T1,1)=\"5\",\"Cinquiéme\",\"Sixième\")))","v":"Sixième"},{"$nulls":4},{"$f":"T1","v":0},null,null,{"$f":"N3","v":"Vendredi"},{"$nulls":4},{"$f":"O3","v":0}]
[{"$nulls":17},{"$error":"#N/A"},{"$error":"#N/A"},{"$error":"#N/A"},{"$error":"#N/A"},{"$error":"#N/A"},1,null,1,{"$f":"IF(ISNA(R87),\"\",R87)&\"  --  \"&IF(ISNA(S87),\"\",S87)&\" --  \"&IF(ISNA(T87),\"\",T87)&\" --  \"&IF(ISNA(U87),\"\",U87)&\"  --  \"&IF(ISNA(V87),\"\",V87)","v":"  --   --   --    --  "},{"$nulls":12},5,{"$f":"IF(ISNA(R91),\"\",R91)&\"  --  \"&IF(ISNA(S91),\"\",S91)&\" --  \"&IF(ISNA(T91),\"\",T91)&\" --  \"&IF(ISNA(U91),\"\",U91)&\"  --  \"&IF(ISNA(V91),\"\",V91)","v":"  --   --   --    --  "}]
[{"$nulls":17},{"$error":"#N/A"},{"$error":"#N/A"},{"$error":"#N/A"},{"$error":"#N/A"},{"$error":"#N/A"},2,null,2,{"$f":"IF(ISNA(R88),\"\",R88)&\"  --  \"&IF(ISNA(S88),\"\",S88)&\" --  \"&IF(ISNA(T88),\"\",T88)&\" --  \"&IF(ISNA(U88),\"\",U88)&\"  --  \"&IF(ISNA(V88),\"\",V88)","v":"  --   --   --    --  "},{"$nulls":12},6,{"$f":"IF(ISNA(R92),\"\",R92)&\"  --  \"&IF(ISNA(S92),\"\",S92)&\" --  \"&IF(ISNA(T92),\"\",T92)&\" --  \"&IF(ISNA(U92),\"\",U92)&\"  --  \"&IF(ISNA(V92),\"\",V92)","v":"  --   --   --    --  "}]
[{"$nulls":17},{"$error":"#N/A"},{"$error":"#N/A"},{"$error":"#N/A"},{"$error":"#N/A"},{"$error":"#N/A"},3,null,3,{"$f":"IF(ISNA(R89),\"\",R89)&\"  --  \"&IF(ISNA(S89),\"\",S89)&\" --  \"&IF(ISNA(T89),\"\",T89)&\" --  \"&IF(ISNA(U89),\"\",U89)&\"  --  \"&IF(ISNA(V89),\"\",V89)","v":"  --   --   --    --  "},{"$nulls":12},7,{"$f":"IF(ISNA(R93),\"\",R93)&\"  --  \"&IF(ISNA(S93),\"\",S93)&\" --  \"&IF(ISNA(T93),\"\",T93)&\" --  \"&IF(ISNA(U93),\"\",U93)&\"  --  \"&IF(ISNA(V93),\"\",V93)","v":"  --   --   --    --  "}]
[{"$nulls":17},{"$error":"#N/A"},{"$error":"#N/A"},{"$error":"#N/A"},{"$error":"#N/A"},{"$error":"#N/A"},4,null,4,{"$f":"IF(ISNA(R90),\"\",R90)&\"  --  \"&IF(ISNA(S90),\"\",S90)&\" --  \"&IF(ISNA(T90),\"\",T90)&\" --  \"&IF(ISNA(U90),\"\",U90)&\"  --  \"&IF(ISNA(V90),\"\",V90)","v":"  --   --   --    --  "},{"$nulls":12},8,{"$f":"IF(ISNA(R94),\"\",R94)&\"  --  \"&IF(ISNA(S94),\"\",S94)&\" --  \"&IF(ISNA(T94),\"\",T94)&\" --  \"&IF(ISNA(U94),\"\",U94)&\"  --  \"&IF(ISNA(V94),\"\",V94)","v":"  --   --   --    --  "}]
[{"$nulls":17},{"$error":"#N/A"},{"$error":"#N/A"},{"$error":"#N/A"},{"$error":"#N/A"},{"$error":"#N/A"},5,{"$nulls":3},"Groupe et N° activité",{"$nulls":7},"Les activités par groupes"]
[{"$nulls":17},{"$error":"#N/A"},{"$error":"#N/A"},{"$error":"#N/A"},{"$error":"#N/A"},{"$error":"#N/A"},null,null,"N° Sem",{"$f":"TEXT(Z93,\"jjjj\")","v":"jjjj"},"G 1","G2","G3","G4","G5","G6","G7","G8"]
[{"$nulls":17},{"$error":"#N/A"},{"$error":"#N/A"},{"$error":"#N/A"},{"$error":"#N/A"},{"$error":"#N/A"},null,null,1,{"$f":"H4","v":"2018-08-24"},{"$f":"AA74","v":1},{"$f":"AA75","v":1},{"$f":"AA76","v":1},{"$f":"AA77","v":1},{"$f":"AA78","v":1},{"$f":"AA79","v":1},{"$f":"AA80","v":1},{"$f":"AA81","v":1},"Accueil - organisation - rotation et planning  - Départ de l' activité \" Présentation du classeur\"",{"$nulls":11},1]
[{"$nulls":17},{"$error":"#N/A"},{"$error":"#N/A"},{"$error":"#N/A"},{"$error":"#N/A"},{"$error":"#N/A"},null,null,{"$f":"Y93+1","v":2},{"$f":"H5","v":"2018-08-31"},{"$f":"IF(OFFSET($AA$74,0,$Y93)=41,\"\",OFFSET($AA$74,0,$Y93))","v":1},{"$f":"IF(OFFSET($AA$74,$Y$93,$Y93)=41,\"\",OFFSET($AA$74,$Y$93,$Y93))","v":1},{"$f":"IF(OFFSET($AA$74,$Y$94,$Y93)=41,\"\",OFFSET($AA$74,$Y$94,$Y93))","v":1},{"$f":"IF(OFFSET($AA$74,$Y$95,$Y93)=41,\"\",OFFSET($AA$74,$Y$95,$Y93))","v":2},{"$f":"IF(OFFSET($AA$74,$Y$96,$Y93)=41,\"\",OFFSET($AA$74,$Y$96,$Y93))","v":2},{"$f":"IF(OFFSET($AA$74,$Y$97,$Y93)=41,\"\",OFFSET($AA$74,$Y$97,$Y93))","v":2},{"$f":"IF(OFFSET($AA$74,$Y$98,$Y93)=41,\"\",OFFSET($AA$74,$Y$98,$Y93))","v":2},{"$f":"IF(OFFSET($AA$74,$Y$99,$Y93)=41,\"\",OFFSET($AA$74,$Y$99,$Y93))","v":2},{"$error":"#VALUE!"},{"$nulls":5},{"$error":"#VALUE!"},{"$nulls":5},{"$f":"AU93+1","v":2}]
[{"$nulls":17},{"$error":"#N/A"},{"$error":"#N/A"},{"$error":"#N/A"},{"$error":"#N/A"},{"$error":"#N/A"},null,null,{"$f":"Y94+1","v":3},"2018-09-07",{"$f":"IF(OFFSET($AA$74,0,$Y94)=41,\"\",OFFSET($AA$74,0,$Y94))","v":2},{"$f":"IF(OFFSET($AA$74,$Y$93,$Y94)=41,\"\",OFFSET($AA$74,$Y$93,$Y94))","v":2},{"$f":"IF(OFFSET($AA$74,$Y$94,$Y94)=41,\"\",OFFSET($AA$74,$Y$94,$Y94))","v":2},{"$f":"IF(OFFSET($AA$74,$Y$95,$Y94)=41,\"\",OFFSET($AA$74,$Y$95,$Y94))","v":2},{"$f":"IF(OFFSET($AA$74,$Y$96,$Y94)=41,\"\",OFFSET($AA$74,$Y$96,$Y94))","v":2},{"$f":"IF(OFFSET($AA$74,$Y$97,$Y94)=41,\"\",OFFSET($AA$74,$Y$97,$Y94))","v":2},{"$f":"IF(OFFSET($AA$74,$Y$98,$Y94)=41,\"\",OFFSET($AA$74,$Y$98,$Y94))","v":2},{"$f":"IF(OFFSET($AA$74,$Y$99,$Y94)=41,\"\",OFFSET($AA$74,$Y$99,$Y94))","v":2},{"$error":"#VALUE!"},{"$nulls":5},{"$error":"#VALUE!"},{"$nulls":5},{"$f":"AU94+1","v":3}]
[{"$nulls":24},4,"2018-09-14",2,2,2,3,3,3,3,3,{"$error":"#VALUE!"},{"$nulls":5},{"$error":"#VALUE!"},{"$nulls":5},4]
[{"$nulls":24},5,"2018-09-21",3,3,3,3,3,3,3,3,{"$error":"#VALUE!"},{"$nulls":5},{"$error":"#VALUE!"},{"$nulls":5},5]
[{"$nulls":24},6,"2018-09-28",3,3,3,4,4,4,4,4,{"$error":"#VALUE!"},{"$nulls":5},{"$error":"#VALUE!"},{"$nulls":5},6]
[{"$nulls":24},7,"2018-10-05",4,4,4,4,4,4,4,4,{"$error":"#VALUE!"},{"$nulls":5},{"$error":"#VALUE!"},{"$nulls":5},7]
[{"$nulls":24},8,"2018-10-12",4,4,4,5,5,5,5,5,{"$error":"#VALUE!"},{"$nulls":5},{"$error":"#VALUE!"},{"$nulls":5},8]
[{"$nulls":24},9,"2018-11-02",5,5,5,5,5,5,5,5,{"$error":"#VALUE!"},{"$nulls":5},{"$error":"#VALUE!"},{"$nulls":5},9]
[{"$nulls":24},10,"2018-11-09",5,5,5,6,6,6,6,6,{"$error":"#VALUE!"},{"$nulls":5},{"$error":"#VALUE!"},{"$nulls":5},10]
[{"$nulls":24},11,"2018-11-16",6,6,6,6,6,6,6,6,{"$error":"#VALUE!"},{"$nulls":5},{"$error":"#VALUE!"},{"$nulls":5},11]
[{"$nulls":24},12,"2018-11-23",6,6,6,7,7,7,7,7,{"$error":"#VALUE!"},{"$nulls":5},{"$error":"#VALUE!"},{"$nulls":5},12]
[{"$nulls":24},13,"2018-11-30",7,7,7,7,7,7,7,7,{"$error":"#VALUE!"},{"$nulls":5},{"$error":"#VALUE!"},{"$nulls":5},13]
[{"$nulls":24},14,"2018-12-07",7,7,7,8,8,8,8,8,{"$error":"#VALUE!"},{"$nulls":5},{"$error":"#VALUE!"},{"$nulls":5},14]
[{"$nulls":24},15,"2018-12-14",8,8,8,8,8,8,8,8,{"$error":"#VALUE!"},{"$nulls":5},{"$error":"#VALUE!"},{"$nulls":5},15]
[{"$nulls":24},16,"2018-12-21",8,8,8,9,9,9,9,9,{"$error":"#VALUE!"},{"$nulls":5},{"$error":"#VALUE!"},{"$nulls":5},16]
[{"$nulls":24},17,"2019-02-01",9,9,9,9,9,9,9,9,{"$error":"#VALUE!"},{"$nulls":5},{"$error":"#VALUE!"},{"$nulls":5},17]
[{"$nulls":24},18,"2019-02-08",9,9,9,10,10,10,10,10,{"$error":"#VALUE!"},{"$nulls":5},{"$error":"#VALUE!"},{"$nulls":5},18]
[{"$nulls":24},19,{"$f":"H23","v":"2019-02-22"},10,10,10,10,10,10,10,10,{"$error":"#VALUE!"},{"$nulls":5},{"$error":"#VALUE!"},{"$nulls":5},19]
[{"$nulls":24},20,"2019-03-01",10,10,10,11,11,11,11,11,{"$error":"#VALUE!"},{"$nulls":5},{"$error":"#VALUE!"},{"$nulls":5},20]
[{"$nulls":24},21,"2019-03-08",11,11,11,11,11,11,11,11,{"$error":"#VALUE!"},{"$nulls":5},{"$error":"#VALUE!"},{"$nulls":5},21]
[{"$nulls":24},22,"2019-03-29",11,11,11,12,12,12,12,12,{"$error":"#VALUE!"},{"$nulls":5},{"$error":"#VALUE!"},{"$nulls":5},22]
[{"$nulls":24},23,"2019-04-05",12,12,12,12,12,12,12,12,{"$error":"#VALUE!"},{"$nulls":5},{"$error":"#VALUE!"},{"$nulls":5},23]
[{"$nulls":24},24,"2019-04-12",12,12,12,13,13,13,13,13,{"$error":"#VALUE!"},{"$nulls":5},{"$error":"#VALUE!"},{"$nulls":5},24]
[{"$nulls":24},25,"2019-04-19",13,13,13,13,13,13,13,13,{"$error":"#VALUE!"},{"$nulls":5},{"$error":"#VALUE!"},{"$nulls":5},25]
[{"$nulls":24},26,"2019-04-26",13,13,13,14,14,14,14,14,{"$error":"#VALUE!"},{"$nulls":5},{"$error":"#VALUE!"},{"$nulls":5},26]
[{"$nulls":24},27,"2019-05-03",14,14,14,14,14,14,14,14,{"$error":"#VALUE!"},{"$nulls":5},{"$error":"#VALUE!"},{"$nulls":5},27]
[{"$nulls":24},28,"2019-05-24",14,14,14,15,15,15,15,15,{"$error":"#VALUE!"},{"$nulls":5},{"$error":"#VALUE!"},{"$nulls":5},28]
[{"$nulls":24},29,"2019-05-31",15,15,15,15,15,15,15,15,{"$error":"#VALUE!"},{"$nulls":5},"",{"$nulls":5},29]
[{"$nulls":24},30,"2019-06-07",15,15,15,16,16,16,16,16,{"$error":"#VALUE!"},{"$nulls":5},{"$error":"#VALUE!"},{"$nulls":5},30]
[{"$nulls":24},31,"2019-06-14",16,16,16,16,16,16,16,16,{"$error":"#VALUE!"},{"$nulls":5},{"$error":"#VALUE!"},{"$nulls":5},31]
[{"$nulls":24},32,"2019-06-21",16,16,16,17,17,17,17,17,{"$error":"#VALUE!"},{"$nulls":5},{"$error":"#VALUE!"},{"$nulls":5},32]
[{"$nulls":24},33,"2019-06-28",17,17,17,17,17,17,17,17,{"$error":"#VALUE!"},{"$nulls":5},"",{"$nulls":5},33]
[{"$nulls":24},34,"2019-07-05",17,17,17,18,18,18,18,18,{"$error":"#VALUE!"},{"$nulls":5},{"$error":"#VALUE!"},{"$nulls":5},34]
[{"$nulls":24},35,"",18,18,18,18,18,18,18,18,{"$error":"#VALUE!"},{"$nulls":5},{"$error":"#VALUE!"},{"$nulls":5},35]
[{"$nulls":24},36,null,18,18,18,19,19,19,19,19,{"$error":"#VALUE!"},{"$nulls":5},"",{"$nulls":5},36]

{"sheet":"604","index":5,"n_rows":128,"n_cols":62,"rows_kept":128,"merged":[[0,13,0,15],[1,17,2,18],[2,3,2,6],[2,13,2,14],[3,2,3,6],[3,7,3,8],[4,2,4,6],[4,7,4,8],[5,2,5,6],[5,7,5,8],[6,2,6,6],[6,7,6,8],[7,2,7,6],[7,7,7,8],[8,2,8,6],[8,7,8,8],[9,2,9,6],[9,7,9,8],[10,2,10,6],[10,7,10,8],[11,2,11,6],[11,7,11,8],[12,2,12,6],[12,7,12,8],[13,2,13,6],[13,7,13,8],[14,2,14,6],[14,7,14,8],[15,2,15,6],[15,7,15,8],[16,2,16,6],[16,7,16,8],[17,2,17,6],[17,7,17,8],[18,2,18,6],[18,7,18,8],[19,2,19,6],[19,7,19,8],[20,2,20,6],[20,7,20,8],[21,2,21,6],[21,7,21,8],[22,2,22,6],[22,7,22,8],[23,2,23,6],[23,7,23,8],[24,2,24,6],[24,7,24,8],[25,2,25,6],[25,7,25,8],[26,2,26,6],[26,7,26,8],[27,2,27,6],[27,7,27,8],[28,2,28,6],[28,7,28,8],[29,2,29,6],[29,7,29,8],[30,2,30,6],[30,7,30,8],[31,2,31,6],[31,7,31,8],[32,2,32,6],[32,7,32,8],[33,2,33,6],[33,7,33,8],[34,2,34,6],[34,7,34,8],[35,2,35,6],[35,7,35,8],[36,2,36,6],[36,7,36,8],[37,7,37,8],[38,2,38,6],[38,7,38,8],[65,28,65,29],[67,26,70,26],[67,27,70,27],[67,28,70,28],[67,29,70,29],[67,30,70,30],[67,31,70,31],[67,32,70,32],[67,33,70,33],[67,34,70,34],[67,35,70,35],[67,36,70,36],[67,37,70,37],[67,38,70,38],[67,39,70,39],[67,40,70,40],[67,41,70,41],[67,42,70,42],[67,43,70,43],[67,44,70,44],[67,45,70,45],[67,46,70,46],[67,47,70,47],[67,48,70,48],[67,49,70,49],[67,50,70,50],[67,51,70,51],[67,52,70,52],[67,53,70,53],[67,54,70,54],[67,55,70,55],[67,56,70,56],[67,57,70,57],[67,58,70,58],[67,59,70,59],[67,60,70,60],[67,61,70,61],[71,24,71,25],[84,24,84,45],[85,38,85,41],[86,25,86,36],[86,39,86,45],[87,25,87,36],[87,39,87,45],[88,25,88,36],[88,39,88,45],[89,25,89,36],[89,39,89,45],[90,26,90,33],[90,34,91,45],[92,34,92,45],[93,34,93,39],[93,40,93,45],[94,34,94,39],[94,40,94,45],[95,34,95,39],[95,40,95,45],[96,34,96,39],[96,40,96,45],[97,34,97,39],[97,40,97,45],[98,34,98,39],[98,40,98,45],[99,34,99,39],[99,40,99,45],[100,34,100,39],[100,40,100,45],[101,34,101,39],[101,40,101,45],[102,34,102,39],[102,40,102,45],[103,34,103,39],[103,40,103,45],[104,34,104,39],[104,40,104,45],[105,34,105,39],[105,40,105,45],[106,34,106,39],[106,40,106,45],[107,34,107,39],[107,40,107,45],[108,34,108,39],[108,40,108,45],[109,34,109,39],[109,40,109,45],[110,34,110,39],[110,40,110,45],[111,34,111,39],[111,40,111,45],[112,34,112,39],[112,40,112,45],[113,34,113,39],[113,40,113,45],[114,34,114,39],[114,40,114,45],[115,34,115,39],[115,40,115,45],[116,34,116,39],[116,40,116,45],[117,34,117,39],[117,40,117,45],[118,34,118,39],[118,40,118,45],[119,34,119,39],[119,40,119,45],[120,34,120,39],[120,40,120,45],[121,34,121,39],[121,40,121,45],[122,34,122,39],[122,40,122,45],[123,34,123,39],[123,40,123,45],[124,34,124,39],[124,40,124,45],[125,34,125,39],[125,40,125,45],[126,34,126,39],[126,40,126,45],[127,34,127,39],[127,40,127,45],[129,24,129,36],[130,25,130,36],[130,39,130,45],[131,25,131,36],[131,39,131,45],[132,25,132,36],[132,39,132,45],[133,25,133,36],[133,39,133,45]]}
[{"$nulls":3},"NOM :",{"$nulls":9},"Fond vert = cellules modifiables",{"$nulls":9},"affichage glissant sur 5 semaines"]
[{"$nulls":22},1]
["Cor / Synt","N°",null,{"$f":"\"TECHNOLOGIE  \"&YEAR(H4)&\"  -  \"&YEAR(H4)+1&\"  \"&\n\"    - N° et titre de l'activité\"","v":"TECHNOLOGIE  2018  -  2019      - N° et titre de l'activité"},{"$nulls":7},"Temps / H","Semaine","Vendredi",null," ",{"$nulls":7},1]
[1,1,{"$nulls":5},{"$f":"IF(B4=\"\",\"\",IF($N$3=\"Lundi\",Congés_auto!S39,IF($N$3=\"Mardi\",Congés_auto!T39,IF($N$3=\"Mercredi\",Congés_auto!U39,IF($N$3=\"Jeudi\",Congés_auto!V39,IF($N$3=\"Vendredi\",Congés_auto!W39,IF($N$3=\"Samedi\",Congés_auto!X39,0)))))))","v":"2018-08-24"},{"$nulls":3},1,"A","GROUPE",1]
[{"$f":"A4+1","v":2},{"$f":"IF(OR($O$4=1,$O$4=2),$AA94,IF(OR($O$4=3,$O$4=4),$AC94,IF(OR($O$4=5,$O$4=6),$AE94,IF(OR($O$4=7,$O$4=8),$AG94,\"\"))))","v":1},{"$nulls":5},{"$f":"IF(B5=\"\",\"\",IF($N$3=\"Lundi\",Congés_auto!S40,IF($N$3=\"Mardi\",Congés_auto!T40,IF($N$3=\"Mercredi\",Congés_auto!U40,IF($N$3=\"Jeudi\",Congés_auto!V40,IF($N$3=\"Vendredi\",Congés_auto!W40,IF($N$3=\"Samedi\",Congés_auto!X40,0)))))))","v":"2018-08-31"},{"$nulls":3},{"$f":"IF(L4=1,2,1)","v":2},{"$f":"IF(M4=\"A\",\"B\",\"A\")","v":"B"}]
[{"$f":"A5+1","v":3},2,{"$nulls":5},{"$f":"IF(B6=\"\",\"\",IF($N$3=\"Lundi\",Congés_auto!S41,IF($N$3=\"Mardi\",Congés_auto!T41,IF($N$3=\"Mercredi\",Congés_auto!U41,IF($N$3=\"Jeudi\",Congés_auto!V41,IF($N$3=\"Vendredi\",Congés_auto!W41,IF($N$3=\"Samedi\",Congés_auto!X41,0)))))))","v":"2018-09-07"},{"$nulls":3},{"$f":"IF(L5=1,2,1)","v":1},{"$f":"IF(M5=\"A\",\"B\",\"A\")","v":"A"}]
[4,2,{"$nulls":5},{"$f":"IF(B7=\"\",\"\",IF($N$3=\"Lundi\",Congés_auto!S42,IF($N$3=\"Mardi\",Congés_auto!T42,IF($N$3=\"Mercredi\",Congés_auto!U42,IF($N$3=\"Jeudi\",Congés_auto!V42,IF($N$3=\"Vendredi\",Congés_auto!W42,IF($N$3=\"Samedi\",Congés_auto!X42,0)))))))","v":"2018-09-14"},{"$nulls":3},2,"B"]
[5,3,{"$nulls":5},{"$f":"IF(B8=\"\",\"\",IF($N$3=\"Lundi\",Congés_auto!S43,IF($N$3=\"Mardi\",Congés_auto!T43,IF($N$3=\"Mercredi\",Congés_auto!U43,IF($N$3=\"Jeudi\",Congés_auto!V43,IF($N$3=\"Vendredi\",Congés_auto!W43,IF($N$3=\"Samedi\",Congés_auto!X43,0)))))))","v":"2018-09-21"},{"$nulls":3},1,"A"]
[6,3,{"$nulls":5},{"$f":"IF(B9=\"\",\"\",IF($N$3=\"Lundi\",Congés_auto!S44,IF($N$3=\"Mardi\",Congés_auto!T44,IF($N$3=\"Mercredi\",Congés_auto!U44,IF($N$3=\"Jeudi\",Congés_auto!V44,IF($N$3=\"Vendredi\",Congés_auto!W44,IF($N$3=\"Samedi\",Congés_auto!X44,0)))))))","v":"2018-09-28"},{"$nulls":3},2,"B"]
[7,4,{"$nulls":5},{"$f":"IF(B10=\"\",\"\",IF($N$3=\"Lundi\",Congés_auto!S45,IF($N$3=\"Mardi\",Congés_auto!T45,IF($N$3=\"Mercredi\",Congés_auto!U45,IF($N$3=\"Jeudi\",Congés_auto!V45,IF($N$3=\"Vendredi\",Congés_auto!W45,IF($N$3=\"Samedi\",Congés_auto!X45,0)))))))","v":"2018-10-05"},{"$nulls":3},1,"A"]
[8,4,{"$nulls":5},{"$f":"IF(B11=\"\",\"\",IF($N$3=\"Lundi\",Congés_auto!S46,IF($N$3=\"Mardi\",Congés_auto!T46,IF($N$3=\"Mercredi\",Congés_auto!U46,IF($N$3=\"Jeudi\",Congés_auto!V46,IF($N$3=\"Vendredi\",Congés_auto!W46,IF($N$3=\"Samedi\",Congés_auto!X46,0)))))))","v":"2018-10-12"},{"$nulls":3},2,"B"]
[9,5,{"$nulls":5},{"$f":"IF(B12=\"\",\"\",IF($N$3=\"Lundi\",Congés_auto!S47,IF($N$3=\"Mardi\",Congés_auto!T47,IF($N$3=\"Mercredi\",Congés_auto!U47,IF($N$3=\"Jeudi\",Congés_auto!V47,IF($N$3=\"Vendredi\",Congés_auto!W47,IF($N$3=\"Samedi\",Congés_auto!X47,0)))))))","v":"2018-11-02"},{"$nulls":3},1,"A"]
[10,5,{"$nulls":5},{"$f":"IF(B13=\"\",\"\",IF($N$3=\"Lundi\",Congés_auto!S48,IF($N$3=\"Mardi\",Congés_auto!T48,IF($N$3=\"Mercredi\",Congés_auto!U48,IF($N$3=\"Jeudi\",Congés_auto!V48,IF($N$3=\"Vendredi\",Congés_auto!W48,IF($N$3=\"Samedi\",Congés_auto!X48,0)))))))","v":"2018-11-09"},{"$nulls":3},2,"B"]
[11,6,{"$nulls":5},{"$f":"IF(B14=\"\",\"\",IF($N$3=\"Lundi\",Congés_auto!S49,IF($N$3=\"Mardi\",Congés_auto!T49,IF($N$3=\"Mercredi\",Congés_auto!U49,IF($N$3=\"Jeudi\",Congés_auto!V49,IF($N$3=\"Vendredi\",Congés_auto!W49,IF($N$3=\"Samedi\",Congés_auto!X49,0)))))))","v":"2018-11-16"},{"$nulls":3},1,"A"]
[12,6,{"$nulls":5},{"$f":"IF(B15=\"\",\"\",IF($N$3=\"Lundi\",Congés_auto!S50,IF($N$3=\"Mardi\",Congés_auto!T50,IF($N$3=\"Mercredi\",Congés_auto!U50,IF($N$3=\"Jeudi\",Congés_auto!V50,IF($N$3=\"Vendredi\",Congés_auto!W50,IF($N$3=\"Samedi\",Congés_auto!X50,0)))))))","v":"2018-11-23"},{"$nulls":3},2,"B"]
[13,7,{"$nulls":5},{"$f":"IF(B16=\"\",\"\",IF($N$3=\"Lundi\",Congés_auto!S51,IF($N$3=\"Mardi\",Congés_auto!T51,IF($N$3=\"Mercredi\",Congés_auto!U51,IF($N$3=\"Jeudi\",Congés_auto!V51,IF($N$3=\"Vendredi\",Congés_auto!W51,IF($N$3=\"Samedi\",Congés_auto!X51,0)))))))","v":"2018-11-30"},{"$nulls":3},1,"A"]
[14,7,{"$nulls":5},{"$f":"IF(B17=\"\",\"\",IF($N$3=\"Lundi\",Congés_auto!S52,IF($N$3=\"Mardi\",Congés_auto!T52,IF($N$3=\"Mercredi\",Congés_auto!U52,IF($N$3=\"Jeudi\",Congés_auto!V52,IF($N$3=\"Vendredi\",Congés_auto!W52,IF($N$3=\"Samedi\",Congés_auto!X52,0)))))))","v":"2018-12-07"},{"$nulls":3},2,"B"]
[15,8,{"$nulls":5},{"$f":"IF(B18=\"\",\"\",IF($N$3=\"Lundi\",Congés_auto!S53,IF($N$3=\"Mardi\",Congés_auto!T53,IF($N$3=\"Mercredi\",Congés_auto!U53,IF($N$3=\"Jeudi\",Congés_auto!V53,IF($N$3=\"Vendredi\",Congés_auto!W53,IF($N$3=\"Samedi\",Congés_auto!X53,0)))))))","v":"2018-12-14"},{"$nulls":3},1,"A"]
[16,8,{"$nulls":5},{"$f":"IF(B19=\"\",\"\",IF($N$3=\"Lundi\",Congés_auto!S54,IF($N$3=\"Mardi\",Congés_auto!T54,IF($N$3=\"Mercredi\",Congés_auto!U54,IF($N$3=\"Jeudi\",Congés_auto!V54,IF($N$3=\"Vendredi\",Congés_auto!W54,IF($N$3=\"Samedi\",Congés_auto!X54,0)))))))","v":"2018-12-21"},{"$nulls":3},2,"B"]
[17,9,{"$nulls":5},{"$f":"IF(B20=\"\",\"\",IF($N$3=\"Lundi\",Congés_auto!S55,IF($N$3=\"Mardi\",Congés_auto!T55,IF($N$3=\"Mercredi\",Congés_auto!U55,IF($N$3=\"Jeudi\",Congés_auto!V55,IF($N$3=\"Vendredi\",Congés_auto!W55,IF($N$3=\"Samedi\",Congés_auto!X55,0)))))))","v":"2019-02-01"},{"$nulls":3},1,"A"]
[18,9,{"$nulls":5},{"$f":"IF(B21=\"\",\"\",IF($N$3=\"Lundi\",Congés_auto!S56,IF($N$3=\"Mardi\",Congés_auto!T56,IF($N$3=\"Mercredi\",Congés_auto!U56,IF($N$3=\"Jeudi\",Congés_auto!V56,IF($N$3=\"Vendredi\",Congés_auto!W56,IF($N$3=\"Samedi\",Congés_auto!X56,0)))))))","v":"2019-02-08"},{"$nulls":3},2,"B"]
[19,10,{"$nulls":5},{"$f":"IF(B22=\"\",\"\",IF($N$3=\"Lundi\",Congés_auto!S57,IF($N$3=\"Mardi\",Congés_auto!T57,IF($N$3=\"Mercredi\",Congés_auto!U57,IF($N$3=\"Jeudi\",Congés_auto!V57,IF($N$3=\"Vendredi\",Congés_auto!W57,IF($N$3=\"Samedi\",Congés_auto!X57,0)))))))","v":"2019-02-15"},{"$nulls":3},1,"A"]
[20,10,{"$nulls":5},{"$f":"IF(B23=\"\",\"\",IF($N$3=\"Lundi\",Congés_auto!S58,IF($N$3=\"Mardi\",Congés_auto!T58,IF($N$3=\"Mercredi\",Congés_auto!U58,IF($N$3=\"Jeudi\",Congés_auto!V58,IF($N$3=\"Vendredi\",Congés_auto!W58,IF($N$3=\"Samedi\",Congés_auto!X58,0)))))))","v":"2019-02-22"},{"$nulls":3},2,"B"]
[21,11,{"$nulls":5},{"$f":"IF(B24=\"\",\"\",IF($N$3=\"Lundi\",Congés_auto!S59,IF($N$3=\"Mardi\",Congés_auto!T59,IF($N$3=\"Mercredi\",Congés_auto!U59,IF($N$3=\"Jeudi\",Congés_auto!V59,IF($N$3=\"Vendredi\",Congés_auto!W59,IF($N$3=\"Samedi\",Congés_auto!X59,0)))))))","v":"2019-03-01"},{"$nulls":3},1,"A"]
[22,11,{"$nulls":5},{"$f":"IF(B25=\"\",\"\",IF($N$3=\"Lundi\",Congés_auto!S60,IF($N$3=\"Mardi\",Congés_auto!T60,IF($N$3=\"Mercredi\",Congés_auto!U60,IF($N$3=\"Jeudi\",Congés_auto!V60,IF($N$3=\"Vendredi\",Congés_auto!W60,IF($N$3=\"Samedi\",Congés_auto!X60,0)))))))","v":"2019-03-08"},{"$nulls":3},2,"B"]
[23,12,{"$nulls":5},{"$f":"IF(B26=\"\",\"\",IF($N$3=\"Lundi\",Congés_auto!S61,IF($N$3=\"Mardi\",Congés_auto!T61,IF($N$3=\"Mercredi\",Congés_auto!U61,IF($N$3=\"Jeudi\",Congés_auto!V61,IF($N$3=\"Vendredi\",Congés_auto!W61,IF($N$3=\"Samedi\",Congés_auto!X61,0)))))))","v":"2019-03-29"},{"$nulls":3},1,"A"]
[24,12,{"$nulls":5},{"$f":"IF(B27=\"\",\"\",IF($N$3=\"Lundi\",Congés_auto!S62,IF($N$3=\"Mardi\",Congés_auto!T62,IF($N$3=\"Mercredi\",Congés_auto!U62,IF($N$3=\"Jeudi\",Congés_auto!V62,IF($N$3=\"Vendredi\",Congés_auto!W62,IF($N$3=\"Samedi\",Congés_auto!X62,0)))))))","v":"2019-04-05"},{"$nulls":3},2,"B"]
[25,13,{"$nulls":5},{"$f":"IF(B28=\"\",\"\",IF($N$3=\"Lundi\",Congés_auto!S63,IF($N$3=\"Mardi\",Congés_auto!T63,IF($N$3=\"Mercredi\",Congés_auto!U63,IF($N$3=\"Jeudi\",Congés_auto!V63,IF($N$3=\"Vendredi\",Congés_auto!W63,IF($N$3=\"Samedi\",Congés_auto!X63,0)))))))","v":"2019-04-12"},{"$nulls":3},1,"A"]
[26,13,{"$nulls":5},{"$f":"IF(B29=\"\",\"\",IF($N$3=\"Lundi\",Congés_auto!S64,IF($N$3=\"Mardi\",Congés_auto!T64,IF($N$3=\"Mercredi\",Congés_auto!U64,IF($N$3=\"Jeudi\",Congés_auto!V64,IF($N$3=\"Vendredi\",Congés_auto!W64,IF($N$3=\"Samedi\",Congés_auto!X64,0)))))))","v":"2019-04-19"},{"$nulls":3},2,"B"]
[27,14,{"$nulls":5},{"$f":"IF(B30=\"\",\"\",IF($N$3=\"Lundi\",Congés_auto!S65,IF($N$3=\"Mardi\",Congés_auto!T65,IF($N$3=\"Mercredi\",Congés_auto!U65,IF($N$3=\"Jeudi\",Congés_auto!V65,IF($N$3=\"Vendredi\",Congés_auto!W65,IF($N$3=\"Samedi\",Congés_auto!X65,0)))))))","v":"2019-04-26"},{"$nulls":3},1,"A"]
[28,14,{"$nulls":5},{"$f":"IF(B31=\"\",\"\",IF($N$3=\"Lundi\",Congés_auto!S66,IF($N$3=\"Mardi\",Congés_auto!T66,IF($N$3=\"Mercredi\",Congés_auto!U66,IF($N$3=\"Jeudi\",Congés_auto!V66,IF($N$3=\"Vendredi\",Congés_auto!W66,IF($N$3=\"Samedi\",Congés_auto!X66,0)))))))","v":"2019-05-03"},{"$nulls":3},2,"B"]
[29,15,{"$nulls":5},{"$f":"IF(B32=\"\",\"\",IF($N$3=\"Lundi\",Congés_auto!S67,IF($N$3=\"Mardi\",Congés_auto!T67,IF($N$3=\"Mercredi\",Congés_auto!U67,IF($N$3=\"Jeudi\",Congés_auto!V67,IF($N$3=\"Vendredi\",Congés_auto!W67,IF($N$3=\"Samedi\",Congés_auto!X67,0)))))))","v":"2019-05-24"},{"$nulls":3},1,"A"]
[30,15,{"$nulls":5},{"$f":"IF(B33=\"\",\"\",IF($N$3=\"Lundi\",Congés_auto!S68,IF($N$3=\"Mardi\",Congés_auto!T68,IF($N$3=\"Mercredi\",Congés_auto!U68,IF($N$3=\"Jeudi\",Congés_auto!V68,IF($N$3=\"Vendredi\",Congés_auto!W68,IF($N$3=\"Samedi\",Congés_auto!X68,0)))))))","v":"2019-05-31"},{"$nulls":3},2,"B"]
[31,16,{"$nulls":5},{"$f":"IF(B34=\"\",\"\",IF($N$3=\"Lundi\",Congés_auto!S69,IF($N$3=\"Mardi\",Congés_auto!T69,IF($N$3=\"Mercredi\",Congés_auto!U69,IF($N$3=\"Jeudi\",Congés_auto!V69,IF($N$3=\"Vendredi\",Congés_auto!W69,IF($N$3=\"Samedi\",Congés_auto!X69,0)))))))","v":"2019-06-07"},{"$nulls":3},1,"A"]
[32,16,{"$nulls":5},{"$f":"IF(B35=\"\",\"\",IF($N$3=\"Lundi\",Congés_auto!S70,IF($N$3=\"Mardi\",Congés_auto!T70,IF($N$3=\"Mercredi\",Congés_auto!U70,IF($N$3=\"Jeudi\",Congés_auto!V70,IF($N$3=\"Vendredi\",Congés_auto!W70,IF($N$3=\"Samedi\",Congés_auto!X70,0)))))))","v":"2019-06-14"},{"$nulls":3},2,"B"]
[33,17,{"$nulls":5},{"$f":"IF(B36=\"\",\"\",IF($N$3=\"Lundi\",Congés_auto!S71,IF($N$3=\"Mardi\",Congés_auto!T71,IF($N$3=\"Mercredi\",Congés_auto!U71,IF($N$3=\"Jeudi\",Congés_auto!V71,IF($N$3=\"Vendredi\",Congés_auto!W71,IF($N$3=\"Samedi\",Congés_auto!X71,0)))))))","v":"2019-06-21"},{"$nulls":3},1,"A"]
[34,17,{"$nulls":5},{"$f":"IF(B37=\"\",\"\",IF($N$3=\"Lundi\",Congés_auto!S72,IF($N$3=\"Mardi\",Congés_auto!T72,IF($N$3=\"Mercredi\",Congés_auto!U72,IF($N$3=\"Jeudi\",Congés_auto!V72,IF($N$3=\"Vendredi\",Congés_auto!W72,IF($N$3=\"Samedi\",Congés_auto!X72,0)))))))","v":"2019-06-28"},{"$nulls":3},2,"B"]
[35,{"$f":"IF(OR($O$4=1,$O$4=2),$AA127,IF(OR($O$4=3,$O$4=4),$AC127,IF(OR($O$4=5,$O$4=6),$AE127,IF(OR($O$4=7,$O$4=8),$AG127,\"\"))))","v":18},{"$nulls":5},{"$f":"IF(B38=\"\",\"\",IF($N$3=\"Lundi\",Congés_auto!S73,IF($N$3=\"Mardi\",Congés_auto!T73,IF($N$3=\"Mercredi\",Congés_auto!U73,IF($N$3=\"Jeudi\",Congés_auto!V73,IF($N$3=\"Vendredi\",Congés_auto!W73,IF($N$3=\"Samedi\",Congés_auto!X73,0)))))))","v":"2019-07-05"},{"$nulls":3},1,"A"]
[36,18,{"$nulls":5},{"$f":"IF(B39=\"\",\"\",IF($N$3=\"Lundi\",Congés_auto!S74,IF($N$3=\"Mardi\",Congés_auto!T74,IF($N$3=\"Mercredi\",Congés_auto!U74,IF($N$3=\"Jeudi\",Congés_auto!V74,IF($N$3=\"Vendredi\",Congés_auto!W74,IF($N$3=\"Samedi\",Congés_auto!X74,0)))))))","v":""},{"$nulls":3},2,"B"]
[]
[]
[null,null,"Binôme avec :"]
{"$rows_empty":22}
[{"$nulls":28},"Modifier u2 et w2 - Planning pour 8 ou 6 grp",{"$nulls":6},"Sem B 2h",null,"NON"]
[{"$nulls":27},"Planning",{"$f":"T1","v":0},null,null,{"$f":"N3","v":"Vendredi"},{"$nulls":10},0]
[]
[{"$nulls":26},{"$f":"Z93","v":"2018-08-24"},{"$f":"OFFSET($Z$93,AA73,0)","v":"2018-08-31"},{"$f":"OFFSET($Z$93,AB73,0)","v":"2018-09-07"},"2018-09-14","2018-09-21","2018-09-28","2018-10-05","2018-10-12","2018-11-02","2018-11-09","2018-11-16","2018-11-23","2018-11-30","2018-12-07","2018-12-14","2018-12-21","2019-02-01","2019-02-08","2019-02-22","2019-03-01","2019-03-08","2019-03-29","2019-04-05","2019-04-12","2019-04-19","2019-04-26","2019-05-03","2019-05-24","2019-05-31","2019-06-07","2019-06-14","2019-06-21","2019-06-28","2019-07-05","","00:00:00"]
[]
[]
[]
[{"$nulls":24},"Temps",null,2,2,2,2,2,2,2,2,2,2,2,2,2,2,2,2,2,2,2,2,2,2,2,2,2,2,2,2,2,2,2,2,2,2,2,2]
[{"$nulls":25},"Semaine",1,{"$f":"AA73+1","v":2},{"$f":"AB73+1","v":3},4,5,6,7,8,9,10,11,12,13,14,15,16,17,18,{"$f":"AR73+1","v":19},{"$f":"AS73+1","v":20},21,22,23,24,25,26,27,28,29,30,31,32,33,34,35,36]
[{"$nulls":25},"Grp  1",1,1,{"$f":"AA74+1","v":2},{"$f":"AB74+1","v":2},3,3,4,4,5,5,6,6,7,7,8,8,9,9,10,{"$f":"AR74+1","v":10},11,11,12,12,13,13,14,14,15,15,16,16,17,17,18,{"$f":"BH74+1","v":18}]
[{"$nulls":25},"Grp  2",1,1,{"$f":"AA75+1","v":2},2,3,3,4,4,5,5,6,6,7,7,8,8,9,9,10,10,11,11,12,12,13,13,14,14,15,15,16,16,17,17,18,18]
[{"$nulls":23},"FREQUENCE(A1:A30;{1,8;2,7})",null,"Grp  3",1,1,2,2,3,3,4,4,5,5,6,6,7,7,8,8,9,9,10,10,11,11,12,12,13,13,14,14,15,15,16,16,17,17,18,18]
[{"$nulls":25},"Grp  4",1,2,2,3,3,4,4,5,5,6,6,7,7,8,8,9,9,10,10,11,11,12,12,13,13,14,14,15,15,16,16,17,17,18,18,19]
[{"$nulls":25},"Grp  5",1,2,2,3,3,4,4,5,5,6,6,7,7,8,8,9,9,10,10,11,11,12,12,13,13,14,14,15,15,16,16,17,17,18,18,19]
[{"$nulls":25},"Grp  6",1,2,2,3,3,4,4,5,5,6,6,7,7,8,8,9,9,10,10,11,11,12,12,13,13,14,14,15,15,16,16,17,17,18,18,19]
[{"$nulls":25},"Grp  7",1,2,2,3,3,4,4,5,5,6,6,7,7,8,8,9,9,10,10,11,11,12,12,13,13,14,14,15,15,16,16,17,17,18,18,19]
[{"$nulls":25},"Grp  8",1,2,2,3,3,4,4,5,5,6,6,7,7,8,8,9,9,10,10,11,11,12,12,13,13,14,14,15,15,16,16,17,17,18,18,19]
[{"$nulls":33},"DT1 --> 0,5 h",{"$nulls":6},"DT2 --> 1 h"]
[{"$nulls":33},"Travail noté"]
[]
[{"$nulls":23},{"$f":"CONCATENATE(AJ86,Y87)","v":"01"},"Les groupes"]
[{"$nulls":30},{"$f":"IF(LEFT(T1,1)=\"3\",\"Troisième\",IF(LEFT(T1,1)=\"4\",\"Quatrième\",IF(LEFT(T1,1)=\"5\",\"Cinquiéme\",\"Sixième\")))","v":"Sixième"},{"$nulls":4},{"$f":"T1","v":0},null,null,{"$f":"N3","v":"Vendredi"},{"$nulls":4},{"$f":"O3","v":0}]
[{"$nulls":17},{"$error":"#N/A"},{"$error":"#N/A"},{"$error":"#N/A"},{"$error":"#N/A"},{"$error":"#N/A"},1,null,1,{"$f":"IF(ISNA(R87),\"\",R87)&\"  --  \"&IF(ISNA(S87),\"\",S87)&\" --  \"&IF(ISNA(T87),\"\",T87)&\" --  \"&IF(ISNA(U87),\"\",U87)&\"  --  \"&IF(ISNA(V87),\"\",V87)","v":"  --   --   --    --  "},{"$nulls":12},5,{"$f":"IF(ISNA(R91),\"\",R91)&\"  --  \"&IF(ISNA(S91),\"\",S91)&\" --  \"&IF(ISNA(T91),\"\",T91)&\" --  \"&IF(ISNA(U91),\"\",U91)&\"  --  \"&IF(ISNA(V91),\"\",V91)","v":"  --   --   --    --  "}]
[{"$nulls":17},{"$error":"#N/A"},{"$error":"#N/A"},{"$error":"#N/A"},{"$error":"#N/A"},{"$error":"#N/A"},2,null,2,{"$f":"IF(ISNA(R88),\"\",R88)&\"  --  \"&IF(ISNA(S88),\"\",S88)&\" --  \"&IF(ISNA(T88),\"\",T88)&\" --  \"&IF(ISNA(U88),\"\",U88)&\"  --  \"&IF(ISNA(V88),\"\",V88)","v":"  --   --   --    --  "},{"$nulls":12},6,{"$f":"IF(ISNA(R92),\"\",R92)&\"  --  \"&IF(ISNA(S92),\"\",S92)&\" --  \"&IF(ISNA(T92),\"\",T92)&\" --  \"&IF(ISNA(U92),\"\",U92)&\"  --  \"&IF(ISNA(V92),\"\",V92)","v":"  --   --   --    --  "}]
[{"$nulls":17},{"$error":"#N/A"},{"$error":"#N/A"},{"$error":"#N/A"},{"$error":"#N/A"},{"$error":"#N/A"},3,null,3,{"$f":"IF(ISNA(R89),\"\",R89)&\"  --  \"&IF(ISNA(S89),\"\",S89)&\" --  \"&IF(ISNA(T89),\"\",T89)&\" --  \"&IF(ISNA(U89),\"\",U89)&\"  --  \"&IF(ISNA(V89),\"\",V89)","v":"  --   --   --    --  "},{"$nulls":12},7,{"$f":"IF(ISNA(R93),\"\",R93)&\"  --  \"&IF(ISNA(S93),\"\",S93)&\" --  \"&IF(ISNA(T93),\"\",T93)&\" --  \"&IF(ISNA(U93),\"\",U93)&\"  --  \"&IF(ISNA(V93),\"\",V93)","v":"  --   --   --    --  "}]
[{"$nulls":17},{"$error":"#N/A"},{"$error":"#N/A"},{"$error":"#N/A"},{"$error":"#N/A"},{"$error":"#N/A"},4,null,4,{"$f":"IF(ISNA(R90),\"\",R90)&\"  --  \"&IF(ISNA(S90),\"\",S90)&\" --  \"&IF(ISNA(T90),\"\",T90)&\" --  \"&IF(ISNA(U90),\"\",U90)&\"  --  \"&IF(ISNA(V90),\"\",V90)","v":"  --   --   --    --  "},{"$nulls":12},8,{"$f":"IF(ISNA(R94),\"\",R94)&\"  --  \"&IF(ISNA(S94),\"\",S94)&\" --  \"&IF(ISNA(T94),\"\",T94)&\" --  \"&IF(ISNA(U94),\"\",U94)&\"  --  \"&IF(ISNA(V94),\"\",V94)","v":"  --   --   --    --  "}]
[{"$nulls":17},{"$error":"#N/A"},{"$error":"#N/A"},{"$error":"#N/A"},{"$error":"#N/A"},{"$error":"#N/A"},5,{"$nulls":3},"Groupe et N° activité",{"$nulls":7},"Les activités par groupes"]
[{"$nulls":17},{"$error":"#N/A"},{"$error":"#N/A"},{"$error":"#N/A"},{"$error":"#N/A"},{"$error":"#N/A"},null,null,"N° Sem",{"$f":"TEXT(Z93,\"jjjj\")","v":"jjjj"},"G 1","G2","G3","G4","G5","G6","G7","G8"]
[{"$nulls":17},{"$error":"#N/A"},{"$error":"#N/A"},{"$error":"#N/A"},{"$error":"#N/A"},{"$error":"#N/A"},null,null,1,{"$f":"H4","v":"2018-08-24"},{"$f":"AA74","v":1},{"$f":"AA75","v":1},{"$f":"AA76","v":1},{"$f":"AA77","v":1},{"$f":"AA78","v":1},{"$f":"AA79","v":1},{"$f":"AA80","v":1},{"$f":"AA81","v":1},"Accueil - organisation - rotation et planning  - Départ de l' activité \" Présentation du classeur\"",{"$nulls":11},1]
[{"$nulls":17},{"$error":"#N/A"},{"$error":"#N/A"},{"$error":"#N/A"},{"$error":"#N/A"},{"$error":"#N/A"},null,null,{"$f":"Y93+1","v":2},{"$f":"H5","v":"2018-08-31"},{"$f":"IF(OFFSET($AA$74,0,$Y93)=41,\"\",OFFSET($AA$74,0,$Y93))","v":1},{"$f":"IF(OFFSET($AA$74,$Y$93,$Y93)=41,\"\",OFFSET($AA$74,$Y$93,$Y93))","v":1},{"$f":"IF(OFFSET($AA$74,$Y$94,$Y93)=41,\"\",OFFSET($AA$74,$Y$94,$Y93))","v":1},{"$f":"IF(OFFSET($AA$74,$Y$95,$Y93)=41,\"\",OFFSET($AA$74,$Y$95,$Y93))","v":2},{"$f":"IF(OFFSET($AA$74,$Y$96,$Y93)=41,\"\",OFFSET($AA$74,$Y$96,$Y93))","v":2},{"$f":"IF(OFFSET($AA$74,$Y$97,$Y93)=41,\"\",OFFSET($AA$74,$Y$97,$Y93))","v":2},{"$f":"IF(OFFSET($AA$74,$Y$98,$Y93)=41,\"\",OFFSET($AA$74,$Y$98,$Y93))","v":2},{"$f":"IF(OFFSET($AA$74,$Y$99,$Y93)=41,\"\",OFFSET($AA$74,$Y$99,$Y93))","v":2},{"$error":"#VALUE!"},{"$nulls":5},{"$error":"#VALUE!"},{"$nulls":5},{"$f":"AU93+1","v":2}]
[{"$nulls":17},{"$error":"#N/A"},{"$error":"#N/A"},{"$error":"#N/A"},{"$error":"#N/A"},{"$error":"#N/A"},null,null,{"$f":"Y94+1","v":3},"2018-09-07",{"$f":"IF(OFFSET($AA$74,0,$Y94)=41,\"\",OFFSET($AA$74,0,$Y94))","v":2},{"$f":"IF(OFFSET($AA$74,$Y$93,$Y94)=41,\"\",OFFSET($AA$74,$Y$93,$Y94))","v":2},{"$f":"IF(OFFSET($AA$74,$Y$94,$Y94)=41,\"\",OFFSET($AA$74,$Y$94,$Y94))","v":2},{"$f":"IF(OFFSET($AA$74,$Y$95,$Y94)=41,\"\",OFFSET($AA$74,$Y$95,$Y94))","v":2},{"$f":"IF(OFFSET($AA$74,$Y$96,$Y94)=41,\"\",OFFSET($AA$74,$Y$96,$Y94))","v":2},{"$f":"IF(OFFSET($AA$74,$Y$97,$Y94)=41,\"\",OFFSET($AA$74,$Y$97,$Y94))","v":2},{"$f":"IF(OFFSET($AA$74,$Y$98,$Y94)=41,\"\",OFFSET($AA$74,$Y$98,$Y94))","v":2},{"$f":"IF(OFFSET($AA$74,$Y$99,$Y94)=41,\"\",OFFSET($AA$74,$Y$99,$Y94))","v":2},{"$error":"#VALUE!"},{"$nulls":5},{"$error":"#VALUE!"},{"$nulls":5},{"$f":"AU94+1","v":3}]
[{"$nulls":24},4,"2018-09-14",2,2,2,3,3,3,3,3,{"$error":"#VALUE!"},{"$nulls":5},{"$error":"#VALUE!"},{"$nulls":5},4]
[{"$nulls":24},5,"2018-09-21",3,3,3,3,3,3,3,3,{"$error":"#VALUE!"},{"$nulls":5},{"$error":"#VALUE!"},{"$nulls":5},5]
[{"$nulls":24},6,"2018-09-28",3,3,3,4,4,4,4,4,{"$error":"#VALUE!"},{"$nulls":5},{"$error":"#VALUE!"},{"$nulls":5},6]
[{"$nulls":24},7,"2018-10-05",4,4,4,4,4,4,4,4,{"$error":"#VALUE!"},{"$nulls":5},{"$error":"#VALUE!"},{"$nulls":5},7]
[{"$nulls":24},8,"2018-10-12",4,4,4,5,5,5,5,5,{"$error":"#VALUE!"},{"$nulls":5},{"$error":"#VALUE!"},{"$nulls":5},8]
[{"$nulls":24},9,"2018-11-02",5,5,5,5,5,5,5,5,{"$error":"#VALUE!"},{"$nulls":5},{"$error":"#VALUE!"},{"$nulls":5},9]
[{"$nulls":24},10,"2018-11-09",5,5,5,6,6,6,6,6,{"$error":"#VALUE!"},{"$nulls":5},{"$error":"#VALUE!"},{"$nulls":5},10]
[{"$nulls":24},11,"2018-11-16",6,6,6,6,6,6,6,6,{"$error":"#VALUE!"},{"$nulls":5},{"$error":"#VALUE!"},{"$nulls":5},11]
[{"$nulls":24},12,"2018-11-23",6,6,6,7,7,7,7,7,{"$error":"#VALUE!"},{"$nulls":5},{"$error":"#VALUE!"},{"$nulls":5},12]
[{"$nulls":24},13,"2018-11-30",7,7,7,7,7,7,7,7,{"$error":"#VALUE!"},{"$nulls":5},{"$error":"#VALUE!"},{"$nulls":5},13]
[{"$nulls":24},14,"2018-12-07",7,7,7,8,8,8,8,8,{"$error":"#VALUE!"},{"$nulls":5},{"$error":"#VALUE!"},{"$nulls":5},14]
[{"$nulls":24},15,"2018-12-14",8,8,8,8,8,8,8,8,{"$error":"#VALUE!"},{"$nulls":5},{"$error":"#VALUE!"},{"$nulls":5},15]
[{"$nulls":24},16,"2018-12-21",8,8,8,9,9,9,9,9,{"$error":"#VALUE!"},{"$nulls":5},{"$error":"#VALUE!"},{"$nulls":5},16]
[{"$nulls":24},17,"2019-02-01",9,9,9,9,9,9,9,9,{"$error":"#VALUE!"},{"$nulls":5},{"$error":"#VALUE!"},{"$nulls":5},17]
[{"$nulls":24},18,"2019-02-08",9,9,9,10,10,10,10,10,{"$error":"#VALUE!"},{"$nulls":5},{"$error":"#VALUE!"},{"$nulls":5},18]
[{"$nulls":24},19,{"$f":"H23","v":"2019-02-22"},10,10,10,10,10,10,10,10,{"$error":"#VALUE!"},{"$nulls":5},{"$error":"#VALUE!"},{"$nulls":5},19]
[{"$nulls":24},20,"2019-03-01",10,10,10,11,11,11,11,11,{"$error":"#VALUE!"},{"$nulls":5},{"$error":"#VALUE!"},{"$nulls":5},20]
[{"$nulls":24},21,"2019-03-08",11,11,11,11,11,11,11,11,{"$error":"#VALUE!"},{"$nulls":5},{"$error":"#VALUE!"},{"$nulls":5},21]
[{"$nulls":24},22,"2019-03-29",11,11,11,12,12,12,12,12,{"$error":"#VALUE!"},{"$nulls":5},{"$error":"#VALUE!"},{"$nulls":5},22]
[{"$nulls":24},23,"2019-04-05",12,12,12,12,12,12,12,12,{"$error":"#VALUE!"},{"$nulls":5},{"$error":"#VALUE!"},{"$nulls":5},23]
[{"$nulls":24},24,"2019-04-12",12,12,12,13,13,13,13,13,{"$error":"#VALUE!"},{"$nulls":5},{"$error":"#VALUE!"},{"$nulls":5},24]
[{"$nulls":24},25,"2019-04-19",13,13,13,13,13,13,13,13,{"$error":"#VALUE!"},{"$nulls":5},{"$error":"#VALUE!"},{"$nulls":5},25]
[{"$nulls":24},26,"2019-04-26",13,13,13,14,14,14,14,14,{"$error":"#VALUE!"},{"$nulls":5},{"$error":"#VALUE!"},{"$nulls":5},26]
[{"$nulls":24},27,"2019-05-03",14,14,14,14,14,14,14,14,{"$error":"#VALUE!"},{"$nulls":5},{"$error":"#VALUE!"},{"$nulls":5},27]
[{"$nulls":24},28,"2019-05-24",14,14,14,15,15,15,15,15,{"$error":"#VALUE!"},{"$nulls":5},{"$error":"#VALUE!"},{"$nulls":5},28]
[{"$nulls":24},29,"2019-05-31",15,15,15,15,15,15,15,15,{"$error":"#VALUE!"},{"$nulls":5},"",{"$nulls":5},29]
[{"$nulls":24},30,"2019-06-07",15,15,15,16,16,16,16,16,{"$error":"#VALUE!"},{"$nulls":5},{"$error":"#VALUE!"},{"$nulls":5},30]
[{"$nulls":24},31,"2019-06-14",16,16,16,16,16,16,16,16,{"$error":"#VALUE!"},{"$nulls":5},{"$error":"#VALUE!"},{"$nulls":5},31]
[{"$nulls":24},32,"2019-06-21",16,16,16,17,17,17,17,17,{"$error":"#VALUE!"},{"$nulls":5},{"$error":"#VALUE!"},{"$nulls":5},32]
[{"$nulls":24},33,"2019-06-28",17,17,17,17,17,17,17,17,{"$error":"#VALUE!"},{"$nulls":5},"",{"$nulls":5},33]
[{"$nulls":24},34,"2019-07-05",17,17,17,18,18,18,18,18,{"$error":"#VALUE!"},{"$nulls":5},{"$error":"#VALUE!"},{"$nulls":5},34]
[{"$nulls":24},35,"",18,18,18,18,18,18,18,18,{"$error":"#VALUE!"},{"$nulls":5},{"$error":"#VALUE!"},{"$nulls":5},35]
[{"$nulls":24},36,null,18,18,18,19,19,19,19,19,{"$error":"#VALUE!"},{"$nulls":5},"",{"$nulls":5},36]

{"sheet":"401","index":6,"n_rows":128,"n_cols":62,"rows_kept":128,"merged":[[0,13,0,15],[1,17,2,18],[2,3,2,6],[2,13,2,14],[2,15,2,16],[3,2,3,6],[3,7,3,8],[4,2,4,6],[4,7,4,8],[5,2,5,6],[5,7,5,8],[6,2,6,6],[6,7,6,8],[7,2,7,6],[7,7,7,8],[8,2,8,6],[8,7,8,8],[9,2,9,6],[9,7,9,8],[10,2,10,6],[10,7,10,8],[11,2,11,6],[11,7,11,8],[12,2,12,6],[12,7,12,8],[13,2,13,6],[13,7,13,8],[14,2,14,6],[14,7,14,8],[15,2,15,6],[15,7,15,8],[16,2,16,6],[16,7,16,8],[17,2,17,6],[17,7,17,8],[18,2,18,6],[18,7,18,8],[19,2,19,6],[19,7,19,8],[20,2,20,6],[20,7,20,8],[21,2,21,6],[21,7,21,8],[22,2,22,6],[22,7,22,8],[23,2,23,6],[23,7,23,8],[24,2,24,6],[24,7,24,8],[25,2,25,6],[25,7,25,8],[26,2,26,6],[26,7,26,8],[27,2,27,6],[27,7,27,8],[28,2,28,6],[28,7,28,8],[29,2,29,6],[29,7,29,8],[30,2,30,6],[30,7,30,8],[31,2,31,6],[31,7,31,8],[32,2,32,6],[32,7,32,8],[33,2,33,6],[33,7,33,8],[34,2,34,6],[34,7,34,8],[35,2,35,6],[35,7,35,8],[36,2,36,6],[36,7,36,8],[37,7,37,8],[38,2,38,6],[38,7,38,8],[65,28,65,29],[67,26,70,26],[67,27,70,27],[67,28,70,28],[67,29,70,29],[67,30,70,30],[67,31,70,31],[67,32,70,32],[67,33,70,33],[67,34,70,34],[67,35,70,35],[67,36,70,36],[67,37,70,37],[67,38,70,38],[67,39,70,39],[67,40,70,40],[67,41,70,41],[67,42,70,42],[67,43,70,43],[67,44,70,44],[67,45,70,45],[67,46,70,46],[67,47,70,47],[67,48,70,48],[67,49,70,49],[67,50,70,50],[67,51,70,51],[67,52,70,52],[67,53,70,53],[67,54,70,54],[67,55,70,55],[67,56,70,56],[67,57,70,57],[67,58,70,58],[67,59,70,59],[67,60,70,60],[67,61,70,61],[71,24,71,25],[84,24,84,45],[85,38,85,41],[86,25,86,36],[86,39,86,45],[87,25,87,36],[87,39,87,45],[88,25,88,36],[88,39,88,45],[89,25,89,36],[89,39,89,45],[90,26,90,33],[90,34,91,45],[92,34,92,45],[93,34,93,39],[93,40,93,45],[94,34,94,39],[94,40,94,45],[95,34,95,39],[95,40,95,45],[96,34,96,39],[96,40,96,45],[97,34,97,39],[97,40,97,45],[98,34,98,39],[98,40,98,45],[99,34,99,39],[99,40,99,45],[100,34,100,39],[100,40,100,45],[101,34,101,39],[101,40,101,45],[102,34,102,39],[102,40,102,45],[103,34,103,39],[103,40,103,45],[104,34,104,39],[104,40,104,45],[105,34,105,39],[105,40,105,45],[106,34,106,39],[106,40,106,45],[107,34,107,39],[107,40,107,45],[108,34,108,39],[108,40,108,45],[109,34,109,39],[109,40,109,45],[110,34,110,39],[110,40,110,45],[111,34,111,39],[111,40,111,45],[112,34,112,39],[112,40,112,45],[113,34,113,39],[113,40,113,45],[114,34,114,39],[114,40,114,45],[115,34,115,39],[115,40,115,45],[116,34,116,39],[116,40,116,45],[117,34,117,39],[117,40,117,45],[118,34,118,39],[118,40,118,45],[119,34,119,39],[119,40,119,45],[120,34,120,39],[120,40,120,45],[121,34,121,39],[121,40,121,45],[122,34,122,39],[122,40,122,45],[123,34,123,39],[123,40,123,45],[124,34,124,39],[124,40,124,45],[125,34,125,39],[125,40,125,45],[126,34,126,39],[126,40,126,45],[127,34,127,39],[127,40,127,45],[129,24,129,36],[130,25,130,36],[130,39,130,45],[131,25,131,36],[131,39,131,45],[132,25,132,36],[132,39,132,45],[133,25,133,36],[133,39,133,45]]}
[{"$nulls":3},"NOM :",{"$nulls":9},"Fond vert = cellules modifiables",{"$nulls":9},"affichage glissant sur 5 semaines"]
[{"$nulls":22},1]
["Cor / Synt","N°",null,{"$f":"\"TECHNOLOGIE  \"&YEAR(H4)&\"  -  \"&YEAR(H4)+1&\"  \"&\n\"    - N° et titre de l'activité\"","v":"TECHNOLOGIE  2018  -  2019      - N° et titre de l'activité"},{"$nulls":7},"Temps / H","Semaine","Mardi",null,"Mardi",{"$nulls":7},1]
[1,1,{"$nulls":5},{"$f":"IF(M4=\"A\",IF(B4=\"\",\"\",IF($N$3=\"Lundi\",Congés_auto!S39,IF($N$3=\"Mardi\",Congés_auto!T39,IF($N$3=\"Mercredi\",Congés_auto!U39,IF($N$3=\"Jeudi\",Congés_auto!V39,IF($N$3=\"Vendredi\",Congés_auto!W39,IF($N$3=\"Samedi\",Congés_auto!X39,0))))))),IF(B4=\"\",\"\",IF($P$3=\"Lundi\",Congés_auto!S39,IF($P$3=\"Mardi\",Congés_auto!T39,IF($P$3=\"Mercredi\",Congés_auto!U39,IF($P$3=\"Jeudi\",Congés_auto!V39,IF($P$3=\"Vendredi\",Congés_auto!W39,IF($P$3=\"Samedi\",Congés_auto!X39,0))))))))","v":"2018-08-21"},{"$nulls":3},1,"A","GROUPE",1]
[{"$f":"A4+1","v":2},{"$f":"IF(OR($O$4=1,$O$4=2),$AA94,IF(OR($O$4=3,$O$4=4),$AC94,IF(OR($O$4=5,$O$4=6),$AE94,IF(OR($O$4=7,$O$4=8),$AG94,\"\"))))","v":1},{"$nulls":5},{"$f":"IF(M5=\"A\",IF(B5=\"\",\"\",IF($N$3=\"Lundi\",Congés_auto!S40,IF($N$3=\"Mardi\",Congés_auto!T40,IF($N$3=\"Mercredi\",Congés_auto!U40,IF($N$3=\"Jeudi\",Congés_auto!V40,IF($N$3=\"Vendredi\",Congés_auto!W40,IF($N$3=\"Samedi\",Congés_auto!X40,0))))))),IF(B5=\"\",\"\",IF($P$3=\"Lundi\",Congés_auto!S40,IF($P$3=\"Mardi\",Congés_auto!T40,IF($P$3=\"Mercredi\",Congés_auto!U40,IF($P$3=\"Jeudi\",Congés_auto!V40,IF($P$3=\"Vendredi\",Congés_auto!W40,IF($P$3=\"Samedi\",Congés_auto!X40,0))))))))","v":"2018-08-28"},{"$nulls":3},{"$f":"IF(L4=1,2,1)","v":2},{"$f":"IF(M4=\"A\",\"B\",\"A\")","v":"B"}]
[{"$f":"A5+1","v":3},2,{"$nulls":5},{"$f":"IF(M6=\"A\",IF(B6=\"\",\"\",IF($N$3=\"Lundi\",Congés_auto!S41,IF($N$3=\"Mardi\",Congés_auto!T41,IF($N$3=\"Mercredi\",Congés_auto!U41,IF($N$3=\"Jeudi\",Congés_auto!V41,IF($N$3=\"Vendredi\",Congés_auto!W41,IF($N$3=\"Samedi\",Congés_auto!X41,0))))))),IF(B6=\"\",\"\",IF($P$3=\"Lundi\",Congés_auto!S41,IF($P$3=\"Mardi\",Congés_auto!T41,IF($P$3=\"Mercredi\",Congés_auto!U41,IF($P$3=\"Jeudi\",Congés_auto!V41,IF($P$3=\"Vendredi\",Congés_auto!W41,IF($P$3=\"Samedi\",Congés_auto!X41,0))))))))","v":"2018-09-04"},{"$nulls":3},{"$f":"IF(L5=1,2,1)","v":1},{"$f":"IF(M5=\"A\",\"B\",\"A\")","v":"A"}]
[4,2,{"$nulls":5},{"$f":"IF(M7=\"A\",IF(B7=\"\",\"\",IF($N$3=\"Lundi\",Congés_auto!S42,IF($N$3=\"Mardi\",Congés_auto!T42,IF($N$3=\"Mercredi\",Congés_auto!U42,IF($N$3=\"Jeudi\",Congés_auto!V42,IF($N$3=\"Vendredi\",Congés_auto!W42,IF($N$3=\"Samedi\",Congés_auto!X42,0))))))),IF(B7=\"\",\"\",IF($P$3=\"Lundi\",Congés_auto!S42,IF($P$3=\"Mardi\",Congés_auto!T42,IF($P$3=\"Mercredi\",Congés_auto!U42,IF($P$3=\"Jeudi\",Congés_auto!V42,IF($P$3=\"Vendredi\",Congés_auto!W42,IF($P$3=\"Samedi\",Congés_auto!X42,0))))))))","v":"2018-09-11"},{"$nulls":3},2,"B"]
[5,3,{"$nulls":5},{"$f":"IF(M8=\"A\",IF(B8=\"\",\"\",IF($N$3=\"Lundi\",Congés_auto!S43,IF($N$3=\"Mardi\",Congés_auto!T43,IF($N$3=\"Mercredi\",Congés_auto!U43,IF($N$3=\"Jeudi\",Congés_auto!V43,IF($N$3=\"Vendredi\",Congés_auto!W43,IF($N$3=\"Samedi\",Congés_auto!X43,0))))))),IF(B8=\"\",\"\",IF($P$3=\"Lundi\",Congés_auto!S43,IF($P$3=\"Mardi\",Congés_auto!T43,IF($P$3=\"Mercredi\",Congés_auto!U43,IF($P$3=\"Jeudi\",Congés_auto!V43,IF($P$3=\"Vendredi\",Congés_auto!W43,IF($P$3=\"Samedi\",Congés_auto!X43,0))))))))","v":"2018-09-18"},{"$nulls":3},1,"A"]
[6,3,{"$nulls":5},{"$f":"IF(M9=\"A\",IF(B9=\"\",\"\",IF($N$3=\"Lundi\",Congés_auto!S44,IF($N$3=\"Mardi\",Congés_auto!T44,IF($N$3=\"Mercredi\",Congés_auto!U44,IF($N$3=\"Jeudi\",Congés_auto!V44,IF($N$3=\"Vendredi\",Congés_auto!W44,IF($N$3=\"Samedi\",Congés_auto!X44,0))))))),IF(B9=\"\",\"\",IF($P$3=\"Lundi\",Congés_auto!S44,IF($P$3=\"Mardi\",Congés_auto!T44,IF($P$3=\"Mercredi\",Congés_auto!U44,IF($P$3=\"Jeudi\",Congés_auto!V44,IF($P$3=\"Vendredi\",Congés_auto!W44,IF($P$3=\"Samedi\",Congés_auto!X44,0))))))))","v":"2018-09-25"},{"$nulls":3},2,"B"]
[7,4,{"$nulls":5},{"$f":"IF(M10=\"A\",IF(B10=\"\",\"\",IF($N$3=\"Lundi\",Congés_auto!S45,IF($N$3=\"Mardi\",Congés_auto!T45,IF($N$3=\"Mercredi\",Congés_auto!U45,IF($N$3=\"Jeudi\",Congés_auto!V45,IF($N$3=\"Vendredi\",Congés_auto!W45,IF($N$3=\"Samedi\",Congés_auto!X45,0))))))),IF(B10=\"\",\"\",IF($P$3=\"Lundi\",Congés_auto!S45,IF($P$3=\"Mardi\",Congés_auto!T45,IF($P$3=\"Mercredi\",Congés_auto!U45,IF($P$3=\"Jeudi\",Congés_auto!V45,IF($P$3=\"Vendredi\",Congés_auto!W45,IF($P$3=\"Samedi\",Congés_auto!X45,0))))))))","v":"2018-10-02"},{"$nulls":3},1,"A"]
[8,4,{"$nulls":5},{"$f":"IF(M11=\"A\",IF(B11=\"\",\"\",IF($N$3=\"Lundi\",Congés_auto!S46,IF($N$3=\"Mardi\",Congés_auto!T46,IF($N$3=\"Mercredi\",Congés_auto!U46,IF($N$3=\"Jeudi\",Congés_auto!V46,IF($N$3=\"Vendredi\",Congés_auto!W46,IF($N$3=\"Samedi\",Congés_auto!X46,0))))))),IF(B11=\"\",\"\",IF($P$3=\"Lundi\",Congés_auto!S46,IF($P$3=\"Mardi\",Congés_auto!T46,IF($P$3=\"Mercredi\",Congés_auto!U46,IF($P$3=\"Jeudi\",Congés_auto!V46,IF($P$3=\"Vendredi\",Congés_auto!W46,IF($P$3=\"Samedi\",Congés_auto!X46,0))))))))","v":"2018-10-09"},{"$nulls":3},2,"B"]
[9,5,{"$nulls":5},{"$f":"IF(M12=\"A\",IF(B12=\"\",\"\",IF($N$3=\"Lundi\",Congés_auto!S47,IF($N$3=\"Mardi\",Congés_auto!T47,IF($N$3=\"Mercredi\",Congés_auto!U47,IF($N$3=\"Jeudi\",Congés_auto!V47,IF($N$3=\"Vendredi\",Congés_auto!W47,IF($N$3=\"Samedi\",Congés_auto!X47,0))))))),IF(B12=\"\",\"\",IF($P$3=\"Lundi\",Congés_auto!S47,IF($P$3=\"Mardi\",Congés_auto!T47,IF($P$3=\"Mercredi\",Congés_auto!U47,IF($P$3=\"Jeudi\",Congés_auto!V47,IF($P$3=\"Vendredi\",Congés_auto!W47,IF($P$3=\"Samedi\",Congés_auto!X47,0))))))))","v":"2018-10-30"},{"$nulls":3},1,"A"]
[10,5,{"$nulls":5},{"$f":"IF(M13=\"A\",IF(B13=\"\",\"\",IF($N$3=\"Lundi\",Congés_auto!S48,IF($N$3=\"Mardi\",Congés_auto!T48,IF($N$3=\"Mercredi\",Congés_auto!U48,IF($N$3=\"Jeudi\",Congés_auto!V48,IF($N$3=\"Vendredi\",Congés_auto!W48,IF($N$3=\"Samedi\",Congés_auto!X48,0))))))),IF(B13=\"\",\"\",IF($P$3=\"Lundi\",Congés_auto!S48,IF($P$3=\"Mardi\",Congés_auto!T48,IF($P$3=\"Mercredi\",Congés_auto!U48,IF($P$3=\"Jeudi\",Congés_auto!V48,IF($P$3=\"Vendredi\",Congés_auto!W48,IF($P$3=\"Samedi\",Congés_auto!X48,0))))))))","v":"2018-11-06"},{"$nulls":3},2,"B"]
[11,6,{"$nulls":5},{"$f":"IF(M14=\"A\",IF(B14=\"\",\"\",IF($N$3=\"Lundi\",Congés_auto!S49,IF($N$3=\"Mardi\",Congés_auto!T49,IF($N$3=\"Mercredi\",Congés_auto!U49,IF($N$3=\"Jeudi\",Congés_auto!V49,IF($N$3=\"Vendredi\",Congés_auto!W49,IF($N$3=\"Samedi\",Congés_auto!X49,0))))))),IF(B14=\"\",\"\",IF($P$3=\"Lundi\",Congés_auto!S49,IF($P$3=\"Mardi\",Congés_auto!T49,IF($P$3=\"Mercredi\",Congés_auto!U49,IF($P$3=\"Jeudi\",Congés_auto!V49,IF($P$3=\"Vendredi\",Congés_auto!W49,IF($P$3=\"Samedi\",Congés_auto!X49,0))))))))","v":"2018-11-13"},{"$nulls":3},1,"A"]
[12,6,{"$nulls":5},{"$f":"IF(M15=\"A\",IF(B15=\"\",\"\",IF($N$3=\"Lundi\",Congés_auto!S50,IF($N$3=\"Mardi\",Congés_auto!T50,IF($N$3=\"Mercredi\",Congés_auto!U50,IF($N$3=\"Jeudi\",Congés_auto!V50,IF($N$3=\"Vendredi\",Congés_auto!W50,IF($N$3=\"Samedi\",Congés_auto!X50,0))))))),IF(B15=\"\",\"\",IF($P$3=\"Lundi\",Congés_auto!S50,IF($P$3=\"Mardi\",Congés_auto!T50,IF($P$3=\"Mercredi\",Congés_auto!U50,IF($P$3=\"Jeudi\",Congés_auto!V50,IF($P$3=\"Vendredi\",Congés_auto!W50,IF($P$3=\"Samedi\",Congés_auto!X50,0))))))))","v":"2018-11-20"},{"$nulls":3},2,"B"]
[13,7,{"$nulls":5},{"$f":"IF(M16=\"A\",IF(B16=\"\",\"\",IF($N$3=\"Lundi\",Congés_auto!S51,IF($N$3=\"Mardi\",Congés_auto!T51,IF($N$3=\"Mercredi\",Congés_auto!U51,IF($N$3=\"Jeudi\",Congés_auto!V51,IF($N$3=\"Vendredi\",Congés_auto!W51,IF($N$3=\"Samedi\",Congés_auto!X51,0))))))),IF(B16=\"\",\"\",IF($P$3=\"Lundi\",Congés_auto!S51,IF($P$3=\"Mardi\",Congés_auto!T51,IF($P$3=\"Mercredi\",Congés_auto!U51,IF($P$3=\"Jeudi\",Congés_auto!V51,IF($P$3=\"Vendredi\",Congés_auto!W51,IF($P$3=\"Samedi\",Congés_auto!X51,0))))))))","v":"2018-11-27"},{"$nulls":3},1,"A"]
[14,7,{"$nulls":5},{"$f":"IF(M17=\"A\",IF(B17=\"\",\"\",IF($N$3=\"Lundi\",Congés_auto!S52,IF($N$3=\"Mardi\",Congés_auto!T52,IF($N$3=\"Mercredi\",Congés_auto!U52,IF($N$3=\"Jeudi\",Congés_auto!V52,IF($N$3=\"Vendredi\",Congés_auto!W52,IF($N$3=\"Samedi\",Congés_auto!X52,0))))))),IF(B17=\"\",\"\",IF($P$3=\"Lundi\",Congés_auto!S52,IF($P$3=\"Mardi\",Congés_auto!T52,IF($P$3=\"Mercredi\",Congés_auto!U52,IF($P$3=\"Jeudi\",Congés_auto!V52,IF($P$3=\"Vendredi\",Congés_auto!W52,IF($P$3=\"Samedi\",Congés_auto!X52,0))))))))","v":"2018-12-04"},{"$nulls":3},2,"B"]
[15,8,{"$nulls":5},{"$f":"IF(M18=\"A\",IF(B18=\"\",\"\",IF($N$3=\"Lundi\",Congés_auto!S53,IF($N$3=\"Mardi\",Congés_auto!T53,IF($N$3=\"Mercredi\",Congés_auto!U53,IF($N$3=\"Jeudi\",Congés_auto!V53,IF($N$3=\"Vendredi\",Congés_auto!W53,IF($N$3=\"Samedi\",Congés_auto!X53,0))))))),IF(B18=\"\",\"\",IF($P$3=\"Lundi\",Congés_auto!S53,IF($P$3=\"Mardi\",Congés_auto!T53,IF($P$3=\"Mercredi\",Congés_auto!U53,IF($P$3=\"Jeudi\",Congés_auto!V53,IF($P$3=\"Vendredi\",Congés_auto!W53,IF($P$3=\"Samedi\",Congés_auto!X53,0))))))))","v":"2018-12-11"},{"$nulls":3},1,"A"]
[16,8,{"$nulls":5},{"$f":"IF(M19=\"A\",IF(B19=\"\",\"\",IF($N$3=\"Lundi\",Congés_auto!S54,IF($N$3=\"Mardi\",Congés_auto!T54,IF($N$3=\"Mercredi\",Congés_auto!U54,IF($N$3=\"Jeudi\",Congés_auto!V54,IF($N$3=\"Vendredi\",Congés_auto!W54,IF($N$3=\"Samedi\",Congés_auto!X54,0))))))),IF(B19=\"\",\"\",IF($P$3=\"Lundi\",Congés_auto!S54,IF($P$3=\"Mardi\",Congés_auto!T54,IF($P$3=\"Mercredi\",Congés_auto!U54,IF($P$3=\"Jeudi\",Congés_auto!V54,IF($P$3=\"Vendredi\",Congés_auto!W54,IF($P$3=\"Samedi\",Congés_auto!X54,0))))))))","v":"2018-12-18"},{"$nulls":3},2,"B"]
[17,9,{"$nulls":5},{"$f":"IF(M20=\"A\",IF(B20=\"\",\"\",IF($N$3=\"Lundi\",Congés_auto!S55,IF($N$3=\"Mardi\",Congés_auto!T55,IF($N$3=\"Mercredi\",Congés_auto!U55,IF($N$3=\"Jeudi\",Congés_auto!V55,IF($N$3=\"Vendredi\",Congés_auto!W55,IF($N$3=\"Samedi\",Congés_auto!X55,0))))))),IF(B20=\"\",\"\",IF($P$3=\"Lundi\",Congés_auto!S55,IF($P$3=\"Mardi\",Congés_auto!T55,IF($P$3=\"Mercredi\",Congés_auto!U55,IF($P$3=\"Jeudi\",Congés_auto!V55,IF($P$3=\"Vendredi\",Congés_auto!W55,IF($P$3=\"Samedi\",Congés_auto!X55,0))))))))","v":"2019-01-29"},{"$nulls":3},1,"A"]
[18,9,{"$nulls":5},{"$f":"IF(M21=\"A\",IF(B21=\"\",\"\",IF($N$3=\"Lundi\",Congés_auto!S56,IF($N$3=\"Mardi\",Congés_auto!T56,IF($N$3=\"Mercredi\",Congés_auto!U56,IF($N$3=\"Jeudi\",Congés_auto!V56,IF($N$3=\"Vendredi\",Congés_auto!W56,IF($N$3=\"Samedi\",Congés_auto!X56,0))))))),IF(B21=\"\",\"\",IF($P$3=\"Lundi\",Congés_auto!S56,IF($P$3=\"Mardi\",Congés_auto!T56,IF($P$3=\"Mercredi\",Congés_auto!U56,IF($P$3=\"Jeudi\",Congés_auto!V56,IF($P$3=\"Vendredi\",Congés_auto!W56,IF($P$3=\"Samedi\",Congés_auto!X56,0))))))))","v":"2019-02-05"},{"$nulls":3},2,"B"]
[19,10,{"$nulls":5},{"$f":"IF(M22=\"A\",IF(B22=\"\",\"\",IF($N$3=\"Lundi\",Congés_auto!S57,IF($N$3=\"Mardi\",Congés_auto!T57,IF($N$3=\"Mercredi\",Congés_auto!U57,IF($N$3=\"Jeudi\",Congés_auto!V57,IF($N$3=\"Vendredi\",Congés_auto!W57,IF($N$3=\"Samedi\",Congés_auto!X57,0))))))),IF(B22=\"\",\"\",IF($P$3=\"Lundi\",Congés_auto!S57,IF($P$3=\"Mardi\",Congés_auto!T57,IF($P$3=\"Mercredi\",Congés_auto!U57,IF($P$3=\"Jeudi\",Congés_auto!V57,IF($P$3=\"Vendredi\",Congés_auto!W57,IF($P$3=\"Samedi\",Congés_auto!X57,0))))))))","v":"2019-02-12"},{"$nulls":3},1,"A"]
[20,10,{"$nulls":5},{"$f":"IF(M23=\"A\",IF(B23=\"\",\"\",IF($N$3=\"Lundi\",Congés_auto!S58,IF($N$3=\"Mardi\",Congés_auto!T58,IF($N$3=\"Mercredi\",Congés_auto!U58,IF($N$3=\"Jeudi\",Congés_auto!V58,IF($N$3=\"Vendredi\",Congés_auto!W58,IF($N$3=\"Samedi\",Congés_auto!X58,0))))))),IF(B23=\"\",\"\",IF($P$3=\"Lundi\",Congés_auto!S58,IF($P$3=\"Mardi\",Congés_auto!T58,IF($P$3=\"Mercredi\",Congés_auto!U58,IF($P$3=\"Jeudi\",Congés_auto!V58,IF($P$3=\"Vendredi\",Congés_auto!W58,IF($P$3=\"Samedi\",Congés_auto!X58,0))))))))","v":"2019-02-19"},{"$nulls":3},2,"B"]
[21,11,{"$nulls":5},{"$f":"IF(M24=\"A\",IF(B24=\"\",\"\",IF($N$3=\"Lundi\",Congés_auto!S59,IF($N$3=\"Mardi\",Congés_auto!T59,IF($N$3=\"Mercredi\",Congés_auto!U59,IF($N$3=\"Jeudi\",Congés_auto!V59,IF($N$3=\"Vendredi\",Congés_auto!W59,IF($N$3=\"Samedi\",Congés_auto!X59,0))))))),IF(B24=\"\",\"\",IF($P$3=\"Lundi\",Congés_auto!S59,IF($P$3=\"Mardi\",Congés_auto!T59,IF($P$3=\"Mercredi\",Congés_auto!U59,IF($P$3=\"Jeudi\",Congés_auto!V59,IF($P$3=\"Vendredi\",Congés_auto!W59,IF($P$3=\"Samedi\",Congés_auto!X59,0))))))))","v":"2019-02-26"},{"$nulls":3},1,"A"]
[22,11,{"$nulls":5},{"$f":"IF(M25=\"A\",IF(B25=\"\",\"\",IF($N$3=\"Lundi\",Congés_auto!S60,IF($N$3=\"Mardi\",Congés_auto!T60,IF($N$3=\"Mercredi\",Congés_auto!U60,IF($N$3=\"Jeudi\",Congés_auto!V60,IF($N$3=\"Vendredi\",Congés_auto!W60,IF($N$3=\"Samedi\",Congés_auto!X60,0))))))),IF(B25=\"\",\"\",IF($P$3=\"Lundi\",Congés_auto!S60,IF($P$3=\"Mardi\",Congés_auto!T60,IF($P$3=\"Mercredi\",Congés_auto!U60,IF($P$3=\"Jeudi\",Congés_auto!V60,IF($P$3=\"Vendredi\",Congés_auto!W60,IF($P$3=\"Samedi\",Congés_auto!X60,0))))))))","v":"2019-03-05"},{"$nulls":3},2,"B"]
[23,12,{"$nulls":5},{"$f":"IF(M26=\"A\",IF(B26=\"\",\"\",IF($N$3=\"Lundi\",Congés_auto!S61,IF($N$3=\"Mardi\",Congés_auto!T61,IF($N$3=\"Mercredi\",Congés_auto!U61,IF($N$3=\"Jeudi\",Congés_auto!V61,IF($N$3=\"Vendredi\",Congés_auto!W61,IF($N$3=\"Samedi\",Congés_auto!X61,0))))))),IF(B26=\"\",\"\",IF($P$3=\"Lundi\",Congés_auto!S61,IF($P$3=\"Mardi\",Congés_auto!T61,IF($P$3=\"Mercredi\",Congés_auto!U61,IF($P$3=\"Jeudi\",Congés_auto!V61,IF($P$3=\"Vendredi\",Congés_auto!W61,IF($P$3=\"Samedi\",Congés_auto!X61,0))))))))","v":"2019-03-26"},{"$nulls":3},1,"A"]
[24,12,{"$nulls":5},{"$f":"IF(M27=\"A\",IF(B27=\"\",\"\",IF($N$3=\"Lundi\",Congés_auto!S62,IF($N$3=\"Mardi\",Congés_auto!T62,IF($N$3=\"Mercredi\",Congés_auto!U62,IF($N$3=\"Jeudi\",Congés_auto!V62,IF($N$3=\"Vendredi\",Congés_auto!W62,IF($N$3=\"Samedi\",Congés_auto!X62,0))))))),IF(B27=\"\",\"\",IF($P$3=\"Lundi\",Congés_auto!S62,IF($P$3=\"Mardi\",Congés_auto!T62,IF($P$3=\"Mercredi\",Congés_auto!U62,IF($P$3=\"Jeudi\",Congés_auto!V62,IF($P$3=\"Vendredi\",Congés_auto!W62,IF($P$3=\"Samedi\",Congés_auto!X62,0))))))))","v":"2019-04-02"},{"$nulls":3},2,"B"]
[25,13,{"$nulls":5},{"$f":"IF(M28=\"A\",IF(B28=\"\",\"\",IF($N$3=\"Lundi\",Congés_auto!S63,IF($N$3=\"Mardi\",Congés_auto!T63,IF($N$3=\"Mercredi\",Congés_auto!U63,IF($N$3=\"Jeudi\",Congés_auto!V63,IF($N$3=\"Vendredi\",Congés_auto!W63,IF($N$3=\"Samedi\",Congés_auto!X63,0))))))),IF(B28=\"\",\"\",IF($P$3=\"Lundi\",Congés_auto!S63,IF($P$3=\"Mardi\",Congés_auto!T63,IF($P$3=\"Mercredi\",Congés_auto!U63,IF($P$3=\"Jeudi\",Congés_auto!V63,IF($P$3=\"Vendredi\",Congés_auto!W63,IF($P$3=\"Samedi\",Congés_auto!X63,0))))))))","v":"2019-04-09"},{"$nulls":3},1,"A"]
[26,13,{"$nulls":5},{"$f":"IF(M29=\"A\",IF(B29=\"\",\"\",IF($N$3=\"Lundi\",Congés_auto!S64,IF($N$3=\"Mardi\",Congés_auto!T64,IF($N$3=\"Mercredi\",Congés_auto!U64,IF($N$3=\"Jeudi\",Congés_auto!V64,IF($N$3=\"Vendredi\",Congés_auto!W64,IF($N$3=\"Samedi\",Congés_auto!X64,0))))))),IF(B29=\"\",\"\",IF($P$3=\"Lundi\",Congés_auto!S64,IF($P$3=\"Mardi\",Congés_auto!T64,IF($P$3=\"Mercredi\",Congés_auto!U64,IF($P$3=\"Jeudi\",Congés_auto!V64,IF($P$3=\"Vendredi\",Congés_auto!W64,IF($P$3=\"Samedi\",Congés_auto!X64,0))))))))","v":"2019-04-16"},{"$nulls":3},2,"B"]
[27,14,{"$nulls":5},{"$f":"IF(M30=\"A\",IF(B30=\"\",\"\",IF($N$3=\"Lundi\",Congés_auto!S65,IF($N$3=\"Mardi\",Congés_auto!T65,IF($N$3=\"Mercredi\",Congés_auto!U65,IF($N$3=\"Jeudi\",Congés_auto!V65,IF($N$3=\"Vendredi\",Congés_auto!W65,IF($N$3=\"Samedi\",Congés_auto!X65,0))))))),IF(B30=\"\",\"\",IF($P$3=\"Lundi\",Congés_auto!S65,IF($P$3=\"Mardi\",Congés_auto!T65,IF($P$3=\"Mercredi\",Congés_auto!U65,IF($P$3=\"Jeudi\",Congés_auto!V65,IF($P$3=\"Vendredi\",Congés_auto!W65,IF($P$3=\"Samedi\",Congés_auto!X65,0))))))))","v":"2019-04-23"},{"$nulls":3},1,"A"]
[28,14,{"$nulls":5},{"$f":"IF(M31=\"A\",IF(B31=\"\",\"\",IF($N$3=\"Lundi\",Congés_auto!S66,IF($N$3=\"Mardi\",Congés_auto!T66,IF($N$3=\"Mercredi\",Congés_auto!U66,IF($N$3=\"Jeudi\",Congés_auto!V66,IF($N$3=\"Vendredi\",Congés_auto!W66,IF($N$3=\"Samedi\",Congés_auto!X66,0))))))),IF(B31=\"\",\"\",IF($P$3=\"Lundi\",Congés_auto!S66,IF($P$3=\"Mardi\",Congés_auto!T66,IF($P$3=\"Mercredi\",Congés_auto!U66,IF($P$3=\"Jeudi\",Congés_auto!V66,IF($P$3=\"Vendredi\",Congés_auto!W66,IF($P$3=\"Samedi\",Congés_auto!X66,0))))))))","v":"2019-04-30"},{"$nulls":3},2,"B"]
[29,15,{"$nulls":5},{"$f":"IF(M32=\"A\",IF(B32=\"\",\"\",IF($N$3=\"Lundi\",Congés_auto!S67,IF($N$3=\"Mardi\",Congés_auto!T67,IF($N$3=\"Mercredi\",Congés_auto!U67,IF($N$3=\"Jeudi\",Congés_auto!V67,IF($N$3=\"Vendredi\",Congés_auto!W67,IF($N$3=\"Samedi\",Congés_auto!X67,0))))))),IF(B32=\"\",\"\",IF($P$3=\"Lundi\",Congés_auto!S67,IF($P$3=\"Mardi\",Congés_auto!T67,IF($P$3=\"Mercredi\",Congés_auto!U67,IF($P$3=\"Jeudi\",Congés_auto!V67,IF($P$3=\"Vendredi\",Congés_auto!W67,IF($P$3=\"Samedi\",Congés_auto!X67,0))))))))","v":"2019-05-21"},{"$nulls":3},1,"A"]
[30,15,{"$nulls":5},{"$f":"IF(M33=\"A\",IF(B33=\"\",\"\",IF($N$3=\"Lundi\",Congés_auto!S68,IF($N$3=\"Mardi\",Congés_auto!T68,IF($N$3=\"Mercredi\",Congés_auto!U68,IF($N$3=\"Jeudi\",Congés_auto!V68,IF($N$3=\"Vendredi\",Congés_auto!W68,IF($N$3=\"Samedi\",Congés_auto!X68,0))))))),IF(B33=\"\",\"\",IF($P$3=\"Lundi\",Congés_auto!S68,IF($P$3=\"Mardi\",Congés_auto!T68,IF($P$3=\"Mercredi\",Congés_auto!U68,IF($P$3=\"Jeudi\",Congés_auto!V68,IF($P$3=\"Vendredi\",Congés_auto!W68,IF($P$3=\"Samedi\",Congés_auto!X68,0))))))))","v":"2019-05-28"},{"$nulls":3},2,"B"]
[31,16,{"$nulls":5},{"$f":"IF(M34=\"A\",IF(B34=\"\",\"\",IF($N$3=\"Lundi\",Congés_auto!S69,IF($N$3=\"Mardi\",Congés_auto!T69,IF($N$3=\"Mercredi\",Congés_auto!U69,IF($N$3=\"Jeudi\",Congés_auto!V69,IF($N$3=\"Vendredi\",Congés_auto!W69,IF($N$3=\"Samedi\",Congés_auto!X69,0))))))),IF(B34=\"\",\"\",IF($P$3=\"Lundi\",Congés_auto!S69,IF($P$3=\"Mardi\",Congés_auto!T69,IF($P$3=\"Mercredi\",Congés_auto!U69,IF($P$3=\"Jeudi\",Congés_auto!V69,IF($P$3=\"Vendredi\",Congés_auto!W69,IF($P$3=\"Samedi\",Congés_auto!X69,0))))))))","v":"2019-06-04"},{"$nulls":3},1,"A"]
[32,16,{"$nulls":5},{"$f":"IF(M35=\"A\",IF(B35=\"\",\"\",IF($N$3=\"Lundi\",Congés_auto!S70,IF($N$3=\"Mardi\",Congés_auto!T70,IF($N$3=\"Mercredi\",Congés_auto!U70,IF($N$3=\"Jeudi\",Congés_auto!V70,IF($N$3=\"Vendredi\",Congés_auto!W70,IF($N$3=\"Samedi\",Congés_auto!X70,0))))))),IF(B35=\"\",\"\",IF($P$3=\"Lundi\",Congés_auto!S70,IF($P$3=\"Mardi\",Congés_auto!T70,IF($P$3=\"Mercredi\",Congés_auto!U70,IF($P$3=\"Jeudi\",Congés_auto!V70,IF($P$3=\"Vendredi\",Congés_auto!W70,IF($P$3=\"Samedi\",Congés_auto!X70,0))))))))","v":"2019-06-11"},{"$nulls":3},2,"B"]
[33,17,{"$nulls":5},{"$f":"IF(M36=\"A\",IF(B36=\"\",\"\",IF($N$3=\"Lundi\",Congés_auto!S71,IF($N$3=\"Mardi\",Congés_auto!T71,IF($N$3=\"Mercredi\",Congés_auto!U71,IF($N$3=\"Jeudi\",Congés_auto!V71,IF($N$3=\"Vendredi\",Congés_auto!W71,IF($N$3=\"Samedi\",Congés_auto!X71,0))))))),IF(B36=\"\",\"\",IF($P$3=\"Lundi\",Congés_auto!S71,IF($P$3=\"Mardi\",Congés_auto!T71,IF($P$3=\"Mercredi\",Congés_auto!U71,IF($P$3=\"Jeudi\",Congés_auto!V71,IF($P$3=\"Vendredi\",Congés_auto!W71,IF($P$3=\"Samedi\",Congés_auto!X71,0))))))))","v":"2019-06-18"},{"$nulls":3},1,"A"]
[34,17,{"$nulls":5},{"$f":"IF(M37=\"A\",IF(B37=\"\",\"\",IF($N$3=\"Lundi\",Congés_auto!S72,IF($N$3=\"Mardi\",Congés_auto!T72,IF($N$3=\"Mercredi\",Congés_auto!U72,IF($N$3=\"Jeudi\",Congés_auto!V72,IF($N$3=\"Vendredi\",Congés_auto!W72,IF($N$3=\"Samedi\",Congés_auto!X72,0))))))),IF(B37=\"\",\"\",IF($P$3=\"Lundi\",Congés_auto!S72,IF($P$3=\"Mardi\",Congés_auto!T72,IF($P$3=\"Mercredi\",Congés_auto!U72,IF($P$3=\"Jeudi\",Congés_auto!V72,IF($P$3=\"Vendredi\",Congés_auto!W72,IF($P$3=\"Samedi\",Congés_auto!X72,0))))))))","v":"2019-06-25"},{"$nulls":3},2,"B"]
[35,{"$f":"IF(OR($O$4=1,$O$4=2),$AA127,IF(OR($O$4=3,$O$4=4),$AC127,IF(OR($O$4=5,$O$4=6),$AE127,IF(OR($O$4=7,$O$4=8),$AG127,\"\"))))","v":18},{"$nulls":9},1,"A"]
[36,18,{"$nulls":5},{"$f":"IF(M39=\"A\",IF(B39=\"\",\"\",IF($N$3=\"Lundi\",Congés_auto!S74,IF($N$3=\"Mardi\",Congés_auto!T74,IF($N$3=\"Mercredi\",Congés_auto!U74,IF($N$3=\"Jeudi\",Congés_auto!V74,IF($N$3=\"Vendredi\",Congés_auto!W74,IF($N$3=\"Samedi\",Congés_auto!X74,0))))))),IF(B39=\"\",\"\",IF($P$3=\"Lundi\",Congés_auto!S74,IF($P$3=\"Mardi\",Congés_auto!T74,IF($P$3=\"Mercredi\",Congés_auto!U74,IF($P$3=\"Jeudi\",Congés_auto!V74,IF($P$3=\"Vendredi\",Congés_auto!W74,IF($P$3=\"Samedi\",Congés_auto!X74,0))))))))","v":"2019-08-20"},{"$nulls":3},2,"B"]
[]
[]
[null,null,"Binôme avec :"]
{"$rows_empty":22}
[{"$nulls":28},"Modifier u2 et w2 - Planning pour 8 ou 6 grp",{"$nulls":6},"Sem B 2h",null,"NON"]
[{"$nulls":27},"Planning",{"$f":"T1","v":0},null,null,{"$f":"N3","v":"Mardi"},{"$nulls":10},0]
[]
[{"$nulls":26},{"$f":"Z93","v":"2018-08-21"},{"$f":"OFFSET($Z$93,AA73,0)","v":"2018-08-28"},{"$f":"OFFSET($Z$93,AB73,0)","v":"2018-09-04"},"2018-09-11","2018-09-18","2018-09-25","2018-10-02","2018-10-09","2018-10-30","2018-11-06","2018-11-13","2018-11-20","2018-11-27","2018-12-04","2018-12-11","2018-12-18","2019-01-29","2019-02-05","2019-02-19","2019-02-26","2019-03-05","2019-03-26","2019-04-02","2019-04-09","2019-04-16","2019-04-23","2019-04-30","2019-05-21","2019-05-28","2019-06-04","2019-06-11","2019-06-18","2019-06-25","00:00:00","2019-08-20","00:00:00"]
[]
[]
[]
[{"$nulls":24},"Temps",null,2,2,2,2,2,2,2,2,2,2,2,2,2,2,2,2,2,2,2,2,2,2,2,2,2,2,2,2,2,2,2,2,2,2,2,2]
[{"$nulls":25},"Semaine",1,{"$f":"AA73+1","v":2},{"$f":"AB73+1","v":3},4,5,6,7,8,9,10,11,12,13,14,15,16,17,18,{"$f":"AR73+1","v":19},{"$f":"AS73+1","v":20},21,22,23,24,25,26,27,28,29,30,31,32,33,34,35,36]
[{"$nulls":25},"Grp  1",1,1,{"$f":"AA74+1","v":2},{"$f":"AB74+1","v":2},3,3,4,4,5,5,6,6,7,7,8,8,9,9,10,{"$f":"AR74+1","v":10},11,11,12,12,13,13,14,14,15,15,16,16,17,17,18,{"$f":"BH74+1","v":18}]
[{"$nulls":25},"Grp  2",1,1,{"$f":"AA75+1","v":2},2,3,3,4,4,5,5,6,6,7,7,8,8,9,9,10,10,11,11,12,12,13,13,14,14,15,15,16,16,17,17,18,18]
[{"$nulls":23},"FREQUENCE(A1:A30;{1,8;2,7})",null,"Grp  3",1,1,2,2,3,3,4,4,5,5,6,6,7,7,8,8,9,9,10,10,11,11,12,12,13,13,14,14,15,15,16,16,17,17,18,18]
[{"$nulls":25},"Grp  4",1,2,2,3,3,4,4,5,5,6,6,7,7,8,8,9,9,10,10,11,11,12,12,13,13,14,14,15,15,16,16,17,17,18,18,19]
[{"$nulls":25},"Grp  5",1,2,2,3,3,4,4,5,5,6,6,7,7,8,8,9,9,10,10,11,11,12,12,13,13,14,14,15,15,16,16,17,17,18,18,19]
[{"$nulls":25},"Grp  6",1,2,2,3,3,4,4,5,5,6,6,7,7,8,8,9,9,10,10,11,11,12,12,13,13,14,14,15,15,16,16,17,17,18,18,19]
[{"$nulls":25},"Grp  7",1,2,2,3,3,4,4,5,5,6,6,7,7,8,8,9,9,10,10,11,11,12,12,13,13,14,14,15,15,16,16,17,17,18,18,19]
[{"$nulls":25},"Grp  8",1,2,2,3,3,4,4,5,5,6,6,7,7,8,8,9,9,10,10,11,11,12,12,13,13,14,14,15,15,16,16,17,17,18,18,19]
[{"$nulls":33},"DT1 --> 0,5 h",{"$nulls":6},"DT2 --> 1 h"]
[{"$nulls":33},"Travail noté"]
[]
[{"$nulls":23},{"$f":"CONCATENATE(AJ86,Y87)","v":"01"},"Les groupes"]
[{"$nulls":30},{"$f":"IF(LEFT(T1,1)=\"3\",\"Troisième\",IF(LEFT(T1,1)=\"4\",\"Quatrième\",IF(LEFT(T1,1)=\"5\",\"Cinquiéme\",\"Sixième\")))","v":"Sixième"},{"$nulls":4},{"$f":"T1","v":0},null,null,{"$f":"N3","v":"Mardi"},{"$nulls":4},{"$f":"O3","v":0}]
[{"$nulls":17},{"$error":"#N/A"},{"$error":"#N/A"},{"$error":"#N/A"},{"$error":"#N/A"},{"$error":"#N/A"},1,null,1,{"$f":"IF(ISNA(R87),\"\",R87)&\"  --  \"&IF(ISNA(S87),\"\",S87)&\" --  \"&IF(ISNA(T87),\"\",T87)&\" --  \"&IF(ISNA(U87),\"\",U87)&\"  --  \"&IF(ISNA(V87),\"\",V87)","v":"  --   --   --    --  "},{"$nulls":12},5,{"$f":"IF(ISNA(R91),\"\",R91)&\"  --  \"&IF(ISNA(S91),\"\",S91)&\" --  \"&IF(ISNA(T91),\"\",T91)&\" --  \"&IF(ISNA(U91),\"\",U91)&\"  --  \"&IF(ISNA(V91),\"\",V91)","v":"  --   --   --    --  "}]
[{"$nulls":17},{"$error":"#N/A"},{"$error":"#N/A"},{"$error":"#N/A"},{"$error":"#N/A"},{"$error":"#N/A"},2,null,2,{"$f":"IF(ISNA(R88),\"\",R88)&\"  --  \"&IF(ISNA(S88),\"\",S88)&\" --  \"&IF(ISNA(T88),\"\",T88)&\" --  \"&IF(ISNA(U88),\"\",U88)&\"  --  \"&IF(ISNA(V88),\"\",V88)","v":"  --   --   --    --  "},{"$nulls":12},6,{"$f":"IF(ISNA(R92),\"\",R92)&\"  --  \"&IF(ISNA(S92),\"\",S92)&\" --  \"&IF(ISNA(T92),\"\",T92)&\" --  \"&IF(ISNA(U92),\"\",U92)&\"  --  \"&IF(ISNA(V92),\"\",V92)","v":"  --   --   --    --  "}]
[{"$nulls":17},{"$error":"#N/A"},{"$error":"#N/A"},{"$error":"#N/A"},{"$error":"#N/A"},{"$error":"#N/A"},3,null,3,{"$f":"IF(ISNA(R89),\"\",R89)&\"  --  \"&IF(ISNA(S89),\"\",S89)&\" --  \"&IF(ISNA(T89),\"\",T89)&\" --  \"&IF(ISNA(U89),\"\",U89)&\"  --  \"&IF(ISNA(V89),\"\",V89)","v":"  --   --   --    --  "},{"$nulls":12},7,{"$f":"IF(ISNA(R93),\"\",R93)&\"  --  \"&IF(ISNA(S93),\"\",S93)&\" --  \"&IF(ISNA(T93),\"\",T93)&\" --  \"&IF(ISNA(U93),\"\",U93)&\"  --  \"&IF(ISNA(V93),\"\",V93)","v":"  --   --   --    --  "}]
[{"$nulls":17},{"$error":"#N/A"},{"$error":"#N/A"},{"$error":"#N/A"},{"$error":"#N/A"},{"$error":"#N/A"},4,null,4,{"$f":"IF(ISNA(R90),\"\",R90)&\"  --  \"&IF(ISNA(S90),\"\",S90)&\" --  \"&IF(ISNA(T90),\"\",T90)&\" --  \"&IF(ISNA(U90),\"\",U90)&\"  --  \"&IF(ISNA(V90),\"\",V90)","v":"  --   --   --    --  "},{"$nulls":12},8,{"$f":"IF(ISNA(R94),\"\",R94)&\"  --  \"&IF(ISNA(S94),\"\",S94)&\" --  \"&IF(ISNA(T94),\"\",T94)&\" --  \"&IF(ISNA(U94),\"\",U94)&\"  --  \"&IF(ISNA(V94),\"\",V94)","v":"  --   --   --    --  "}]
[{"$nulls":17},{"$error":"#N/A"},{"$error":"#N/A"},{"$error":"#N/A"},{"$error":"#N/A"},{"$error":"#N/A"},5,{"$nulls":3},"Groupe et N° activité",{"$nulls":7},"Les activités par groupes"]
[{"$nulls":17},{"$error":"#N/A"},{"$error":"#N/A"},{"$error":"#N/A"},{"$error":"#N/A"},{"$error":"#N/A"},null,null,"N° Sem",{"$f":"TEXT(Z93,\"jjjj\")","v":"jjjj"},"G 1","G2","G3","G4","G5","G6","G7","G8"]
[{"$nulls":17},{"$error":"#N/A"},{"$error":"#N/A"},{"$error":"#N/A"},{"$error":"#N/A"},{"$error":"#N/A"},null,null,1,{"$f":"H4","v":"2018-08-21"},{"$f":"AA74","v":1},{"$f":"AA75","v":1},{"$f":"AA76","v":1},{"$f":"AA77","v":1},{"$f":"AA78","v":1},{"$f":"AA79","v":1},{"$f":"AA80","v":1},{"$f":"AA81","v":1},"Accueil - organisation - rotation et planning  - Départ de l' activité \" Présentation du classeur\"",{"$nulls":11},1]
[{"$nulls":17},{"$error":"#N/A"},{"$error":"#N/A"},{"$error":"#N/A"},{"$error":"#N/A"},{"$error":"#N/A"},null,null,{"$f":"Y93+1","v":2},{"$f":"H5","v":"2018-08-28"},{"$f":"IF(OFFSET($AA$74,0,$Y93)=41,\"\",OFFSET($AA$74,0,$Y93))","v":1},{"$f":"IF(OFFSET($AA$74,$Y$93,$Y93)=41,\"\",OFFSET($AA$74,$Y$93,$Y93))","v":1},{"$f":"IF(OFFSET($AA$74,$Y$94,$Y93)=41,\"\",OFFSET($AA$74,$Y$94,$Y93))","v":1},{"$f":"IF(OFFSET($AA$74,$Y$95,$Y93)=41,\"\",OFFSET($AA$74,$Y$95,$Y93))","v":2},{"$f":"IF(OFFSET($AA$74,$Y$96,$Y93)=41,\"\",OFFSET($AA$74,$Y$96,$Y93))","v":2},{"$f":"IF(OFFSET($AA$74,$Y$97,$Y93)=41,\"\",OFFSET($AA$74,$Y$97,$Y93))","v":2},{"$f":"IF(OFFSET($AA$74,$Y$98,$Y93)=41,\"\",OFFSET($AA$74,$Y$98,$Y93))","v":2},{"$f":"IF(OFFSET($AA$74,$Y$99,$Y93)=41,\"\",OFFSET($AA$74,$Y$99,$Y93))","v":2},{"$error":"#VALUE!"},{"$nulls":5},{"$error":"#VALUE!"},{"$nulls":5},{"$f":"AU93+1","v":2}]
[{"$nulls":17},{"$error":"#N/A"},{"$error":"#N/A"},{"$error":"#N/A"},{"$error":"#N/A"},{"$error":"#N/A"},null,null,{"$f":"Y94+1","v":3},"2018-09-04",{"$f":"IF(OFFSET($AA$74,0,$Y94)=41,\"\",OFFSET($AA$74,0,$Y94))","v":2},{"$f":"IF(OFFSET($AA$74,$Y$93,$Y94)=41,\"\",OFFSET($AA$74,$Y$93,$Y94))","v":2},{"$f":"IF(OFFSET($AA$74,$Y$94,$Y94)=41,\"\",OFFSET($AA$74,$Y$94,$Y94))","v":2},{"$f":"IF(OFFSET($AA$74,$Y$95,$Y94)=41,\"\",OFFSET($AA$74,$Y$95,$Y94))","v":2},{"$f":"IF(OFFSET($AA$74,$Y$96,$Y94)=41,\"\",OFFSET($AA$74,$Y$96,$Y94))","v":2},{"$f":"IF(OFFSET($AA$74,$Y$97,$Y94)=41,\"\",OFFSET($AA$74,$Y$97,$Y94))","v":2},{"$f":"IF(OFFSET($AA$74,$Y$98,$Y94)=41,\"\",OFFSET($AA$74,$Y$98,$Y94))","v":2},{"$f":"IF(OFFSET($AA$74,$Y$99,$Y94)=41,\"\",OFFSET($AA$74,$Y$99,$Y94))","v":2},{"$error":"#VALUE!"},{"$nulls":5},{"$error":"#VALUE!"},{"$nulls":5},{"$f":"AU94+1","v":3}]
[{"$nulls":24},4,"2018-09-11",2,2,2,3,3,3,3,3,{"$error":"#VALUE!"},{"$nulls":5},{"$error":"#VALUE!"},{"$nulls":5},4]
[{"$nulls":24},5,"2018-09-18",3,3,3,3,3,3,3,3,{"$error":"#VALUE!"},{"$nulls":5},{"$error":"#VALUE!"},{"$nulls":5},5]
[{"$nulls":24},6,"2018-09-25",3,3,3,4,4,4,4,4,{"$error":"#VALUE!"},{"$nulls":5},{"$error":"#VALUE!"},{"$nulls":5},6]
[{"$nulls":24},7,"2018-10-02",4,4,4,4,4,4,4,4,{"$error":"#VALUE!"},{"$nulls":5},{"$error":"#VALUE!"},{"$nulls":5},7]
[{"$nulls":24},8,"2018-10-09",4,4,4,5,5,5,5,5,{"$error":"#VALUE!"},{"$nulls":5},{"$error":"#VALUE!"},{"$nulls":5},8]
[{"$nulls":24},9,"2018-10-30",5,5,5,5,5,5,5,5,{"$error":"#VALUE!"},{"$nulls":5},{"$error":"#VALUE!"},{"$nulls":5},9]
[{"$nulls":24},10,"2018-11-06",5,5,5,6,6,6,6,6,{"$error":"#VALUE!"},{"$nulls":5},{"$error":"#VALUE!"},{"$nulls":5},10]
[{"$nulls":24},11,"2018-11-13",6,6,6,6,6,6,6,6,{"$error":"#VALUE!"},{"$nulls":5},{"$error":"#VALUE!"},{"$nulls":5},11]
[{"$nulls":24},12,"2018-11-20",6,6,6,7,7,7,7,7,{"$error":"#VALUE!"},{"$nulls":5},{"$error":"#VALUE!"},{"$nulls":5},12]
[{"$nulls":24},13,"2018-11-27",7,7,7,7,7,7,7,7,{"$error":"#VALUE!"},{"$nulls":5},{"$error":"#VALUE!"},{"$nulls":5},13]
[{"$nulls":24},14,"2018-12-04",7,7,7,8,8,8,8,8,{"$error":"#VALUE!"},{"$nulls":5},{"$error":"#VALUE!"},{"$nulls":5},14]
[{"$nulls":24},15,"2018-12-11",8,8,8,8,8,8,8,8,{"$error":"#VALUE!"},{"$nulls":5},{"$error":"#VALUE!"},{"$nulls":5},15]
[{"$nulls":24},16,"2018-12-18",8,8,8,9,9,9,9,9,{"$error":"#VALUE!"},{"$nulls":5},{"$error":"#VALUE!"},{"$nulls":5},16]
[{"$nulls":24},17,"2019-01-29",9,9,9,9,9,9,9,9,{"$error":"#VALUE!"},{"$nulls":5},{"$error":"#VALUE!"},{"$nulls":5},17]
[{"$nulls":24},18,"2019-02-05",9,9,9,10,10,10,10,10,{"$error":"#VALUE!"},{"$nulls":5},{"$error":"#VALUE!"},{"$nulls":5},18]
[{"$nulls":24},19,{"$f":"H23","v":"2019-02-19"},10,10,10,10,10,10,10,10,{"$error":"#VALUE!"},{"$nulls":5},{"$error":"#VALUE!"},{"$nulls":5},19]
[{"$nulls":24},20,"2019-02-26",10,10,10,11,11,11,11,11,{"$error":"#VALUE!"},{"$nulls":5},{"$error":"#VALUE!"},{"$nulls":5},20]
[{"$nulls":24},21,"2019-03-05",11,11,11,11,11,11,11,11,{"$error":"#VALUE!"},{"$nulls":5},{"$error":"#VALUE!"},{"$nulls":5},21]
[{"$nulls":24},22,"2019-03-26",11,11,11,12,12,12,12,12,{"$error":"#VALUE!"},{"$nulls":5},{"$error":"#VALUE!"},{"$nulls":5},22]
[{"$nulls":24},23,"2019-04-02",12,12,12,12,12,12,12,12,{"$error":"#VALUE!"},{"$nulls":5},{"$error":"#VALUE!"},{"$nulls":5},23]
[{"$nulls":24},24,"2019-04-09",12,12,12,13,13,13,13,13,{"$error":"#VALUE!"},{"$nulls":5},{"$error":"#VALUE!"},{"$nulls":5},24]
[{"$nulls":24},25,"2019-04-16",13,13,13,13,13,13,13,13,{"$error":"#VALUE!"},{"$nulls":5},{"$error":"#VALUE!"},{"$nulls":5},25]
[{"$nulls":24},26,"2019-04-23",13,13,13,14,14,14,14,14,{"$error":"#VALUE!"},{"$nulls":5},{"$error":"#VALUE!"},{"$nulls":5},26]
[{"$nulls":24},27,"2019-04-30",14,14,14,14,14,14,14,14,{"$error":"#VALUE!"},{"$nulls":5},{"$error":"#VALUE!"},{"$nulls":5},27]
[{"$nulls":24},28,"2019-05-21",14,14,14,15,15,15,15,15,{"$error":"#VALUE!"},{"$nulls":5},{"$error":"#VALUE!"},{"$nulls":5},28]
[{"$nulls":24},29,"2019-05-28",15,15,15,15,15,15,15,15,{"$error":"#VALUE!"},{"$nulls":5},"",{"$nulls":5},29]
[{"$nulls":24},30,"2019-06-04",15,15,15,16,16,16,16,16,{"$error":"#VALUE!"},{"$nulls":5},{"$error":"#VALUE!"},{"$nulls":5},30]
[{"$nulls":24},31,"2019-06-11",16,16,16,16,16,16,16,16,{"$error":"#VALUE!"},{"$nulls":5},{"$error":"#VALUE!"},{"$nulls":5},31]
[{"$nulls":24},32,"2019-06-18",16,16,16,17,17,17,17,17,{"$error":"#VALUE!"},{"$nulls":5},{"$error":"#VALUE!"},{"$nulls":5},32]
[{"$nulls":24},33,"2019-06-25",17,17,17,17,17,17,17,17,{"$error":"#VALUE!"},{"$nulls":5},"",{"$nulls":5},33]
[{"$nulls":24},34,"00:00:00",17,17,17,18,18,18,18,18,{"$error":"#VALUE!"},{"$nulls":5},{"$error":"#VALUE!"},{"$nulls":5},34]
[{"$nulls":24},35,"2019-08-20",18,18,18,18,18,18,18,18,{"$error":"#VALUE!"},{"$nulls":5},{"$error":"#VALUE!"},{"$nulls":5},35]
[{"$nulls":24},36,null,18,18,18,19,19,19,19,19,{"$error":"#VALUE!"},{"$nulls":5},"",{"$nulls":5},36]

{"sheet":"403","index":7,"n_rows":128,"n_cols":62,"rows_kept":128,"merged":[[0,13,0,15],[1,17,2,18],[2,3,2,6],[2,13,2,14],[2,15,2,16],[3,2,3,6],[3,7,3,8],[4,2,4,6],[4,7,4,8],[5,2,5,6],[5,7,5,8],[6,2,6,6],[6,7,6,8],[7,2,7,6],[7,7,7,8],[8,2,8,6],[8,7,8,8],[9,2,9,6],[9,7,9,8],[10,2,10,6],[10,7,10,8],[11,2,11,6],[11,7,11,8],[12,2,12,6],[12,7,12,8],[13,2,13,6],[13,7,13,8],[14,2,14,6],[14,7,14,8],[15,2,15,6],[15,7,15,8],[16,2,16,6],[16,7,16,8],[17,2,17,6],[17,7,17,8],[18,2,18,6],[18,7,18,8],[19,2,19,6],[19,7,19,8],[20,2,20,6],[20,7,20,8],[21,2,21,6],[21,7,21,8],[22,2,22,6],[22,7,22,8],[23,2,23,6],[23,7,23,8],[24,2,24,6],[24,7,24,8],[25,2,25,6],[25,7,25,8],[26,2,26,6],[26,7,26,8],[27,2,27,6],[27,7,27,8],[28,2,28,6],[28,7,28,8],[29,2,29,6],[29,7,29,8],[30,2,30,6],[30,7,30,8],[31,2,31,6],[31,7,31,8],[32,2,32,6],[32,7,32,8],[33,2,33,6],[33,7,33,8],[34,2,34,6],[34,7,34,8],[35,2,35,6],[35,7,35,8],[36,2,36,6],[36,7,36,8],[37,7,37,8],[38,2,38,6],[38,7,38,8],[65,28,65,29],[67,26,70,26],[67,27,70,27],[67,28,70,28],[67,29,70,29],[67,30,70,30],[67,31,70,31],[67,32,70,32],[67,33,70,33],[67,34,70,34],[67,35,70,35],[67,36,70,36],[67,37,70,37],[67,38,70,38],[67,39,70,39],[67,40,70,40],[67,41,70,41],[67,42,70,42],[67,43,70,43],[67,44,70,44],[67,45,70,45],[67,46,70,46],[67,47,70,47],[67,48,70,48],[67,49,70,49],[67,50,70,50],[67,51,70,51],[67,52,70,52],[67,53,70,53],[67,54,70,54],[67,55,70,55],[67,56,70,56],[67,57,70,57],[67,58,70,58],[67,59,70,59],[67,60,70,60],[67,61,70,61],[71,24,71,25],[84,24,84,45],[85,38,85,41],[86,25,86,36],[86,39,86,45],[87,25,87,36],[87,39,87,45],[88,25,88,36],[88,39,88,45],[89,25,89,36],[89,39,89,45],[90,26,90,33],[90,34,91,45],[92,34,92,45],[93,34,93,39],[93,40,93,45],[94,34,94,39],[94,40,94,45],[95,34,95,39],[95,40,95,45],[96,34,96,39],[96,40,96,45],[97,34,97,39],[97,40,97,45],[98,34,98,39],[98,40,98,45],[99,34,99,39],[99,40,99,45],[100,34,100,39],[100,40,100,45],[101,34,101,39],[101,40,101,45],[102,34,102,39],[102,40,102,45],[103,34,103,39],[103,40,103,45],[104,34,104,39],[104,40,104,45],[105,34,105,39],[105,40,105,45],[106,34,106,39],[106,40,106,45],[107,34,107,39],[107,40,107,45],[108,34,108,39],[108,40,108,45],[109,34,109,39],[109,40,109,45],[110,34,110,39],[110,40,110,45],[111,34,111,39],[111,40,111,45],[112,34,112,39],[112,40,112,45],[113,34,113,39],[113,40,113,45],[114,34,114,39],[114,40,114,45],[115,34,115,39],[115,40,115,45],[116,34,116,39],[116,40,116,45],[117,34,117,39],[117,40,117,45],[118,34,118,39],[118,40,118,45],[119,34,119,39],[119,40,119,45],[120,34,120,39],[120,40,120,45],[121,34,121,39],[121,40,121,45],[122,34,122,39],[122,40,122,45],[123,34,123,39],[123,40,123,45],[124,34,124,39],[124,40,124,45],[125,34,125,39],[125,40,125,45],[126,34,126,39],[126,40,126,45],[127,34,127,39],[127,40,127,45],[129,24,129,36],[130,25,130,36],[130,39,130,45],[131,25,131,36],[131,39,131,45],[132,25,132,36],[132,39,132,45],[133,25,133,36],[133,39,133,45]]}
[{"$nulls":3},"NOM :",{"$nulls":9},"Fond vert = cellules modifiables",{"$nulls":9},"affichage glissant sur 5 semaines"]
[{"$nulls":22},1]
["Cor / Synt","N°",null,{"$f":"\"TECHNOLOGIE  \"&YEAR(H4)&\"  -  \"&YEAR(H4)+1&\"  \"&\n\"    - N° et titre de l'activité\"","v":"TECHNOLOGIE  2018  -  2019      - N° et titre de l'activité"},{"$nulls":7},"Temps / H","Semaine","Vendredi",null,"Mardi",{"$nulls":7},1]
[1,1,{"$nulls":5},{"$f":"IF(M4=\"A\",IF(B4=\"\",\"\",IF($N$3=\"Lundi\",Congés_auto!S39,IF($N$3=\"Mardi\",Congés_auto!T39,IF($N$3=\"Mercredi\",Congés_auto!U39,IF($N$3=\"Jeudi\",Congés_auto!V39,IF($N$3=\"Vendredi\",Congés_auto!W39,IF($N$3=\"Samedi\",Congés_auto!X39,0))))))),IF(B4=\"\",\"\",IF($P$3=\"Lundi\",Congés_auto!S39,IF($P$3=\"Mardi\",Congés_auto!T39,IF($P$3=\"Mercredi\",Congés_auto!U39,IF($P$3=\"Jeudi\",Congés_auto!V39,IF($P$3=\"Vendredi\",Congés_auto!W39,IF($P$3=\"Samedi\",Congés_auto!X39,0))))))))","v":"2018-08-24"},{"$nulls":3},2,"A","GROUPE",1]
[{"$f":"A4+1","v":2},{"$f":"IF(OR($O$4=1,$O$4=2),$AA94,IF(OR($O$4=3,$O$4=4),$AC94,IF(OR($O$4=5,$O$4=6),$AE94,IF(OR($O$4=7,$O$4=8),$AG94,\"\"))))","v":1},{"$nulls":5},{"$f":"IF(M5=\"A\",IF(B5=\"\",\"\",IF($N$3=\"Lundi\",Congés_auto!S40,IF($N$3=\"Mardi\",Congés_auto!T40,IF($N$3=\"Mercredi\",Congés_auto!U40,IF($N$3=\"Jeudi\",Congés_auto!V40,IF($N$3=\"Vendredi\",Congés_auto!W40,IF($N$3=\"Samedi\",Congés_auto!X40,0))))))),IF(B5=\"\",\"\",IF($P$3=\"Lundi\",Congés_auto!S40,IF($P$3=\"Mardi\",Congés_auto!T40,IF($P$3=\"Mercredi\",Congés_auto!U40,IF($P$3=\"Jeudi\",Congés_auto!V40,IF($P$3=\"Vendredi\",Congés_auto!W40,IF($P$3=\"Samedi\",Congés_auto!X40,0))))))))","v":"2018-08-28"},{"$nulls":3},{"$f":"IF(L4=1,2,1)","v":1},{"$f":"IF(M4=\"A\",\"B\",\"A\")","v":"B"}]
[{"$f":"A5+1","v":3},2,{"$nulls":5},{"$f":"IF(M6=\"A\",IF(B6=\"\",\"\",IF($N$3=\"Lundi\",Congés_auto!S41,IF($N$3=\"Mardi\",Congés_auto!T41,IF($N$3=\"Mercredi\",Congés_auto!U41,IF($N$3=\"Jeudi\",Congés_auto!V41,IF($N$3=\"Vendredi\",Congés_auto!W41,IF($N$3=\"Samedi\",Congés_auto!X41,0))))))),IF(B6=\"\",\"\",IF($P$3=\"Lundi\",Congés_auto!S41,IF($P$3=\"Mardi\",Congés_auto!T41,IF($P$3=\"Mercredi\",Congés_auto!U41,IF($P$3=\"Jeudi\",Congés_auto!V41,IF($P$3=\"Vendredi\",Congés_auto!W41,IF($P$3=\"Samedi\",Congés_auto!X41,0))))))))","v":"2018-09-07"},{"$nulls":3},{"$f":"IF(L5=1,2,1)","v":2},{"$f":"IF(M5=\"A\",\"B\",\"A\")","v":"A"}]
[4,2,{"$nulls":5},{"$f":"IF(M7=\"A\",IF(B7=\"\",\"\",IF($N$3=\"Lundi\",Congés_auto!S42,IF($N$3=\"Mardi\",Congés_auto!T42,IF($N$3=\"Mercredi\",Congés_auto!U42,IF($N$3=\"Jeudi\",Congés_auto!V42,IF($N$3=\"Vendredi\",Congés_auto!W42,IF($N$3=\"Samedi\",Congés_auto!X42,0))))))),IF(B7=\"\",\"\",IF($P$3=\"Lundi\",Congés_auto!S42,IF($P$3=\"Mardi\",Congés_auto!T42,IF($P$3=\"Mercredi\",Congés_auto!U42,IF($P$3=\"Jeudi\",Congés_auto!V42,IF($P$3=\"Vendredi\",Congés_auto!W42,IF($P$3=\"Samedi\",Congés_auto!X42,0))))))))","v":"2018-09-11"},{"$nulls":3},1,"B"]
[5,3,{"$nulls":5},{"$f":"IF(M8=\"A\",IF(B8=\"\",\"\",IF($N$3=\"Lundi\",Congés_auto!S43,IF($N$3=\"Mardi\",Congés_auto!T43,IF($N$3=\"Mercredi\",Congés_auto!U43,IF($N$3=\"Jeudi\",Congés_auto!V43,IF($N$3=\"Vendredi\",Congés_auto!W43,IF($N$3=\"Samedi\",Congés_auto!X43,0))))))),IF(B8=\"\",\"\",IF($P$3=\"Lundi\",Congés_auto!S43,IF($P$3=\"Mardi\",Congés_auto!T43,IF($P$3=\"Mercredi\",Congés_auto!U43,IF($P$3=\"Jeudi\",Congés_auto!V43,IF($P$3=\"Vendredi\",Congés_auto!W43,IF($P$3=\"Samedi\",Congés_auto!X43,0))))))))","v":"2018-09-21"},{"$nulls":3},2,"A"]
[6,3,{"$nulls":5},{"$f":"IF(M9=\"A\",IF(B9=\"\",\"\",IF($N$3=\"Lundi\",Congés_auto!S44,IF($N$3=\"Mardi\",Congés_auto!T44,IF($N$3=\"Mercredi\",Congés_auto!U44,IF($N$3=\"Jeudi\",Congés_auto!V44,IF($N$3=\"Vendredi\",Congés_auto!W44,IF($N$3=\"Samedi\",Congés_auto!X44,0))))))),IF(B9=\"\",\"\",IF($P$3=\"Lundi\",Congés_auto!S44,IF($P$3=\"Mardi\",Congés_auto!T44,IF($P$3=\"Mercredi\",Congés_auto!U44,IF($P$3=\"Jeudi\",Congés_auto!V44,IF($P$3=\"Vendredi\",Congés_auto!W44,IF($P$3=\"Samedi\",Congés_auto!X44,0))))))))","v":"2018-09-25"},{"$nulls":3},1,"B"]
[7,4,{"$nulls":5},{"$f":"IF(M10=\"A\",IF(B10=\"\",\"\",IF($N$3=\"Lundi\",Congés_auto!S45,IF($N$3=\"Mardi\",Congés_auto!T45,IF($N$3=\"Mercredi\",Congés_auto!U45,IF($N$3=\"Jeudi\",Congés_auto!V45,IF($N$3=\"Vendredi\",Congés_auto!W45,IF($N$3=\"Samedi\",Congés_auto!X45,0))))))),IF(B10=\"\",\"\",IF($P$3=\"Lundi\",Congés_auto!S45,IF($P$3=\"Mardi\",Congés_auto!T45,IF($P$3=\"Mercredi\",Congés_auto!U45,IF($P$3=\"Jeudi\",Congés_auto!V45,IF($P$3=\"Vendredi\",Congés_auto!W45,IF($P$3=\"Samedi\",Congés_auto!X45,0))))))))","v":"2018-10-05"},{"$nulls":3},2,"A"]
[8,4,{"$nulls":5},{"$f":"IF(M11=\"A\",IF(B11=\"\",\"\",IF($N$3=\"Lundi\",Congés_auto!S46,IF($N$3=\"Mardi\",Congés_auto!T46,IF($N$3=\"Mercredi\",Congés_auto!U46,IF($N$3=\"Jeudi\",Congés_auto!V46,IF($N$3=\"Vendredi\",Congés_auto!W46,IF($N$3=\"Samedi\",Congés_auto!X46,0))))))),IF(B11=\"\",\"\",IF($P$3=\"Lundi\",Congés_auto!S46,IF($P$3=\"Mardi\",Congés_auto!T46,IF($P$3=\"Mercredi\",Congés_auto!U46,IF($P$3=\"Jeudi\",Congés_auto!V46,IF($P$3=\"Vendredi\",Congés_auto!W46,IF($P$3=\"Samedi\",Congés_auto!X46,0))))))))","v":"2018-10-09"},{"$nulls":3},1,"B"]
[9,5,{"$nulls":5},{"$f":"IF(M12=\"A\",IF(B12=\"\",\"\",IF($N$3=\"Lundi\",Congés_auto!S47,IF($N$3=\"Mardi\",Congés_auto!T47,IF($N$3=\"Mercredi\",Congés_auto!U47,IF($N$3=\"Jeudi\",Congés_auto!V47,IF($N$3=\"Vendredi\",Congés_auto!W47,IF($N$3=\"Samedi\",Congés_auto!X47,0))))))),IF(B12=\"\",\"\",IF($P$3=\"Lundi\",Congés_auto!S47,IF($P$3=\"Mardi\",Congés_auto!T47,IF($P$3=\"Mercredi\",Congés_auto!U47,IF($P$3=\"Jeudi\",Congés_auto!V47,IF($P$3=\"Vendredi\",Congés_auto!W47,IF($P$3=\"Samedi\",Congés_auto!X47,0))))))))","v":"2018-11-02"},{"$nulls":3},2,"A"]
[10,5,{"$nulls":5},{"$f":"IF(M13=\"A\",IF(B13=\"\",\"\",IF($N$3=\"Lundi\",Congés_auto!S48,IF($N$3=\"Mardi\",Congés_auto!T48,IF($N$3=\"Mercredi\",Congés_auto!U48,IF($N$3=\"Jeudi\",Congés_auto!V48,IF($N$3=\"Vendredi\",Congés_auto!W48,IF($N$3=\"Samedi\",Congés_auto!X48,0))))))),IF(B13=\"\",\"\",IF($P$3=\"Lundi\",Congés_auto!S48,IF($P$3=\"Mardi\",Congés_auto!T48,IF($P$3=\"Mercredi\",Congés_auto!U48,IF($P$3=\"Jeudi\",Congés_auto!V48,IF($P$3=\"Vendredi\",Congés_auto!W48,IF($P$3=\"Samedi\",Congés_auto!X48,0))))))))","v":"2018-11-06"},{"$nulls":3},1,"B"]
[11,6,{"$nulls":5},{"$f":"IF(M14=\"A\",IF(B14=\"\",\"\",IF($N$3=\"Lundi\",Congés_auto!S49,IF($N$3=\"Mardi\",Congés_auto!T49,IF($N$3=\"Mercredi\",Congés_auto!U49,IF($N$3=\"Jeudi\",Congés_auto!V49,IF($N$3=\"Vendredi\",Congés_auto!W49,IF($N$3=\"Samedi\",Congés_auto!X49,0))))))),IF(B14=\"\",\"\",IF($P$3=\"Lundi\",Congés_auto!S49,IF($P$3=\"Mardi\",Congés_auto!T49,IF($P$3=\"Mercredi\",Congés_auto!U49,IF($P$3=\"Jeudi\",Congés_auto!V49,IF($P$3=\"Vendredi\",Congés_auto!W49,IF($P$3=\"Samedi\",Congés_auto!X49,0))))))))","v":"2018-11-16"},{"$nulls":3},2,"A"]
[12,6,{"$nulls":5},{"$f":"IF(M15=\"A\",IF(B15=\"\",\"\",IF($N$3=\"Lundi\",Congés_auto!S50,IF($N$3=\"Mardi\",Congés_auto!T50,IF($N$3=\"Mercredi\",Congés_auto!U50,IF($N$3=\"Jeudi\",Congés_auto!V50,IF($N$3=\"Vendredi\",Congés_auto!W50,IF($N$3=\"Samedi\",Congés_auto!X50,0))))))),IF(B15=\"\",\"\",IF($P$3=\"Lundi\",Congés_auto!S50,IF($P$3=\"Mardi\",Congés_auto!T50,IF($P$3=\"Mercredi\",Congés_auto!U50,IF($P$3=\"Jeudi\",Congés_auto!V50,IF($P$3=\"Vendredi\",Congés_auto!W50,IF($P$3=\"Samedi\",Congés_auto!X50,0))))))))","v":"2018-11-20"},{"$nulls":3},1,"B"]
[13,7,{"$nulls":5},{"$f":"IF(M16=\"A\",IF(B16=\"\",\"\",IF($N$3=\"Lundi\",Congés_auto!S51,IF($N$3=\"Mardi\",Congés_auto!T51,IF($N$3=\"Mercredi\",Congés_auto!U51,IF($N$3=\"Jeudi\",Congés_auto!V51,IF($N$3=\"Vendredi\",Congés_auto!W51,IF($N$3=\"Samedi\",Congés_auto!X51,0))))))),IF(B16=\"\",\"\",IF($P$3=\"Lundi\",Congés_auto!S51,IF($P$3=\"Mardi\",Congés_auto!T51,IF($P$3=\"Mercredi\",Congés_auto!U51,IF($P$3=\"Jeudi\",Congés_auto!V51,IF($P$3=\"Vendredi\",Congés_auto!W51,IF($P$3=\"Samedi\",Congés_auto!X51,0))))))))","v":"2018-11-30"},{"$nulls":3},2,"A"]
[14,7,{"$nulls":5},{"$f":"IF(M17=\"A\",IF(B17=\"\",\"\",IF($N$3=\"Lundi\",Congés_auto!S52,IF($N$3=\"Mardi\",Congés_auto!T52,IF($N$3=\"Mercredi\",Congés_auto!U52,IF($N$3=\"Jeudi\",Congés_auto!V52,IF($N$3=\"Vendredi\",Congés_auto!W52,IF($N$3=\"Samedi\",Congés_auto!X52,0))))))),IF(B17=\"\",\"\",IF($P$3=\"Lundi\",Congés_auto!S52,IF($P$3=\"Mardi\",Congés_auto!T52,IF($P$3=\"Mercredi\",Congés_auto!U52,IF($P$3=\"Jeudi\",Congés_auto!V52,IF($P$3=\"Vendredi\",Congés_auto!W52,IF($P$3=\"Samedi\",Congés_auto!X52,0))))))))","v":"2018-12-04"},{"$nulls":3},1,"B"]
[15,8,{"$nulls":5},{"$f":"IF(M18=\"A\",IF(B18=\"\",\"\",IF($N$3=\"Lundi\",Congés_auto!S53,IF($N$3=\"Mardi\",Congés_auto!T53,IF($N$3=\"Mercredi\",Congés_auto!U53,IF($N$3=\"Jeudi\",Congés_auto!V53,IF($N$3=\"Vendredi\",Congés_auto!W53,IF($N$3=\"Samedi\",Congés_auto!X53,0))))))),IF(B18=\"\",\"\",IF($P$3=\"Lundi\",Congés_auto!S53,IF($P$3=\"Mardi\",Congés_auto!T53,IF($P$3=\"Mercredi\",Congés_auto!U53,IF($P$3=\"Jeudi\",Congés_auto!V53,IF($P$3=\"Vendredi\",Congés_auto!W53,IF($P$3=\"Samedi\",Congés_auto!X53,0))))))))","v":"2018-12-14"},{"$nulls":3},2,"A"]
[16,8,{"$nulls":5},{"$f":"IF(M19=\"A\",IF(B19=\"\",\"\",IF($N$3=\"Lundi\",Congés_auto!S54,IF($N$3=\"Mardi\",Congés_auto!T54,IF($N$3=\"Mercredi\",Congés_auto!U54,IF($N$3=\"Jeudi\",Congés_auto!V54,IF($N$3=\"Vendredi\",Congés_auto!W54,IF($N$3=\"Samedi\",Congés_auto!X54,0))))))),IF(B19=\"\",\"\",IF($P$3=\"Lundi\",Congés_auto!S54,IF($P$3=\"Mardi\",Congés_auto!T54,IF($P$3=\"Mercredi\",Congés_auto!U54,IF($P$3=\"Jeudi\",Congés_auto!V54,IF($P$3=\"Vendredi\",Congés_auto!W54,IF($P$3=\"Samedi\",Congés_auto!X54,0))))))))","v":"2018-12-18"},{"$nulls":3},1,"B"]
[17,9,{"$nulls":5},{"$f":"IF(M20=\"A\",IF(B20=\"\",\"\",IF($N$3=\"Lundi\",Congés_auto!S55,IF($N$3=\"Mardi\",Congés_auto!T55,IF($N$3=\"Mercredi\",Congés_auto!U55,IF($N$3=\"Jeudi\",Congés_auto!V55,IF($N$3=\"Vendredi\",Congés_auto!W55,IF($N$3=\"Samedi\",Congés_auto!X55,0))))))),IF(B20=\"\",\"\",IF($P$3=\"Lundi\",Congés_auto!S55,IF($P$3=\"Mardi\",Congés_auto!T55,IF($P$3=\"Mercredi\",Congés_auto!U55,IF($P$3=\"Jeudi\",Congés_auto!V55,IF($P$3=\"Vendredi\",Congés_auto!W55,IF($P$3=\"Samedi\",Congés_auto!X55,0))))))))","v":"2019-02-01"},{"$nulls":3},2,"A"]
[18,9,{"$nulls":5},{"$f":"IF(M21=\"A\",IF(B21=\"\",\"\",IF($N$3=\"Lundi\",Congés_auto!S56,IF($N$3=\"Mardi\",Congés_auto!T56,IF($N$3=\"Mercredi\",Congés_auto!U56,IF($N$3=\"Jeudi\",Congés_auto!V56,IF($N$3=\"Vendredi\",Congés_auto!W56,IF($N$3=\"Samedi\",Congés_auto!X56,0))))))),IF(B21=\"\",\"\",IF($P$3=\"Lundi\",Congés_auto!S56,IF($P$3=\"Mardi\",Congés_auto!T56,IF($P$3=\"Mercredi\",Congés_auto!U56,IF($P$3=\"Jeudi\",Congés_auto!V56,IF($P$3=\"Vendredi\",Congés_auto!W56,IF($P$3=\"Samedi\",Congés_auto!X56,0))))))))","v":"2019-02-05"},{"$nulls":3},1,"B"]
[19,10,{"$nulls":5},{"$f":"IF(M22=\"A\",IF(B22=\"\",\"\",IF($N$3=\"Lundi\",Congés_auto!S57,IF($N$3=\"Mardi\",Congés_auto!T57,IF($N$3=\"Mercredi\",Congés_auto!U57,IF($N$3=\"Jeudi\",Congés_auto!V57,IF($N$3=\"Vendredi\",Congés_auto!W57,IF($N$3=\"Samedi\",Congés_auto!X57,0))))))),IF(B22=\"\",\"\",IF($P$3=\"Lundi\",Congés_auto!S57,IF($P$3=\"Mardi\",Congés_auto!T57,IF($P$3=\"Mercredi\",Congés_auto!U57,IF($P$3=\"Jeudi\",Congés_auto!V57,IF($P$3=\"Vendredi\",Congés_auto!W57,IF($P$3=\"Samedi\",Congés_auto!X57,0))))))))","v":"2019-02-15"},{"$nulls":3},2,"A"]
[20,10,{"$nulls":5},{"$f":"IF(M23=\"A\",IF(B23=\"\",\"\",IF($N$3=\"Lundi\",Congés_auto!S58,IF($N$3=\"Mardi\",Congés_auto!T58,IF($N$3=\"Mercredi\",Congés_auto!U58,IF($N$3=\"Jeudi\",Congés_auto!V58,IF($N$3=\"Vendredi\",Congés_auto!W58,IF($N$3=\"Samedi\",Congés_auto!X58,0))))))),IF(B23=\"\",\"\",IF($P$3=\"Lundi\",Congés_auto!S58,IF($P$3=\"Mardi\",Congés_auto!T58,IF($P$3=\"Mercredi\",Congés_auto!U58,IF($P$3=\"Jeudi\",Congés_auto!V58,IF($P$3=\"Vendredi\",Congés_auto!W58,IF($P$3=\"Samedi\",Congés_auto!X58,0))))))))","v":"2019-02-19"},{"$nulls":3},1,"B"]
[21,11,{"$nulls":5},{"$f":"IF(M24=\"A\",IF(B24=\"\",\"\",IF($N$3=\"Lundi\",Congés_auto!S59,IF($N$3=\"Mardi\",Congés_auto!T59,IF($N$3=\"Mercredi\",Congés_auto!U59,IF($N$3=\"Jeudi\",Congés_auto!V59,IF($N$3=\"Vendredi\",Congés_auto!W59,IF($N$3=\"Samedi\",Congés_auto!X59,0))))))),IF(B24=\"\",\"\",IF($P$3=\"Lundi\",Congés_auto!S59,IF($P$3=\"Mardi\",Congés_auto!T59,IF($P$3=\"Mercredi\",Congés_auto!U59,IF($P$3=\"Jeudi\",Congés_auto!V59,IF($P$3=\"Vendredi\",Congés_auto!W59,IF($P$3=\"Samedi\",Congés_auto!X59,0))))))))","v":"2019-03-01"},{"$nulls":3},2,"A"]
[22,11,{"$nulls":5},{"$f":"IF(M25=\"A\",IF(B25=\"\",\"\",IF($N$3=\"Lundi\",Congés_auto!S60,IF($N$3=\"Mardi\",Congés_auto!T60,IF($N$3=\"Mercredi\",Congés_auto!U60,IF($N$3=\"Jeudi\",Congés_auto!V60,IF($N$3=\"Vendredi\",Congés_auto!W60,IF($N$3=\"Samedi\",Congés_auto!X60,0))))))),IF(B25=\"\",\"\",IF($P$3=\"Lundi\",Congés_auto!S60,IF($P$3=\"Mardi\",Congés_auto!T60,IF($P$3=\"Mercredi\",Congés_auto!U60,IF($P$3=\"Jeudi\",Congés_auto!V60,IF($P$3=\"Vendredi\",Congés_auto!W60,IF($P$3=\"Samedi\",Congés_auto!X60,0))))))))","v":"2019-03-05"},{"$nulls":3},1,"B"]
[23,12,{"$nulls":5},{"$f":"IF(M26=\"A\",IF(B26=\"\",\"\",IF($N$3=\"Lundi\",Congés_auto!S61,IF($N$3=\"Mardi\",Congés_auto!T61,IF($N$3=\"Mercredi\",Congés_auto!U61,IF($N$3=\"Jeudi\",Congés_auto!V61,IF($N$3=\"Vendredi\",Congés_auto!W61,IF($N$3=\"Samedi\",Congés_auto!X61,0))))))),IF(B26=\"\",\"\",IF($P$3=\"Lundi\",Congés_auto!S61,IF($P$3=\"Mardi\",Congés_auto!T61,IF($P$3=\"Mercredi\",Congés_auto!U61,IF($P$3=\"Jeudi\",Congés_auto!V61,IF($P$3=\"Vendredi\",Congés_auto!W61,IF($P$3=\"Samedi\",Congés_auto!X61,0))))))))","v":"2019-03-29"},{"$nulls":3},2,"A"]
[24,12,{"$nulls":5},{"$f":"IF(M27=\"A\",IF(B27=\"\",\"\",IF($N$3=\"Lundi\",Congés_auto!S62,IF($N$3=\"Mardi\",Congés_auto!T62,IF($N$3=\"Mercredi\",Congés_auto!U62,IF($N$3=\"Jeudi\",Congés_auto!V62,IF($N$3=\"Vendredi\",Congés_auto!W62,IF($N$3=\"Samedi\",Congés_auto!X62,0))))))),IF(B27=\"\",\"\",IF($P$3=\"Lundi\",Congés_auto!S62,IF($P$3=\"Mardi\",Congés_auto!T62,IF($P$3=\"Mercredi\",Congés_auto!U62,IF($P$3=\"Jeudi\",Congés_auto!V62,IF($P$3=\"Vendredi\",Congés_auto!W62,IF($P$3=\"Samedi\",Congés_auto!X62,0))))))))","v":"2019-04-02"},{"$nulls":3},1,"B"]
[25,13,{"$nulls":5},{"$f":"IF(M28=\"A\",IF(B28=\"\",\"\",IF($N$3=\"Lundi\",Congés_auto!S63,IF($N$3=\"Mardi\",Congés_auto!T63,IF($N$3=\"Mercredi\",Congés_auto!U63,IF($N$3=\"Jeudi\",Congés_auto!V63,IF($N$3=\"Vendredi\",Congés_auto!W63,IF($N$3=\"Samedi\",Congés_auto!X63,0))))))),IF(B28=\"\",\"\",IF($P$3=\"Lundi\",Congés_auto!S63,IF($P$3=\"Mardi\",Congés_auto!T63,IF($P$3=\"Mercredi\",Congés_auto!U63,IF($P$3=\"Jeudi\",Congés_auto!V63,IF($P$3=\"Vendredi\",Congés_auto!W63,IF($P$3=\"Samedi\",Congés_auto!X63,0))))))))","v":"2019-04-12"},{"$nulls":3},2,"A"]
[26,13,{"$nulls":5},{"$f":"IF(M29=\"A\",IF(B29=\"\",\"\",IF($N$3=\"Lundi\",Congés_auto!S64,IF($N$3=\"Mardi\",Congés_auto!T64,IF($N$3=\"Mercredi\",Congés_auto!U64,IF($N$3=\"Jeudi\",Congés_auto!V64,IF($N$3=\"Vendredi\",Congés_auto!W64,IF($N$3=\"Samedi\",Congés_auto!X64,0))))))),IF(B29=\"\",\"\",IF($P$3=\"Lundi\",Congés_auto!S64,IF($P$3=\"Mardi\",Congés_auto!T64,IF($P$3=\"Mercredi\",Congés_auto!U64,IF($P$3=\"Jeudi\",Congés_auto!V64,IF($P$3=\"Vendredi\",Congés_auto!W64,IF($P$3=\"Samedi\",Congés_auto!X64,0))))))))","v":"2019-04-16"},{"$nulls":3},1,"B"]
[27,14,{"$nulls":5},{"$f":"IF(M30=\"A\",IF(B30=\"\",\"\",IF($N$3=\"Lundi\",Congés_auto!S65,IF($N$3=\"Mardi\",Congés_auto!T65,IF($N$3=\"Mercredi\",Congés_auto!U65,IF($N$3=\"Jeudi\",Congés_auto!V65,IF($N$3=\"Vendredi\",Congés_auto!W65,IF($N$3=\"Samedi\",Congés_auto!X65,0))))))),IF(B30=\"\",\"\",IF($P$3=\"Lundi\",Congés_auto!S65,IF($P$3=\"Mardi\",Congés_auto!T65,IF($P$3=\"Mercredi\",Congés_auto!U65,IF($P$3=\"Jeudi\",Congés_auto!V65,IF($P$3=\"Vendredi\",Congés_auto!W65,IF($P$3=\"Samedi\",Congés_auto!X65,0))))))))","v":"2019-04-26"},{"$nulls":3},2,"A"]
[28,14,{"$nulls":5},{"$f":"IF(M31=\"A\",IF(B31=\"\",\"\",IF($N$3=\"Lundi\",Congés_auto!S66,IF($N$3=\"Mardi\",Congés_auto!T66,IF($N$3=\"Mercredi\",Congés_auto!U66,IF($N$3=\"Jeudi\",Congés_auto!V66,IF($N$3=\"Vendredi\",Congés_auto!W66,IF($N$3=\"Samedi\",Congés_auto!X66,0))))))),IF(B31=\"\",\"\",IF($P$3=\"Lundi\",Congés_auto!S66,IF($P$3=\"Mardi\",Congés_auto!T66,IF($P$3=\"Mercredi\",Congés_auto!U66,IF($P$3=\"Jeudi\",Congés_auto!V66,IF($P$3=\"Vendredi\",Congés_auto!W66,IF($P$3=\"Samedi\",Congés_auto!X66,0))))))))","v":"2019-04-30"},{"$nulls":3},1,"B"]
[29,15,{"$nulls":5},{"$f":"IF(M32=\"A\",IF(B32=\"\",\"\",IF($N$3=\"Lundi\",Congés_auto!S67,IF($N$3=\"Mardi\",Congés_auto!T67,IF($N$3=\"Mercredi\",Congés_auto!U67,IF($N$3=\"Jeudi\",Congés_auto!V67,IF($N$3=\"Vendredi\",Congés_auto!W67,IF($N$3=\"Samedi\",Congés_auto!X67,0))))))),IF(B32=\"\",\"\",IF($P$3=\"Lundi\",Congés_auto!S67,IF($P$3=\"Mardi\",Congés_auto!T67,IF($P$3=\"Mercredi\",Congés_auto!U67,IF($P$3=\"Jeudi\",Congés_auto!V67,IF($P$3=\"Vendredi\",Congés_auto!W67,IF($P$3=\"Samedi\",Congés_auto!X67,0))))))))","v":"2019-05-24"},{"$nulls":3},2,"A"]
[30,15,{"$nulls":5},{"$f":"IF(M33=\"A\",IF(B33=\"\",\"\",IF($N$3=\"Lundi\",Congés_auto!S68,IF($N$3=\"Mardi\",Congés_auto!T68,IF($N$3=\"Mercredi\",Congés_auto!U68,IF($N$3=\"Jeudi\",Congés_auto!V68,IF($N$3=\"Vendredi\",Congés_auto!W68,IF($N$3=\"Samedi\",Congés_auto!X68,0))))))),IF(B33=\"\",\"\",IF($P$3=\"Lundi\",Congés_auto!S68,IF($P$3=\"Mardi\",Congés_auto!T68,IF($P$3=\"Mercredi\",Congés_auto!U68,IF($P$3=\"Jeudi\",Congés_auto!V68,IF($P$3=\"Vendredi\",Congés_auto!W68,IF($P$3=\"Samedi\",Congés_auto!X68,0))))))))","v":"2019-05-28"},{"$nulls":3},1,"B"]
[31,16,{"$nulls":5},{"$f":"IF(M34=\"A\",IF(B34=\"\",\"\",IF($N$3=\"Lundi\",Congés_auto!S69,IF($N$3=\"Mardi\",Congés_auto!T69,IF($N$3=\"Mercredi\",Congés_auto!U69,IF($N$3=\"Jeudi\",Congés_auto!V69,IF($N$3=\"Vendredi\",Congés_auto!W69,IF($N$3=\"Samedi\",Congés_auto!X69,0))))))),IF(B34=\"\",\"\",IF($P$3=\"Lundi\",Congés_auto!S69,IF($P$3=\"Mardi\",Congés_auto!T69,IF($P$3=\"Mercredi\",Congés_auto!U69,IF($P$3=\"Jeudi\",Congés_auto!V69,IF($P$3=\"Vendredi\",Congés_auto!W69,IF($P$3=\"Samedi\",Congés_auto!X69,0))))))))","v":"2019-06-07"},{"$nulls":3},2,"A"]
[32,16,{"$nulls":5},{"$f":"IF(M35=\"A\",IF(B35=\"\",\"\",IF($N$3=\"Lundi\",Congés_auto!S70,IF($N$3=\"Mardi\",Congés_auto!T70,IF($N$3=\"Mercredi\",Congés_auto!U70,IF($N$3=\"Jeudi\",Congés_auto!V70,IF($N$3=\"Vendredi\",Congés_auto!W70,IF($N$3=\"Samedi\",Congés_auto!X70,0))))))),IF(B35=\"\",\"\",IF($P$3=\"Lundi\",Congés_auto!S70,IF($P$3=\"Mardi\",Congés_auto!T70,IF($P$3=\"Mercredi\",Congés_auto!U70,IF($P$3=\"Jeudi\",Congés_auto!V70,IF($P$3=\"Vendredi\",Congés_auto!W70,IF($P$3=\"Samedi\",Congés_auto!X70,0))))))))","v":"2019-06-11"},{"$nulls":3},1,"B"]
[33,17,{"$nulls":5},{"$f":"IF(M36=\"A\",IF(B36=\"\",\"\",IF($N$3=\"Lundi\",Congés_auto!S71,IF($N$3=\"Mardi\",Congés_auto!T71,IF($N$3=\"Mercredi\",Congés_auto!U71,IF($N$3=\"Jeudi\",Congés_auto!V71,IF($N$3=\"Vendredi\",Congés_auto!W71,IF($N$3=\"Samedi\",Congés_auto!X71,0))))))),IF(B36=\"\",\"\",IF($P$3=\"Lundi\",Congés_auto!S71,IF($P$3=\"Mardi\",Congés_auto!T71,IF($P$3=\"Mercredi\",Congés_auto!U71,IF($P$3=\"Jeudi\",Congés_auto!V71,IF($P$3=\"Vendredi\",Congés_auto!W71,IF($P$3=\"Samedi\",Congés_auto!X71,0))))))))","v":"2019-06-21"},{"$nulls":3},2,"A"]
[34,17,{"$nulls":5},{"$f":"IF(M37=\"A\",IF(B37=\"\",\"\",IF($N$3=\"Lundi\",Congés_auto!S72,IF($N$3=\"Mardi\",Congés_auto!T72,IF($N$3=\"Mercredi\",Congés_auto!U72,IF($N$3=\"Jeudi\",Congés_auto!V72,IF($N$3=\"Vendredi\",Congés_auto!W72,IF($N$3=\"Samedi\",Congés_auto!X72,0))))))),IF(B37=\"\",\"\",IF($P$3=\"Lundi\",Congés_auto!S72,IF($P$3=\"Mardi\",Congés_auto!T72,IF($P$3=\"Mercredi\",Congés_auto!U72,IF($P$3=\"Jeudi\",Congés_auto!V72,IF($P$3=\"Vendredi\",Congés_auto!W72,IF($P$3=\"Samedi\",Congés_auto!X72,0))))))))","v":"2019-06-25"},{"$nulls":3},1,"B"]
[35,{"$f":"IF(OR($O$4=1,$O$4=2),$AA127,IF(OR($O$4=3,$O$4=4),$AC127,IF(OR($O$4=5,$O$4=6),$AE127,IF(OR($O$4=7,$O$4=8),$AG127,\"\"))))","v":18},{"$nulls":5},{"$f":"IF(M38=\"A\",IF(B38=\"\",\"\",IF($N$3=\"Lundi\",Congés_auto!S73,IF($N$3=\"Mardi\",Congés_auto!T73,IF($N$3=\"Mercredi\",Congés_auto!U73,IF($N$3=\"Jeudi\",Congés_auto!V73,IF($N$3=\"Vendredi\",Congés_auto!W73,IF($N$3=\"Samedi\",Congés_auto!X73,0))))))),IF(B38=\"\",\"\",IF($P$3=\"Lundi\",Congés_auto!S73,IF($P$3=\"Mardi\",Congés_auto!T73,IF($P$3=\"Mercredi\",Congés_auto!U73,IF($P$3=\"Jeudi\",Congés_auto!V73,IF($P$3=\"Vendredi\",Congés_auto!W73,IF($P$3=\"Samedi\",Congés_auto!X73,0))))))))","v":"2019-07-05"},{"$nulls":3},2,"A"]
[36,18,{"$nulls":5},{"$f":"IF(M39=\"A\",IF(B39=\"\",\"\",IF($N$3=\"Lundi\",Congés_auto!S74,IF($N$3=\"Mardi\",Congés_auto!T74,IF($N$3=\"Mercredi\",Congés_auto!U74,IF($N$3=\"Jeudi\",Congés_auto!V74,IF($N$3=\"Vendredi\",Congés_auto!W74,IF($N$3=\"Samedi\",Congés_auto!X74,0))))))),IF(B39=\"\",\"\",IF($P$3=\"Lundi\",Congés_auto!S74,IF($P$3=\"Mardi\",Congés_auto!T74,IF($P$3=\"Mercredi\",Congés_auto!U74,IF($P$3=\"Jeudi\",Congés_auto!V74,IF($P$3=\"Vendredi\",Congés_auto!W74,IF($P$3=\"Samedi\",Congés_auto!X74,0))))))))","v":"2019-08-20"},{"$nulls":3},1,"B"]
[]
[]
[null,null,"Binôme avec :"]
{"$rows_empty":22}
[{"$nulls":28},"Modifier u2 et w2 - Planning pour 8 ou 6 grp",{"$nulls":6},"Sem B 2h",null,"NON"]
[{"$nulls":27},"Planning",{"$f":"T1","v":0},null,null,{"$f":"N3","v":"Vendredi"},{"$nulls":10},0]
[]
[{"$nulls":26},{"$f":"Z93","v":"2018-08-24"},{"$f":"OFFSET($Z$93,AA73,0)","v":"2018-08-28"},{"$f":"OFFSET($Z$93,AB73,0)","v":"2018-09-07"},"2018-09-11","2018-09-21","2018-09-25","2018-10-05","2018-10-09","2018-11-02","2018-11-06","2018-11-16","2018-11-20","2018-11-30","2018-12-04","2018-12-14","2018-12-18","2019-02-01","2019-02-05","2019-02-19","2019-03-01","2019-03-05","2019-03-29","2019-04-02","2019-04-12","2019-04-16","2019-04-26","2019-04-30","2019-05-24","2019-05-28","2019-06-07","2019-06-11","2019-06-21","2019-06-25","2019-07-05","2019-08-20","00:00:00"]
[]
[]
[]
[{"$nulls":24},"Temps",null,2,2,2,2,2,2,2,2,2,2,2,2,2,2,2,2,2,2,2,2,2,2,2,2,2,2,2,2,2,2,2,2,2,2,2,2]
[{"$nulls":25},"Semaine",1,{"$f":"AA73+1","v":2},{"$f":"AB73+1","v":3},4,5,6,7,8,9,10,11,12,13,14,15,16,17,18,{"$f":"AR73+1","v":19},{"$f":"AS73+1","v":20},21,22,23,24,25,26,27,28,29,30,31,32,33,34,35,36]
[{"$nulls":25},"Grp  1",1,1,{"$f":"AA74+1","v":2},{"$f":"AB74+1","v":2},3,3,4,4,5,5,6,6,7,7,8,8,9,9,10,{"$f":"AR74+1","v":10},11,11,12,12,13,13,14,14,15,15,16,16,17,17,18,{"$f":"BH74+1","v":18}]
[{"$nulls":25},"Grp  2",1,1,{"$f":"AA75+1","v":2},2,3,3,4,4,5,5,6,6,7,7,8,8,9,9,10,10,11,11,12,12,13,13,14,14,15,15,16,16,17,17,18,18]
[{"$nulls":23},"FREQUENCE(A1:A30;{1,8;2,7})",null,"Grp  3",1,1,2,2,3,3,4,4,5,5,6,6,7,7,8,8,9,9,10,10,11,11,12,12,13,13,14,14,15,15,16,16,17,17,18,18]
[{"$nulls":25},"Grp  4",1,2,2,3,3,4,4,5,5,6,6,7,7,8,8,9,9,10,10,11,11,12,12,13,13,14,14,15,15,16,16,17,17,18,18,19]
[{"$nulls":25},"Grp  5",1,2,2,3,3,4,4,5,5,6,6,7,7,8,8,9,9,10,10,11,11,12,12,13,13,14,14,15,15,16,16,17,17,18,18,19]
[{"$nulls":25},"Grp  6",1,2,2,3,3,4,4,5,5,6,6,7,7,8,8,9,9,10,10,11,11,12,12,13,13,14,14,15,15,16,16,17,17,18,18,19]
[{"$nulls":25},"Grp  7",1,2,2,3,3,4,4,5,5,6,6,7,7,8,8,9,9,10,10,11,11,12,12,13,13,14,14,15,15,16,16,17,17,18,18,19]
[{"$nulls":25},"Grp  8",1,2,2,3,3,4,4,5,5,6,6,7,7,8,8,9,9,10,10,11,11,12,12,13,13,14,14,15,15,16,16,17,17,18,18,19]
[{"$nulls":33},"DT1 --> 0,5 h",{"$nulls":6},"DT2 --> 1 h"]
[{"$nulls":33},"Travail noté"]
[]
[{"$nulls":23},{"$f":"CONCATENATE(AJ86,Y87)","v":"01"},"Les groupes"]
[{"$nulls":30},{"$f":"IF(LEFT(T1,1)=\"3\",\"Troisième\",IF(LEFT(T1,1)=\"4\",\"Quatrième\",IF(LEFT(T1,1)=\"5\",\"Cinquiéme\",\"Sixième\")))","v":"Sixième"},{"$nulls":4},{"$f":"T1","v":0},null,null,{"$f":"N3","v":"Vendredi"},{"$nulls":4},{"$f":"O3","v":0}]
[{"$nulls":17},{"$error":"#N/A"},{"$error":"#N/A"},{"$error":"#N/A"},{"$error":"#N/A"},{"$error":"#N/A"},1,null,1,{"$f":"IF(ISNA(R87),\"\",R87)&\"  --  \"&IF(ISNA(S87),\"\",S87)&\" --  \"&IF(ISNA(T87),\"\",T87)&\" --  \"&IF(ISNA(U87),\"\",U87)&\"  --  \"&IF(ISNA(V87),\"\",V87)","v":"  --   --   --    --  "},{"$nulls":12},5,{"$f":"IF(ISNA(R91),\"\",R91)&\"  --  \"&IF(ISNA(S91),\"\",S91)&\" --  \"&IF(ISNA(T91),\"\",T91)&\" --  \"&IF(ISNA(U91),\"\",U91)&\"  --  \"&IF(ISNA(V91),\"\",V91)","v":"  --   --   --    --  "}]
[{"$nulls":17},{"$error":"#N/A"},{"$error":"#N/A"},{"$error":"#N/A"},{"$error":"#N/A"},{"$error":"#N/A"},2,null,2,{"$f":"IF(ISNA(R88),\"\",R88)&\"  --  \"&IF(ISNA(S88),\"\",S88)&\" --  \"&IF(ISNA(T88),\"\",T88)&\" --  \"&IF(ISNA(U88),\"\",U88)&\"  --  \"&IF(ISNA(V88),\"\",V88)","v":"  --   --   --    --  "},{"$nulls":12},6,{"$f":"IF(ISNA(R92),\"\",R92)&\"  --  \"&IF(ISNA(S92),\"\",S92)&\" --  \"&IF(ISNA(T92),\"\",T92)&\" --  \"&IF(ISNA(U92),\"\",U92)&\"  --  \"&IF(ISNA(V92),\"\",V92)","v":"  --   --   --    --  "}]
[{"$nulls":17},{"$error":"#N/A"},{"$error":"#N/A"},{"$error":"#N/A"},{"$error":"#N/A"},{"$error":"#N/A"},3,null,3,{"$f":"IF(ISNA(R89),\"\",R89)&\"  --  \"&IF(ISNA(S89),\"\",S89)&\" --  \"&IF(ISNA(T89),\"\",T89)&\" --  \"&IF(ISNA(U89),\"\",U89)&\"  --  \"&IF(ISNA(V89),\"\",V89)","v":"  --   --   --    --  "},{"$nulls":12},7,{"$f":"IF(ISNA(R93),\"\",R93)&\"  --  \"&IF(ISNA(S93),\"\",S93)&\" --  \"&IF(ISNA(T93),\"\",T93)&\" --  \"&IF(ISNA(U93),\"\",U93)&\"  --  \"&IF(ISNA(V93),\"\",V93)","v":"  --   --   --    --  "}]
[{"$nulls":17},{"$error":"#N/A"},{"$error":"#N/A"},{"$error":"#N/A"},{"$error":"#N/A"},{"$error":"#N/A"},4,null,4,{"$f":"IF(ISNA(R90),\"\",R90)&\"  --  \"&IF(ISNA(S90),\"\",S90)&\" --  \"&IF(ISNA(T90),\"\",T90)&\" --  \"&IF(ISNA(U90),\"\",U90)&\"  --  \"&IF(ISNA(V90),\"\",V90)","v":"  --   --   --    --  "},{"$nulls":12},8,{"$f":"IF(ISNA(R94),\"\",R94)&\"  --  \"&IF(ISNA(S94),\"\",S94)&\" --  \"&IF(ISNA(T94),\"\",T94)&\" --  \"&IF(ISNA(U94),\"\",U94)&\"  --  \"&IF(ISNA(V94),\"\",V94)","v":"  --   --   --    --  "}]
[{"$nulls":17},{"$error":"#N/A"},{"$error":"#N/A"},{"$error":"#N/A"},{"$error":"#N/A"},{"$error":"#N/A"},5,{"$nulls":3},"Groupe et N° activité",{"$nulls":7},"Les activités par groupes"]
[{"$nulls":17},{"$error":"#N/A"},{"$error":"#N/A"},{"$error":"#N/A"},{"$error":"#N/A"},{"$error":"#N/A"},null,null,"N° Sem",{"$f":"TEXT(Z93,\"jjjj\")","v":"jjjj"},"G 1","G2","G3","G4","G5","G6","G7","G8"]
[{"$nulls":17},{"$error":"#N/A"},{"$error":"#N/A"},{"$error":"#N/A"},{"$error":"#N/A"},{"$error":"#N/A"},null,null,1,{"$f":"H4","v":"2018-08-24"},{"$f":"AA74","v":1},{"$f":"AA75","v":1},{"$f":"AA76","v":1},{"$f":"AA77","v":1},{"$f":"AA78","v":1},{"$f":"AA79","v":1},{"$f":"AA80","v":1},{"$f":"AA81","v":1},"Accueil - organisation - rotation et planning  - Départ de l' activité \" Présentation du classeur\"",{"$nulls":11},1]
[{"$nulls":17},{"$error":"#N/A"},{"$error":"#N/A"},{"$error":"#N/A"},{"$error":"#N/A"},{"$error":"#N/A"},null,null,{"$f":"Y93+1","v":2},{"$f":"H5","v":"2018-08-28"},{"$f":"IF(OFFSET($AA$74,0,$Y93)=41,\"\",OFFSET($AA$74,0,$Y93))","v":1},{"$f":"IF(OFFSET($AA$74,$Y$93,$Y93)=41,\"\",OFFSET($AA$74,$Y$93,$Y93))","v":1},{"$f":"IF(OFFSET($AA$74,$Y$94,$Y93)=41,\"\",OFFSET($AA$74,$Y$94,$Y93))","v":1},{"$f":"IF(OFFSET($AA$74,$Y$95,$Y93)=41,\"\",OFFSET($AA$74,$Y$95,$Y93))","v":2},{"$f":"IF(OFFSET($AA$74,$Y$96,$Y93)=41,\"\",OFFSET($AA$74,$Y$96,$Y93))","v":2},{"$f":"IF(OFFSET($AA$74,$Y$97,$Y93)=41,\"\",OFFSET($AA$74,$Y$97,$Y93))","v":2},{"$f":"IF(OFFSET($AA$74,$Y$98,$Y93)=41,\"\",OFFSET($AA$74,$Y$98,$Y93))","v":2},{"$f":"IF(OFFSET($AA$74,$Y$99,$Y93)=41,\"\",OFFSET($AA$74,$Y$99,$Y93))","v":2},{"$error":"#VALUE!"},{"$nulls":5},{"$error":"#VALUE!"},{"$nulls":5},{"$f":"AU93+1","v":2}]
[{"$nulls":17},{"$error":"#N/A"},{"$error":"#N/A"},{"$error":"#N/A"},{"$error":"#N/A"},{"$error":"#N/A"},null,null,{"$f":"Y94+1","v":3},"2018-09-07",{"$f":"IF(OFFSET($AA$74,0,$Y94)=41,\"\",OFFSET($AA$74,0,$Y94))","v":2},{"$f":"IF(OFFSET($AA$74,$Y$93,$Y94)=41,\"\",OFFSET($AA$74,$Y$93,$Y94))","v":2},{"$f":"IF(OFFSET($AA$74,$Y$94,$Y94)=41,\"\",OFFSET($AA$74,$Y$94,$Y94))","v":2},{"$f":"IF(OFFSET($AA$74,$Y$95,$Y94)=41,\"\",OFFSET($AA$74,$Y$95,$Y94))","v":2},{"$f":"IF(OFFSET($AA$74,$Y$96,$Y94)=41,\"\",OFFSET($AA$74,$Y$96,$Y94))","v":2},{"$f":"IF(OFFSET($AA$74,$Y$97,$Y94)=41,\"\",OFFSET($AA$74,$Y$97,$Y94))","v":2},{"$f":"IF(OFFSET($AA$74,$Y$98,$Y94)=41,\"\",OFFSET($AA$74,$Y$98,$Y94))","v":2},{"$f":"IF(OFFSET($AA$74,$Y$99,$Y94)=41,\"\",OFFSET($AA$74,$Y$99,$Y94))","v":2},{"$error":"#VALUE!"},{"$nulls":5},{"$error":"#VALUE!"},{"$nulls":5},{"$f":"AU94+1","v":3}]
[{"$nulls":24},4,"2018-09-11",2,2,2,3,3,3,3,3,{"$error":"#VALUE!"},{"$nulls":5},{"$error":"#VALUE!"},{"$nulls":5},4]
[{"$nulls":24},5,"2018-09-21",3,3,3,3,3,3,3,3,{"$error":"#VALUE!"},{"$nulls":5},{"$error":"#VALUE!"},{"$nulls":5},5]
[{"$nulls":24},6,"2018-09-25",3,3,3,4,4,4,4,4,{"$error":"#VALUE!"},{"$nulls":5},{"$error":"#VALUE!"},{"$nulls":5},6]
[{"$nulls":24},7,"2018-10-05",4,4,4,4,4,4,4,4,{"$error":"#VALUE!"},{"$nulls":5},{"$error":"#VALUE!"},{"$nulls":5},7]
[{"$nulls":24},8,"2018-10-09",4,4,4,5,5,5,5,5,{"$error":"#VALUE!"},{"$nulls":5},{"$error":"#VALUE!"},{"$nulls":5},8]
[{"$nulls":24},9,"2018-11-02",5,5,5,5,5,5,5,5,{"$error":"#VALUE!"},{"$nulls":5},{"$error":"#VALUE!"},{"$nulls":5},9]
[{"$nulls":24},10,"2018-11-06",5,5,5,6,6,6,6,6,{"$error":"#VALUE!"},{"$nulls":5},{"$error":"#VALUE!"},{"$nulls":5},10]
[{"$nulls":24},11,"2018-11-16",6,6,6,6,6,6,6,6,{"$error":"#VALUE!"},{"$nulls":5},{"$error":"#VALUE!"},{"$nulls":5},11]
[{"$nulls":24},12,"2018-11-20",6,6,6,7,7,7,7,7,{"$error":"#VALUE!"},{"$nulls":5},{"$error":"#VALUE!"},{"$nulls":5},12]
[{"$nulls":24},13,"2018-11-30",7,7,7,7,7,7,7,7,{"$error":"#VALUE!"},{"$nulls":5},{"$error":"#VALUE!"},{"$nulls":5},13]
[{"$nulls":24},14,"2018-12-04",7,7,7,8,8,8,8,8,{"$error":"#VALUE!"},{"$nulls":5},{"$error":"#VALUE!"},{"$nulls":5},14]
[{"$nulls":24},15,"2018-12-14",8,8,8,8,8,8,8,8,{"$error":"#VALUE!"},{"$nulls":5},{"$error":"#VALUE!"},{"$nulls":5},15]
[{"$nulls":24},16,"2018-12-18",8,8,8,9,9,9,9,9,{"$error":"#VALUE!"},{"$nulls":5},{"$error":"#VALUE!"},{"$nulls":5},16]
[{"$nulls":24},17,"2019-02-01",9,9,9,9,9,9,9,9,{"$error":"#VALUE!"},{"$nulls":5},{"$error":"#VALUE!"},{"$nulls":5},17]
[{"$nulls":24},18,"2019-02-05",9,9,9,10,10,10,10,10,{"$error":"#VALUE!"},{"$nulls":5},{"$error":"#VALUE!"},{"$nulls":5},18]
[{"$nulls":24},19,{"$f":"H23","v":"2019-02-19"},10,10,10,10,10,10,10,10,{"$error":"#VALUE!"},{"$nulls":5},{"$error":"#VALUE!"},{"$nulls":5},19]
[{"$nulls":24},20,"2019-03-01",10,10,10,11,11,11,11,11,{"$error":"#VALUE!"},{"$nulls":5},{"$error":"#VALUE!"},{"$nulls":5},20]
[{"$nulls":24},21,"2019-03-05",11,11,11,11,11,11,11,11,{"$error":"#VALUE!"},{"$nulls":5},{"$error":"#VALUE!"},{"$nulls":5},21]
[{"$nulls":24},22,"2019-03-29",11,11,11,12,12,12,12,12,{"$error":"#VALUE!"},{"$nulls":5},{"$error":"#VALUE!"},{"$nulls":5},22]
[{"$nulls":24},23,"2019-04-02",12,12,12,12,12,12,12,12,{"$error":"#VALUE!"},{"$nulls":5},{"$error":"#VALUE!"},{"$nulls":5},23]
[{"$nulls":24},24,"2019-04-12",12,12,12,13,13,13,13,13,{"$error":"#VALUE!"},{"$nulls":5},{"$error":"#VALUE!"},{"$nulls":5},24]
[{"$nulls":24},25,"2019-04-16",13,13,13,13,13,13,13,13,{"$error":"#VALUE!"},{"$nulls":5},{"$error":"#VALUE!"},{"$nulls":5},25]
[{"$nulls":24},26,"2019-04-26",13,13,13,14,14,14,14,14,{"$error":"#VALUE!"},{"$nulls":5},{"$error":"#VALUE!"},{"$nulls":5},26]
[{"$nulls":24},27,"2019-04-30",14,14,14,14,14,14,14,14,{"$error":"#VALUE!"},{"$nulls":5},{"$error":"#VALUE!"},{"$nulls":5},27]
[{"$nulls":24},28,"2019-05-24",14,14,14,15,15,15,15,15,{"$error":"#VALUE!"},{"$nulls":5},{"$error":"#VALUE!"},{"$nulls":5},28]
[{"$nulls":24},29,"2019-05-28",15,15,15,15,15,15,15,15,{"$error":"#VALUE!"},{"$nulls":5},"",{"$nulls":5},29]
[{"$nulls":24},30,"2019-06-07",15,15,15,16,16,16,16,16,{"$error":"#VALUE!"},{"$nulls":5},{"$error":"#VALUE!"},{"$nulls":5},30]
[{"$nulls":24},31,"2019-06-11",16,16,16,16,16,16,16,16,{"$error":"#VALUE!"},{"$nulls":5},{"$error":"#VALUE!"},{"$nulls":5},31]
[{"$nulls":24},32,"2019-06-21",16,16,16,17,17,17,17,17,{"$error":"#VALUE!"},{"$nulls":5},{"$error":"#VALUE!"},{"$nulls":5},32]
[{"$nulls":24},33,"2019-06-25",17,17,17,17,17,17,17,17,{"$error":"#VALUE!"},{"$nulls":5},"",{"$nulls":5},33]
[{"$nulls":24},34,"2019-07-05",17,17,17,18,18,18,18,18,{"$error":"#VALUE!"},{"$nulls":5},{"$error":"#VALUE!"},{"$nulls":5},34]
[{"$nulls":24},35,"2019-08-20",18,18,18,18,18,18,18,18,{"$error":"#VALUE!"},{"$nulls":5},{"$error":"#VALUE!"},{"$nulls":5},35]
[{"$nulls":24},36,null,18,18,18,19,19,19,19,19,{"$error":"#VALUE!"},{"$nulls":5},"",{"$nulls":5},36]

{"sheet":"405","index":8,"n_rows":128,"n_cols":62,"rows_kept":128,"merged":[[0,13,0,15],[1,17,2,18],[2,3,2,6],[2,13,2,14],[2,15,2,16],[3,2,3,6],[3,7,3,8],[4,2,4,6],[4,7,4,8],[5,2,5,6],[5,7,5,8],[6,2,6,6],[6,7,6,8],[7,2,7,6],[7,7,7,8],[8,2,8,6],[8,7,8,8],[9,2,9,6],[9,7,9,8],[10,2,10,6],[10,7,10,8],[11,2,11,6],[11,7,11,8],[12,2,12,6],[12,7,12,8],[13,2,13,6],[13,7,13,8],[14,2,14,6],[14,7,14,8],[15,2,15,6],[15,7,15,8],[16,2,16,6],[16,7,16,8],[17,2,17,6],[17,7,17,8],[18,2,18,6],[18,7,18,8],[19,2,19,6],[19,7,19,8],[20,2,20,6],[20,7,20,8],[21,2,21,6],[21,7,21,8],[22,2,22,6],[22,7,22,8],[23,2,23,6],[23,7,23,8],[24,2,24,6],[24,7,24,8],[25,2,25,6],[25,7,25,8],[26,2,26,6],[26,7,26,8],[27,2,27,6],[27,7,27,8],[28,2,28,6],[28,7,28,8],[29,2,29,6],[29,7,29,8],[30,2,30,6],[30,7,30,8],[31,2,31,6],[31,7,31,8],[32,2,32,6],[32,7,32,8],[33,2,33,6],[33,7,33,8],[34,2,34,6],[34,7,34,8],[35,2,35,6],[35,7,35,8],[36,2,36,6],[36,7,36,8],[37,7,37,8],[38,2,38,6],[38,7,38,8],[65,28,65,29],[67,26,70,26],[67,27,70,27],[67,28,70,28],[67,29,70,29],[67,30,70,30],[67,31,70,31],[67,32,70,32],[67,33,70,33],[67,34,70,34],[67,35,70,35],[67,36,70,36],[67,37,70,37],[67,38,70,38],[67,39,70,39],[67,40,70,40],[67,41,70,41],[67,42,70,42],[67,43,70,43],[67,44,70,44],[67,45,70,45],[67,46,70,46],[67,47,70,47],[67,48,70,48],[67,49,70,49],[67,50,70,50],[67,51,70,51],[67,52,70,52],[67,53,70,53],[67,54,70,54],[67,55,70,55],[67,56,70,56],[67,57,70,57],[67,58,70,58],[67,59,70,59],[67,60,70,60],[67,61,70,61],[71,24,71,25],[84,24,84,45],[85,38,85,41],[86,25,86,36],[86,39,86,45],[87,25,87,36],[87,39,87,45],[88,25,88,36],[88,39,88,45],[89,25,89,36],[89,39,89,45],[90,26,90,33],[90,34,91,45],[92,34,92,45],[93,34,93,39],[93,40,93,45],[94,34,94,39],[94,40,94,45],[95,34,95,39],[95,40,95,45],[96,34,96,39],[96,40,96,45],[97,34,97,39],[97,40,97,45],[98,34,98,39],[98,40,98,45],[99,34,99,39],[99,40,99,45],[100,34,100,39],[100,40,100,45],[101,34,101,39],[101,40,101,45],[102,34,102,39],[102,40,102,45],[103,34,103,39],[103,40,103,45],[104,34,104,39],[104,40,104,45],[105,34,105,39],[105,40,105,45],[106,34,106,39],[106,40,106,45],[107,34,107,39],[107,40,107,45],[108,34,108,39],[108,40,108,45],[109,34,109,39],[109,40,109,45],[110,34,110,39],[110,40,110,45],[111,34,111,39],[111,40,111,45],[112,34,112,39],[112,40,112,45],[113,34,113,39],[113,40,113,45],[114,34,114,39],[114,40,114,45],[115,34,115,39],[115,40,115,45],[116,34,116,39],[116,40,116,45],[117,34,117,39],[117,40,117,45],[118,34,118,39],[118,40,118,45],[119,34,119,39],[119,40,119,45],[120,34,120,39],[120,40,120,45],[121,34,121,39],[121,40,121,45],[122,34,122,39],[122,40,122,45],[123,34,123,39],[123,40,123,45],[124,34,124,39],[124,40,124,45],[125,34,125,39],[125,40,125,45],[126,34,126,39],[126,40,126,45],[127,34,127,39],[127,40,127,45],[129,24,129,36],[130,25,130,36],[130,39,130,45],[131,25,131,36],[131,39,131,45],[132,25,132,36],[132,39,132,45],[133,25,133,36],[133,39,133,45]]}
[{"$nulls":3},"NOM :",{"$nulls":9},"Fond vert = cellules modifiables",{"$nulls":9},"affichage glissant sur 5 semaines"]
[{"$nulls":22},1]
["Cor / Synt","N°",null,{"$f":"\"TECHNOLOGIE  \"&YEAR(H4)&\"  -  \"&YEAR(H4)+1&\"  \"&\n\"    - N° et titre de l'activité\"","v":"TECHNOLOGIE  2018  -  2019      - N° et titre de l'activité"},{"$nulls":7},"Temps / H","Semaine","Lundi",null,"Lundi",{"$nulls":7},1]
[1,1,{"$nulls":5},{"$f":"IF(M4=\"A\",IF(B4=\"\",\"\",IF($N$3=\"Lundi\",Congés_auto!S39,IF($N$3=\"Mardi\",Congés_auto!T39,IF($N$3=\"Mercredi\",Congés_auto!U39,IF($N$3=\"Jeudi\",Congés_auto!V39,IF($N$3=\"Vendredi\",Congés_auto!W39,IF($N$3=\"Samedi\",Congés_auto!X39,0))))))),IF(B4=\"\",\"\",IF($P$3=\"Lundi\",Congés_auto!S39,IF($P$3=\"Mardi\",Congés_auto!T39,IF($P$3=\"Mercredi\",Congés_auto!U39,IF($P$3=\"Jeudi\",Congés_auto!V39,IF($P$3=\"Vendredi\",Congés_auto!W39,IF($P$3=\"Samedi\",Congés_auto!X39,0))))))))","v":"2018-08-20"},{"$nulls":3},2,"A","GROUPE",1]
[{"$f":"A4+1","v":2},{"$f":"IF(OR($O$4=1,$O$4=2),$AA94,IF(OR($O$4=3,$O$4=4),$AC94,IF(OR($O$4=5,$O$4=6),$AE94,IF(OR($O$4=7,$O$4=8),$AG94,\"\"))))","v":1},{"$nulls":5},{"$f":"IF(M5=\"A\",IF(B5=\"\",\"\",IF($N$3=\"Lundi\",Congés_auto!S40,IF($N$3=\"Mardi\",Congés_auto!T40,IF($N$3=\"Mercredi\",Congés_auto!U40,IF($N$3=\"Jeudi\",Congés_auto!V40,IF($N$3=\"Vendredi\",Congés_auto!W40,IF($N$3=\"Samedi\",Congés_auto!X40,0))))))),IF(B5=\"\",\"\",IF($P$3=\"Lundi\",Congés_auto!S40,IF($P$3=\"Mardi\",Congés_auto!T40,IF($P$3=\"Mercredi\",Congés_auto!U40,IF($P$3=\"Jeudi\",Congés_auto!V40,IF($P$3=\"Vendredi\",Congés_auto!W40,IF($P$3=\"Samedi\",Congés_auto!X40,0))))))))","v":"2018-08-27"},{"$nulls":3},{"$f":"IF(L4=1,2,1)","v":1},{"$f":"IF(M4=\"A\",\"B\",\"A\")","v":"B"}]
[{"$f":"A5+1","v":3},2,{"$nulls":5},{"$f":"IF(M6=\"A\",IF(B6=\"\",\"\",IF($N$3=\"Lundi\",Congés_auto!S41,IF($N$3=\"Mardi\",Congés_auto!T41,IF($N$3=\"Mercredi\",Congés_auto!U41,IF($N$3=\"Jeudi\",Congés_auto!V41,IF($N$3=\"Vendredi\",Congés_auto!W41,IF($N$3=\"Samedi\",Congés_auto!X41,0))))))),IF(B6=\"\",\"\",IF($P$3=\"Lundi\",Congés_auto!S41,IF($P$3=\"Mardi\",Congés_auto!T41,IF($P$3=\"Mercredi\",Congés_auto!U41,IF($P$3=\"Jeudi\",Congés_auto!V41,IF($P$3=\"Vendredi\",Congés_auto!W41,IF($P$3=\"Samedi\",Congés_auto!X41,0))))))))","v":"2018-09-03"},{"$nulls":3},{"$f":"IF(L5=1,2,1)","v":2},{"$f":"IF(M5=\"A\",\"B\",\"A\")","v":"A"}]
[4,2,{"$nulls":5},{"$f":"IF(M7=\"A\",IF(B7=\"\",\"\",IF($N$3=\"Lundi\",Congés_auto!S42,IF($N$3=\"Mardi\",Congés_auto!T42,IF($N$3=\"Mercredi\",Congés_auto!U42,IF($N$3=\"Jeudi\",Congés_auto!V42,IF($N$3=\"Vendredi\",Congés_auto!W42,IF($N$3=\"Samedi\",Congés_auto!X42,0))))))),IF(B7=\"\",\"\",IF($P$3=\"Lundi\",Congés_auto!S42,IF($P$3=\"Mardi\",Congés_auto!T42,IF($P$3=\"Mercredi\",Congés_auto!U42,IF($P$3=\"Jeudi\",Congés_auto!V42,IF($P$3=\"Vendredi\",Congés_auto!W42,IF($P$3=\"Samedi\",Congés_auto!X42,0))))))))","v":"2018-09-10"},{"$nulls":3},1,"B"]
[5,3,{"$nulls":5},{"$f":"IF(M8=\"A\",IF(B8=\"\",\"\",IF($N$3=\"Lundi\",Congés_auto!S43,IF($N$3=\"Mardi\",Congés_auto!T43,IF($N$3=\"Mercredi\",Congés_auto!U43,IF($N$3=\"Jeudi\",Congés_auto!V43,IF($N$3=\"Vendredi\",Congés_auto!W43,IF($N$3=\"Samedi\",Congés_auto!X43,0))))))),IF(B8=\"\",\"\",IF($P$3=\"Lundi\",Congés_auto!S43,IF($P$3=\"Mardi\",Congés_auto!T43,IF($P$3=\"Mercredi\",Congés_auto!U43,IF($P$3=\"Jeudi\",Congés_auto!V43,IF($P$3=\"Vendredi\",Congés_auto!W43,IF($P$3=\"Samedi\",Congés_auto!X43,0))))))))","v":"2018-09-17"},{"$nulls":3},2,"A"]
[6,3,{"$nulls":5},{"$f":"IF(M9=\"A\",IF(B9=\"\",\"\",IF($N$3=\"Lundi\",Congés_auto!S44,IF($N$3=\"Mardi\",Congés_auto!T44,IF($N$3=\"Mercredi\",Congés_auto!U44,IF($N$3=\"Jeudi\",Congés_auto!V44,IF($N$3=\"Vendredi\",Congés_auto!W44,IF($N$3=\"Samedi\",Congés_auto!X44,0))))))),IF(B9=\"\",\"\",IF($P$3=\"Lundi\",Congés_auto!S44,IF($P$3=\"Mardi\",Congés_auto!T44,IF($P$3=\"Mercredi\",Congés_auto!U44,IF($P$3=\"Jeudi\",Congés_auto!V44,IF($P$3=\"Vendredi\",Congés_auto!W44,IF($P$3=\"Samedi\",Congés_auto!X44,0))))))))","v":"2018-09-24"},{"$nulls":3},1,"B"]
[7,4,{"$nulls":5},{"$f":"IF(M10=\"A\",IF(B10=\"\",\"\",IF($N$3=\"Lundi\",Congés_auto!S45,IF($N$3=\"Mardi\",Congés_auto!T45,IF($N$3=\"Mercredi\",Congés_auto!U45,IF($N$3=\"Jeudi\",Congés_auto!V45,IF($N$3=\"Vendredi\",Congés_auto!W45,IF($N$3=\"Samedi\",Congés_auto!X45,0))))))),IF(B10=\"\",\"\",IF($P$3=\"Lundi\",Congés_auto!S45,IF($P$3=\"Mardi\",Congés_auto!T45,IF($P$3=\"Mercredi\",Congés_auto!U45,IF($P$3=\"Jeudi\",Congés_auto!V45,IF($P$3=\"Vendredi\",Congés_auto!W45,IF($P$3=\"Samedi\",Congés_auto!X45,0))))))))","v":"2018-10-01"},{"$nulls":3},2,"A"]
[8,4,{"$nulls":5},{"$f":"IF(M11=\"A\",IF(B11=\"\",\"\",IF($N$3=\"Lundi\",Congés_auto!S46,IF($N$3=\"Mardi\",Congés_auto!T46,IF($N$3=\"Mercredi\",Congés_auto!U46,IF($N$3=\"Jeudi\",Congés_auto!V46,IF($N$3=\"Vendredi\",Congés_auto!W46,IF($N$3=\"Samedi\",Congés_auto!X46,0))))))),IF(B11=\"\",\"\",IF($P$3=\"Lundi\",Congés_auto!S46,IF($P$3=\"Mardi\",Congés_auto!T46,IF($P$3=\"Mercredi\",Congés_auto!U46,IF($P$3=\"Jeudi\",Congés_auto!V46,IF($P$3=\"Vendredi\",Congés_auto!W46,IF($P$3=\"Samedi\",Congés_auto!X46,0))))))))","v":"2018-10-08"},{"$nulls":3},1,"B"]
[9,5,{"$nulls":5},{"$f":"IF(M12=\"A\",IF(B12=\"\",\"\",IF($N$3=\"Lundi\",Congés_auto!S47,IF($N$3=\"Mardi\",Congés_auto!T47,IF($N$3=\"Mercredi\",Congés_auto!U47,IF($N$3=\"Jeudi\",Congés_auto!V47,IF($N$3=\"Vendredi\",Congés_auto!W47,IF($N$3=\"Samedi\",Congés_auto!X47,0))))))),IF(B12=\"\",\"\",IF($P$3=\"Lundi\",Congés_auto!S47,IF($P$3=\"Mardi\",Congés_auto!T47,IF($P$3=\"Mercredi\",Congés_auto!U47,IF($P$3=\"Jeudi\",Congés_auto!V47,IF($P$3=\"Vendredi\",Congés_auto!W47,IF($P$3=\"Samedi\",Congés_auto!X47,0))))))))","v":"2018-10-29"},{"$nulls":3},2,"A"]
[10,5,{"$nulls":5},{"$f":"IF(M13=\"A\",IF(B13=\"\",\"\",IF($N$3=\"Lundi\",Congés_auto!S48,IF($N$3=\"Mardi\",Congés_auto!T48,IF($N$3=\"Mercredi\",Congés_auto!U48,IF($N$3=\"Jeudi\",Congés_auto!V48,IF($N$3=\"Vendredi\",Congés_auto!W48,IF($N$3=\"Samedi\",Congés_auto!X48,0))))))),IF(B13=\"\",\"\",IF($P$3=\"Lundi\",Congés_auto!S48,IF($P$3=\"Mardi\",Congés_auto!T48,IF($P$3=\"Mercredi\",Congés_auto!U48,IF($P$3=\"Jeudi\",Congés_auto!V48,IF($P$3=\"Vendredi\",Congés_auto!W48,IF($P$3=\"Samedi\",Congés_auto!X48,0))))))))","v":"2018-11-05"},{"$nulls":3},1,"B"]
[11,6,{"$nulls":5},{"$f":"IF(M14=\"A\",IF(B14=\"\",\"\",IF($N$3=\"Lundi\",Congés_auto!S49,IF($N$3=\"Mardi\",Congés_auto!T49,IF($N$3=\"Mercredi\",Congés_auto!U49,IF($N$3=\"Jeudi\",Congés_auto!V49,IF($N$3=\"Vendredi\",Congés_auto!W49,IF($N$3=\"Samedi\",Congés_auto!X49,0))))))),IF(B14=\"\",\"\",IF($P$3=\"Lundi\",Congés_auto!S49,IF($P$3=\"Mardi\",Congés_auto!T49,IF($P$3=\"Mercredi\",Congés_auto!U49,IF($P$3=\"Jeudi\",Congés_auto!V49,IF($P$3=\"Vendredi\",Congés_auto!W49,IF($P$3=\"Samedi\",Congés_auto!X49,0))))))))","v":"2018-11-12"},{"$nulls":3},2,"A"]
[12,6,{"$nulls":5},{"$f":"IF(M15=\"A\",IF(B15=\"\",\"\",IF($N$3=\"Lundi\",Congés_auto!S50,IF($N$3=\"Mardi\",Congés_auto!T50,IF($N$3=\"Mercredi\",Congés_auto!U50,IF($N$3=\"Jeudi\",Congés_auto!V50,IF($N$3=\"Vendredi\",Congés_auto!W50,IF($N$3=\"Samedi\",Congés_auto!X50,0))))))),IF(B15=\"\",\"\",IF($P$3=\"Lundi\",Congés_auto!S50,IF($P$3=\"Mardi\",Congés_auto!T50,IF($P$3=\"Mercredi\",Congés_auto!U50,IF($P$3=\"Jeudi\",Congés_auto!V50,IF($P$3=\"Vendredi\",Congés_auto!W50,IF($P$3=\"Samedi\",Congés_auto!X50,0))))))))","v":"2018-11-19"},{"$nulls":3},1,"B"]
[13,7,{"$nulls":5},{"$f":"IF(M16=\"A\",IF(B16=\"\",\"\",IF($N$3=\"Lundi\",Congés_auto!S51,IF($N$3=\"Mardi\",Congés_auto!T51,IF($N$3=\"Mercredi\",Congés_auto!U51,IF($N$3=\"Jeudi\",Congés_auto!V51,IF($N$3=\"Vendredi\",Congés_auto!W51,IF($N$3=\"Samedi\",Congés_auto!X51,0))))))),IF(B16=\"\",\"\",IF($P$3=\"Lundi\",Congés_auto!S51,IF($P$3=\"Mardi\",Congés_auto!T51,IF($P$3=\"Mercredi\",Congés_auto!U51,IF($P$3=\"Jeudi\",Congés_auto!V51,IF($P$3=\"Vendredi\",Congés_auto!W51,IF($P$3=\"Samedi\",Congés_auto!X51,0))))))))","v":"2018-11-26"},{"$nulls":3},2,"A"]
[14,7,{"$nulls":5},{"$f":"IF(M17=\"A\",IF(B17=\"\",\"\",IF($N$3=\"Lundi\",Congés_auto!S52,IF($N$3=\"Mardi\",Congés_auto!T52,IF($N$3=\"Mercredi\",Congés_auto!U52,IF($N$3=\"Jeudi\",Congés_auto!V52,IF($N$3=\"Vendredi\",Congés_auto!W52,IF($N$3=\"Samedi\",Congés_auto!X52,0))))))),IF(B17=\"\",\"\",IF($P$3=\"Lundi\",Congés_auto!S52,IF($P$3=\"Mardi\",Congés_auto!T52,IF($P$3=\"Mercredi\",Congés_auto!U52,IF($P$3=\"Jeudi\",Congés_auto!V52,IF($P$3=\"Vendredi\",Congés_auto!W52,IF($P$3=\"Samedi\",Congés_auto!X52,0))))))))","v":"2018-12-03"},{"$nulls":3},1,"B"]
[15,8,{"$nulls":5},{"$f":"IF(M18=\"A\",IF(B18=\"\",\"\",IF($N$3=\"Lundi\",Congés_auto!S53,IF($N$3=\"Mardi\",Congés_auto!T53,IF($N$3=\"Mercredi\",Congés_auto!U53,IF($N$3=\"Jeudi\",Congés_auto!V53,IF($N$3=\"Vendredi\",Congés_auto!W53,IF($N$3=\"Samedi\",Congés_auto!X53,0))))))),IF(B18=\"\",\"\",IF($P$3=\"Lundi\",Congés_auto!S53,IF($P$3=\"Mardi\",Congés_auto!T53,IF($P$3=\"Mercredi\",Congés_auto!U53,IF($P$3=\"Jeudi\",Congés_auto!V53,IF($P$3=\"Vendredi\",Congés_auto!W53,IF($P$3=\"Samedi\",Congés_auto!X53,0))))))))","v":"2018-12-10"},{"$nulls":3},2,"A"]
[16,8,{"$nulls":5},{"$f":"IF(M19=\"A\",IF(B19=\"\",\"\",IF($N$3=\"Lundi\",Congés_auto!S54,IF($N$3=\"Mardi\",Congés_auto!T54,IF($N$3=\"Mercredi\",Congés_auto!U54,IF($N$3=\"Jeudi\",Congés_auto!V54,IF($N$3=\"Vendredi\",Congés_auto!W54,IF($N$3=\"Samedi\",Congés_auto!X54,0))))))),IF(B19=\"\",\"\",IF($P$3=\"Lundi\",Congés_auto!S54,IF($P$3=\"Mardi\",Congés_auto!T54,IF($P$3=\"Mercredi\",Congés_auto!U54,IF($P$3=\"Jeudi\",Congés_auto!V54,IF($P$3=\"Vendredi\",Congés_auto!W54,IF($P$3=\"Samedi\",Congés_auto!X54,0))))))))","v":"2018-12-17"},{"$nulls":3},1,"B"]
[17,9,{"$nulls":5},{"$f":"IF(M20=\"A\",IF(B20=\"\",\"\",IF($N$3=\"Lundi\",Congés_auto!S55,IF($N$3=\"Mardi\",Congés_auto!T55,IF($N$3=\"Mercredi\",Congés_auto!U55,IF($N$3=\"Jeudi\",Congés_auto!V55,IF($N$3=\"Vendredi\",Congés_auto!W55,IF($N$3=\"Samedi\",Congés_auto!X55,0))))))),IF(B20=\"\",\"\",IF($P$3=\"Lundi\",Congés_auto!S55,IF($P$3=\"Mardi\",Congés_auto!T55,IF($P$3=\"Mercredi\",Congés_auto!U55,IF($P$3=\"Jeudi\",Congés_auto!V55,IF($P$3=\"Vendredi\",Congés_auto!W55,IF($P$3=\"Samedi\",Congés_auto!X55,0))))))))","v":"2019-01-28"},{"$nulls":3},2,"A"]
[18,9,{"$nulls":5},{"$f":"IF(M21=\"A\",IF(B21=\"\",\"\",IF($N$3=\"Lundi\",Congés_auto!S56,IF($N$3=\"Mardi\",Congés_auto!T56,IF($N$3=\"Mercredi\",Congés_auto!U56,IF($N$3=\"Jeudi\",Congés_auto!V56,IF($N$3=\"Vendredi\",Congés_auto!W56,IF($N$3=\"Samedi\",Congés_auto!X56,0))))))),IF(B21=\"\",\"\",IF($P$3=\"Lundi\",Congés_auto!S56,IF($P$3=\"Mardi\",Congés_auto!T56,IF($P$3=\"Mercredi\",Congés_auto!U56,IF($P$3=\"Jeudi\",Congés_auto!V56,IF($P$3=\"Vendredi\",Congés_auto!W56,IF($P$3=\"Samedi\",Congés_auto!X56,0))))))))","v":"2019-02-04"},{"$nulls":3},1,"B"]
[19,10,{"$nulls":5},{"$f":"IF(M22=\"A\",IF(B22=\"\",\"\",IF($N$3=\"Lundi\",Congés_auto!S57,IF($N$3=\"Mardi\",Congés_auto!T57,IF($N$3=\"Mercredi\",Congés_auto!U57,IF($N$3=\"Jeudi\",Congés_auto!V57,IF($N$3=\"Vendredi\",Congés_auto!W57,IF($N$3=\"Samedi\",Congés_auto!X57,0))))))),IF(B22=\"\",\"\",IF($P$3=\"Lundi\",Congés_auto!S57,IF($P$3=\"Mardi\",Congés_auto!T57,IF($P$3=\"Mercredi\",Congés_auto!U57,IF($P$3=\"Jeudi\",Congés_auto!V57,IF($P$3=\"Vendredi\",Congés_auto!W57,IF($P$3=\"Samedi\",Congés_auto!X57,0))))))))","v":"2019-02-11"},{"$nulls":3},2,"A"]
[20,10,{"$nulls":5},{"$f":"IF(M23=\"A\",IF(B23=\"\",\"\",IF($N$3=\"Lundi\",Congés_auto!S58,IF($N$3=\"Mardi\",Congés_auto!T58,IF($N$3=\"Mercredi\",Congés_auto!U58,IF($N$3=\"Jeudi\",Congés_auto!V58,IF($N$3=\"Vendredi\",Congés_auto!W58,IF($N$3=\"Samedi\",Congés_auto!X58,0))))))),IF(B23=\"\",\"\",IF($P$3=\"Lundi\",Congés_auto!S58,IF($P$3=\"Mardi\",Congés_auto!T58,IF($P$3=\"Mercredi\",Congés_auto!U58,IF($P$3=\"Jeudi\",Congés_auto!V58,IF($P$3=\"Vendredi\",Congés_auto!W58,IF($P$3=\"Samedi\",Congés_auto!X58,0))))))))","v":"2019-02-18"},{"$nulls":3},1,"B"]
[21,11,{"$nulls":5},{"$f":"IF(M24=\"A\",IF(B24=\"\",\"\",IF($N$3=\"Lundi\",Congés_auto!S59,IF($N$3=\"Mardi\",Congés_auto!T59,IF($N$3=\"Mercredi\",Congés_auto!U59,IF($N$3=\"Jeudi\",Congés_auto!V59,IF($N$3=\"Vendredi\",Congés_auto!W59,IF($N$3=\"Samedi\",Congés_auto!X59,0))))))),IF(B24=\"\",\"\",IF($P$3=\"Lundi\",Congés_auto!S59,IF($P$3=\"Mardi\",Congés_auto!T59,IF($P$3=\"Mercredi\",Congés_auto!U59,IF($P$3=\"Jeudi\",Congés_auto!V59,IF($P$3=\"Vendredi\",Congés_auto!W59,IF($P$3=\"Samedi\",Congés_auto!X59,0))))))))","v":"2019-02-25"},{"$nulls":3},2,"A"]
[22,11,{"$nulls":5},{"$f":"IF(M25=\"A\",IF(B25=\"\",\"\",IF($N$3=\"Lundi\",Congés_auto!S60,IF($N$3=\"Mardi\",Congés_auto!T60,IF($N$3=\"Mercredi\",Congés_auto!U60,IF($N$3=\"Jeudi\",Congés_auto!V60,IF($N$3=\"Vendredi\",Congés_auto!W60,IF($N$3=\"Samedi\",Congés_auto!X60,0))))))),IF(B25=\"\",\"\",IF($P$3=\"Lundi\",Congés_auto!S60,IF($P$3=\"Mardi\",Congés_auto!T60,IF($P$3=\"Mercredi\",Congés_auto!U60,IF($P$3=\"Jeudi\",Congés_auto!V60,IF($P$3=\"Vendredi\",Congés_auto!W60,IF($P$3=\"Samedi\",Congés_auto!X60,0))))))))","v":"2019-03-04"},{"$nulls":3},1,"B"]
[23,12,{"$nulls":5},{"$f":"IF(M26=\"A\",IF(B26=\"\",\"\",IF($N$3=\"Lundi\",Congés_auto!S61,IF($N$3=\"Mardi\",Congés_auto!T61,IF($N$3=\"Mercredi\",Congés_auto!U61,IF($N$3=\"Jeudi\",Congés_auto!V61,IF($N$3=\"Vendredi\",Congés_auto!W61,IF($N$3=\"Samedi\",Congés_auto!X61,0))))))),IF(B26=\"\",\"\",IF($P$3=\"Lundi\",Congés_auto!S61,IF($P$3=\"Mardi\",Congés_auto!T61,IF($P$3=\"Mercredi\",Congés_auto!U61,IF($P$3=\"Jeudi\",Congés_auto!V61,IF($P$3=\"Vendredi\",Congés_auto!W61,IF($P$3=\"Samedi\",Congés_auto!X61,0))))))))","v":"2019-03-25"},{"$nulls":3},2,"A"]
[24,12,{"$nulls":5},{"$f":"IF(M27=\"A\",IF(B27=\"\",\"\",IF($N$3=\"Lundi\",Congés_auto!S62,IF($N$3=\"Mardi\",Congés_auto!T62,IF($N$3=\"Mercredi\",Congés_auto!U62,IF($N$3=\"Jeudi\",Congés_auto!V62,IF($N$3=\"Vendredi\",Congés_auto!W62,IF($N$3=\"Samedi\",Congés_auto!X62,0))))))),IF(B27=\"\",\"\",IF($P$3=\"Lundi\",Congés_auto!S62,IF($P$3=\"Mardi\",Congés_auto!T62,IF($P$3=\"Mercredi\",Congés_auto!U62,IF($P$3=\"Jeudi\",Congés_auto!V62,IF($P$3=\"Vendredi\",Congés_auto!W62,IF($P$3=\"Samedi\",Congés_auto!X62,0))))))))","v":"2019-04-01"},{"$nulls":3},1,"B"]
[25,13,{"$nulls":5},{"$f":"IF(M28=\"A\",IF(B28=\"\",\"\",IF($N$3=\"Lundi\",Congés_auto!S63,IF($N$3=\"Mardi\",Congés_auto!T63,IF($N$3=\"Mercredi\",Congés_auto!U63,IF($N$3=\"Jeudi\",Congés_auto!V63,IF($N$3=\"Vendredi\",Congés_auto!W63,IF($N$3=\"Samedi\",Congés_auto!X63,0))))))),IF(B28=\"\",\"\",IF($P$3=\"Lundi\",Congés_auto!S63,IF($P$3=\"Mardi\",Congés_auto!T63,IF($P$3=\"Mercredi\",Congés_auto!U63,IF($P$3=\"Jeudi\",Congés_auto!V63,IF($P$3=\"Vendredi\",Congés_auto!W63,IF($P$3=\"Samedi\",Congés_auto!X63,0))))))))","v":"2019-04-08"},{"$nulls":3},2,"A"]
[26,13,{"$nulls":5},{"$f":"IF(M29=\"A\",IF(B29=\"\",\"\",IF($N$3=\"Lundi\",Congés_auto!S64,IF($N$3=\"Mardi\",Congés_auto!T64,IF($N$3=\"Mercredi\",Congés_auto!U64,IF($N$3=\"Jeudi\",Congés_auto!V64,IF($N$3=\"Vendredi\",Congés_auto!W64,IF($N$3=\"Samedi\",Congés_auto!X64,0))))))),IF(B29=\"\",\"\",IF($P$3=\"Lundi\",Congés_auto!S64,IF($P$3=\"Mardi\",Congés_auto!T64,IF($P$3=\"Mercredi\",Congés_auto!U64,IF($P$3=\"Jeudi\",Congés_auto!V64,IF($P$3=\"Vendredi\",Congés_auto!W64,IF($P$3=\"Samedi\",Congés_auto!X64,0))))))))","v":"2019-04-15"},{"$nulls":3},1,"B"]
[27,14,{"$nulls":5},{"$f":"IF(M30=\"A\",IF(B30=\"\",\"\",IF($N$3=\"Lundi\",Congés_auto!S65,IF($N$3=\"Mardi\",Congés_auto!T65,IF($N$3=\"Mercredi\",Congés_auto!U65,IF($N$3=\"Jeudi\",Congés_auto!V65,IF($N$3=\"Vendredi\",Congés_auto!W65,IF($N$3=\"Samedi\",Congés_auto!X65,0))))))),IF(B30=\"\",\"\",IF($P$3=\"Lundi\",Congés_auto!S65,IF($P$3=\"Mardi\",Congés_auto!T65,IF($P$3=\"Mercredi\",Congés_auto!U65,IF($P$3=\"Jeudi\",Congés_auto!V65,IF($P$3=\"Vendredi\",Congés_auto!W65,IF($P$3=\"Samedi\",Congés_auto!X65,0))))))))","v":"2019-04-29"},{"$nulls":3},2,"A"]
[28,14,{"$nulls":5},{"$f":"IF(M31=\"A\",IF(B31=\"\",\"\",IF($N$3=\"Lundi\",Congés_auto!S66,IF($N$3=\"Mardi\",Congés_auto!T66,IF($N$3=\"Mercredi\",Congés_auto!U66,IF($N$3=\"Jeudi\",Congés_auto!V66,IF($N$3=\"Vendredi\",Congés_auto!W66,IF($N$3=\"Samedi\",Congés_auto!X66,0))))))),IF(B31=\"\",\"\",IF($P$3=\"Lundi\",Congés_auto!S66,IF($P$3=\"Mardi\",Congés_auto!T66,IF($P$3=\"Mercredi\",Congés_auto!U66,IF($P$3=\"Jeudi\",Congés_auto!V66,IF($P$3=\"Vendredi\",Congés_auto!W66,IF($P$3=\"Samedi\",Congés_auto!X66,0))))))))","v":"2019-05-06"},{"$nulls":3},1,"B"]
[29,15,{"$nulls":5},{"$f":"IF(M32=\"A\",IF(B32=\"\",\"\",IF($N$3=\"Lundi\",Congés_auto!S67,IF($N$3=\"Mardi\",Congés_auto!T67,IF($N$3=\"Mercredi\",Congés_auto!U67,IF($N$3=\"Jeudi\",Congés_auto!V67,IF($N$3=\"Vendredi\",Congés_auto!W67,IF($N$3=\"Samedi\",Congés_auto!X67,0))))))),IF(B32=\"\",\"\",IF($P$3=\"Lundi\",Congés_auto!S67,IF($P$3=\"Mardi\",Congés_auto!T67,IF($P$3=\"Mercredi\",Congés_auto!U67,IF($P$3=\"Jeudi\",Congés_auto!V67,IF($P$3=\"Vendredi\",Congés_auto!W67,IF($P$3=\"Samedi\",Congés_auto!X67,0))))))))","v":"2019-05-20"},{"$nulls":3},2,"A"]
[30,15,{"$nulls":5},{"$f":"IF(M33=\"A\",IF(B33=\"\",\"\",IF($N$3=\"Lundi\",Congés_auto!S68,IF($N$3=\"Mardi\",Congés_auto!T68,IF($N$3=\"Mercredi\",Congés_auto!U68,IF($N$3=\"Jeudi\",Congés_auto!V68,IF($N$3=\"Vendredi\",Congés_auto!W68,IF($N$3=\"Samedi\",Congés_auto!X68,0))))))),IF(B33=\"\",\"\",IF($P$3=\"Lundi\",Congés_auto!S68,IF($P$3=\"Mardi\",Congés_auto!T68,IF($P$3=\"Mercredi\",Congés_auto!U68,IF($P$3=\"Jeudi\",Congés_auto!V68,IF($P$3=\"Vendredi\",Congés_auto!W68,IF($P$3=\"Samedi\",Congés_auto!X68,0))))))))","v":"2019-05-27"},{"$nulls":3},1,"B"]
[31,16,{"$nulls":5},{"$f":"IF(M34=\"A\",IF(B34=\"\",\"\",IF($N$3=\"Lundi\",Congés_auto!S69,IF($N$3=\"Mardi\",Congés_auto!T69,IF($N$3=\"Mercredi\",Congés_auto!U69,IF($N$3=\"Jeudi\",Congés_auto!V69,IF($N$3=\"Vendredi\",Congés_auto!W69,IF($N$3=\"Samedi\",Congés_auto!X69,0))))))),IF(B34=\"\",\"\",IF($P$3=\"Lundi\",Congés_auto!S69,IF($P$3=\"Mardi\",Congés_auto!T69,IF($P$3=\"Mercredi\",Congés_auto!U69,IF($P$3=\"Jeudi\",Congés_auto!V69,IF($P$3=\"Vendredi\",Congés_auto!W69,IF($P$3=\"Samedi\",Congés_auto!X69,0))))))))","v":"2019-06-03"},{"$nulls":3},2,"A"]
[32,16,{"$nulls":5},{"$f":"IF(M35=\"A\",IF(B35=\"\",\"\",IF($N$3=\"Lundi\",Congés_auto!S70,IF($N$3=\"Mardi\",Congés_auto!T70,IF($N$3=\"Mercredi\",Congés_auto!U70,IF($N$3=\"Jeudi\",Congés_auto!V70,IF($N$3=\"Vendredi\",Congés_auto!W70,IF($N$3=\"Samedi\",Congés_auto!X70,0))))))),IF(B35=\"\",\"\",IF($P$3=\"Lundi\",Congés_auto!S70,IF($P$3=\"Mardi\",Congés_auto!T70,IF($P$3=\"Mercredi\",Congés_auto!U70,IF($P$3=\"Jeudi\",Congés_auto!V70,IF($P$3=\"Vendredi\",Congés_auto!W70,IF($P$3=\"Samedi\",Congés_auto!X70,0))))))))","v":"2019-06-10"},{"$nulls":3},1,"B"]
[33,17,{"$nulls":5},{"$f":"IF(M36=\"A\",IF(B36=\"\",\"\",IF($N$3=\"Lundi\",Congés_auto!S71,IF($N$3=\"Mardi\",Congés_auto!T71,IF($N$3=\"Mercredi\",Congés_auto!U71,IF($N$3=\"Jeudi\",Congés_auto!V71,IF($N$3=\"Vendredi\",Congés_auto!W71,IF($N$3=\"Samedi\",Congés_auto!X71,0))))))),IF(B36=\"\",\"\",IF($P$3=\"Lundi\",Congés_auto!S71,IF($P$3=\"Mardi\",Congés_auto!T71,IF($P$3=\"Mercredi\",Congés_auto!U71,IF($P$3=\"Jeudi\",Congés_auto!V71,IF($P$3=\"Vendredi\",Congés_auto!W71,IF($P$3=\"Samedi\",Congés_auto!X71,0))))))))","v":"2019-06-17"},{"$nulls":3},2,"A"]
[34,17,{"$nulls":9},1,"B"]
[35,{"$f":"IF(OR($O$4=1,$O$4=2),$AA127,IF(OR($O$4=3,$O$4=4),$AC127,IF(OR($O$4=5,$O$4=6),$AE127,IF(OR($O$4=7,$O$4=8),$AG127,\"\"))))","v":18},{"$nulls":5},{"$f":"IF(M38=\"A\",IF(B38=\"\",\"\",IF($N$3=\"Lundi\",Congés_auto!S73,IF($N$3=\"Mardi\",Congés_auto!T73,IF($N$3=\"Mercredi\",Congés_auto!U73,IF($N$3=\"Jeudi\",Congés_auto!V73,IF($N$3=\"Vendredi\",Congés_auto!W73,IF($N$3=\"Samedi\",Congés_auto!X73,0))))))),IF(B38=\"\",\"\",IF($P$3=\"Lundi\",Congés_auto!S73,IF($P$3=\"Mardi\",Congés_auto!T73,IF($P$3=\"Mercredi\",Congés_auto!U73,IF($P$3=\"Jeudi\",Congés_auto!V73,IF($P$3=\"Vendredi\",Congés_auto!W73,IF($P$3=\"Samedi\",Congés_auto!X73,0))))))))","v":"2019-07-01"},{"$nulls":3},2,"A"]
[36,18,{"$nulls":5},{"$f":"IF(M39=\"A\",IF(B39=\"\",\"\",IF($N$3=\"Lundi\",Congés_auto!S74,IF($N$3=\"Mardi\",Congés_auto!T74,IF($N$3=\"Mercredi\",Congés_auto!U74,IF($N$3=\"Jeudi\",Congés_auto!V74,IF($N$3=\"Vendredi\",Congés_auto!W74,IF($N$3=\"Samedi\",Congés_auto!X74,0))))))),IF(B39=\"\",\"\",IF($P$3=\"Lundi\",Congés_auto!S74,IF($P$3=\"Mardi\",Congés_auto!T74,IF($P$3=\"Mercredi\",Congés_auto!U74,IF($P$3=\"Jeudi\",Congés_auto!V74,IF($P$3=\"Vendredi\",Congés_auto!W74,IF($P$3=\"Samedi\",Congés_auto!X74,0))))))))","v":""},{"$nulls":3},1,"B"]
[]
[]
[null,null,"Binôme avec :"]
{"$rows_empty":22}
[{"$nulls":28},"Modifier u2 et w2 - Planning pour 8 ou 6 grp",{"$nulls":6},"Sem B 2h",null,"NON"]
[{"$nulls":27},"Planning",{"$f":"T1","v":0},null,null,{"$f":"N3","v":"Lundi"},{"$nulls":10},0]
[]
[{"$nulls":26},{"$f":"Z93","v":"2018-08-20"},{"$f":"OFFSET($Z$93,AA73,0)","v":"2018-08-27"},{"$f":"OFFSET($Z$93,AB73,0)","v":"2018-09-03"},"2018-09-10","2018-09-17","2018-09-24","2018-10-01","2018-10-08","2018-10-29","2018-11-05","2018-11-12","2018-11-19","2018-11-26","2018-12-03","2018-12-10","2018-12-17","2019-01-28","2019-02-04","2019-02-18","2019-02-25","2019-03-04","2019-03-25","2019-04-01","2019-04-08","2019-04-15","2019-04-29","2019-05-06","2019-05-20","2019-05-27","2019-06-03","2019-06-10","2019-06-17","00:00:00","2019-07-01","","00:00:00"]
[]
[]
[]
[{"$nulls":24},"Temps",null,2,2,2,2,2,2,2,2,2,2,2,2,2,2,2,2,2,2,2,2,2,2,2,2,2,2,2,2,2,2,2,2,2,2,2,2]
[{"$nulls":25},"Semaine",1,{"$f":"AA73+1","v":2},{"$f":"AB73+1","v":3},4,5,6,7,8,9,10,11,12,13,14,15,16,17,18,{"$f":"AR73+1","v":19},{"$f":"AS73+1","v":20},21,22,23,24,25,26,27,28,29,30,31,32,33,34,35,36]
[{"$nulls":25},"Grp  1",1,1,{"$f":"AA74+1","v":2},{"$f":"AB74+1","v":2},3,3,4,4,5,5,6,6,7,7,8,8,9,9,10,{"$f":"AR74+1","v":10},11,11,12,12,13,13,14,14,15,15,16,16,17,17,18,{"$f":"BH74+1","v":18}]
[{"$nulls":25},"Grp  2",1,1,{"$f":"AA75+1","v":2},2,3,3,4,4,5,5,6,6,7,7,8,8,9,9,10,10,11,11,12,12,13,13,14,14,15,15,16,16,17,17,18,18]
[{"$nulls":23},"FREQUENCE(A1:A30;{1,8;2,7})",null,"Grp  3",1,1,2,2,3,3,4,4,5,5,6,6,7,7,8,8,9,9,10,10,11,11,12,12,13,13,14,14,15,15,16,16,17,17,18,18]
[{"$nulls":25},"Grp  4",1,2,2,3,3,4,4,5,5,6,6,7,7,8,8,9,9,10,10,11,11,12,12,13,13,14,14,15,15,16,16,17,17,18,18,19]
[{"$nulls":25},"Grp  5",1,2,2,3,3,4,4,5,5,6,6,7,7,8,8,9,9,10,10,11,11,12,12,13,13,14,14,15,15,16,16,17,17,18,18,19]
[{"$nulls":25},"Grp  6",1,2,2,3,3,4,4,5,5,6,6,7,7,8,8,9,9,10,10,11,11,12,12,13,13,14,14,15,15,16,16,17,17,18,18,19]
[{"$nulls":25},"Grp  7",1,2,2,3,3,4,4,5,5,6,6,7,7,8,8,9,9,10,10,11,11,12,12,13,13,14,14,15,15,16,16,17,17,18,18,19]
[{"$nulls":25},"Grp  8",1,2,2,3,3,4,4,5,5,6,6,7,7,8,8,9,9,10,10,11,11,12,12,13,13,14,14,15,15,16,16,17,17,18,18,19]
[{"$nulls":33},"DT1 --> 0,5 h",{"$nulls":6},"DT2 --> 1 h"]
[{"$nulls":33},"Travail noté"]
[]
[{"$nulls":23},{"$f":"CONCATENATE(AJ86,Y87)","v":"01"},"Les groupes"]
[{"$nulls":30},{"$f":"IF(LEFT(T1,1)=\"3\",\"Troisième\",IF(LEFT(T1,1)=\"4\",\"Quatrième\",IF(LEFT(T1,1)=\"5\",\"Cinquiéme\",\"Sixième\")))","v":"Sixième"},{"$nulls":4},{"$f":"T1","v":0},null,null,{"$f":"N3","v":"Lundi"},{"$nulls":4},{"$f":"O3","v":0}]
[{"$nulls":17},{"$error":"#N/A"},{"$error":"#N/A"},{"$error":"#N/A"},{"$error":"#N/A"},{"$error":"#N/A"},1,null,1,{"$f":"IF(ISNA(R87),\"\",R87)&\"  --  \"&IF(ISNA(S87),\"\",S87)&\" --  \"&IF(ISNA(T87),\"\",T87)&\" --  \"&IF(ISNA(U87),\"\",U87)&\"  --  \"&IF(ISNA(V87),\"\",V87)","v":"  --   --   --    --  "},{"$nulls":12},5,{"$f":"IF(ISNA(R91),\"\",R91)&\"  --  \"&IF(ISNA(S91),\"\",S91)&\" --  \"&IF(ISNA(T91),\"\",T91)&\" --  \"&IF(ISNA(U91),\"\",U91)&\"  --  \"&IF(ISNA(V91),\"\",V91)","v":"  --   --   --    --  "}]
[{"$nulls":17},{"$error":"#N/A"},{"$error":"#N/A"},{"$error":"#N/A"},{"$error":"#N/A"},{"$error":"#N/A"},2,null,2,{"$f":"IF(ISNA(R88),\"\",R88)&\"  --  \"&IF(ISNA(S88),\"\",S88)&\" --  \"&IF(ISNA(T88),\"\",T88)&\" --  \"&IF(ISNA(U88),\"\",U88)&\"  --  \"&IF(ISNA(V88),\"\",V88)","v":"  --   --   --    --  "},{"$nulls":12},6,{"$f":"IF(ISNA(R92),\"\",R92)&\"  --  \"&IF(ISNA(S92),\"\",S92)&\" --  \"&IF(ISNA(T92),\"\",T92)&\" --  \"&IF(ISNA(U92),\"\",U92)&\"  --  \"&IF(ISNA(V92),\"\",V92)","v":"  --   --   --    --  "}]
[{"$nulls":17},{"$error":"#N/A"},{"$error":"#N/A"},{"$error":"#N/A"},{"$error":"#N/A"},{"$error":"#N/A"},3,null,3,{"$f":"IF(ISNA(R89),\"\",R89)&\"  --  \"&IF(ISNA(S89),\"\",S89)&\" --  \"&IF(ISNA(T89),\"\",T89)&\" --  \"&IF(ISNA(U89),\"\",U89)&\"  --  \"&IF(ISNA(V89),\"\",V89)","v":"  --   --   --    --  "},{"$nulls":12},7,{"$f":"IF(ISNA(R93),\"\",R93)&\"  --  \"&IF(ISNA(S93),\"\",S93)&\" --  \"&IF(ISNA(T93),\"\",T93)&\" --  \"&IF(ISNA(U93),\"\",U93)&\"  --  \"&IF(ISNA(V93),\"\",V93)","v":"  --   --   --    --  "}]
[{"$nulls":17},{"$error":"#N/A"},{"$error":"#N/A"},{"$error":"#N/A"},{"$error":"#N/A"},{"$error":"#N/A"},4,null,4,{"$f":"IF(ISNA(R90),\"\",R90)&\"  --  \"&IF(ISNA(S90),\"\",S90)&\" --  \"&IF(ISNA(T90),\"\",T90)&\" --  \"&IF(ISNA(U90),\"\",U90)&\"  --  \"&IF(ISNA(V90),\"\",V90)","v":"  --   --   --    --  "},{"$nulls":12},8,{"$f":"IF(ISNA(R94),\"\",R94)&\"  --  \"&IF(ISNA(S94),\"\",S94)&\" --  \"&IF(ISNA(T94),\"\",T94)&\" --  \"&IF(ISNA(U94),\"\",U94)&\"  --  \"&IF(ISNA(V94),\"\",V94)","v":"  --   --   --    --  "}]
[{"$nulls":17},{"$error":"#N/A"},{"$error":"#N/A"},{"$error":"#N/A"},{"$error":"#N/A"},{"$error":"#N/A"},5,{"$nulls":3},"Groupe et N° activité",{"$nulls":7},"Les activités par groupes"]
[{"$nulls":17},{"$error":"#N/A"},{"$error":"#N/A"},{"$error":"#N/A"},{"$error":"#N/A"},{"$error":"#N/A"},null,null,"N° Sem",{"$f":"TEXT(Z93,\"jjjj\")","v":"jjjj"},"G 1","G2","G3","G4","G5","G6","G7","G8"]
[{"$nulls":17},{"$error":"#N/A"},{"$error":"#N/A"},{"$error":"#N/A"},{"$error":"#N/A"},{"$error":"#N/A"},null,null,1,{"$f":"H4","v":"2018-08-20"},{"$f":"AA74","v":1},{"$f":"AA75","v":1},{"$f":"AA76","v":1},{"$f":"AA77","v":1},{"$f":"AA78","v":1},{"$f":"AA79","v":1},{"$f":"AA80","v":1},{"$f":"AA81","v":1},"Accueil - organisation - rotation et planning  - Départ de l' activité \" Présentation du classeur\"",{"$nulls":11},1]
[{"$nulls":17},{"$error":"#N/A"},{"$error":"#N/A"},{"$error":"#N/A"},{"$error":"#N/A"},{"$error":"#N/A"},null,null,{"$f":"Y93+1","v":2},{"$f":"H5","v":"2018-08-27"},{"$f":"IF(OFFSET($AA$74,0,$Y93)=41,\"\",OFFSET($AA$74,0,$Y93))","v":1},{"$f":"IF(OFFSET($AA$74,$Y$93,$Y93)=41,\"\",OFFSET($AA$74,$Y$93,$Y93))","v":1},{"$f":"IF(OFFSET($AA$74,$Y$94,$Y93)=41,\"\",OFFSET($AA$74,$Y$94,$Y93))","v":1},{"$f":"IF(OFFSET($AA$74,$Y$95,$Y93)=41,\"\",OFFSET($AA$74,$Y$95,$Y93))","v":2},{"$f":"IF(OFFSET($AA$74,$Y$96,$Y93)=41,\"\",OFFSET($AA$74,$Y$96,$Y93))","v":2},{"$f":"IF(OFFSET($AA$74,$Y$97,$Y93)=41,\"\",OFFSET($AA$74,$Y$97,$Y93))","v":2},{"$f":"IF(OFFSET($AA$74,$Y$98,$Y93)=41,\"\",OFFSET($AA$74,$Y$98,$Y93))","v":2},{"$f":"IF(OFFSET($AA$74,$Y$99,$Y93)=41,\"\",OFFSET($AA$74,$Y$99,$Y93))","v":2},{"$error":"#VALUE!"},{"$nulls":5},{"$error":"#VALUE!"},{"$nulls":5},{"$f":"AU93+1","v":2}]
[{"$nulls":17},{"$error":"#N/A"},{"$error":"#N/A"},{"$error":"#N/A"},{"$error":"#N/A"},{"$error":"#N/A"},null,null,{"$f":"Y94+1","v":3},"2018-09-03",{"$f":"IF(OFFSET($AA$74,0,$Y94)=41,\"\",OFFSET($AA$74,0,$Y94))","v":2},{"$f":"IF(OFFSET($AA$74,$Y$93,$Y94)=41,\"\",OFFSET($AA$74,$Y$93,$Y94))","v":2},{"$f":"IF(OFFSET($AA$74,$Y$94,$Y94)=41,\"\",OFFSET($AA$74,$Y$94,$Y94))","v":2},{"$f":"IF(OFFSET($AA$74,$Y$95,$Y94)=41,\"\",OFFSET($AA$74,$Y$95,$Y94))","v":2},{"$f":"IF(OFFSET($AA$74,$Y$96,$Y94)=41,\"\",OFFSET($AA$74,$Y$96,$Y94))","v":2},{"$f":"IF(OFFSET($AA$74,$Y$97,$Y94)=41,\"\",OFFSET($AA$74,$Y$97,$Y94))","v":2},{"$f":"IF(OFFSET($AA$74,$Y$98,$Y94)=41,\"\",OFFSET($AA$74,$Y$98,$Y94))","v":2},{"$f":"IF(OFFSET($AA$74,$Y$99,$Y94)=41,\"\",OFFSET($AA$74,$Y$99,$Y94))","v":2},{"$error":"#VALUE!"},{"$nulls":5},{"$error":"#VALUE!"},{"$nulls":5},{"$f":"AU94+1","v":3}]
[{"$nulls":24},4,"2018-09-10",2,2,2,3,3,3,3,3,{"$error":"#VALUE!"},{"$nulls":5},{"$error":"#VALUE!"},{"$nulls":5},4]
[{"$nulls":24},5,"2018-09-17",3,3,3,3,3,3,3,3,{"$error":"#VALUE!"},{"$nulls":5},{"$error":"#VALUE!"},{"$nulls":5},5]
[{"$nulls":24},6,"2018-09-24",3,3,3,4,4,4,4,4,{"$error":"#VALUE!"},{"$nulls":5},{"$error":"#VALUE!"},{"$nulls":5},6]
[{"$nulls":24},7,"2018-10-01",4,4,4,4,4,4,4,4,{"$error":"#VALUE!"},{"$nulls":5},{"$error":"#VALUE!"},{"$nulls":5},7]
[{"$nulls":24},8,"2018-10-08",4,4,4,5,5,5,5,5,{"$error":"#VALUE!"},{"$nulls":5},{"$error":"#VALUE!"},{"$nulls":5},8]
[{"$nulls":24},9,"2018-10-29",5,5,5,5,5,5,5,5,{"$error":"#VALUE!"},{"$nulls":5},{"$error":"#VALUE!"},{"$nulls":5},9]
[{"$nulls":24},10,"2018-11-05",5,5,5,6,6,6,6,6,{"$error":"#VALUE!"},{"$nulls":5},{"$error":"#VALUE!"},{"$nulls":5},10]
[{"$nulls":24},11,"2018-11-12",6,6,6,6,6,6,6,6,{"$error":"#VALUE!"},{"$nulls":5},{"$error":"#VALUE!"},{"$nulls":5},11]
[{"$nulls":24},12,"2018-11-19",6,6,6,7,7,7,7,7,{"$error":"#VALUE!"},{"$nulls":5},{"$error":"#VALUE!"},{"$nulls":5},12]
[{"$nulls":24},13,"2018-11-26",7,7,7,7,7,7,7,7,{"$error":"#VALUE!"},{"$nulls":5},{"$error":"#VALUE!"},{"$nulls":5},13]
[{"$nulls":24},14,"2018-12-03",7,7,7,8,8,8,8,8,{"$error":"#VALUE!"},{"$nulls":5},{"$error":"#VALUE!"},{"$nulls":5},14]
[{"$nulls":24},15,"2018-12-10",8,8,8,8,8,8,8,8,{"$error":"#VALUE!"},{"$nulls":5},{"$error":"#VALUE!"},{"$nulls":5},15]
[{"$nulls":24},16,"2018-12-17",8,8,8,9,9,9,9,9,{"$error":"#VALUE!"},{"$nulls":5},{"$error":"#VALUE!"},{"$nulls":5},16]
[{"$nulls":24},17,"2019-01-28",9,9,9,9,9,9,9,9,{"$error":"#VALUE!"},{"$nulls":5},{"$error":"#VALUE!"},{"$nulls":5},17]
[{"$nulls":24},18,"2019-02-04",9,9,9,10,10,10,10,10,{"$error":"#VALUE!"},{"$nulls":5},{"$error":"#VALUE!"},{"$nulls":5},18]
[{"$nulls":24},19,{"$f":"H23","v":"2019-02-18"},10,10,10,10,10,10,10,10,{"$error":"#VALUE!"},{"$nulls":5},{"$error":"#VALUE!"},{"$nulls":5},19]
[{"$nulls":24},20,"2019-02-25",10,10,10,11,11,11,11,11,{"$error":"#VALUE!"},{"$nulls":5},{"$error":"#VALUE!"},{"$nulls":5},20]
[{"$nulls":24},21,"2019-03-04",11,11,11,11,11,11,11,11,{"$error":"#VALUE!"},{"$nulls":5},{"$error":"#VALUE!"},{"$nulls":5},21]
[{"$nulls":24},22,"2019-03-25",11,11,11,12,12,12,12,12,{"$error":"#VALUE!"},{"$nulls":5},{"$error":"#VALUE!"},{"$nulls":5},22]
[{"$nulls":24},23,"2019-04-01",12,12,12,12,12,12,12,12,{"$error":"#VALUE!"},{"$nulls":5},{"$error":"#VALUE!"},{"$nulls":5},23]
[{"$nulls":24},24,"2019-04-08",12,12,12,13,13,13,13,13,{"$error":"#VALUE!"},{"$nulls":5},{"$error":"#VALUE!"},{"$nulls":5},24]
[{"$nulls":24},25,"2019-04-15",13,13,13,13,13,13,13,13,{"$error":"#VALUE!"},{"$nulls":5},{"$error":"#VALUE!"},{"$nulls":5},25]
[{"$nulls":24},26,"2019-04-29",13,13,13,14,14,14,14,14,{"$error":"#VALUE!"},{"$nulls":5},{"$error":"#VALUE!"},{"$nulls":5},26]
[{"$nulls":24},27,"2019-05-06",14,14,14,14,14,14,14,14,{"$error":"#VALUE!"},{"$nulls":5},{"$error":"#VALUE!"},{"$nulls":5},27]
[{"$nulls":24},28,"2019-05-20",14,14,14,15,15,15,15,15,{"$error":"#VALUE!"},{"$nulls":5},{"$error":"#VALUE!"},{"$nulls":5},28]
[{"$nulls":24},29,"2019-05-27",15,15,15,15,15,15,15,15,{"$error":"#VALUE!"},{"$nulls":5},"",{"$nulls":5},29]
[{"$nulls":24},30,"2019-06-03",15,15,15,16,16,16,16,16,{"$error":"#VALUE!"},{"$nulls":5},{"$error":"#VALUE!"},{"$nulls":5},30]
[{"$nulls":24},31,"2019-06-10",16,16,16,16,16,16,16,16,{"$error":"#VALUE!"},{"$nulls":5},{"$error":"#VALUE!"},{"$nulls":5},31]
[{"$nulls":24},32,"2019-06-17",16,16,16,17,17,17,17,17,{"$error":"#VALUE!"},{"$nulls":5},{"$error":"#VALUE!"},{"$nulls":5},32]
[{"$nulls":24},33,"00:00:00",17,17,17,17,17,17,17,17,{"$error":"#VALUE!"},{"$nulls":5},"",{"$nulls":5},33]
[{"$nulls":24},34,"2019-07-01",17,17,17,18,18,18,18,18,{"$error":"#VALUE!"},{"$nulls":5},{"$error":"#VALUE!"},{"$nulls":5},34]
[{"$nulls":24},35,"",18,18,18,18,18,18,18,18,{"$error":"#VALUE!"},{"$nulls":5},{"$error":"#VALUE!"},{"$nulls":5},35]
[{"$nulls":24},36,null,18,18,18,19,19,19,19,19,{"$error":"#VALUE!"},{"$nulls":5},"",{"$nulls":5},36]

{"sheet":"408","index":9,"n_rows":128,"n_cols":62,"rows_kept":128,"merged":[[0,13,0,15],[1,17,2,18],[2,3,2,6],[2,13,2,14],[2,15,2,16],[3,2,3,6],[3,7,3,8],[4,2,4,6],[4,7,4,8],[5,2,5,6],[5,7,5,8],[6,2,6,6],[6,7,6,8],[7,2,7,6],[7,7,7,8],[8,2,8,6],[8,7,8,8],[9,2,9,6],[9,7,9,8],[10,2,10,6],[10,7,10,8],[11,2,11,6],[11,7,11,8],[12,2,12,6],[12,7,12,8],[13,2,13,6],[13,7,13,8],[14,2,14,6],[14,7,14,8],[15,2,15,6],[15,7,15,8],[16,2,16,6],[16,7,16,8],[17,2,17,6],[17,7,17,8],[18,2,18,6],[18,7,18,8],[19,2,19,6],[19,7,19,8],[20,2,20,6],[20,7,20,8],[21,2,21,6],[21,7,21,8],[22,2,22,6],[22,7,22,8],[23,2,23,6],[23,7,23,8],[24,2,24,6],[24,7,24,8],[25,2,25,6],[25,7,25,8],[26,2,26,6],[26,7,26,8],[27,2,27,6],[27,7,27,8],[28,2,28,6],[28,7,28,8],[29,2,29,6],[29,7,29,8],[30,2,30,6],[30,7,30,8],[31,2,31,6],[31,7,31,8],[32,2,32,6],[32,7,32,8],[33,2,33,6],[33,7,33,8],[34,2,34,6],[34,7,34,8],[35,2,35,6],[35,7,35,8],[36,2,36,6],[36,7,36,8],[37,7,37,8],[38,2,38,6],[38,7,38,8],[65,28,65,29],[67,26,70,26],[67,27,70,27],[67,28,70,28],[67,29,70,29],[67,30,70,30],[67,31,70,31],[67,32,70,32],[67,33,70,33],[67,34,70,34],[67,35,70,35],[67,36,70,36],[67,37,70,37],[67,38,70,38],[67,39,70,39],[67,40,70,40],[67,41,70,41],[67,42,70,42],[67,43,70,43],[67,44,70,44],[67,45,70,45],[67,46,70,46],[67,47,70,47],[67,48,70,48],[67,49,70,49],[67,50,70,50],[67,51,70,51],[67,52,70,52],[67,53,70,53],[67,54,70,54],[67,55,70,55],[67,56,70,56],[67,57,70,57],[67,58,70,58],[67,59,70,59],[67,60,70,60],[67,61,70,61],[71,24,71,25],[84,24,84,45],[85,38,85,41],[86,25,86,36],[86,39,86,45],[87,25,87,36],[87,39,87,45],[88,25,88,36],[88,39,88,45],[89,25,89,36],[89,39,89,45],[90,26,90,33],[90,34,91,45],[92,34,92,45],[93,34,93,39],[93,40,93,45],[94,34,94,39],[94,40,94,45],[95,34,95,39],[95,40,95,45],[96,34,96,39],[96,40,96,45],[97,34,97,39],[97,40,97,45],[98,34,98,39],[98,40,98,45],[99,34,99,39],[99,40,99,45],[100,34,100,39],[100,40,100,45],[101,34,101,39],[101,40,101,45],[102,34,102,39],[102,40,102,45],[103,34,103,39],[103,40,103,45],[104,34,104,39],[104,40,104,45],[105,34,105,39],[105,40,105,45],[106,34,106,39],[106,40,106,45],[107,34,107,39],[107,40,107,45],[108,34,108,39],[108,40,108,45],[109,34,109,39],[109,40,109,45],[110,34,110,39],[110,40,110,45],[111,34,111,39],[111,40,111,45],[112,34,112,39],[112,40,112,45],[113,34,113,39],[113,40,113,45],[114,34,114,39],[114,40,114,45],[115,34,115,39],[115,40,115,45],[116,34,116,39],[116,40,116,45],[117,34,117,39],[117,40,117,45],[118,34,118,39],[118,40,118,45],[119,34,119,39],[119,40,119,45],[120,34,120,39],[120,40,120,45],[121,34,121,39],[121,40,121,45],[122,34,122,39],[122,40,122,45],[123,34,123,39],[123,40,123,45],[124,34,124,39],[124,40,124,45],[125,34,125,39],[125,40,125,45],[126,34,126,39],[126,40,126,45],[127,34,127,39],[127,40,127,45],[129,24,129,36],[130,25,130,36],[130,39,130,45],[131,25,131,36],[131,39,131,45],[132,25,132,36],[132,39,132,45],[133,25,133,36],[133,39,133,45]]}
[{"$nulls":3},"NOM :",{"$nulls":9},"Fond vert = cellules modifiables",{"$nulls":9},"affichage glissant sur 5 semaines"]
[{"$nulls":22},1]
["Cor / Synt","N°",null,{"$f":"\"TECHNOLOGIE  \"&YEAR(H4)&\"  -  \"&YEAR(H4)+1&\"  \"&\n\"    - N° et titre de l'activité\"","v":"TECHNOLOGIE  2018  -  2019      - N° et titre de l'activité"},{"$nulls":7},"Temps / H","Semaine","Lundi",null,"Vendredi",{"$nulls":7},1]
[1,1,{"$nulls":5},{"$f":"IF(M4=\"A\",IF(B4=\"\",\"\",IF($N$3=\"Lundi\",Congés_auto!S39,IF($N$3=\"Mardi\",Congés_auto!T39,IF($N$3=\"Mercredi\",Congés_auto!U39,IF($N$3=\"Jeudi\",Congés_auto!V39,IF($N$3=\"Vendredi\",Congés_auto!W39,IF($N$3=\"Samedi\",Congés_auto!X39,0))))))),IF(B4=\"\",\"\",IF($P$3=\"Lundi\",Congés_auto!S39,IF($P$3=\"Mardi\",Congés_auto!T39,IF($P$3=\"Mercredi\",Congés_auto!U39,IF($P$3=\"Jeudi\",Congés_auto!V39,IF($P$3=\"Vendredi\",Congés_auto!W39,IF($P$3=\"Samedi\",Congés_auto!X39,0))))))))","v":"2018-08-20"},{"$nulls":3},2,"A","GROUPE",1]
[{"$f":"A4+1","v":2},{"$f":"IF(OR($O$4=1,$O$4=2),$AA94,IF(OR($O$4=3,$O$4=4),$AC94,IF(OR($O$4=5,$O$4=6),$AE94,IF(OR($O$4=7,$O$4=8),$AG94,\"\"))))","v":1},{"$nulls":5},{"$f":"IF(M5=\"A\",IF(B5=\"\",\"\",IF($N$3=\"Lundi\",Congés_auto!S40,IF($N$3=\"Mardi\",Congés_auto!T40,IF($N$3=\"Mercredi\",Congés_auto!U40,IF($N$3=\"Jeudi\",Congés_auto!V40,IF($N$3=\"Vendredi\",Congés_auto!W40,IF($N$3=\"Samedi\",Congés_auto!X40,0))))))),IF(B5=\"\",\"\",IF($P$3=\"Lundi\",Congés_auto!S40,IF($P$3=\"Mardi\",Congés_auto!T40,IF($P$3=\"Mercredi\",Congés_auto!U40,IF($P$3=\"Jeudi\",Congés_auto!V40,IF($P$3=\"Vendredi\",Congés_auto!W40,IF($P$3=\"Samedi\",Congés_auto!X40,0))))))))","v":"2018-08-31"},{"$nulls":3},{"$f":"IF(L4=1,2,1)","v":1},{"$f":"IF(M4=\"A\",\"B\",\"A\")","v":"B"}]
[{"$f":"A5+1","v":3},2,{"$nulls":5},{"$f":"IF(M6=\"A\",IF(B6=\"\",\"\",IF($N$3=\"Lundi\",Congés_auto!S41,IF($N$3=\"Mardi\",Congés_auto!T41,IF($N$3=\"Mercredi\",Congés_auto!U41,IF($N$3=\"Jeudi\",Congés_auto!V41,IF($N$3=\"Vendredi\",Congés_auto!W41,IF($N$3=\"Samedi\",Congés_auto!X41,0))))))),IF(B6=\"\",\"\",IF($P$3=\"Lundi\",Congés_auto!S41,IF($P$3=\"Mardi\",Congés_auto!T41,IF($P$3=\"Mercredi\",Congés_auto!U41,IF($P$3=\"Jeudi\",Congés_auto!V41,IF($P$3=\"Vendredi\",Congés_auto!W41,IF($P$3=\"Samedi\",Congés_auto!X41,0))))))))","v":"2018-09-03"},{"$nulls":3},{"$f":"IF(L5=1,2,1)","v":2},{"$f":"IF(M5=\"A\",\"B\",\"A\")","v":"A"}]
[4,2,{"$nulls":5},{"$f":"IF(M7=\"A\",IF(B7=\"\",\"\",IF($N$3=\"Lundi\",Congés_auto!S42,IF($N$3=\"Mardi\",Congés_auto!T42,IF($N$3=\"Mercredi\",Congés_auto!U42,IF($N$3=\"Jeudi\",Congés_auto!V42,IF($N$3=\"Vendredi\",Congés_auto!W42,IF($N$3=\"Samedi\",Congés_auto!X42,0))))))),IF(B7=\"\",\"\",IF($P$3=\"Lundi\",Congés_auto!S42,IF($P$3=\"Mardi\",Congés_auto!T42,IF($P$3=\"Mercredi\",Congés_auto!U42,IF($P$3=\"Jeudi\",Congés_auto!V42,IF($P$3=\"Vendredi\",Congés_auto!W42,IF($P$3=\"Samedi\",Congés_auto!X42,0))))))))","v":"2018-09-14"},{"$nulls":3},1,"B"]
[5,3,{"$nulls":5},{"$f":"IF(M8=\"A\",IF(B8=\"\",\"\",IF($N$3=\"Lundi\",Congés_auto!S43,IF($N$3=\"Mardi\",Congés_auto!T43,IF($N$3=\"Mercredi\",Congés_auto!U43,IF($N$3=\"Jeudi\",Congés_auto!V43,IF($N$3=\"Vendredi\",Congés_auto!W43,IF($N$3=\"Samedi\",Congés_auto!X43,0))))))),IF(B8=\"\",\"\",IF($P$3=\"Lundi\",Congés_auto!S43,IF($P$3=\"Mardi\",Congés_auto!T43,IF($P$3=\"Mercredi\",Congés_auto!U43,IF($P$3=\"Jeudi\",Congés_auto!V43,IF($P$3=\"Vendredi\",Congés_auto!W43,IF($P$3=\"Samedi\",Congés_auto!X43,0))))))))","v":"2018-09-17"},{"$nulls":3},2,"A"]
[6,3,{"$nulls":5},{"$f":"IF(M9=\"A\",IF(B9=\"\",\"\",IF($N$3=\"Lundi\",Congés_auto!S44,IF($N$3=\"Mardi\",Congés_auto!T44,IF($N$3=\"Mercredi\",Congés_auto!U44,IF($N$3=\"Jeudi\",Congés_auto!V44,IF($N$3=\"Vendredi\",Congés_auto!W44,IF($N$3=\"Samedi\",Congés_auto!X44,0))))))),IF(B9=\"\",\"\",IF($P$3=\"Lundi\",Congés_auto!S44,IF($P$3=\"Mardi\",Congés_auto!T44,IF($P$3=\"Mercredi\",Congés_auto!U44,IF($P$3=\"Jeudi\",Congés_auto!V44,IF($P$3=\"Vendredi\",Congés_auto!W44,IF($P$3=\"Samedi\",Congés_auto!X44,0))))))))","v":"2018-09-28"},{"$nulls":3},1,"B"]
[7,4,{"$nulls":5},{"$f":"IF(M10=\"A\",IF(B10=\"\",\"\",IF($N$3=\"Lundi\",Congés_auto!S45,IF($N$3=\"Mardi\",Congés_auto!T45,IF($N$3=\"Mercredi\",Congés_auto!U45,IF($N$3=\"Jeudi\",Congés_auto!V45,IF($N$3=\"Vendredi\",Congés_auto!W45,IF($N$3=\"Samedi\",Congés_auto!X45,0))))))),IF(B10=\"\",\"\",IF($P$3=\"Lundi\",Congés_auto!S45,IF($P$3=\"Mardi\",Congés_auto!T45,IF($P$3=\"Mercredi\",Congés_auto!U45,IF($P$3=\"Jeudi\",Congés_auto!V45,IF($P$3=\"Vendredi\",Congés_auto!W45,IF($P$3=\"Samedi\",Congés_auto!X45,0))))))))","v":"2018-10-01"},{"$nulls":3},2,"A"]
[8,4,{"$nulls":5},{"$f":"IF(M11=\"A\",IF(B11=\"\",\"\",IF($N$3=\"Lundi\",Congés_auto!S46,IF($N$3=\"Mardi\",Congés_auto!T46,IF($N$3=\"Mercredi\",Congés_auto!U46,IF($N$3=\"Jeudi\",Congés_auto!V46,IF($N$3=\"Vendredi\",Congés_auto!W46,IF($N$3=\"Samedi\",Congés_auto!X46,0))))))),IF(B11=\"\",\"\",IF($P$3=\"Lundi\",Congés_auto!S46,IF($P$3=\"Mardi\",Congés_auto!T46,IF($P$3=\"Mercredi\",Congés_auto!U46,IF($P$3=\"Jeudi\",Congés_auto!V46,IF($P$3=\"Vendredi\",Congés_auto!W46,IF($P$3=\"Samedi\",Congés_auto!X46,0))))))))","v":"2018-10-12"},{"$nulls":3},1,"B"]
[9,5,{"$nulls":5},{"$f":"IF(M12=\"A\",IF(B12=\"\",\"\",IF($N$3=\"Lundi\",Congés_auto!S47,IF($N$3=\"Mardi\",Congés_auto!T47,IF($N$3=\"Mercredi\",Congés_auto!U47,IF($N$3=\"Jeudi\",Congés_auto!V47,IF($N$3=\"Vendredi\",Congés_auto!W47,IF($N$3=\"Samedi\",Congés_auto!X47,0))))))),IF(B12=\"\",\"\",IF($P$3=\"Lundi\",Congés_auto!S47,IF($P$3=\"Mardi\",Congés_auto!T47,IF($P$3=\"Mercredi\",Congés_auto!U47,IF($P$3=\"Jeudi\",Congés_auto!V47,IF($P$3=\"Vendredi\",Congés_auto!W47,IF($P$3=\"Samedi\",Congés_auto!X47,0))))))))","v":"2018-10-29"},{"$nulls":3},2,"A"]
[10,5,{"$nulls":5},{"$f":"IF(M13=\"A\",IF(B13=\"\",\"\",IF($N$3=\"Lundi\",Congés_auto!S48,IF($N$3=\"Mardi\",Congés_auto!T48,IF($N$3=\"Mercredi\",Congés_auto!U48,IF($N$3=\"Jeudi\",Congés_auto!V48,IF($N$3=\"Vendredi\",Congés_auto!W48,IF($N$3=\"Samedi\",Congés_auto!X48,0))))))),IF(B13=\"\",\"\",IF($P$3=\"Lundi\",Congés_auto!S48,IF($P$3=\"Mardi\",Congés_auto!T48,IF($P$3=\"Mercredi\",Congés_auto!U48,IF($P$3=\"Jeudi\",Congés_auto!V48,IF($P$3=\"Vendredi\",Congés_auto!W48,IF($P$3=\"Samedi\",Congés_auto!X48,0))))))))","v":"2018-11-09"},{"$nulls":3},1,"B"]
[11,6,{"$nulls":5},{"$f":"IF(M14=\"A\",IF(B14=\"\",\"\",IF($N$3=\"Lundi\",Congés_auto!S49,IF($N$3=\"Mardi\",Congés_auto!T49,IF($N$3=\"Mercredi\",Congés_auto!U49,IF($N$3=\"Jeudi\",Congés_auto!V49,IF($N$3=\"Vendredi\",Congés_auto!W49,IF($N$3=\"Samedi\",Congés_auto!X49,0))))))),IF(B14=\"\",\"\",IF($P$3=\"Lundi\",Congés_auto!S49,IF($P$3=\"Mardi\",Congés_auto!T49,IF($P$3=\"Mercredi\",Congés_auto!U49,IF($P$3=\"Jeudi\",Congés_auto!V49,IF($P$3=\"Vendredi\",Congés_auto!W49,IF($P$3=\"Samedi\",Congés_auto!X49,0))))))))","v":"2018-11-12"},{"$nulls":3},2,"A"]
[12,6,{"$nulls":5},{"$f":"IF(M15=\"A\",IF(B15=\"\",\"\",IF($N$3=\"Lundi\",Congés_auto!S50,IF($N$3=\"Mardi\",Congés_auto!T50,IF($N$3=\"Mercredi\",Congés_auto!U50,IF($N$3=\"Jeudi\",Congés_auto!V50,IF($N$3=\"Vendredi\",Congés_auto!W50,IF($N$3=\"Samedi\",Congés_auto!X50,0))))))),IF(B15=\"\",\"\",IF($P$3=\"Lundi\",Congés_auto!S50,IF($P$3=\"Mardi\",Congés_auto!T50,IF($P$3=\"Mercredi\",Congés_auto!U50,IF($P$3=\"Jeudi\",Congés_auto!V50,IF($P$3=\"Vendredi\",Congés_auto!W50,IF($P$3=\"Samedi\",Congés_auto!X50,0))))))))","v":"2018-11-23"},{"$nulls":3},1,"B"]
[13,7,{"$nulls":5},{"$f":"IF(M16=\"A\",IF(B16=\"\",\"\",IF($N$3=\"Lundi\",Congés_auto!S51,IF($N$3=\"Mardi\",Congés_auto!T51,IF($N$3=\"Mercredi\",Congés_auto!U51,IF($N$3=\"Jeudi\",Congés_auto!V51,IF($N$3=\"Vendredi\",Congés_auto!W51,IF($N$3=\"Samedi\",Congés_auto!X51,0))))))),IF(B16=\"\",\"\",IF($P$3=\"Lundi\",Congés_auto!S51,IF($P$3=\"Mardi\",Congés_auto!T51,IF($P$3=\"Mercredi\",Congés_auto!U51,IF($P$3=\"Jeudi\",Congés_auto!V51,IF($P$3=\"Vendredi\",Congés_auto!W51,IF($P$3=\"Samedi\",Congés_auto!X51,0))))))))","v":"2018-11-26"},{"$nulls":3},2,"A"]
[14,7,{"$nulls":5},{"$f":"IF(M17=\"A\",IF(B17=\"\",\"\",IF($N$3=\"Lundi\",Congés_auto!S52,IF($N$3=\"Mardi\",Congés_auto!T52,IF($N$3=\"Mercredi\",Congés_auto!U52,IF($N$3=\"Jeudi\",Congés_auto!V52,IF($N$3=\"Vendredi\",Congés_auto!W52,IF($N$3=\"Samedi\",Congés_auto!X52,0))))))),IF(B17=\"\",\"\",IF($P$3=\"Lundi\",Congés_auto!S52,IF($P$3=\"Mardi\",Congés_auto!T52,IF($P$3=\"Mercredi\",Congés_auto!U52,IF($P$3=\"Jeudi\",Congés_auto!V52,IF($P$3=\"Vendredi\",Congés_auto!W52,IF($P$3=\"Samedi\",Congés_auto!X52,0))))))))","v":"2018-12-07"},{"$nulls":3},1,"B"]
[15,8,{"$nulls":5},{"$f":"IF(M18=\"A\",IF(B18=\"\",\"\",IF($N$3=\"Lundi\",Congés_auto!S53,IF($N$3=\"Mardi\",Congés_auto!T53,IF($N$3=\"Mercredi\",Congés_auto!U53,IF($N$3=\"Jeudi\",Congés_auto!V53,IF($N$3=\"Vendredi\",Congés_auto!W53,IF($N$3=\"Samedi\",Congés_auto!X53,0))))))),IF(B18=\"\",\"\",IF($P$3=\"Lundi\",Congés_auto!S53,IF($P$3=\"Mardi\",Congés_auto!T53,IF($P$3=\"Mercredi\",Congés_auto!U53,IF($P$3=\"Jeudi\",Congés_auto!V53,IF($P$3=\"Vendredi\",Congés_auto!W53,IF($P$3=\"Samedi\",Congés_auto!X53,0))))))))","v":"2018-12-10"},{"$nulls":3},2,"A"]
[16,8,{"$nulls":5},{"$f":"IF(M19=\"A\",IF(B19=\"\",\"\",IF($N$3=\"Lundi\",Congés_auto!S54,IF($N$3=\"Mardi\",Congés_auto!T54,IF($N$3=\"Mercredi\",Congés_auto!U54,IF($N$3=\"Jeudi\",Congés_auto!V54,IF($N$3=\"Vendredi\",Congés_auto!W54,IF($N$3=\"Samedi\",Congés_auto!X54,0))))))),IF(B19=\"\",\"\",IF($P$3=\"Lundi\",Congés_auto!S54,IF($P$3=\"Mardi\",Congés_auto!T54,IF($P$3=\"Mercredi\",Congés_auto!U54,IF($P$3=\"Jeudi\",Congés_auto!V54,IF($P$3=\"Vendredi\",Congés_auto!W54,IF($P$3=\"Samedi\",Congés_auto!X54,0))))))))","v":"2018-12-21"},{"$nulls":3},1,"B"]
[17,9,{"$nulls":5},{"$f":"IF(M20=\"A\",IF(B20=\"\",\"\",IF($N$3=\"Lundi\",Congés_auto!S55,IF($N$3=\"Mardi\",Congés_auto!T55,IF($N$3=\"Mercredi\",Congés_auto!U55,IF($N$3=\"Jeudi\",Congés_auto!V55,IF($N$3=\"Vendredi\",Congés_auto!W55,IF($N$3=\"Samedi\",Congés_auto!X55,0))))))),IF(B20=\"\",\"\",IF($P$3=\"Lundi\",Congés_auto!S55,IF($P$3=\"Mardi\",Congés_auto!T55,IF($P$3=\"Mercredi\",Congés_auto!U55,IF($P$3=\"Jeudi\",Congés_auto!V55,IF($P$3=\"Vendredi\",Congés_auto!W55,IF($P$3=\"Samedi\",Congés_auto!X55,0))))))))","v":"2019-01-28"},{"$nulls":3},2,"A"]
[18,9,{"$nulls":5},{"$f":"IF(M21=\"A\",IF(B21=\"\",\"\",IF($N$3=\"Lundi\",Congés_auto!S56,IF($N$3=\"Mardi\",Congés_auto!T56,IF($N$3=\"Mercredi\",Congés_auto!U56,IF($N$3=\"Jeudi\",Congés_auto!V56,IF($N$3=\"Vendredi\",Congés_auto!W56,IF($N$3=\"Samedi\",Congés_auto!X56,0))))))),IF(B21=\"\",\"\",IF($P$3=\"Lundi\",Congés_auto!S56,IF($P$3=\"Mardi\",Congés_auto!T56,IF($P$3=\"Mercredi\",Congés_auto!U56,IF($P$3=\"Jeudi\",Congés_auto!V56,IF($P$3=\"Vendredi\",Congés_auto!W56,IF($P$3=\"Samedi\",Congés_auto!X56,0))))))))","v":"2019-02-08"},{"$nulls":3},1,"B"]
[19,10,{"$nulls":5},{"$f":"IF(M22=\"A\",IF(B22=\"\",\"\",IF($N$3=\"Lundi\",Congés_auto!S57,IF($N$3=\"Mardi\",Congés_auto!T57,IF($N$3=\"Mercredi\",Congés_auto!U57,IF($N$3=\"Jeudi\",Congés_auto!V57,IF($N$3=\"Vendredi\",Congés_auto!W57,IF($N$3=\"Samedi\",Congés_auto!X57,0))))))),IF(B22=\"\",\"\",IF($P$3=\"Lundi\",Congés_auto!S57,IF($P$3=\"Mardi\",Congés_auto!T57,IF($P$3=\"Mercredi\",Congés_auto!U57,IF($P$3=\"Jeudi\",Congés_auto!V57,IF($P$3=\"Vendredi\",Congés_auto!W57,IF($P$3=\"Samedi\",Congés_auto!X57,0))))))))","v":"2019-02-11"},{"$nulls":3},2,"A"]
[20,10,{"$nulls":5},{"$f":"IF(M23=\"A\",IF(B23=\"\",\"\",IF($N$3=\"Lundi\",Congés_auto!S58,IF($N$3=\"Mardi\",Congés_auto!T58,IF($N$3=\"Mercredi\",Congés_auto!U58,IF($N$3=\"Jeudi\",Congés_auto!V58,IF($N$3=\"Vendredi\",Congés_auto!W58,IF($N$3=\"Samedi\",Congés_auto!X58,0))))))),IF(B23=\"\",\"\",IF($P$3=\"Lundi\",Congés_auto!S58,IF($P$3=\"Mardi\",Congés_auto!T58,IF($P$3=\"Mercredi\",Congés_auto!U58,IF($P$3=\"Jeudi\",Congés_auto!V58,IF($P$3=\"Vendredi\",Congés_auto!W58,IF($P$3=\"Samedi\",Congés_auto!X58,0))))))))","v":"2019-02-22"},{"$nulls":3},1,"B"]
[21,11,{"$nulls":5},{"$f":"IF(M24=\"A\",IF(B24=\"\",\"\",IF($N$3=\"Lundi\",Congés_auto!S59,IF($N$3=\"Mardi\",Congés_auto!T59,IF($N$3=\"Mercredi\",Congés_auto!U59,IF($N$3=\"Jeudi\",Congés_auto!V59,IF($N$3=\"Vendredi\",Congés_auto!W59,IF($N$3=\"Samedi\",Congés_auto!X59,0))))))),IF(B24=\"\",\"\",IF($P$3=\"Lundi\",Congés_auto!S59,IF($P$3=\"Mardi\",Congés_auto!T59,IF($P$3=\"Mercredi\",Congés_auto!U59,IF($P$3=\"Jeudi\",Congés_auto!V59,IF($P$3=\"Vendredi\",Congés_auto!W59,IF($P$3=\"Samedi\",Congés_auto!X59,0))))))))","v":"2019-02-25"},{"$nulls":3},2,"A"]
[22,11,{"$nulls":5},{"$f":"IF(M25=\"A\",IF(B25=\"\",\"\",IF($N$3=\"Lundi\",Congés_auto!S60,IF($N$3=\"Mardi\",Congés_auto!T60,IF($N$3=\"Mercredi\",Congés_auto!U60,IF($N$3=\"Jeudi\",Congés_auto!V60,IF($N$3=\"Vendredi\",Congés_auto!W60,IF($N$3=\"Samedi\",Congés_auto!X60,0))))))),IF(B25=\"\",\"\",IF($P$3=\"Lundi\",Congés_auto!S60,IF($P$3=\"Mardi\",Congés_auto!T60,IF($P$3=\"Mercredi\",Congés_auto!U60,IF($P$3=\"Jeudi\",Congés_auto!V60,IF($P$3=\"Vendredi\",Congés_auto!W60,IF($P$3=\"Samedi\",Congés_auto!X60,0))))))))","v":"2019-03-08"},{"$nulls":3},1,"B"]
[23,12,{"$nulls":5},{"$f":"IF(M26=\"A\",IF(B26=\"\",\"\",IF($N$3=\"Lundi\",Congés_auto!S61,IF($N$3=\"Mardi\",Congés_auto!T61,IF($N$3=\"Mercredi\",Congés_auto!U61,IF($N$3=\"Jeudi\",Congés_auto!V61,IF($N$3=\"Vendredi\",Congés_auto!W61,IF($N$3=\"Samedi\",Congés_auto!X61,0))))))),IF(B26=\"\",\"\",IF($P$3=\"Lundi\",Congés_auto!S61,IF($P$3=\"Mardi\",Congés_auto!T61,IF($P$3=\"Mercredi\",Congés_auto!U61,IF($P$3=\"Jeudi\",Congés_auto!V61,IF($P$3=\"Vendredi\",Congés_auto!W61,IF($P$3=\"Samedi\",Congés_auto!X61,0))))))))","v":"2019-03-25"},{"$nulls":3},2,"A"]
[24,12,{"$nulls":5},{"$f":"IF(M27=\"A\",IF(B27=\"\",\"\",IF($N$3=\"Lundi\",Congés_auto!S62,IF($N$3=\"Mardi\",Congés_auto!T62,IF($N$3=\"Mercredi\",Congés_auto!U62,IF($N$3=\"Jeudi\",Congés_auto!V62,IF($N$3=\"Vendredi\",Congés_auto!W62,IF($N$3=\"Samedi\",Congés_auto!X62,0))))))),IF(B27=\"\",\"\",IF($P$3=\"Lundi\",Congés_auto!S62,IF($P$3=\"Mardi\",Congés_auto!T62,IF($P$3=\"Mercredi\",Congés_auto!U62,IF($P$3=\"Jeudi\",Congés_auto!V62,IF($P$3=\"Vendredi\",Congés_auto!W62,IF($P$3=\"Samedi\",Congés_auto!X62,0))))))))","v":"2019-04-05"},{"$nulls":3},1,"B"]
[25,13,{"$nulls":5},{"$f":"IF(M28=\"A\",IF(B28=\"\",\"\",IF($N$3=\"Lundi\",Congés_auto!S63,IF($N$3=\"Mardi\",Congés_auto!T63,IF($N$3=\"Mercredi\",Congés_auto!U63,IF($N$3=\"Jeudi\",Congés_auto!V63,IF($N$3=\"Vendredi\",Congés_auto!W63,IF($N$3=\"Samedi\",Congés_auto!X63,0))))))),IF(B28=\"\",\"\",IF($P$3=\"Lundi\",Congés_auto!S63,IF($P$3=\"Mardi\",Congés_auto!T63,IF($P$3=\"Mercredi\",Congés_auto!U63,IF($P$3=\"Jeudi\",Congés_auto!V63,IF($P$3=\"Vendredi\",Congés_auto!W63,IF($P$3=\"Samedi\",Congés_auto!X63,0))))))))","v":"2019-04-08"},{"$nulls":3},2,"A"]
[26,13,{"$nulls":5},{"$f":"IF(M29=\"A\",IF(B29=\"\",\"\",IF($N$3=\"Lundi\",Congés_auto!S64,IF($N$3=\"Mardi\",Congés_auto!T64,IF($N$3=\"Mercredi\",Congés_auto!U64,IF($N$3=\"Jeudi\",Congés_auto!V64,IF($N$3=\"Vendredi\",Congés_auto!W64,IF($N$3=\"Samedi\",Congés_auto!X64,0))))))),IF(B29=\"\",\"\",IF($P$3=\"Lundi\",Congés_auto!S64,IF($P$3=\"Mardi\",Congés_auto!T64,IF($P$3=\"Mercredi\",Congés_auto!U64,IF($P$3=\"Jeudi\",Congés_auto!V64,IF($P$3=\"Vendredi\",Congés_auto!W64,IF($P$3=\"Samedi\",Congés_auto!X64,0))))))))","v":"2019-04-19"},{"$nulls":3},1,"B"]
[27,14,{"$nulls":5},{"$f":"IF(M30=\"A\",IF(B30=\"\",\"\",IF($N$3=\"Lundi\",Congés_auto!S65,IF($N$3=\"Mardi\",Congés_auto!T65,IF($N$3=\"Mercredi\",Congés_auto!U65,IF($N$3=\"Jeudi\",Congés_auto!V65,IF($N$3=\"Vendredi\",Congés_auto!W65,IF($N$3=\"Samedi\",Congés_auto!X65,0))))))),IF(B30=\"\",\"\",IF($P$3=\"Lundi\",Congés_auto!S65,IF($P$3=\"Mardi\",Congés_auto!T65,IF($P$3=\"Mercredi\",Congés_auto!U65,IF($P$3=\"Jeudi\",Congés_auto!V65,IF($P$3=\"Vendredi\",Congés_auto!W65,IF($P$3=\"Samedi\",Congés_auto!X65,0))))))))","v":"2019-04-29"},{"$nulls":3},2,"A"]
[28,14,{"$nulls":5},{"$f":"IF(M31=\"A\",IF(B31=\"\",\"\",IF($N$3=\"Lundi\",Congés_auto!S66,IF($N$3=\"Mardi\",Congés_auto!T66,IF($N$3=\"Mercredi\",Congés_auto!U66,IF($N$3=\"Jeudi\",Congés_auto!V66,IF($N$3=\"Vendredi\",Congés_auto!W66,IF($N$3=\"Samedi\",Congés_auto!X66,0))))))),IF(B31=\"\",\"\",IF($P$3=\"Lundi\",Congés_auto!S66,IF($P$3=\"Mardi\",Congés_auto!T66,IF($P$3=\"Mercredi\",Congés_auto!U66,IF($P$3=\"Jeudi\",Congés_auto!V66,IF($P$3=\"Vendredi\",Congés_auto!W66,IF($P$3=\"Samedi\",Congés_auto!X66,0))))))))","v":"2019-05-03"},{"$nulls":3},1,"B"]
[29,15,{"$nulls":5},{"$f":"IF(M32=\"A\",IF(B32=\"\",\"\",IF($N$3=\"Lundi\",Congés_auto!S67,IF($N$3=\"Mardi\",Congés_auto!T67,IF($N$3=\"Mercredi\",Congés_auto!U67,IF($N$3=\"Jeudi\",Congés_auto!V67,IF($N$3=\"Vendredi\",Congés_auto!W67,IF($N$3=\"Samedi\",Congés_auto!X67,0))))))),IF(B32=\"\",\"\",IF($P$3=\"Lundi\",Congés_auto!S67,IF($P$3=\"Mardi\",Congés_auto!T67,IF($P$3=\"Mercredi\",Congés_auto!U67,IF($P$3=\"Jeudi\",Congés_auto!V67,IF($P$3=\"Vendredi\",Congés_auto!W67,IF($P$3=\"Samedi\",Congés_auto!X67,0))))))))","v":"2019-05-20"},{"$nulls":3},2,"A"]
[30,15,{"$nulls":5},{"$f":"IF(M33=\"A\",IF(B33=\"\",\"\",IF($N$3=\"Lundi\",Congés_auto!S68,IF($N$3=\"Mardi\",Congés_auto!T68,IF($N$3=\"Mercredi\",Congés_auto!U68,IF($N$3=\"Jeudi\",Congés_auto!V68,IF($N$3=\"Vendredi\",Congés_auto!W68,IF($N$3=\"Samedi\",Congés_auto!X68,0))))))),IF(B33=\"\",\"\",IF($P$3=\"Lundi\",Congés_auto!S68,IF($P$3=\"Mardi\",Congés_auto!T68,IF($P$3=\"Mercredi\",Congés_auto!U68,IF($P$3=\"Jeudi\",Congés_auto!V68,IF($P$3=\"Vendredi\",Congés_auto!W68,IF($P$3=\"Samedi\",Congés_auto!X68,0))))))))","v":"2019-05-31"},{"$nulls":3},1,"B"]
[31,16,{"$nulls":5},{"$f":"IF(M34=\"A\",IF(B34=\"\",\"\",IF($N$3=\"Lundi\",Congés_auto!S69,IF($N$3=\"Mardi\",Congés_auto!T69,IF($N$3=\"Mercredi\",Congés_auto!U69,IF($N$3=\"Jeudi\",Congés_auto!V69,IF($N$3=\"Vendredi\",Congés_auto!W69,IF($N$3=\"Samedi\",Congés_auto!X69,0))))))),IF(B34=\"\",\"\",IF($P$3=\"Lundi\",Congés_auto!S69,IF($P$3=\"Mardi\",Congés_auto!T69,IF($P$3=\"Mercredi\",Congés_auto!U69,IF($P$3=\"Jeudi\",Congés_auto!V69,IF($P$3=\"Vendredi\",Congés_auto!W69,IF($P$3=\"Samedi\",Congés_auto!X69,0))))))))","v":"2019-06-03"},{"$nulls":3},2,"A"]
[32,16,{"$nulls":5},{"$f":"IF(M35=\"A\",IF(B35=\"\",\"\",IF($N$3=\"Lundi\",Congés_auto!S70,IF($N$3=\"Mardi\",Congés_auto!T70,IF($N$3=\"Mercredi\",Congés_auto!U70,IF($N$3=\"Jeudi\",Congés_auto!V70,IF($N$3=\"Vendredi\",Congés_auto!W70,IF($N$3=\"Samedi\",Congés_auto!X70,0))))))),IF(B35=\"\",\"\",IF($P$3=\"Lundi\",Congés_auto!S70,IF($P$3=\"Mardi\",Congés_auto!T70,IF($P$3=\"Mercredi\",Congés_auto!U70,IF($P$3=\"Jeudi\",Congés_auto!V70,IF($P$3=\"Vendredi\",Congés_auto!W70,IF($P$3=\"Samedi\",Congés_auto!X70,0))))))))","v":"2019-06-14"},{"$nulls":3},1,"B"]
[33,17,{"$nulls":5},{"$f":"IF(M36=\"A\",IF(B36=\"\",\"\",IF($N$3=\"Lundi\",Congés_auto!S71,IF($N$3=\"Mardi\",Congés_auto!T71,IF($N$3=\"Mercredi\",Congés_auto!U71,IF($N$3=\"Jeudi\",Congés_auto!V71,IF($N$3=\"Vendredi\",Congés_auto!W71,IF($N$3=\"Samedi\",Congés_auto!X71,0))))))),IF(B36=\"\",\"\",IF($P$3=\"Lundi\",Congés_auto!S71,IF($P$3=\"Mardi\",Congés_auto!T71,IF($P$3=\"Mercredi\",Congés_auto!U71,IF($P$3=\"Jeudi\",Congés_auto!V71,IF($P$3=\"Vendredi\",Congés_auto!W71,IF($P$3=\"Samedi\",Congés_auto!X71,0))))))))","v":"2019-06-17"},{"$nulls":3},2,"A"]
[34,17,{"$nulls":5},{"$f":"IF(M37=\"A\",IF(B37=\"\",\"\",IF($N$3=\"Lundi\",Congés_auto!S72,IF($N$3=\"Mardi\",Congés_auto!T72,IF($N$3=\"Mercredi\",Congés_auto!U72,IF($N$3=\"Jeudi\",Congés_auto!V72,IF($N$3=\"Vendredi\",Congés_auto!W72,IF($N$3=\"Samedi\",Congés_auto!X72,0))))))),IF(B37=\"\",\"\",IF($P$3=\"Lundi\",Congés_auto!S72,IF($P$3=\"Mardi\",Congés_auto!T72,IF($P$3=\"Mercredi\",Congés_auto!U72,IF($P$3=\"Jeudi\",Congés_auto!V72,IF($P$3=\"Vendredi\",Congés_auto!W72,IF($P$3=\"Samedi\",Congés_auto!X72,0))))))))","v":"2019-06-28"},{"$nulls":3},1,"B"]
[35,{"$f":"IF(OR($O$4=1,$O$4=2),$AA127,IF(OR($O$4=3,$O$4=4),$AC127,IF(OR($O$4=5,$O$4=6),$AE127,IF(OR($O$4=7,$O$4=8),$AG127,\"\"))))","v":18},{"$nulls":5},{"$f":"IF(M38=\"A\",IF(B38=\"\",\"\",IF($N$3=\"Lundi\",Congés_auto!S73,IF($N$3=\"Mardi\",Congés_auto!T73,IF($N$3=\"Mercredi\",Congés_auto!U73,IF($N$3=\"Jeudi\",Congés_auto!V73,IF($N$3=\"Vendredi\",Congés_auto!W73,IF($N$3=\"Samedi\",Congés_auto!X73,0))))))),IF(B38=\"\",\"\",IF($P$3=\"Lundi\",Congés_auto!S73,IF($P$3=\"Mardi\",Congés_auto!T73,IF($P$3=\"Mercredi\",Congés_auto!U73,IF($P$3=\"Jeudi\",Congés_auto!V73,IF($P$3=\"Vendredi\",Congés_auto!W73,IF($P$3=\"Samedi\",Congés_auto!X73,0))))))))","v":"2019-07-01"},{"$nulls":3},2,"A"]
[36,18,{"$nulls":5},{"$f":"IF(M39=\"A\",IF(B39=\"\",\"\",IF($N$3=\"Lundi\",Congés_auto!S74,IF($N$3=\"Mardi\",Congés_auto!T74,IF($N$3=\"Mercredi\",Congés_auto!U74,IF($N$3=\"Jeudi\",Congés_auto!V74,IF($N$3=\"Vendredi\",Congés_auto!W74,IF($N$3=\"Samedi\",Congés_auto!X74,0))))))),IF(B39=\"\",\"\",IF($P$3=\"Lundi\",Congés_auto!S74,IF($P$3=\"Mardi\",Congés_auto!T74,IF($P$3=\"Mercredi\",Congés_auto!U74,IF($P$3=\"Jeudi\",Congés_auto!V74,IF($P$3=\"Vendredi\",Congés_auto!W74,IF($P$3=\"Samedi\",Congés_auto!X74,0))))))))","v":""},{"$nulls":3},1,"B"]
[]
[]
[null,null,"Binôme avec :"]
{"$rows_empty":22}
[{"$nulls":28},"Modifier u2 et w2 - Planning pour 8 ou 6 grp",{"$nulls":6},"Sem B 2h",null,"NON"]
[{"$nulls":27},"Planning",{"$f":"T1","v":0},null,null,{"$f":"N3","v":"Lundi"},{"$nulls":10},0]
[]
[{"$nulls":26},{"$f":"Z93","v":"2018-08-20"},{"$f":"OFFSET($Z$93,AA73,0)","v":"2018-08-31"},{"$f":"OFFSET($Z$93,AB73,0)","v":"2018-09-03"},"2018-09-14","2018-09-17","2018-09-28","2018-10-01","2018-10-12","2018-10-29","2018-11-09","2018-11-12","2018-11-23","2018-11-26","2018-12-07","2018-12-10","2018-12-21","2019-01-28","2019-02-08","2019-02-22","2019-02-25","2019-03-08","2019-03-25","2019-04-05","2019-04-08","2019-04-19","2019-04-29","2019-05-03","2019-05-20","2019-05-31","2019-06-03","2019-06-14","2019-06-17","2019-06-28","2019-07-01","","00:00:00"]
[]
[]
[]
[{"$nulls":24},"Temps",null,2,2,2,2,2,2,2,2,2,2,2,2,2,2,2,2,2,2,2,2,2,2,2,2,2,2,2,2,2,2,2,2,2,2,2,2]
[{"$nulls":25},"Semaine",1,{"$f":"AA73+1","v":2},{"$f":"AB73+1","v":3},4,5,6,7,8,9,10,11,12,13,14,15,16,17,18,{"$f":"AR73+1","v":19},{"$f":"AS73+1","v":20},21,22,23,24,25,26,27,28,29,30,31,32,33,34,35,36]
[{"$nulls":25},"Grp  1",1,1,{"$f":"AA74+1","v":2},{"$f":"AB74+1","v":2},3,3,4,4,5,5,6,6,7,7,8,8,9,9,10,{"$f":"AR74+1","v":10},11,11,12,12,13,13,14,14,15,15,16,16,17,17,18,{"$f":"BH74+1","v":18}]
[{"$nulls":25},"Grp  2",1,1,{"$f":"AA75+1","v":2},2,3,3,4,4,5,5,6,6,7,7,8,8,9,9,10,10,11,11,12,12,13,13,14,14,15,15,16,16,17,17,18,18]
[{"$nulls":23},"FREQUENCE(A1:A30;{1,8;2,7})",null,"Grp  3",1,1,2,2,3,3,4,4,5,5,6,6,7,7,8,8,9,9,10,10,11,11,12,12,13,13,14,14,15,15,16,16,17,17,18,18]
[{"$nulls":25},"Grp  4",1,2,2,3,3,4,4,5,5,6,6,7,7,8,8,9,9,10,10,11,11,12,12,13,13,14,14,15,15,16,16,17,17,18,18,19]
[{"$nulls":25},"Grp  5",1,2,2,3,3,4,4,5,5,6,6,7,7,8,8,9,9,10,10,11,11,12,12,13,13,14,14,15,15,16,16,17,17,18,18,19]
[{"$nulls":25},"Grp  6",1,2,2,3,3,4,4,5,5,6,6,7,7,8,8,9,9,10,10,11,11,12,12,13,13,14,14,15,15,16,16,17,17,18,18,19]
[{"$nulls":25},"Grp  7",1,2,2,3,3,4,4,5,5,6,6,7,7,8,8,9,9,10,10,11,11,12,12,13,13,14,14,15,15,16,16,17,17,18,18,19]
[{"$nulls":25},"Grp  8",1,2,2,3,3,4,4,5,5,6,6,7,7,8,8,9,9,10,10,11,11,12,12,13,13,14,14,15,15,16,16,17,17,18,18,19]
[{"$nulls":33},"DT1 --> 0,5 h",{"$nulls":6},"DT2 --> 1 h"]
[{"$nulls":33},"Travail noté"]
[]
[{"$nulls":23},{"$f":"CONCATENATE(AJ86,Y87)","v":"01"},"Les groupes"]
[{"$nulls":30},{"$f":"IF(LEFT(T1,1)=\"3\",\"Troisième\",IF(LEFT(T1,1)=\"4\",\"Quatrième\",IF(LEFT(T1,1)=\"5\",\"Cinquiéme\",\"Sixième\")))","v":"Sixième"},{"$nulls":4},{"$f":"T1","v":0},null,null,{"$f":"N3","v":"Lundi"},{"$nulls":4},{"$f":"O3","v":0}]
[{"$nulls":17},{"$error":"#N/A"},{"$error":"#N/A"},{"$error":"#N/A"},{"$error":"#N/A"},{"$error":"#N/A"},1,null,1,{"$f":"IF(ISNA(R87),\"\",R87)&\"  --  \"&IF(ISNA(S87),\"\",S87)&\" --  \"&IF(ISNA(T87),\"\",T87)&\" --  \"&IF(ISNA(U87),\"\",U87)&\"  --  \"&IF(ISNA(V87),\"\",V87)","v":"  --   --   --    --  "},{"$nulls":12},5,{"$f":"IF(ISNA(R91),\"\",R91)&\"  --  \"&IF(ISNA(S91),\"\",S91)&\" --  \"&IF(ISNA(T91),\"\",T91)&\" --  \"&IF(ISNA(U91),\"\",U91)&\"  --  \"&IF(ISNA(V91),\"\",V91)","v":"  --   --   --    --  "}]
[{"$nulls":17},{"$error":"#N/A"},{"$error":"#N/A"},{"$error":"#N/A"},{"$error":"#N/A"},{"$error":"#N/A"},2,null,2,{"$f":"IF(ISNA(R88),\"\",R88)&\"  --  \"&IF(ISNA(S88),\"\",S88)&\" --  \"&IF(ISNA(T88),\"\",T88)&\" --  \"&IF(ISNA(U88),\"\",U88)&\"  --  \"&IF(ISNA(V88),\"\",V88)","v":"  --   --   --    --  "},{"$nulls":12},6,{"$f":"IF(ISNA(R92),\"\",R92)&\"  --  \"&IF(ISNA(S92),\"\",S92)&\" --  \"&IF(ISNA(T92),\"\",T92)&\" --  \"&IF(ISNA(U92),\"\",U92)&\"  --  \"&IF(ISNA(V92),\"\",V92)","v":"  --   --   --    --  "}]
[{"$nulls":17},{"$error":"#N/A"},{"$error":"#N/A"},{"$error":"#N/A"},{"$error":"#N/A"},{"$error":"#N/A"},3,null,3,{"$f":"IF(ISNA(R89),\"\",R89)&\"  --  \"&IF(ISNA(S89),\"\",S89)&\" --  \"&IF(ISNA(T89),\"\",T89)&\" --  \"&IF(ISNA(U89),\"\",U89)&\"  --  \"&IF(ISNA(V89),\"\",V89)","v":"  --   --   --    --  "},{"$nulls":12},7,{"$f":"IF(ISNA(R93),\"\",R93)&\"  --  \"&IF(ISNA(S93),\"\",S93)&\" --  \"&IF(ISNA(T93),\"\",T93)&\" --  \"&IF(ISNA(U93),\"\",U93)&\"  --  \"&IF(ISNA(V93),\"\",V93)","v":"  --   --   --    --  "}]
[{"$nulls":17},{"$error":"#N/A"},{"$error":"#N/A"},{"$error":"#N/A"},{"$error":"#N/A"},{"$error":"#N/A"},4,null,4,{"$f":"IF(ISNA(R90),\"\",R90)&\"  --  \"&IF(ISNA(S90),\"\",S90)&\" --  \"&IF(ISNA(T90),\"\",T90)&\" --  \"&IF(ISNA(U90),\"\",U90)&\"  --  \"&IF(ISNA(V90),\"\",V90)","v":"  --   --   --    --  "},{"$nulls":12},8,{"$f":"IF(ISNA(R94),\"\",R94)&\"  --  \"&IF(ISNA(S94),\"\",S94)&\" --  \"&IF(ISNA(T94),\"\",T94)&\" --  \"&IF(ISNA(U94),\"\",U94)&\"  --  \"&IF(ISNA(V94),\"\",V94)","v":"  --   --   --    --  "}]
[{"$nulls":17},{"$error":"#N/A"},{"$error":"#N/A"},{"$error":"#N/A"},{"$error":"#N/A"},{"$error":"#N/A"},5,{"$nulls":3},"Groupe et N° activité",{"$nulls":7},"Les activités par groupes"]
[{"$nulls":17},{"$error":"#N/A"},{"$error":"#N/A"},{"$error":"#N/A"},{"$error":"#N/A"},{"$error":"#N/A"},null,null,"N° Sem",{"$f":"TEXT(Z93,\"jjjj\")","v":"jjjj"},"G 1","G2","G3","G4","G5","G6","G7","G8"]
[{"$nulls":17},{"$error":"#N/A"},{"$error":"#N/A"},{"$error":"#N/A"},{"$error":"#N/A"},{"$error":"#N/A"},null,null,1,{"$f":"H4","v":"2018-08-20"},{"$f":"AA74","v":1},{"$f":"AA75","v":1},{"$f":"AA76","v":1},{"$f":"AA77","v":1},{"$f":"AA78","v":1},{"$f":"AA79","v":1},{"$f":"AA80","v":1},{"$f":"AA81","v":1},"Accueil - organisation - rotation et planning  - Départ de l' activité \" Présentation du classeur\"",{"$nulls":11},1]
[{"$nulls":17},{"$error":"#N/A"},{"$error":"#N/A"},{"$error":"#N/A"},{"$error":"#N/A"},{"$error":"#N/A"},null,null,{"$f":"Y93+1","v":2},{"$f":"H5","v":"2018-08-31"},{"$f":"IF(OFFSET($AA$74,0,$Y93)=41,\"\",OFFSET($AA$74,0,$Y93))","v":1},{"$f":"IF(OFFSET($AA$74,$Y$93,$Y93)=41,\"\",OFFSET($AA$74,$Y$93,$Y93))","v":1},{"$f":"IF(OFFSET($AA$74,$Y$94,$Y93)=41,\"\",OFFSET($AA$74,$Y$94,$Y93))","v":1},{"$f":"IF(OFFSET($AA$74,$Y$95,$Y93)=41,\"\",OFFSET($AA$74,$Y$95,$Y93))","v":2},{"$f":"IF(OFFSET($AA$74,$Y$96,$Y93)=41,\"\",OFFSET($AA$74,$Y$96,$Y93))","v":2},{"$f":"IF(OFFSET($AA$74,$Y$97,$Y93)=41,\"\",OFFSET($AA$74,$Y$97,$Y93))","v":2},{"$f":"IF(OFFSET($AA$74,$Y$98,$Y93)=41,\"\",OFFSET($AA$74,$Y$98,$Y93))","v":2},{"$f":"IF(OFFSET($AA$74,$Y$99,$Y93)=41,\"\",OFFSET($AA$74,$Y$99,$Y93))","v":2},{"$error":"#VALUE!"},{"$nulls":5},{"$error":"#VALUE!"},{"$nulls":5},{"$f":"AU93+1","v":2}]
[{"$nulls":17},{"$error":"#N/A"},{"$error":"#N/A"},{"$error":"#N/A"},{"$error":"#N/A"},{"$error":"#N/A"},null,null,{"$f":"Y94+1","v":3},"2018-09-03",{"$f":"IF(OFFSET($AA$74,0,$Y94)=41,\"\",OFFSET($AA$74,0,$Y94))","v":2},{"$f":"IF(OFFSET($AA$74,$Y$93,$Y94)=41,\"\",OFFSET($AA$74,$Y$93,$Y94))","v":2},{"$f":"IF(OFFSET($AA$74,$Y$94,$Y94)=41,\"\",OFFSET($AA$74,$Y$94,$Y94))","v":2},{"$f":"IF(OFFSET($AA$74,$Y$95,$Y94)=41,\"\",OFFSET($AA$74,$Y$95,$Y94))","v":2},{"$f":"IF(OFFSET($AA$74,$Y$96,$Y94)=41,\"\",OFFSET($AA$74,$Y$96,$Y94))","v":2},{"$f":"IF(OFFSET($AA$74,$Y$97,$Y94)=41,\"\",OFFSET($AA$74,$Y$97,$Y94))","v":2},{"$f":"IF(OFFSET($AA$74,$Y$98,$Y94)=41,\"\",OFFSET($AA$74,$Y$98,$Y94))","v":2},{"$f":"IF(OFFSET($AA$74,$Y$99,$Y94)=41,\"\",OFFSET($AA$74,$Y$99,$Y94))","v":2},{"$error":"#VALUE!"},{"$nulls":5},{"$error":"#VALUE!"},{"$nulls":5},{"$f":"AU94+1","v":3}]
[{"$nulls":24},4,"2018-09-14",2,2,2,3,3,3,3,3,{"$error":"#VALUE!"},{"$nulls":5},{"$error":"#VALUE!"},{"$nulls":5},4]
[{"$nulls":24},5,"2018-09-17",3,3,3,3,3,3,3,3,{"$error":"#VALUE!"},{"$nulls":5},{"$error":"#VALUE!"},{"$nulls":5},5]
[{"$nulls":24},6,"2018-09-28",3,3,3,4,4,4,4,4,{"$error":"#VALUE!"},{"$nulls":5},{"$error":"#VALUE!"},{"$nulls":5},6]
[{"$nulls":24},7,"2018-10-01",4,4,4,4,4,4,4,4,{"$error":"#VALUE!"},{"$nulls":5},{"$error":"#VALUE!"},{"$nulls":5},7]
[{"$nulls":24},8,"2018-10-12",4,4,4,5,5,5,5,5,{"$error":"#VALUE!"},{"$nulls":5},{"$error":"#VALUE!"},{"$nulls":5},8]
[{"$nulls":24},9,"2018-10-29",5,5,5,5,5,5,5,5,{"$error":"#VALUE!"},{"$nulls":5},{"$error":"#VALUE!"},{"$nulls":5},9]
[{"$nulls":24},10,"2018-11-09",5,5,5,6,6,6,6,6,{"$error":"#VALUE!"},{"$nulls":5},{"$error":"#VALUE!"},{"$nulls":5},10]
[{"$nulls":24},11,"2018-11-12",6,6,6,6,6,6,6,6,{"$error":"#VALUE!"},{"$nulls":5},{"$error":"#VALUE!"},{"$nulls":5},11]
[{"$nulls":24},12,"2018-11-23",6,6,6,7,7,7,7,7,{"$error":"#VALUE!"},{"$nulls":5},{"$error":"#VALUE!"},{"$nulls":5},12]
[{"$nulls":24},13,"2018-11-26",7,7,7,7,7,7,7,7,{"$error":"#VALUE!"},{"$nulls":5},{"$error":"#VALUE!"},{"$nulls":5},13]
[{"$nulls":24},14,"2018-12-07",7,7,7,8,8,8,8,8,{"$error":"#VALUE!"},{"$nulls":5},{"$error":"#VALUE!"},{"$nulls":5},14]
[{"$nulls":24},15,"2018-12-10",8,8,8,8,8,8,8,8,{"$error":"#VALUE!"},{"$nulls":5},{"$error":"#VALUE!"},{"$nulls":5},15]
[{"$nulls":24},16,"2018-12-21",8,8,8,9,9,9,9,9,{"$error":"#VALUE!"},{"$nulls":5},{"$error":"#VALUE!"},{"$nulls":5},16]
[{"$nulls":24},17,"2019-01-28",9,9,9,9,9,9,9,9,{"$error":"#VALUE!"},{"$nulls":5},{"$error":"#VALUE!"},{"$nulls":5},17]
[{"$nulls":24},18,"2019-02-08",9,9,9,10,10,10,10,10,{"$error":"#VALUE!"},{"$nulls":5},{"$error":"#VALUE!"},{"$nulls":5},18]
[{"$nulls":24},19,{"$f":"H23","v":"2019-02-22"},10,10,10,10,10,10,10,10,{"$error":"#VALUE!"},{"$nulls":5},{"$error":"#VALUE!"},{"$nulls":5},19]
[{"$nulls":24},20,"2019-02-25",10,10,10,11,11,11,11,11,{"$error":"#VALUE!"},{"$nulls":5},{"$error":"#VALUE!"},{"$nulls":5},20]
[{"$nulls":24},21,"2019-03-08",11,11,11,11,11,11,11,11,{"$error":"#VALUE!"},{"$nulls":5},{"$error":"#VALUE!"},{"$nulls":5},21]
[{"$nulls":24},22,"2019-03-25",11,11,11,12,12,12,12,12,{"$error":"#VALUE!"},{"$nulls":5},{"$error":"#VALUE!"},{"$nulls":5},22]
[{"$nulls":24},23,"2019-04-05",12,12,12,12,12,12,12,12,{"$error":"#VALUE!"},{"$nulls":5},{"$error":"#VALUE!"},{"$nulls":5},23]
[{"$nulls":24},24,"2019-04-08",12,12,12,13,13,13,13,13,{"$error":"#VALUE!"},{"$nulls":5},{"$error":"#VALUE!"},{"$nulls":5},24]
[{"$nulls":24},25,"2019-04-19",13,13,13,13,13,13,13,13,{"$error":"#VALUE!"},{"$nulls":5},{"$error":"#VALUE!"},{"$nulls":5},25]
[{"$nulls":24},26,"2019-04-29",13,13,13,14,14,14,14,14,{"$error":"#VALUE!"},{"$nulls":5},{"$error":"#VALUE!"},{"$nulls":5},26]
[{"$nulls":24},27,"2019-05-03",14,14,14,14,14,14,14,14,{"$error":"#VALUE!"},{"$nulls":5},{"$error":"#VALUE!"},{"$nulls":5},27]
[{"$nulls":24},28,"2019-05-20",14,14,14,15,15,15,15,15,{"$error":"#VALUE!"},{"$nulls":5},{"$error":"#VALUE!"},{"$nulls":5},28]
[{"$nulls":24},29,"2019-05-31",15,15,15,15,15,15,15,15,{"$error":"#VALUE!"},{"$nulls":5},"",{"$nulls":5},29]
[{"$nulls":24},30,"2019-06-03",15,15,15,16,16,16,16,16,{"$error":"#VALUE!"},{"$nulls":5},{"$error":"#VALUE!"},{"$nulls":5},30]
[{"$nulls":24},31,"2019-06-14",16,16,16,16,16,16,16,16,{"$error":"#VALUE!"},{"$nulls":5},{"$error":"#VALUE!"},{"$nulls":5},31]
[{"$nulls":24},32,"2019-06-17",16,16,16,17,17,17,17,17,{"$error":"#VALUE!"},{"$nulls":5},{"$error":"#VALUE!"},{"$nulls":5},32]
[{"$nulls":24},33,"2019-06-28",17,17,17,17,17,17,17,17,{"$error":"#VALUE!"},{"$nulls":5},"",{"$nulls":5},33]
[{"$nulls":24},34,"2019-07-01",17,17,17,18,18,18,18,18,{"$error":"#VALUE!"},{"$nulls":5},{"$error":"#VALUE!"},{"$nulls":5},34]
[{"$nulls":24},35,"",18,18,18,18,18,18,18,18,{"$error":"#VALUE!"},{"$nulls":5},{"$error":"#VALUE!"},{"$nulls":5},35]
[{"$nulls":24},36,null,18,18,18,19,19,19,19,19,{"$error":"#VALUE!"},{"$nulls":5},"",{"$nulls":5},36]

{"sheet":"302","index":10,"n_rows":128,"n_cols":62,"rows_kept":128,"merged":[[0,13,0,15],[1,17,2,18],[2,3,2,6],[2,13,2,14],[2,15,2,16],[3,2,3,6],[3,7,3,8],[4,2,4,6],[4,7,4,8],[5,2,5,6],[5,7,5,8],[6,2,6,6],[6,7,6,8],[7,2,7,6],[7,7,7,8],[8,2,8,6],[8,7,8,8],[9,2,9,6],[9,7,9,8],[10,2,10,6],[10,7,10,8],[11,2,11,6],[11,7,11,8],[12,2,12,6],[12,7,12,8],[13,2,13,6],[13,7,13,8],[14,2,14,6],[14,7,14,8],[15,2,15,6],[15,7,15,8],[16,2,16,6],[16,7,16,8],[17,2,17,6],[17,7,17,8],[18,2,18,6],[18,7,18,8],[19,2,19,6],[19,7,19,8],[20,2,20,6],[20,7,20,8],[21,2,21,6],[21,7,21,8],[22,2,22,6],[22,7,22,8],[23,2,23,6],[23,7,23,8],[24,2,24,6],[24,7,24,8],[25,2,25,6],[25,7,25,8],[26,2,26,6],[26,7,26,8],[27,2,27,6],[27,7,27,8],[28,2,28,6],[28,7,28,8],[29,2,29,6],[29,7,29,8],[30,2,30,6],[30,7,30,8],[31,2,31,6],[31,7,31,8],[32,2,32,6],[32,7,32,8],[33,2,33,6],[33,7,33,8],[34,2,34,6],[34,7,34,8],[35,2,35,6],[35,7,35,8],[36,2,36,6],[36,7,36,8],[37,7,37,8],[38,2,38,6],[38,7,38,8],[65,28,65,29],[67,26,70,26],[67,27,70,27],[67,28,70,28],[67,29,70,29],[67,30,70,30],[67,31,70,31],[67,32,70,32],[67,33,70,33],[67,34,70,34],[67,35,70,35],[67,36,70,36],[67,37,70,37],[67,38,70,38],[67,39,70,39],[67,40,70,40],[67,41,70,41],[67,42,70,42],[67,43,70,43],[67,44,70,44],[67,45,70,45],[67,46,70,46],[67,47,70,47],[67,48,70,48],[67,49,70,49],[67,50,70,50],[67,51,70,51],[67,52,70,52],[67,53,70,53],[67,54,70,54],[67,55,70,55],[67,56,70,56],[67,57,70,57],[67,58,70,58],[67,59,70,59],[67,60,70,60],[67,61,70,61],[71,24,71,25],[84,24,84,45],[85,38,85,41],[86,25,86,36],[86,39,86,45],[87,25,87,36],[87,39,87,45],[88,25,88,36],[88,39,88,45],[89,25,89,36],[89,39,89,45],[90,26,90,33],[90,34,91,45],[92,34,92,45],[93,34,93,39],[93,40,93,45],[94,34,94,39],[94,40,94,45],[95,34,95,39],[95,40,95,45],[96,34,96,39],[96,40,96,45],[97,34,97,39],[97,40,97,45],[98,34,98,39],[98,40,98,45],[99,34,99,39],[99,40,99,45],[100,34,100,39],[100,40,100,45],[101,34,101,39],[101,40,101,45],[102,34,102,39],[102,40,102,45],[103,34,103,39],[103,40,103,45],[104,34,104,39],[104,40,104,45],[105,34,105,39],[105,40,105,45],[106,34,106,39],[106,40,106,45],[107,34,107,39],[107,40,107,45],[108,34,108,39],[108,40,108,45],[109,34,109,39],[109,40,109,45],[110,34,110,39],[110,40,110,45],[111,34,111,39],[111,40,111,45],[112,34,112,39],[112,40,112,45],[113,34,113,39],[113,40,113,45],[114,34,114,39],[114,40,114,45],[115,34,115,39],[115,40,115,45],[116,34,116,39],[116,40,116,45],[117,34,117,39],[117,40,117,45],[118,34,118,39],[118,40,118,45],[119,34,119,39],[119,40,119,45],[120,34,120,39],[120,40,120,45],[121,34,121,39],[121,40,121,45],[122,34,122,39],[122,40,122,45],[123,34,123,39],[123,40,123,45],[124,34,124,39],[124,40,124,45],[125,34,125,39],[125,40,125,45],[126,34,126,39],[126,40,126,45],[127,34,127,39],[127,40,127,45],[129,24,129,36],[130,25,130,36],[130,39,130,45],[131,25,131,36],[131,39,131,45],[132,25,132,36],[132,39,132,45],[133,25,133,36],[133,39,133,45]]}
[{"$nulls":3},"NOM :",{"$nulls":9},"Fond vert = cellules modifiables",{"$nulls":9},"affichage glissant sur 5 semaines"]
[{"$nulls":22},1]
["Cor / Synt","N°",null,{"$f":"\"TECHNOLOGIE  \"&YEAR(H4)&\"  -  \"&YEAR(H4)+1&\"  \"&\n\"    - N° et titre de l'activité\"","v":"TECHNOLOGIE  2018  -  2019      - N° et titre de l'activité"},{"$nulls":7},"Temps / H","Semaine","Mardi",null,"Lundi",{"$nulls":7},1]
[1,1,{"$nulls":5},{"$f":"IF(M4=\"A\",IF(B4=\"\",\"\",IF($N$3=\"Lundi\",Congés_auto!S39,IF($N$3=\"Mardi\",Congés_auto!T39,IF($N$3=\"Mercredi\",Congés_auto!U39,IF($N$3=\"Jeudi\",Congés_auto!V39,IF($N$3=\"Vendredi\",Congés_auto!W39,IF($N$3=\"Samedi\",Congés_auto!X39,0))))))),IF(B4=\"\",\"\",IF($P$3=\"Lundi\",Congés_auto!S39,IF($P$3=\"Mardi\",Congés_auto!T39,IF($P$3=\"Mercredi\",Congés_auto!U39,IF($P$3=\"Jeudi\",Congés_auto!V39,IF($P$3=\"Vendredi\",Congés_auto!W39,IF($P$3=\"Samedi\",Congés_auto!X39,0))))))))","v":"2018-08-21"},{"$nulls":3},1,"A","GROUPE",1]
[{"$f":"A4+1","v":2},{"$f":"IF(OR($O$4=1,$O$4=2),$AA94,IF(OR($O$4=3,$O$4=4),$AC94,IF(OR($O$4=5,$O$4=6),$AE94,IF(OR($O$4=7,$O$4=8),$AG94,\"\"))))","v":1},{"$nulls":5},{"$f":"IF(M5=\"A\",IF(B5=\"\",\"\",IF($N$3=\"Lundi\",Congés_auto!S40,IF($N$3=\"Mardi\",Congés_auto!T40,IF($N$3=\"Mercredi\",Congés_auto!U40,IF($N$3=\"Jeudi\",Congés_auto!V40,IF($N$3=\"Vendredi\",Congés_auto!W40,IF($N$3=\"Samedi\",Congés_auto!X40,0))))))),IF(B5=\"\",\"\",IF($P$3=\"Lundi\",Congés_auto!S40,IF($P$3=\"Mardi\",Congés_auto!T40,IF($P$3=\"Mercredi\",Congés_auto!U40,IF($P$3=\"Jeudi\",Congés_auto!V40,IF($P$3=\"Vendredi\",Congés_auto!W40,IF($P$3=\"Samedi\",Congés_auto!X40,0))))))))","v":"2018-08-27"},{"$nulls":3},{"$f":"IF(L4=1,2,1)","v":2},{"$f":"IF(M4=\"A\",\"B\",\"A\")","v":"B"}]
[{"$f":"A5+1","v":3},2,{"$nulls":5},{"$f":"IF(M6=\"A\",IF(B6=\"\",\"\",IF($N$3=\"Lundi\",Congés_auto!S41,IF($N$3=\"Mardi\",Congés_auto!T41,IF($N$3=\"Mercredi\",Congés_auto!U41,IF($N$3=\"Jeudi\",Congés_auto!V41,IF($N$3=\"Vendredi\",Congés_auto!W41,IF($N$3=\"Samedi\",Congés_auto!X41,0))))))),IF(B6=\"\",\"\",IF($P$3=\"Lundi\",Congés_auto!S41,IF($P$3=\"Mardi\",Congés_auto!T41,IF($P$3=\"Mercredi\",Congés_auto!U41,IF($P$3=\"Jeudi\",Congés_auto!V41,IF($P$3=\"Vendredi\",Congés_auto!W41,IF($P$3=\"Samedi\",Congés_auto!X41,0))))))))","v":"2018-09-04"},{"$nulls":3},{"$f":"IF(L5=1,2,1)","v":1},{"$f":"IF(M5=\"A\",\"B\",\"A\")","v":"A"}]
[4,2,{"$nulls":5},{"$f":"IF(M7=\"A\",IF(B7=\"\",\"\",IF($N$3=\"Lundi\",Congés_auto!S42,IF($N$3=\"Mardi\",Congés_auto!T42,IF($N$3=\"Mercredi\",Congés_auto!U42,IF($N$3=\"Jeudi\",Congés_auto!V42,IF($N$3=\"Vendredi\",Congés_auto!W42,IF($N$3=\"Samedi\",Congés_auto!X42,0))))))),IF(B7=\"\",\"\",IF($P$3=\"Lundi\",Congés_auto!S42,IF($P$3=\"Mardi\",Congés_auto!T42,IF($P$3=\"Mercredi\",Congés_auto!U42,IF($P$3=\"Jeudi\",Congés_auto!V42,IF($P$3=\"Vendredi\",Congés_auto!W42,IF($P$3=\"Samedi\",Congés_auto!X42,0))))))))","v":"2018-09-10"},{"$nulls":3},2,"B"]
[5,3,{"$nulls":5},{"$f":"IF(M8=\"A\",IF(B8=\"\",\"\",IF($N$3=\"Lundi\",Congés_auto!S43,IF($N$3=\"Mardi\",Congés_auto!T43,IF($N$3=\"Mercredi\",Congés_auto!U43,IF($N$3=\"Jeudi\",Congés_auto!V43,IF($N$3=\"Vendredi\",Congés_auto!W43,IF($N$3=\"Samedi\",Congés_auto!X43,0))))))),IF(B8=\"\",\"\",IF($P$3=\"Lundi\",Congés_auto!S43,IF($P$3=\"Mardi\",Congés_auto!T43,IF($P$3=\"Mercredi\",Congés_auto!U43,IF($P$3=\"Jeudi\",Congés_auto!V43,IF($P$3=\"Vendredi\",Congés_auto!W43,IF($P$3=\"Samedi\",Congés_auto!X43,0))))))))","v":"2018-09-18"},{"$nulls":3},1,"A"]
[6,3,{"$nulls":5},{"$f":"IF(M9=\"A\",IF(B9=\"\",\"\",IF($N$3=\"Lundi\",Congés_auto!S44,IF($N$3=\"Mardi\",Congés_auto!T44,IF($N$3=\"Mercredi\",Congés_auto!U44,IF($N$3=\"Jeudi\",Congés_auto!V44,IF($N$3=\"Vendredi\",Congés_auto!W44,IF($N$3=\"Samedi\",Congés_auto!X44,0))))))),IF(B9=\"\",\"\",IF($P$3=\"Lundi\",Congés_auto!S44,IF($P$3=\"Mardi\",Congés_auto!T44,IF($P$3=\"Mercredi\",Congés_auto!U44,IF($P$3=\"Jeudi\",Congés_auto!V44,IF($P$3=\"Vendredi\",Congés_auto!W44,IF($P$3=\"Samedi\",Congés_auto!X44,0))))))))","v":"2018-09-24"},{"$nulls":3},2,"B"]
[7,4,{"$nulls":5},{"$f":"IF(M10=\"A\",IF(B10=\"\",\"\",IF($N$3=\"Lundi\",Congés_auto!S45,IF($N$3=\"Mardi\",Congés_auto!T45,IF($N$3=\"Mercredi\",Congés_auto!U45,IF($N$3=\"Jeudi\",Congés_auto!V45,IF($N$3=\"Vendredi\",Congés_auto!W45,IF($N$3=\"Samedi\",Congés_auto!X45,0))))))),IF(B10=\"\",\"\",IF($P$3=\"Lundi\",Congés_auto!S45,IF($P$3=\"Mardi\",Congés_auto!T45,IF($P$3=\"Mercredi\",Congés_auto!U45,IF($P$3=\"Jeudi\",Congés_auto!V45,IF($P$3=\"Vendredi\",Congés_auto!W45,IF($P$3=\"Samedi\",Congés_auto!X45,0))))))))","v":"2018-10-02"},{"$nulls":3},1,"A"]
[8,4,{"$nulls":5},{"$f":"IF(M11=\"A\",IF(B11=\"\",\"\",IF($N$3=\"Lundi\",Congés_auto!S46,IF($N$3=\"Mardi\",Congés_auto!T46,IF($N$3=\"Mercredi\",Congés_auto!U46,IF($N$3=\"Jeudi\",Congés_auto!V46,IF($N$3=\"Vendredi\",Congés_auto!W46,IF($N$3=\"Samedi\",Congés_auto!X46,0))))))),IF(B11=\"\",\"\",IF($P$3=\"Lundi\",Congés_auto!S46,IF($P$3=\"Mardi\",Congés_auto!T46,IF($P$3=\"Mercredi\",Congés_auto!U46,IF($P$3=\"Jeudi\",Congés_auto!V46,IF($P$3=\"Vendredi\",Congés_auto!W46,IF($P$3=\"Samedi\",Congés_auto!X46,0))))))))","v":"2018-10-08"},{"$nulls":3},2,"B"]
[9,5,{"$nulls":5},{"$f":"IF(M12=\"A\",IF(B12=\"\",\"\",IF($N$3=\"Lundi\",Congés_auto!S47,IF($N$3=\"Mardi\",Congés_auto!T47,IF($N$3=\"Mercredi\",Congés_auto!U47,IF($N$3=\"Jeudi\",Congés_auto!V47,IF($N$3=\"Vendredi\",Congés_auto!W47,IF($N$3=\"Samedi\",Congés_auto!X47,0))))))),IF(B12=\"\",\"\",IF($P$3=\"Lundi\",Congés_auto!S47,IF($P$3=\"Mardi\",Congés_auto!T47,IF($P$3=\"Mercredi\",Congés_auto!U47,IF($P$3=\"Jeudi\",Congés_auto!V47,IF($P$3=\"Vendredi\",Congés_auto!W47,IF($P$3=\"Samedi\",Congés_auto!X47,0))))))))","v":"2018-10-30"},{"$nulls":3},1,"A"]
[10,5,{"$nulls":5},{"$f":"IF(M13=\"A\",IF(B13=\"\",\"\",IF($N$3=\"Lundi\",Congés_auto!S48,IF($N$3=\"Mardi\",Congés_auto!T48,IF($N$3=\"Mercredi\",Congés_auto!U48,IF($N$3=\"Jeudi\",Congés_auto!V48,IF($N$3=\"Vendredi\",Congés_auto!W48,IF($N$3=\"Samedi\",Congés_auto!X48,0))))))),IF(B13=\"\",\"\",IF($P$3=\"Lundi\",Congés_auto!S48,IF($P$3=\"Mardi\",Congés_auto!T48,IF($P$3=\"Mercredi\",Congés_auto!U48,IF($P$3=\"Jeudi\",Congés_auto!V48,IF($P$3=\"Vendredi\",Congés_auto!W48,IF($P$3=\"Samedi\",Congés_auto!X48,0))))))))","v":"2018-11-05"},{"$nulls":3},2,"B"]
[11,6,{"$nulls":5},{"$f":"IF(M14=\"A\",IF(B14=\"\",\"\",IF($N$3=\"Lundi\",Congés_auto!S49,IF($N$3=\"Mardi\",Congés_auto!T49,IF($N$3=\"Mercredi\",Congés_auto!U49,IF($N$3=\"Jeudi\",Congés_auto!V49,IF($N$3=\"Vendredi\",Congés_auto!W49,IF($N$3=\"Samedi\",Congés_auto!X49,0))))))),IF(B14=\"\",\"\",IF($P$3=\"Lundi\",Congés_auto!S49,IF($P$3=\"Mardi\",Congés_auto!T49,IF($P$3=\"Mercredi\",Congés_auto!U49,IF($P$3=\"Jeudi\",Congés_auto!V49,IF($P$3=\"Vendredi\",Congés_auto!W49,IF($P$3=\"Samedi\",Congés_auto!X49,0))))))))","v":"2018-11-13"},{"$nulls":3},1,"A"]
[12,6,{"$nulls":5},{"$f":"IF(M15=\"A\",IF(B15=\"\",\"\",IF($N$3=\"Lundi\",Congés_auto!S50,IF($N$3=\"Mardi\",Congés_auto!T50,IF($N$3=\"Mercredi\",Congés_auto!U50,IF($N$3=\"Jeudi\",Congés_auto!V50,IF($N$3=\"Vendredi\",Congés_auto!W50,IF($N$3=\"Samedi\",Congés_auto!X50,0))))))),IF(B15=\"\",\"\",IF($P$3=\"Lundi\",Congés_auto!S50,IF($P$3=\"Mardi\",Congés_auto!T50,IF($P$3=\"Mercredi\",Congés_auto!U50,IF($P$3=\"Jeudi\",Congés_auto!V50,IF($P$3=\"Vendredi\",Congés_auto!W50,IF($P$3=\"Samedi\",Congés_auto!X50,0))))))))","v":"2018-11-19"},{"$nulls":3},2,"B"]
[13,7,{"$nulls":5},{"$f":"IF(M16=\"A\",IF(B16=\"\",\"\",IF($N$3=\"Lundi\",Congés_auto!S51,IF($N$3=\"Mardi\",Congés_auto!T51,IF($N$3=\"Mercredi\",Congés_auto!U51,IF($N$3=\"Jeudi\",Congés_auto!V51,IF($N$3=\"Vendredi\",Congés_auto!W51,IF($N$3=\"Samedi\",Congés_auto!X51,0))))))),IF(B16=\"\",\"\",IF($P$3=\"Lundi\",Congés_auto!S51,IF($P$3=\"Mardi\",Congés_auto!T51,IF($P$3=\"Mercredi\",Congés_auto!U51,IF($P$3=\"Jeudi\",Congés_auto!V51,IF($P$3=\"Vendredi\",Congés_auto!W51,IF($P$3=\"Samedi\",Congés_auto!X51,0))))))))","v":"2018-11-27"},{"$nulls":3},1,"A"]
[14,7,{"$nulls":5},{"$f":"IF(M17=\"A\",IF(B17=\"\",\"\",IF($N$3=\"Lundi\",Congés_auto!S52,IF($N$3=\"Mardi\",Congés_auto!T52,IF($N$3=\"Mercredi\",Congés_auto!U52,IF($N$3=\"Jeudi\",Congés_auto!V52,IF($N$3=\"Vendredi\",Congés_auto!W52,IF($N$3=\"Samedi\",Congés_auto!X52,0))))))),IF(B17=\"\",\"\",IF($P$3=\"Lundi\",Congés_auto!S52,IF($P$3=\"Mardi\",Congés_auto!T52,IF($P$3=\"Mercredi\",Congés_auto!U52,IF($P$3=\"Jeudi\",Congés_auto!V52,IF($P$3=\"Vendredi\",Congés_auto!W52,IF($P$3=\"Samedi\",Congés_auto!X52,0))))))))","v":"2018-12-03"},{"$nulls":3},2,"B"]
[15,8,{"$nulls":5},{"$f":"IF(M18=\"A\",IF(B18=\"\",\"\",IF($N$3=\"Lundi\",Congés_auto!S53,IF($N$3=\"Mardi\",Congés_auto!T53,IF($N$3=\"Mercredi\",Congés_auto!U53,IF($N$3=\"Jeudi\",Congés_auto!V53,IF($N$3=\"Vendredi\",Congés_auto!W53,IF($N$3=\"Samedi\",Congés_auto!X53,0))))))),IF(B18=\"\",\"\",IF($P$3=\"Lundi\",Congés_auto!S53,IF($P$3=\"Mardi\",Congés_auto!T53,IF($P$3=\"Mercredi\",Congés_auto!U53,IF($P$3=\"Jeudi\",Congés_auto!V53,IF($P$3=\"Vendredi\",Congés_auto!W53,IF($P$3=\"Samedi\",Congés_auto!X53,0))))))))","v":"2018-12-11"},{"$nulls":3},1,"A"]
[16,8,{"$nulls":5},{"$f":"IF(M19=\"A\",IF(B19=\"\",\"\",IF($N$3=\"Lundi\",Congés_auto!S54,IF($N$3=\"Mardi\",Congés_auto!T54,IF($N$3=\"Mercredi\",Congés_auto!U54,IF($N$3=\"Jeudi\",Congés_auto!V54,IF($N$3=\"Vendredi\",Congés_auto!W54,IF($N$3=\"Samedi\",Congés_auto!X54,0))))))),IF(B19=\"\",\"\",IF($P$3=\"Lundi\",Congés_auto!S54,IF($P$3=\"Mardi\",Congés_auto!T54,IF($P$3=\"Mercredi\",Congés_auto!U54,IF($P$3=\"Jeudi\",Congés_auto!V54,IF($P$3=\"Vendredi\",Congés_auto!W54,IF($P$3=\"Samedi\",Congés_auto!X54,0))))))))","v":"2018-12-17"},{"$nulls":3},2,"B"]
[17,9,{"$nulls":5},{"$f":"IF(M20=\"A\",IF(B20=\"\",\"\",IF($N$3=\"Lundi\",Congés_auto!S55,IF($N$3=\"Mardi\",Congés_auto!T55,IF($N$3=\"Mercredi\",Congés_auto!U55,IF($N$3=\"Jeudi\",Congés_auto!V55,IF($N$3=\"Vendredi\",Congés_auto!W55,IF($N$3=\"Samedi\",Congés_auto!X55,0))))))),IF(B20=\"\",\"\",IF($P$3=\"Lundi\",Congés_auto!S55,IF($P$3=\"Mardi\",Congés_auto!T55,IF($P$3=\"Mercredi\",Congés_auto!U55,IF($P$3=\"Jeudi\",Congés_auto!V55,IF($P$3=\"Vendredi\",Congés_auto!W55,IF($P$3=\"Samedi\",Congés_auto!X55,0))))))))","v":"2019-01-29"},{"$nulls":3},1,"A"]
[18,9,{"$nulls":5},{"$f":"IF(M21=\"A\",IF(B21=\"\",\"\",IF($N$3=\"Lundi\",Congés_auto!S56,IF($N$3=\"Mardi\",Congés_auto!T56,IF($N$3=\"Mercredi\",Congés_auto!U56,IF($N$3=\"Jeudi\",Congés_auto!V56,IF($N$3=\"Vendredi\",Congés_auto!W56,IF($N$3=\"Samedi\",Congés_auto!X56,0))))))),IF(B21=\"\",\"\",IF($P$3=\"Lundi\",Congés_auto!S56,IF($P$3=\"Mardi\",Congés_auto!T56,IF($P$3=\"Mercredi\",Congés_auto!U56,IF($P$3=\"Jeudi\",Congés_auto!V56,IF($P$3=\"Vendredi\",Congés_auto!W56,IF($P$3=\"Samedi\",Congés_auto!X56,0))))))))","v":"2019-02-04"},{"$nulls":3},2,"B"]
[19,10,{"$nulls":5},{"$f":"IF(M22=\"A\",IF(B22=\"\",\"\",IF($N$3=\"Lundi\",Congés_auto!S57,IF($N$3=\"Mardi\",Congés_auto!T57,IF($N$3=\"Mercredi\",Congés_auto!U57,IF($N$3=\"Jeudi\",Congés_auto!V57,IF($N$3=\"Vendredi\",Congés_auto!W57,IF($N$3=\"Samedi\",Congés_auto!X57,0))))))),IF(B22=\"\",\"\",IF($P$3=\"Lundi\",Congés_auto!S57,IF($P$3=\"Mardi\",Congés_auto!T57,IF($P$3=\"Mercredi\",Congés_auto!U57,IF($P$3=\"Jeudi\",Congés_auto!V57,IF($P$3=\"Vendredi\",Congés_auto!W57,IF($P$3=\"Samedi\",Congés_auto!X57,0))))))))","v":"2019-02-12"},{"$nulls":3},1,"A"]
[20,10,{"$nulls":5},{"$f":"IF(M23=\"A\",IF(B23=\"\",\"\",IF($N$3=\"Lundi\",Congés_auto!S58,IF($N$3=\"Mardi\",Congés_auto!T58,IF($N$3=\"Mercredi\",Congés_auto!U58,IF($N$3=\"Jeudi\",Congés_auto!V58,IF($N$3=\"Vendredi\",Congés_auto!W58,IF($N$3=\"Samedi\",Congés_auto!X58,0))))))),IF(B23=\"\",\"\",IF($P$3=\"Lundi\",Congés_auto!S58,IF($P$3=\"Mardi\",Congés_auto!T58,IF($P$3=\"Mercredi\",Congés_auto!U58,IF($P$3=\"Jeudi\",Congés_auto!V58,IF($P$3=\"Vendredi\",Congés_auto!W58,IF($P$3=\"Samedi\",Congés_auto!X58,0))))))))","v":"2019-02-18"},{"$nulls":3},2,"B"]
[21,11,{"$nulls":5},{"$f":"IF(M24=\"A\",IF(B24=\"\",\"\",IF($N$3=\"Lundi\",Congés_auto!S59,IF($N$3=\"Mardi\",Congés_auto!T59,IF($N$3=\"Mercredi\",Congés_auto!U59,IF($N$3=\"Jeudi\",Congés_auto!V59,IF($N$3=\"Vendredi\",Congés_auto!W59,IF($N$3=\"Samedi\",Congés_auto!X59,0))))))),IF(B24=\"\",\"\",IF($P$3=\"Lundi\",Congés_auto!S59,IF($P$3=\"Mardi\",Congés_auto!T59,IF($P$3=\"Mercredi\",Congés_auto!U59,IF($P$3=\"Jeudi\",Congés_auto!V59,IF($P$3=\"Vendredi\",Congés_auto!W59,IF($P$3=\"Samedi\",Congés_auto!X59,0))))))))","v":"2019-02-26"},{"$nulls":3},1,"A"]
[22,11,{"$nulls":5},{"$f":"IF(M25=\"A\",IF(B25=\"\",\"\",IF($N$3=\"Lundi\",Congés_auto!S60,IF($N$3=\"Mardi\",Congés_auto!T60,IF($N$3=\"Mercredi\",Congés_auto!U60,IF($N$3=\"Jeudi\",Congés_auto!V60,IF($N$3=\"Vendredi\",Congés_auto!W60,IF($N$3=\"Samedi\",Congés_auto!X60,0))))))),IF(B25=\"\",\"\",IF($P$3=\"Lundi\",Congés_auto!S60,IF($P$3=\"Mardi\",Congés_auto!T60,IF($P$3=\"Mercredi\",Congés_auto!U60,IF($P$3=\"Jeudi\",Congés_auto!V60,IF($P$3=\"Vendredi\",Congés_auto!W60,IF($P$3=\"Samedi\",Congés_auto!X60,0))))))))","v":"2019-03-04"},{"$nulls":3},2,"B"]
[23,12,{"$nulls":5},{"$f":"IF(M26=\"A\",IF(B26=\"\",\"\",IF($N$3=\"Lundi\",Congés_auto!S61,IF($N$3=\"Mardi\",Congés_auto!T61,IF($N$3=\"Mercredi\",Congés_auto!U61,IF($N$3=\"Jeudi\",Congés_auto!V61,IF($N$3=\"Vendredi\",Congés_auto!W61,IF($N$3=\"Samedi\",Congés_auto!X61,0))))))),IF(B26=\"\",\"\",IF($P$3=\"Lundi\",Congés_auto!S61,IF($P$3=\"Mardi\",Congés_auto!T61,IF($P$3=\"Mercredi\",Congés_auto!U61,IF($P$3=\"Jeudi\",Congés_auto!V61,IF($P$3=\"Vendredi\",Congés_auto!W61,IF($P$3=\"Samedi\",Congés_auto!X61,0))))))))","v":"2019-03-26"},{"$nulls":3},1,"A"]
[24,12,{"$nulls":5},{"$f":"IF(M27=\"A\",IF(B27=\"\",\"\",IF($N$3=\"Lundi\",Congés_auto!S62,IF($N$3=\"Mardi\",Congés_auto!T62,IF($N$3=\"Mercredi\",Congés_auto!U62,IF($N$3=\"Jeudi\",Congés_auto!V62,IF($N$3=\"Vendredi\",Congés_auto!W62,IF($N$3=\"Samedi\",Congés_auto!X62,0))))))),IF(B27=\"\",\"\",IF($P$3=\"Lundi\",Congés_auto!S62,IF($P$3=\"Mardi\",Congés_auto!T62,IF($P$3=\"Mercredi\",Congés_auto!U62,IF($P$3=\"Jeudi\",Congés_auto!V62,IF($P$3=\"Vendredi\",Congés_auto!W62,IF($P$3=\"Samedi\",Congés_auto!X62,0))))))))","v":"2019-04-01"},{"$nulls":3},2,"B"]
[25,13,{"$nulls":5},{"$f":"IF(M28=\"A\",IF(B28=\"\",\"\",IF($N$3=\"Lundi\",Congés_auto!S63,IF($N$3=\"Mardi\",Congés_auto!T63,IF($N$3=\"Mercredi\",Congés_auto!U63,IF($N$3=\"Jeudi\",Congés_auto!V63,IF($N$3=\"Vendredi\",Congés_auto!W63,IF($N$3=\"Samedi\",Congés_auto!X63,0))))))),IF(B28=\"\",\"\",IF($P$3=\"Lundi\",Congés_auto!S63,IF($P$3=\"Mardi\",Congés_auto!T63,IF($P$3=\"Mercredi\",Congés_auto!U63,IF($P$3=\"Jeudi\",Congés_auto!V63,IF($P$3=\"Vendredi\",Congés_auto!W63,IF($P$3=\"Samedi\",Congés_auto!X63,0))))))))","v":"2019-04-09"},{"$nulls":3},1,"A"]
[26,13,{"$nulls":5},{"$f":"IF(M29=\"A\",IF(B29=\"\",\"\",IF($N$3=\"Lundi\",Congés_auto!S64,IF($N$3=\"Mardi\",Congés_auto!T64,IF($N$3=\"Mercredi\",Congés_auto!U64,IF($N$3=\"Jeudi\",Congés_auto!V64,IF($N$3=\"Vendredi\",Congés_auto!W64,IF($N$3=\"Samedi\",Congés_auto!X64,0))))))),IF(B29=\"\",\"\",IF($P$3=\"Lundi\",Congés_auto!S64,IF($P$3=\"Mardi\",Congés_auto!T64,IF($P$3=\"Mercredi\",Congés_auto!U64,IF($P$3=\"Jeudi\",Congés_auto!V64,IF($P$3=\"Vendredi\",Congés_auto!W64,IF($P$3=\"Samedi\",Congés_auto!X64,0))))))))","v":"2019-04-15"},{"$nulls":3},2,"B"]
[27,14,{"$nulls":5},{"$f":"IF(M30=\"A\",IF(B30=\"\",\"\",IF($N$3=\"Lundi\",Congés_auto!S65,IF($N$3=\"Mardi\",Congés_auto!T65,IF($N$3=\"Mercredi\",Congés_auto!U65,IF($N$3=\"Jeudi\",Congés_auto!V65,IF($N$3=\"Vendredi\",Congés_auto!W65,IF($N$3=\"Samedi\",Congés_auto!X65,0))))))),IF(B30=\"\",\"\",IF($P$3=\"Lundi\",Congés_auto!S65,IF($P$3=\"Mardi\",Congés_auto!T65,IF($P$3=\"Mercredi\",Congés_auto!U65,IF($P$3=\"Jeudi\",Congés_auto!V65,IF($P$3=\"Vendredi\",Congés_auto!W65,IF($P$3=\"Samedi\",Congés_auto!X65,0))))))))","v":"2019-04-23"},{"$nulls":3},1,"A"]
[28,14,{"$nulls":5},{"$f":"IF(M31=\"A\",IF(B31=\"\",\"\",IF($N$3=\"Lundi\",Congés_auto!S66,IF($N$3=\"Mardi\",Congés_auto!T66,IF($N$3=\"Mercredi\",Congés_auto!U66,IF($N$3=\"Jeudi\",Congés_auto!V66,IF($N$3=\"Vendredi\",Congés_auto!W66,IF($N$3=\"Samedi\",Congés_auto!X66,0))))))),IF(B31=\"\",\"\",IF($P$3=\"Lundi\",Congés_auto!S66,IF($P$3=\"Mardi\",Congés_auto!T66,IF($P$3=\"Mercredi\",Congés_auto!U66,IF($P$3=\"Jeudi\",Congés_auto!V66,IF($P$3=\"Vendredi\",Congés_auto!W66,IF($P$3=\"Samedi\",Congés_auto!X66,0))))))))","v":"2019-05-06"},{"$nulls":3},2,"B"]
[29,15,{"$nulls":5},{"$f":"IF(M32=\"A\",IF(B32=\"\",\"\",IF($N$3=\"Lundi\",Congés_auto!S67,IF($N$3=\"Mardi\",Congés_auto!T67,IF($N$3=\"Mercredi\",Congés_auto!U67,IF($N$3=\"Jeudi\",Congés_auto!V67,IF($N$3=\"Vendredi\",Congés_auto!W67,IF($N$3=\"Samedi\",Congés_auto!X67,0))))))),IF(B32=\"\",\"\",IF($P$3=\"Lundi\",Congés_auto!S67,IF($P$3=\"Mardi\",Congés_auto!T67,IF($P$3=\"Mercredi\",Congés_auto!U67,IF($P$3=\"Jeudi\",Congés_auto!V67,IF($P$3=\"Vendredi\",Congés_auto!W67,IF($P$3=\"Samedi\",Congés_auto!X67,0))))))))","v":"2019-05-21"},{"$nulls":3},1,"A"]
[30,15,{"$nulls":5},{"$f":"IF(M33=\"A\",IF(B33=\"\",\"\",IF($N$3=\"Lundi\",Congés_auto!S68,IF($N$3=\"Mardi\",Congés_auto!T68,IF($N$3=\"Mercredi\",Congés_auto!U68,IF($N$3=\"Jeudi\",Congés_auto!V68,IF($N$3=\"Vendredi\",Congés_auto!W68,IF($N$3=\"Samedi\",Congés_auto!X68,0))))))),IF(B33=\"\",\"\",IF($P$3=\"Lundi\",Congés_auto!S68,IF($P$3=\"Mardi\",Congés_auto!T68,IF($P$3=\"Mercredi\",Congés_auto!U68,IF($P$3=\"Jeudi\",Congés_auto!V68,IF($P$3=\"Vendredi\",Congés_auto!W68,IF($P$3=\"Samedi\",Congés_auto!X68,0))))))))","v":"2019-05-27"},{"$nulls":3},2,"B"]
[31,16,{"$nulls":5},{"$f":"IF(M34=\"A\",IF(B34=\"\",\"\",IF($N$3=\"Lundi\",Congés_auto!S69,IF($N$3=\"Mardi\",Congés_auto!T69,IF($N$3=\"Mercredi\",Congés_auto!U69,IF($N$3=\"Jeudi\",Congés_auto!V69,IF($N$3=\"Vendredi\",Congés_auto!W69,IF($N$3=\"Samedi\",Congés_auto!X69,0))))))),IF(B34=\"\",\"\",IF($P$3=\"Lundi\",Congés_auto!S69,IF($P$3=\"Mardi\",Congés_auto!T69,IF($P$3=\"Mercredi\",Congés_auto!U69,IF($P$3=\"Jeudi\",Congés_auto!V69,IF($P$3=\"Vendredi\",Congés_auto!W69,IF($P$3=\"Samedi\",Congés_auto!X69,0))))))))","v":"2019-06-04"},{"$nulls":3},1,"A"]
[32,16,{"$nulls":5},{"$f":"IF(M35=\"A\",IF(B35=\"\",\"\",IF($N$3=\"Lundi\",Congés_auto!S70,IF($N$3=\"Mardi\",Congés_auto!T70,IF($N$3=\"Mercredi\",Congés_auto!U70,IF($N$3=\"Jeudi\",Congés_auto!V70,IF($N$3=\"Vendredi\",Congés_auto!W70,IF($N$3=\"Samedi\",Congés_auto!X70,0))))))),IF(B35=\"\",\"\",IF($P$3=\"Lundi\",Congés_auto!S70,IF($P$3=\"Mardi\",Congés_auto!T70,IF($P$3=\"Mercredi\",Congés_auto!U70,IF($P$3=\"Jeudi\",Congés_auto!V70,IF($P$3=\"Vendredi\",Congés_auto!W70,IF($P$3=\"Samedi\",Congés_auto!X70,0))))))))","v":"2019-06-10"},{"$nulls":3},2,"B"]
[33,17,{"$nulls":5},{"$f":"IF(M36=\"A\",IF(B36=\"\",\"\",IF($N$3=\"Lundi\",Congés_auto!S71,IF($N$3=\"Mardi\",Congés_auto!T71,IF($N$3=\"Mercredi\",Congés_auto!U71,IF($N$3=\"Jeudi\",Congés_auto!V71,IF($N$3=\"Vendredi\",Congés_auto!W71,IF($N$3=\"Samedi\",Congés_auto!X71,0))))))),IF(B36=\"\",\"\",IF($P$3=\"Lundi\",Congés_auto!S71,IF($P$3=\"Mardi\",Congés_auto!T71,IF($P$3=\"Mercredi\",Congés_auto!U71,IF($P$3=\"Jeudi\",Congés_auto!V71,IF($P$3=\"Vendredi\",Congés_auto!W71,IF($P$3=\"Samedi\",Congés_auto!X71,0))))))))","v":"2019-06-18"},{"$nulls":3},1,"A"]
[34,17,{"$nulls":9},2,"B"]
[35,{"$f":"IF(OR($O$4=1,$O$4=2),$AA127,IF(OR($O$4=3,$O$4=4),$AC127,IF(OR($O$4=5,$O$4=6),$AE127,IF(OR($O$4=7,$O$4=8),$AG127,\"\"))))","v":18},{"$nulls":9},1,"A"]
[36,18,{"$nulls":5},{"$f":"IF(M39=\"A\",IF(B39=\"\",\"\",IF($N$3=\"Lundi\",Congés_auto!S74,IF($N$3=\"Mardi\",Congés_auto!T74,IF($N$3=\"Mercredi\",Congés_auto!U74,IF($N$3=\"Jeudi\",Congés_auto!V74,IF($N$3=\"Vendredi\",Congés_auto!W74,IF($N$3=\"Samedi\",Congés_auto!X74,0))))))),IF(B39=\"\",\"\",IF($P$3=\"Lundi\",Congés_auto!S74,IF($P$3=\"Mardi\",Congés_auto!T74,IF($P$3=\"Mercredi\",Congés_auto!U74,IF($P$3=\"Jeudi\",Congés_auto!V74,IF($P$3=\"Vendredi\",Congés_auto!W74,IF($P$3=\"Samedi\",Congés_auto!X74,0))))))))","v":""},{"$nulls":3},2,"B"]
[]
[]
[null,null,"Binôme avec :"]
{"$rows_empty":22}
[{"$nulls":28},"Modifier u2 et w2 - Planning pour 8 ou 6 grp",{"$nulls":6},"Sem B 2h",null,"NON"]
[{"$nulls":27},"Planning",{"$f":"T1","v":0},null,null,{"$f":"N3","v":"Mardi"},{"$nulls":10},0]
[]
[{"$nulls":26},{"$f":"Z93","v":"2018-08-21"},{"$f":"OFFSET($Z$93,AA73,0)","v":"2018-08-27"},{"$f":"OFFSET($Z$93,AB73,0)","v":"2018-09-04"},"2018-09-10","2018-09-18","2018-09-24","2018-10-02","2018-10-08","2018-10-30","2018-11-05","2018-11-13","2018-11-19","2018-11-27","2018-12-03","2018-12-11","2018-12-17","2019-01-29","2019-02-04","2019-02-18","2019-02-26","2019-03-04","2019-03-26","2019-04-01","2019-04-09","2019-04-15","2019-04-23","2019-05-06","2019-05-21","2019-05-27","2019-06-04","2019-06-10","2019-06-18","00:00:00","00:00:00","","00:00:00"]
[]
[]
[]
[{"$nulls":24},"Temps",null,2,2,2,2,2,2,2,2,2,2,2,2,2,2,2,2,2,2,2,2,2,2,2,2,2,2,2,2,2,2,2,2,2,2,2,2]
[{"$nulls":25},"Semaine",1,{"$f":"AA73+1","v":2},{"$f":"AB73+1","v":3},4,5,6,7,8,9,10,11,12,13,14,15,16,17,18,{"$f":"AR73+1","v":19},{"$f":"AS73+1","v":20},21,22,23,24,25,26,27,28,29,30,31,32,33,34,35,36]
[{"$nulls":25},"Grp  1",1,1,{"$f":"AA74+1","v":2},{"$f":"AB74+1","v":2},3,3,4,4,5,5,6,6,7,7,8,8,9,9,10,{"$f":"AR74+1","v":10},11,11,12,12,13,13,14,14,15,15,16,16,17,17,18,{"$f":"BH74+1","v":18}]
[{"$nulls":25},"Grp  2",1,1,{"$f":"AA75+1","v":2},2,3,3,4,4,5,5,6,6,7,7,8,8,9,9,10,10,11,11,12,12,13,13,14,14,15,15,16,16,17,17,18,18]
[{"$nulls":23},"FREQUENCE(A1:A30;{1,8;2,7})",null,"Grp  3",1,1,2,2,3,3,4,4,5,5,6,6,7,7,8,8,9,9,10,10,11,11,12,12,13,13,14,14,15,15,16,16,17,17,18,18]
[{"$nulls":25},"Grp  4",1,2,2,3,3,4,4,5,5,6,6,7,7,8,8,9,9,10,10,11,11,12,12,13,13,14,14,15,15,16,16,17,17,18,18,19]
[{"$nulls":25},"Grp  5",1,2,2,3,3,4,4,5,5,6,6,7,7,8,8,9,9,10,10,11,11,12,12,13,13,14,14,15,15,16,16,17,17,18,18,19]
[{"$nulls":25},"Grp  6",1,2,2,3,3,4,4,5,5,6,6,7,7,8,8,9,9,10,10,11,11,12,12,13,13,14,14,15,15,16,16,17,17,18,18,19]
[{"$nulls":25},"Grp  7",1,2,2,3,3,4,4,5,5,6,6,7,7,8,8,9,9,10,10,11,11,12,12,13,13,14,14,15,15,16,16,17,17,18,18,19]
[{"$nulls":25},"Grp  8",1,2,2,3,3,4,4,5,5,6,6,7,7,8,8,9,9,10,10,11,11,12,12,13,13,14,14,15,15,16,16,17,17,18,18,19]
[{"$nulls":33},"DT1 --> 0,5 h",{"$nulls":6},"DT2 --> 1 h"]
[{"$nulls":33},"Travail noté"]
[]
[{"$nulls":23},{"$f":"CONCATENATE(AJ86,Y87)","v":"01"},"Les groupes"]
[{"$nulls":30},{"$f":"IF(LEFT(T1,1)=\"3\",\"Troisième\",IF(LEFT(T1,1)=\"4\",\"Quatrième\",IF(LEFT(T1,1)=\"5\",\"Cinquiéme\",\"Sixième\")))","v":"Sixième"},{"$nulls":4},{"$f":"T1","v":0},null,null,{"$f":"N3","v":"Mardi"},{"$nulls":4},{"$f":"O3","v":0}]
[{"$nulls":17},{"$error":"#N/A"},{"$error":"#N/A"},{"$error":"#N/A"},{"$error":"#N/A"},{"$error":"#N/A"},1,null,1,{"$f":"IF(ISNA(R87),\"\",R87)&\"  --  \"&IF(ISNA(S87),\"\",S87)&\" --  \"&IF(ISNA(T87),\"\",T87)&\" --  \"&IF(ISNA(U87),\"\",U87)&\"  --  \"&IF(ISNA(V87),\"\",V87)","v":"  --   --   --    --  "},{"$nulls":12},5,{"$f":"IF(ISNA(R91),\"\",R91)&\"  --  \"&IF(ISNA(S91),\"\",S91)&\" --  \"&IF(ISNA(T91),\"\",T91)&\" --  \"&IF(ISNA(U91),\"\",U91)&\"  --  \"&IF(ISNA(V91),\"\",V91)","v":"  --   --   --    --  "}]
[{"$nulls":17},{"$error":"#N/A"},{"$error":"#N/A"},{"$error":"#N/A"},{"$error":"#N/A"},{"$error":"#N/A"},2,null,2,{"$f":"IF(ISNA(R88),\"\",R88)&\"  --  \"&IF(ISNA(S88),\"\",S88)&\" --  \"&IF(ISNA(T88),\"\",T88)&\" --  \"&IF(ISNA(U88),\"\",U88)&\"  --  \"&IF(ISNA(V88),\"\",V88)","v":"  --   --   --    --  "},{"$nulls":12},6,{"$f":"IF(ISNA(R92),\"\",R92)&\"  --  \"&IF(ISNA(S92),\"\",S92)&\" --  \"&IF(ISNA(T92),\"\",T92)&\" --  \"&IF(ISNA(U92),\"\",U92)&\"  --  \"&IF(ISNA(V92),\"\",V92)","v":"  --   --   --    --  "}]
[{"$nulls":17},{"$error":"#N/A"},{"$error":"#N/A"},{"$error":"#N/A"},{"$error":"#N/A"},{"$error":"#N/A"},3,null,3,{"$f":"IF(ISNA(R89),\"\",R89)&\"  --  \"&IF(ISNA(S89),\"\",S89)&\" --  \"&IF(ISNA(T89),\"\",T89)&\" --  \"&IF(ISNA(U89),\"\",U89)&\"  --  \"&IF(ISNA(V89),\"\",V89)","v":"  --   --   --    --  "},{"$nulls":12},7,{"$f":"IF(ISNA(R93),\"\",R93)&\"  --  \"&IF(ISNA(S93),\"\",S93)&\" --  \"&IF(ISNA(T93),\"\",T93)&\" --  \"&IF(ISNA(U93),\"\",U93)&\"  --  \"&IF(ISNA(V93),\"\",V93)","v":"  --   --   --    --  "}]
[{"$nulls":17},{"$error":"#N/A"},{"$error":"#N/A"},{"$error":"#N/A"},{"$error":"#N/A"},{"$error":"#N/A"},4,null,4,{"$f":"IF(ISNA(R90),\"\",R90)&\"  --  \"&IF(ISNA(S90),\"\",S90)&\" --  \"&IF(ISNA(T90),\"\",T90)&\" --  \"&IF(ISNA(U90),\"\",U90)&\"  --  \"&IF(ISNA(V90),\"\",V90)","v":"  --   --   --    --  "},{"$nulls":12},8,{"$f":"IF(ISNA(R94),\"\",R94)&\"  --  \"&IF(ISNA(S94),\"\",S94)&\" --  \"&IF(ISNA(T94),\"\",T94)&\" --  \"&IF(ISNA(U94),\"\",U94)&\"  --  \"&IF(ISNA(V94),\"\",V94)","v":"  --   --   --    --  "}]
[{"$nulls":17},{"$error":"#N/A"},{"$error":"#N/A"},{"$error":"#N/A"},{"$error":"#N/A"},{"$error":"#N/A"},5,{"$nulls":3},"Groupe et N° activité",{"$nulls":7},"Les activités par groupes"]
[{"$nulls":17},{"$error":"#N/A"},{"$error":"#N/A"},{"$error":"#N/A"},{"$error":"#N/A"},{"$error":"#N/A"},null,null,"N° Sem",{"$f":"TEXT(Z93,\"jjjj\")","v":"jjjj"},"G 1","G2","G3","G4","G5","G6","G7","G8"]
[{"$nulls":17},{"$error":"#N/A"},{"$error":"#N/A"},{"$error":"#N/A"},{"$error":"#N/A"},{"$error":"#N/A"},null,null,1,{"$f":"H4","v":"2018-08-21"},{"$f":"AA74","v":1},{"$f":"AA75","v":1},{"$f":"AA76","v":1},{"$f":"AA77","v":1},{"$f":"AA78","v":1},{"$f":"AA79","v":1},{"$f":"AA80","v":1},{"$f":"AA81","v":1},"Accueil - organisation - rotation et planning  - Départ de l' activité \" Présentation du classeur\"",{"$nulls":11},1]
[{"$nulls":17},{"$error":"#N/A"},{"$error":"#N/A"},{"$error":"#N/A"},{"$error":"#N/A"},{"$error":"#N/A"},null,null,{"$f":"Y93+1","v":2},{"$f":"H5","v":"2018-08-27"},{"$f":"IF(OFFSET($AA$74,0,$Y93)=41,\"\",OFFSET($AA$74,0,$Y93))","v":1},{"$f":"IF(OFFSET($AA$74,$Y$93,$Y93)=41,\"\",OFFSET($AA$74,$Y$93,$Y93))","v":1},{"$f":"IF(OFFSET($AA$74,$Y$94,$Y93)=41,\"\",OFFSET($AA$74,$Y$94,$Y93))","v":1},{"$f":"IF(OFFSET($AA$74,$Y$95,$Y93)=41,\"\",OFFSET($AA$74,$Y$95,$Y93))","v":2},{"$f":"IF(OFFSET($AA$74,$Y$96,$Y93)=41,\"\",OFFSET($AA$74,$Y$96,$Y93))","v":2},{"$f":"IF(OFFSET($AA$74,$Y$97,$Y93)=41,\"\",OFFSET($AA$74,$Y$97,$Y93))","v":2},{"$f":"IF(OFFSET($AA$74,$Y$98,$Y93)=41,\"\",OFFSET($AA$74,$Y$98,$Y93))","v":2},{"$f":"IF(OFFSET($AA$74,$Y$99,$Y93)=41,\"\",OFFSET($AA$74,$Y$99,$Y93))","v":2},{"$error":"#VALUE!"},{"$nulls":5},{"$error":"#VALUE!"},{"$nulls":5},{"$f":"AU93+1","v":2}]
[{"$nulls":17},{"$error":"#N/A"},{"$error":"#N/A"},{"$error":"#N/A"},{"$error":"#N/A"},{"$error":"#N/A"},null,null,{"$f":"Y94+1","v":3},"2018-09-04",{"$f":"IF(OFFSET($AA$74,0,$Y94)=41,\"\",OFFSET($AA$74,0,$Y94))","v":2},{"$f":"IF(OFFSET($AA$74,$Y$93,$Y94)=41,\"\",OFFSET($AA$74,$Y$93,$Y94))","v":2},{"$f":"IF(OFFSET($AA$74,$Y$94,$Y94)=41,\"\",OFFSET($AA$74,$Y$94,$Y94))","v":2},{"$f":"IF(OFFSET($AA$74,$Y$95,$Y94)=41,\"\",OFFSET($AA$74,$Y$95,$Y94))","v":2},{"$f":"IF(OFFSET($AA$74,$Y$96,$Y94)=41,\"\",OFFSET($AA$74,$Y$96,$Y94))","v":2},{"$f":"IF(OFFSET($AA$74,$Y$97,$Y94)=41,\"\",OFFSET($AA$74,$Y$97,$Y94))","v":2},{"$f":"IF(OFFSET($AA$74,$Y$98,$Y94)=41,\"\",OFFSET($AA$74,$Y$98,$Y94))","v":2},{"$f":"IF(OFFSET($AA$74,$Y$99,$Y94)=41,\"\",OFFSET($AA$74,$Y$99,$Y94))","v":2},{"$error":"#VALUE!"},{"$nulls":5},{"$error":"#VALUE!"},{"$nulls":5},{"$f":"AU94+1","v":3}]
[{"$nulls":24},4,"2018-09-10",2,2,2,3,3,3,3,3,{"$error":"#VALUE!"},{"$nulls":5},{"$error":"#VALUE!"},{"$nulls":5},4]
[{"$nulls":24},5,"2018-09-18",3,3,3,3,3,3,3,3,{"$error":"#VALUE!"},{"$nulls":5},{"$error":"#VALUE!"},{"$nulls":5},5]
[{"$nulls":24},6,"2018-09-24",3,3,3,4,4,4,4,4,{"$error":"#VALUE!"},{"$nulls":5},{"$error":"#VALUE!"},{"$nulls":5},6]
[{"$nulls":24},7,"2018-10-02",4,4,4,4,4,4,4,4,{"$error":"#VALUE!"},{"$nulls":5},{"$error":"#VALUE!"},{"$nulls":5},7]
[{"$nulls":24},8,"2018-10-08",4,4,4,5,5,5,5,5,{"$error":"#VALUE!"},{"$nulls":5},{"$error":"#VALUE!"},{"$nulls":5},8]
[{"$nulls":24},9,"2018-10-30",5,5,5,5,5,5,5,5,{"$error":"#VALUE!"},{"$nulls":5},{"$error":"#VALUE!"},{"$nulls":5},9]
[{"$nulls":24},10,"2018-11-05",5,5,5,6,6,6,6,6,{"$error":"#VALUE!"},{"$nulls":5},{"$error":"#VALUE!"},{"$nulls":5},10]
[{"$nulls":24},11,"2018-11-13",6,6,6,6,6,6,6,6,{"$error":"#VALUE!"},{"$nulls":5},{"$error":"#VALUE!"},{"$nulls":5},11]
[{"$nulls":24},12,"2018-11-19",6,6,6,7,7,7,7,7,{"$error":"#VALUE!"},{"$nulls":5},{"$error":"#VALUE!"},{"$nulls":5},12]
[{"$nulls":24},13,"2018-11-27",7,7,7,7,7,7,7,7,{"$error":"#VALUE!"},{"$nulls":5},{"$error":"#VALUE!"},{"$nulls":5},13]
[{"$nulls":24},14,"2018-12-03",7,7,7,8,8,8,8,8,{"$error":"#VALUE!"},{"$nulls":5},{"$error":"#VALUE!"},{"$nulls":5},14]
[{"$nulls":24},15,"2018-12-11",8,8,8,8,8,8,8,8,{"$error":"#VALUE!"},{"$nulls":5},{"$error":"#VALUE!"},{"$nulls":5},15]
[{"$nulls":24},16,"2018-12-17",8,8,8,9,9,9,9,9,{"$error":"#VALUE!"},{"$nulls":5},{"$error":"#VALUE!"},{"$nulls":5},16]
[{"$nulls":24},17,"2019-01-29",9,9,9,9,9,9,9,9,{"$error":"#VALUE!"},{"$nulls":5},{"$error":"#VALUE!"},{"$nulls":5},17]
[{"$nulls":24},18,"2019-02-04",9,9,9,10,10,10,10,10,{"$error":"#VALUE!"},{"$nulls":5},{"$error":"#VALUE!"},{"$nulls":5},18]
[{"$nulls":24},19,{"$f":"H23","v":"2019-02-18"},10,10,10,10,10,10,10,10,{"$error":"#VALUE!"},{"$nulls":5},{"$error":"#VALUE!"},{"$nulls":5},19]
[{"$nulls":24},20,"2019-02-26",10,10,10,11,11,11,11,11,{"$error":"#VALUE!"},{"$nulls":5},{"$error":"#VALUE!"},{"$nulls":5},20]
[{"$nulls":24},21,"2019-03-04",11,11,11,11,11,11,11,11,{"$error":"#VALUE!"},{"$nulls":5},{"$error":"#VALUE!"},{"$nulls":5},21]
[{"$nulls":24},22,"2019-03-26",11,11,11,12,12,12,12,12,{"$error":"#VALUE!"},{"$nulls":5},{"$error":"#VALUE!"},{"$nulls":5},22]
[{"$nulls":24},23,"2019-04-01",12,12,12,12,12,12,12,12,{"$error":"#VALUE!"},{"$nulls":5},{"$error":"#VALUE!"},{"$nulls":5},23]
[{"$nulls":24},24,"2019-04-09",12,12,12,13,13,13,13,13,{"$error":"#VALUE!"},{"$nulls":5},{"$error":"#VALUE!"},{"$nulls":5},24]
[{"$nulls":24},25,"2019-04-15",13,13,13,13,13,13,13,13,{"$error":"#VALUE!"},{"$nulls":5},{"$error":"#VALUE!"},{"$nulls":5},25]
[{"$nulls":24},26,"2019-04-23",13,13,13,14,14,14,14,14,{"$error":"#VALUE!"},{"$nulls":5},{"$error":"#VALUE!"},{"$nulls":5},26]
[{"$nulls":24},27,"2019-05-06",14,14,14,14,14,14,14,14,{"$error":"#VALUE!"},{"$nulls":5},{"$error":"#VALUE!"},{"$nulls":5},27]
[{"$nulls":24},28,"2019-05-21",14,14,14,15,15,15,15,15,{"$error":"#VALUE!"},{"$nulls":5},{"$error":"#VALUE!"},{"$nulls":5},28]
[{"$nulls":24},29,"2019-05-27",15,15,15,15,15,15,15,15,{"$error":"#VALUE!"},{"$nulls":5},"",{"$nulls":5},29]
[{"$nulls":24},30,"2019-06-04",15,15,15,16,16,16,16,16,{"$error":"#VALUE!"},{"$nulls":5},{"$error":"#VALUE!"},{"$nulls":5},30]
[{"$nulls":24},31,"2019-06-10",16,16,16,16,16,16,16,16,{"$error":"#VALUE!"},{"$nulls":5},{"$error":"#VALUE!"},{"$nulls":5},31]
[{"$nulls":24},32,"2019-06-18",16,16,16,17,17,17,17,17,{"$error":"#VALUE!"},{"$nulls":5},{"$error":"#VALUE!"},{"$nulls":5},32]
[{"$nulls":24},33,"00:00:00",17,17,17,17,17,17,17,17,{"$error":"#VALUE!"},{"$nulls":5},"",{"$nulls":5},33]
[{"$nulls":24},34,"00:00:00",17,17,17,18,18,18,18,18,{"$error":"#VALUE!"},{"$nulls":5},{"$error":"#VALUE!"},{"$nulls":5},34]
[{"$nulls":24},35,"",18,18,18,18,18,18,18,18,{"$error":"#VALUE!"},{"$nulls":5},{"$error":"#VALUE!"},{"$nulls":5},35]
[{"$nulls":24},36,null,18,18,18,19,19,19,19,19,{"$error":"#VALUE!"},{"$nulls":5},"",{"$nulls":5},36]

{"sheet":"305","index":11,"n_rows":128,"n_cols":62,"rows_kept":128,"merged":[[0,13,0,15],[1,17,2,18],[2,3,2,6],[2,13,2,14],[2,15,2,16],[3,2,3,6],[3,7,3,8],[4,2,4,6],[4,7,4,8],[5,2,5,6],[5,7,5,8],[6,2,6,6],[6,7,6,8],[7,2,7,6],[7,7,7,8],[8,2,8,6],[8,7,8,8],[9,2,9,6],[9,7,9,8],[10,2,10,6],[10,7,10,8],[11,2,11,6],[11,7,11,8],[12,2,12,6],[12,7,12,8],[13,2,13,6],[13,7,13,8],[14,2,14,6],[14,7,14,8],[15,2,15,6],[15,7,15,8],[16,2,16,6],[16,7,16,8],[17,2,17,6],[17,7,17,8],[18,2,18,6],[18,7,18,8],[19,2,19,6],[19,7,19,8],[20,2,20,6],[20,7,20,8],[21,2,21,6],[21,7,21,8],[22,2,22,6],[22,7,22,8],[23,2,23,6],[23,7,23,8],[24,2,24,6],[24,7,24,8],[25,2,25,6],[25,7,25,8],[26,2,26,6],[26,7,26,8],[27,2,27,6],[27,7,27,8],[28,2,28,6],[28,7,28,8],[29,2,29,6],[29,7,29,8],[30,2,30,6],[30,7,30,8],[31,2,31,6],[31,7,31,8],[32,2,32,6],[32,7,32,8],[33,2,33,6],[33,7,33,8],[34,2,34,6],[34,7,34,8],[35,2,35,6],[35,7,35,8],[36,2,36,6],[36,7,36,8],[37,7,37,8],[38,2,38,6],[38,7,38,8],[65,28,65,29],[67,26,70,26],[67,27,70,27],[67,28,70,28],[67,29,70,29],[67,30,70,30],[67,31,70,31],[67,32,70,32],[67,33,70,33],[67,34,70,34],[67,35,70,35],[67,36,70,36],[67,37,70,37],[67,38,70,38],[67,39,70,39],[67,40,70,40],[67,41,70,41],[67,42,70,42],[67,43,70,43],[67,44,70,44],[67,45,70,45],[67,46,70,46],[67,47,70,47],[67,48,70,48],[67,49,70,49],[67,50,70,50],[67,51,70,51],[67,52,70,52],[67,53,70,53],[67,54,70,54],[67,55,70,55],[67,56,70,56],[67,57,70,57],[67,58,70,58],[67,59,70,59],[67,60,70,60],[67,61,70,61],[71,24,71,25],[84,24,84,45],[85,38,85,41],[86,25,86,36],[86,39,86,45],[87,25,87,36],[87,39,87,45],[88,25,88,36],[88,39,88,45],[89,25,89,36],[89,39,89,45],[90,26,90,33],[90,34,91,45],[92,34,92,45],[93,34,93,39],[93,40,93,45],[94,34,94,39],[94,40,94,45],[95,34,95,39],[95,40,95,45],[96,34,96,39],[96,40,96,45],[97,34,97,39],[97,40,97,45],[98,34,98,39],[98,40,98,45],[99,34,99,39],[99,40,99,45],[100,34,100,39],[100,40,100,45],[101,34,101,39],[101,40,101,45],[102,34,102,39],[102,40,102,45],[103,34,103,39],[103,40,103,45],[104,34,104,39],[104,40,104,45],[105,34,105,39],[105,40,105,45],[106,34,106,39],[106,40,106,45],[107,34,107,39],[107,40,107,45],[108,34,108,39],[108,40,108,45],[109,34,109,39],[109,40,109,45],[110,34,110,39],[110,40,110,45],[111,34,111,39],[111,40,111,45],[112,34,112,39],[112,40,112,45],[113,34,113,39],[113,40,113,45],[114,34,114,39],[114,40,114,45],[115,34,115,39],[115,40,115,45],[116,34,116,39],[116,40,116,45],[117,34,117,39],[117,40,117,45],[118,34,118,39],[118,40,118,45],[119,34,119,39],[119,40,119,45],[120,34,120,39],[120,40,120,45],[121,34,121,39],[121,40,121,45],[122,34,122,39],[122,40,122,45],[123,34,123,39],[123,40,123,45],[124,34,124,39],[124,40,124,45],[125,34,125,39],[125,40,125,45],[126,34,126,39],[126,40,126,45],[127,34,127,39],[127,40,127,45],[129,24,129,36],[130,25,130,36],[130,39,130,45],[131,25,131,36],[131,39,131,45],[132,25,132,36],[132,39,132,45],[133,25,133,36],[133,39,133,45]]}
[{"$nulls":3},"NOM :",{"$nulls":9},"Fond vert = cellules modifiables",{"$nulls":9},"affichage glissant sur 5 semaines"]
[{"$nulls":22},1]
["Cor / Synt","N°",null,{"$f":"\"TECHNOLOGIE  \"&YEAR(H4)&\"  -  \"&YEAR(H4)+1&\"  \"&\n\"    - N° et titre de l'activité\"","v":"TECHNOLOGIE  2018  -  2019      - N° et titre de l'activité"},{"$nulls":7},"Temps / H","Semaine","Mardi",null,"Jeudi",{"$nulls":7},1]
[1,1,{"$nulls":5},{"$f":"IF(M4=\"A\",IF(B4=\"\",\"\",IF($N$3=\"Lundi\",Congés_auto!S39,IF($N$3=\"Mardi\",Congés_auto!T39,IF($N$3=\"Mercredi\",Congés_auto!U39,IF($N$3=\"Jeudi\",Congés_auto!V39,IF($N$3=\"Vendredi\",Congés_auto!W39,IF($N$3=\"Samedi\",Congés_auto!X39,0))))))),IF(B4=\"\",\"\",IF($P$3=\"Lundi\",Congés_auto!S39,IF($P$3=\"Mardi\",Congés_auto!T39,IF($P$3=\"Mercredi\",Congés_auto!U39,IF($P$3=\"Jeudi\",Congés_auto!V39,IF($P$3=\"Vendredi\",Congés_auto!W39,IF($P$3=\"Samedi\",Congés_auto!X39,0))))))))","v":"2018-08-21"},{"$nulls":3},1,"A","GROUPE",1]
[{"$f":"A4+1","v":2},{"$f":"IF(OR($O$4=1,$O$4=2),$AA94,IF(OR($O$4=3,$O$4=4),$AC94,IF(OR($O$4=5,$O$4=6),$AE94,IF(OR($O$4=7,$O$4=8),$AG94,\"\"))))","v":1},{"$nulls":5},{"$f":"IF(M5=\"A\",IF(B5=\"\",\"\",IF($N$3=\"Lundi\",Congés_auto!S40,IF($N$3=\"Mardi\",Congés_auto!T40,IF($N$3=\"Mercredi\",Congés_auto!U40,IF($N$3=\"Jeudi\",Congés_auto!V40,IF($N$3=\"Vendredi\",Congés_auto!W40,IF($N$3=\"Samedi\",Congés_auto!X40,0))))))),IF(B5=\"\",\"\",IF($P$3=\"Lundi\",Congés_auto!S40,IF($P$3=\"Mardi\",Congés_auto!T40,IF($P$3=\"Mercredi\",Congés_auto!U40,IF($P$3=\"Jeudi\",Congés_auto!V40,IF($P$3=\"Vendredi\",Congés_auto!W40,IF($P$3=\"Samedi\",Congés_auto!X40,0))))))))","v":"2018-08-30"},{"$nulls":3},{"$f":"IF(L4=1,2,1)","v":2},{"$f":"IF(M4=\"A\",\"B\",\"A\")","v":"B"}]
[{"$f":"A5+1","v":3},2,{"$nulls":5},{"$f":"IF(M6=\"A\",IF(B6=\"\",\"\",IF($N$3=\"Lundi\",Congés_auto!S41,IF($N$3=\"Mardi\",Congés_auto!T41,IF($N$3=\"Mercredi\",Congés_auto!U41,IF($N$3=\"Jeudi\",Congés_auto!V41,IF($N$3=\"Vendredi\",Congés_auto!W41,IF($N$3=\"Samedi\",Congés_auto!X41,0))))))),IF(B6=\"\",\"\",IF($P$3=\"Lundi\",Congés_auto!S41,IF($P$3=\"Mardi\",Congés_auto!T41,IF($P$3=\"Mercredi\",Congés_auto!U41,IF($P$3=\"Jeudi\",Congés_auto!V41,IF($P$3=\"Vendredi\",Congés_auto!W41,IF($P$3=\"Samedi\",Congés_auto!X41,0))))))))","v":"2018-09-04"},{"$nulls":3},{"$f":"IF(L5=1,2,1)","v":1},{"$f":"IF(M5=\"A\",\"B\",\"A\")","v":"A"}]
[4,2,{"$nulls":5},{"$f":"IF(M7=\"A\",IF(B7=\"\",\"\",IF($N$3=\"Lundi\",Congés_auto!S42,IF($N$3=\"Mardi\",Congés_auto!T42,IF($N$3=\"Mercredi\",Congés_auto!U42,IF($N$3=\"Jeudi\",Congés_auto!V42,IF($N$3=\"Vendredi\",Congés_auto!W42,IF($N$3=\"Samedi\",Congés_auto!X42,0))))))),IF(B7=\"\",\"\",IF($P$3=\"Lundi\",Congés_auto!S42,IF($P$3=\"Mardi\",Congés_auto!T42,IF($P$3=\"Mercredi\",Congés_auto!U42,IF($P$3=\"Jeudi\",Congés_auto!V42,IF($P$3=\"Vendredi\",Congés_auto!W42,IF($P$3=\"Samedi\",Congés_auto!X42,0))))))))","v":"2018-09-13"},{"$nulls":3},2,"B"]
[5,3,{"$nulls":5},{"$f":"IF(M8=\"A\",IF(B8=\"\",\"\",IF($N$3=\"Lundi\",Congés_auto!S43,IF($N$3=\"Mardi\",Congés_auto!T43,IF($N$3=\"Mercredi\",Congés_auto!U43,IF($N$3=\"Jeudi\",Congés_auto!V43,IF($N$3=\"Vendredi\",Congés_auto!W43,IF($N$3=\"Samedi\",Congés_auto!X43,0))))))),IF(B8=\"\",\"\",IF($P$3=\"Lundi\",Congés_auto!S43,IF($P$3=\"Mardi\",Congés_auto!T43,IF($P$3=\"Mercredi\",Congés_auto!U43,IF($P$3=\"Jeudi\",Congés_auto!V43,IF($P$3=\"Vendredi\",Congés_auto!W43,IF($P$3=\"Samedi\",Congés_auto!X43,0))))))))","v":"2018-09-18"},{"$nulls":3},1,"A"]
[6,3,{"$nulls":5},{"$f":"IF(M9=\"A\",IF(B9=\"\",\"\",IF($N$3=\"Lundi\",Congés_auto!S44,IF($N$3=\"Mardi\",Congés_auto!T44,IF($N$3=\"Mercredi\",Congés_auto!U44,IF($N$3=\"Jeudi\",Congés_auto!V44,IF($N$3=\"Vendredi\",Congés_auto!W44,IF($N$3=\"Samedi\",Congés_auto!X44,0))))))),IF(B9=\"\",\"\",IF($P$3=\"Lundi\",Congés_auto!S44,IF($P$3=\"Mardi\",Congés_auto!T44,IF($P$3=\"Mercredi\",Congés_auto!U44,IF($P$3=\"Jeudi\",Congés_auto!V44,IF($P$3=\"Vendredi\",Congés_auto!W44,IF($P$3=\"Samedi\",Congés_auto!X44,0))))))))","v":"2018-09-27"},{"$nulls":3},2,"B"]
[7,4,{"$nulls":5},{"$f":"IF(M10=\"A\",IF(B10=\"\",\"\",IF($N$3=\"Lundi\",Congés_auto!S45,IF($N$3=\"Mardi\",Congés_auto!T45,IF($N$3=\"Mercredi\",Congés_auto!U45,IF($N$3=\"Jeudi\",Congés_auto!V45,IF($N$3=\"Vendredi\",Congés_auto!W45,IF($N$3=\"Samedi\",Congés_auto!X45,0))))))),IF(B10=\"\",\"\",IF($P$3=\"Lundi\",Congés_auto!S45,IF($P$3=\"Mardi\",Congés_auto!T45,IF($P$3=\"Mercredi\",Congés_auto!U45,IF($P$3=\"Jeudi\",Congés_auto!V45,IF($P$3=\"Vendredi\",Congés_auto!W45,IF($P$3=\"Samedi\",Congés_auto!X45,0))))))))","v":"2018-10-02"},{"$nulls":3},1,"A"]
[8,4,{"$nulls":5},{"$f":"IF(M11=\"A\",IF(B11=\"\",\"\",IF($N$3=\"Lundi\",Congés_auto!S46,IF($N$3=\"Mardi\",Congés_auto!T46,IF($N$3=\"Mercredi\",Congés_auto!U46,IF($N$3=\"Jeudi\",Congés_auto!V46,IF($N$3=\"Vendredi\",Congés_auto!W46,IF($N$3=\"Samedi\",Congés_auto!X46,0))))))),IF(B11=\"\",\"\",IF($P$3=\"Lundi\",Congés_auto!S46,IF($P$3=\"Mardi\",Congés_auto!T46,IF($P$3=\"Mercredi\",Congés_auto!U46,IF($P$3=\"Jeudi\",Congés_auto!V46,IF($P$3=\"Vendredi\",Congés_auto!W46,IF($P$3=\"Samedi\",Congés_auto!X46,0))))))))","v":"2018-10-11"},{"$nulls":3},2,"B"]
[9,5,{"$nulls":5},{"$f":"IF(M12=\"A\",IF(B12=\"\",\"\",IF($N$3=\"Lundi\",Congés_auto!S47,IF($N$3=\"Mardi\",Congés_auto!T47,IF($N$3=\"Mercredi\",Congés_auto!U47,IF($N$3=\"Jeudi\",Congés_auto!V47,IF($N$3=\"Vendredi\",Congés_auto!W47,IF($N$3=\"Samedi\",Congés_auto!X47,0))))))),IF(B12=\"\",\"\",IF($P$3=\"Lundi\",Congés_auto!S47,IF($P$3=\"Mardi\",Congés_auto!T47,IF($P$3=\"Mercredi\",Congés_auto!U47,IF($P$3=\"Jeudi\",Congés_auto!V47,IF($P$3=\"Vendredi\",Congés_auto!W47,IF($P$3=\"Samedi\",Congés_auto!X47,0))))))))","v":"2018-10-30"},{"$nulls":3},1,"A"]
[10,5,{"$nulls":5},{"$f":"IF(M13=\"A\",IF(B13=\"\",\"\",IF($N$3=\"Lundi\",Congés_auto!S48,IF($N$3=\"Mardi\",Congés_auto!T48,IF($N$3=\"Mercredi\",Congés_auto!U48,IF($N$3=\"Jeudi\",Congés_auto!V48,IF($N$3=\"Vendredi\",Congés_auto!W48,IF($N$3=\"Samedi\",Congés_auto!X48,0))))))),IF(B13=\"\",\"\",IF($P$3=\"Lundi\",Congés_auto!S48,IF($P$3=\"Mardi\",Congés_auto!T48,IF($P$3=\"Mercredi\",Congés_auto!U48,IF($P$3=\"Jeudi\",Congés_auto!V48,IF($P$3=\"Vendredi\",Congés_auto!W48,IF($P$3=\"Samedi\",Congés_auto!X48,0))))))))","v":"2018-11-15"},{"$nulls":3},2,"B"]
[11,6,{"$nulls":5},{"$f":"IF(M14=\"A\",IF(B14=\"\",\"\",IF($N$3=\"Lundi\",Congés_auto!S49,IF($N$3=\"Mardi\",Congés_auto!T49,IF($N$3=\"Mercredi\",Congés_auto!U49,IF($N$3=\"Jeudi\",Congés_auto!V49,IF($N$3=\"Vendredi\",Congés_auto!W49,IF($N$3=\"Samedi\",Congés_auto!X49,0))))))),IF(B14=\"\",\"\",IF($P$3=\"Lundi\",Congés_auto!S49,IF($P$3=\"Mardi\",Congés_auto!T49,IF($P$3=\"Mercredi\",Congés_auto!U49,IF($P$3=\"Jeudi\",Congés_auto!V49,IF($P$3=\"Vendredi\",Congés_auto!W49,IF($P$3=\"Samedi\",Congés_auto!X49,0))))))))","v":"2018-11-13"},{"$nulls":3},1,"A"]
[12,6,{"$nulls":5},{"$f":"IF(M15=\"A\",IF(B15=\"\",\"\",IF($N$3=\"Lundi\",Congés_auto!S50,IF($N$3=\"Mardi\",Congés_auto!T50,IF($N$3=\"Mercredi\",Congés_auto!U50,IF($N$3=\"Jeudi\",Congés_auto!V50,IF($N$3=\"Vendredi\",Congés_auto!W50,IF($N$3=\"Samedi\",Congés_auto!X50,0))))))),IF(B15=\"\",\"\",IF($P$3=\"Lundi\",Congés_auto!S50,IF($P$3=\"Mardi\",Congés_auto!T50,IF($P$3=\"Mercredi\",Congés_auto!U50,IF($P$3=\"Jeudi\",Congés_auto!V50,IF($P$3=\"Vendredi\",Congés_auto!W50,IF($P$3=\"Samedi\",Congés_auto!X50,0))))))))","v":"2018-11-29"},{"$nulls":3},2,"B"]
[13,7,{"$nulls":5},{"$f":"IF(M16=\"A\",IF(B16=\"\",\"\",IF($N$3=\"Lundi\",Congés_auto!S51,IF($N$3=\"Mardi\",Congés_auto!T51,IF($N$3=\"Mercredi\",Congés_auto!U51,IF($N$3=\"Jeudi\",Congés_auto!V51,IF($N$3=\"Vendredi\",Congés_auto!W51,IF($N$3=\"Samedi\",Congés_auto!X51,0))))))),IF(B16=\"\",\"\",IF($P$3=\"Lundi\",Congés_auto!S51,IF($P$3=\"Mardi\",Congés_auto!T51,IF($P$3=\"Mercredi\",Congés_auto!U51,IF($P$3=\"Jeudi\",Congés_auto!V51,IF($P$3=\"Vendredi\",Congés_auto!W51,IF($P$3=\"Samedi\",Congés_auto!X51,0))))))))","v":"2018-11-27"},{"$nulls":3},1,"A"]
[14,7,{"$nulls":5},{"$f":"IF(M17=\"A\",IF(B17=\"\",\"\",IF($N$3=\"Lundi\",Congés_auto!S52,IF($N$3=\"Mardi\",Congés_auto!T52,IF($N$3=\"Mercredi\",Congés_auto!U52,IF($N$3=\"Jeudi\",Congés_auto!V52,IF($N$3=\"Vendredi\",Congés_auto!W52,IF($N$3=\"Samedi\",Congés_auto!X52,0))))))),IF(B17=\"\",\"\",IF($P$3=\"Lundi\",Congés_auto!S52,IF($P$3=\"Mardi\",Congés_auto!T52,IF($P$3=\"Mercredi\",Congés_auto!U52,IF($P$3=\"Jeudi\",Congés_auto!V52,IF($P$3=\"Vendredi\",Congés_auto!W52,IF($P$3=\"Samedi\",Congés_auto!X52,0))))))))","v":"2018-12-13"},{"$nulls":3},2,"B"]
[15,8,{"$nulls":5},{"$f":"IF(M18=\"A\",IF(B18=\"\",\"\",IF($N$3=\"Lundi\",Congés_auto!S53,IF($N$3=\"Mardi\",Congés_auto!T53,IF($N$3=\"Mercredi\",Congés_auto!U53,IF($N$3=\"Jeudi\",Congés_auto!V53,IF($N$3=\"Vendredi\",Congés_auto!W53,IF($N$3=\"Samedi\",Congés_auto!X53,0))))))),IF(B18=\"\",\"\",IF($P$3=\"Lundi\",Congés_auto!S53,IF($P$3=\"Mardi\",Congés_auto!T53,IF($P$3=\"Mercredi\",Congés_auto!U53,IF($P$3=\"Jeudi\",Congés_auto!V53,IF($P$3=\"Vendredi\",Congés_auto!W53,IF($P$3=\"Samedi\",Congés_auto!X53,0))))))))","v":"2018-12-11"},{"$nulls":3},1,"A"]
[16,8,{"$nulls":5},{"$f":"IF(M19=\"A\",IF(B19=\"\",\"\",IF($N$3=\"Lundi\",Congés_auto!S54,IF($N$3=\"Mardi\",Congés_auto!T54,IF($N$3=\"Mercredi\",Congés_auto!U54,IF($N$3=\"Jeudi\",Congés_auto!V54,IF($N$3=\"Vendredi\",Congés_auto!W54,IF($N$3=\"Samedi\",Congés_auto!X54,0))))))),IF(B19=\"\",\"\",IF($P$3=\"Lundi\",Congés_auto!S54,IF($P$3=\"Mardi\",Congés_auto!T54,IF($P$3=\"Mercredi\",Congés_auto!U54,IF($P$3=\"Jeudi\",Congés_auto!V54,IF($P$3=\"Vendredi\",Congés_auto!W54,IF($P$3=\"Samedi\",Congés_auto!X54,0))))))))","v":"2019-02-07"},{"$nulls":3},2,"B"]
[17,9,{"$nulls":5},{"$f":"IF(M20=\"A\",IF(B20=\"\",\"\",IF($N$3=\"Lundi\",Congés_auto!S55,IF($N$3=\"Mardi\",Congés_auto!T55,IF($N$3=\"Mercredi\",Congés_auto!U55,IF($N$3=\"Jeudi\",Congés_auto!V55,IF($N$3=\"Vendredi\",Congés_auto!W55,IF($N$3=\"Samedi\",Congés_auto!X55,0))))))),IF(B20=\"\",\"\",IF($P$3=\"Lundi\",Congés_auto!S55,IF($P$3=\"Mardi\",Congés_auto!T55,IF($P$3=\"Mercredi\",Congés_auto!U55,IF($P$3=\"Jeudi\",Congés_auto!V55,IF($P$3=\"Vendredi\",Congés_auto!W55,IF($P$3=\"Samedi\",Congés_auto!X55,0))))))))","v":"2019-01-29"},{"$nulls":3},1,"A"]
[18,9,{"$nulls":5},{"$f":"IF(M21=\"A\",IF(B21=\"\",\"\",IF($N$3=\"Lundi\",Congés_auto!S56,IF($N$3=\"Mardi\",Congés_auto!T56,IF($N$3=\"Mercredi\",Congés_auto!U56,IF($N$3=\"Jeudi\",Congés_auto!V56,IF($N$3=\"Vendredi\",Congés_auto!W56,IF($N$3=\"Samedi\",Congés_auto!X56,0))))))),IF(B21=\"\",\"\",IF($P$3=\"Lundi\",Congés_auto!S56,IF($P$3=\"Mardi\",Congés_auto!T56,IF($P$3=\"Mercredi\",Congés_auto!U56,IF($P$3=\"Jeudi\",Congés_auto!V56,IF($P$3=\"Vendredi\",Congés_auto!W56,IF($P$3=\"Samedi\",Congés_auto!X56,0))))))))","v":"2019-02-21"},{"$nulls":3},2,"B"]
[19,10,{"$nulls":5},{"$f":"IF(M22=\"A\",IF(B22=\"\",\"\",IF($N$3=\"Lundi\",Congés_auto!S57,IF($N$3=\"Mardi\",Congés_auto!T57,IF($N$3=\"Mercredi\",Congés_auto!U57,IF($N$3=\"Jeudi\",Congés_auto!V57,IF($N$3=\"Vendredi\",Congés_auto!W57,IF($N$3=\"Samedi\",Congés_auto!X57,0))))))),IF(B22=\"\",\"\",IF($P$3=\"Lundi\",Congés_auto!S57,IF($P$3=\"Mardi\",Congés_auto!T57,IF($P$3=\"Mercredi\",Congés_auto!U57,IF($P$3=\"Jeudi\",Congés_auto!V57,IF($P$3=\"Vendredi\",Congés_auto!W57,IF($P$3=\"Samedi\",Congés_auto!X57,0))))))))","v":"2019-02-12"},{"$nulls":3},1,"A"]
[20,10,{"$nulls":5},{"$f":"IF(M23=\"A\",IF(B23=\"\",\"\",IF($N$3=\"Lundi\",Congés_auto!S58,IF($N$3=\"Mardi\",Congés_auto!T58,IF($N$3=\"Mercredi\",Congés_auto!U58,IF($N$3=\"Jeudi\",Congés_auto!V58,IF($N$3=\"Vendredi\",Congés_auto!W58,IF($N$3=\"Samedi\",Congés_auto!X58,0))))))),IF(B23=\"\",\"\",IF($P$3=\"Lundi\",Congés_auto!S58,IF($P$3=\"Mardi\",Congés_auto!T58,IF($P$3=\"Mercredi\",Congés_auto!U58,IF($P$3=\"Jeudi\",Congés_auto!V58,IF($P$3=\"Vendredi\",Congés_auto!W58,IF($P$3=\"Samedi\",Congés_auto!X58,0))))))))","v":"2019-03-07"},{"$nulls":3},2,"B"]
[21,11,{"$nulls":5},{"$f":"IF(M24=\"A\",IF(B24=\"\",\"\",IF($N$3=\"Lundi\",Congés_auto!S59,IF($N$3=\"Mardi\",Congés_auto!T59,IF($N$3=\"Mercredi\",Congés_auto!U59,IF($N$3=\"Jeudi\",Congés_auto!V59,IF($N$3=\"Vendredi\",Congés_auto!W59,IF($N$3=\"Samedi\",Congés_auto!X59,0))))))),IF(B24=\"\",\"\",IF($P$3=\"Lundi\",Congés_auto!S59,IF($P$3=\"Mardi\",Congés_auto!T59,IF($P$3=\"Mercredi\",Congés_auto!U59,IF($P$3=\"Jeudi\",Congés_auto!V59,IF($P$3=\"Vendredi\",Congés_auto!W59,IF($P$3=\"Samedi\",Congés_auto!X59,0))))))))","v":"2019-02-26"},{"$nulls":3},1,"A"]
[22,11,{"$nulls":5},{"$f":"IF(M25=\"A\",IF(B25=\"\",\"\",IF($N$3=\"Lundi\",Congés_auto!S60,IF($N$3=\"Mardi\",Congés_auto!T60,IF($N$3=\"Mercredi\",Congés_auto!U60,IF($N$3=\"Jeudi\",Congés_auto!V60,IF($N$3=\"Vendredi\",Congés_auto!W60,IF($N$3=\"Samedi\",Congés_auto!X60,0))))))),IF(B25=\"\",\"\",IF($P$3=\"Lundi\",Congés_auto!S60,IF($P$3=\"Mardi\",Congés_auto!T60,IF($P$3=\"Mercredi\",Congés_auto!U60,IF($P$3=\"Jeudi\",Congés_auto!V60,IF($P$3=\"Vendredi\",Congés_auto!W60,IF($P$3=\"Samedi\",Congés_auto!X60,0))))))))","v":"2019-04-04"},{"$nulls":3},2,"B"]
[23,12,{"$nulls":5},{"$f":"IF(M26=\"A\",IF(B26=\"\",\"\",IF($N$3=\"Lundi\",Congés_auto!S61,IF($N$3=\"Mardi\",Congés_auto!T61,IF($N$3=\"Mercredi\",Congés_auto!U61,IF($N$3=\"Jeudi\",Congés_auto!V61,IF($N$3=\"Vendredi\",Congés_auto!W61,IF($N$3=\"Samedi\",Congés_auto!X61,0))))))),IF(B26=\"\",\"\",IF($P$3=\"Lundi\",Congés_auto!S61,IF($P$3=\"Mardi\",Congés_auto!T61,IF($P$3=\"Mercredi\",Congés_auto!U61,IF($P$3=\"Jeudi\",Congés_auto!V61,IF($P$3=\"Vendredi\",Congés_auto!W61,IF($P$3=\"Samedi\",Congés_auto!X61,0))))))))","v":"2019-03-26"},{"$nulls":3},1,"A"]
[24,12,{"$nulls":5},{"$f":"IF(M27=\"A\",IF(B27=\"\",\"\",IF($N$3=\"Lundi\",Congés_auto!S62,IF($N$3=\"Mardi\",Congés_auto!T62,IF($N$3=\"Mercredi\",Congés_auto!U62,IF($N$3=\"Jeudi\",Congés_auto!V62,IF($N$3=\"Vendredi\",Congés_auto!W62,IF($N$3=\"Samedi\",Congés_auto!X62,0))))))),IF(B27=\"\",\"\",IF($P$3=\"Lundi\",Congés_auto!S62,IF($P$3=\"Mardi\",Congés_auto!T62,IF($P$3=\"Mercredi\",Congés_auto!U62,IF($P$3=\"Jeudi\",Congés_auto!V62,IF($P$3=\"Vendredi\",Congés_auto!W62,IF($P$3=\"Samedi\",Congés_auto!X62,0))))))))","v":"2019-04-18"},{"$nulls":3},2,"B"]
[25,13,{"$nulls":5},{"$f":"IF(M28=\"A\",IF(B28=\"\",\"\",IF($N$3=\"Lundi\",Congés_auto!S63,IF($N$3=\"Mardi\",Congés_auto!T63,IF($N$3=\"Mercredi\",Congés_auto!U63,IF($N$3=\"Jeudi\",Congés_auto!V63,IF($N$3=\"Vendredi\",Congés_auto!W63,IF($N$3=\"Samedi\",Congés_auto!X63,0))))))),IF(B28=\"\",\"\",IF($P$3=\"Lundi\",Congés_auto!S63,IF($P$3=\"Mardi\",Congés_auto!T63,IF($P$3=\"Mercredi\",Congés_auto!U63,IF($P$3=\"Jeudi\",Congés_auto!V63,IF($P$3=\"Vendredi\",Congés_auto!W63,IF($P$3=\"Samedi\",Congés_auto!X63,0))))))))","v":"2019-04-09"},{"$nulls":3},1,"A"]
[26,13,{"$nulls":5},{"$f":"IF(M29=\"A\",IF(B29=\"\",\"\",IF($N$3=\"Lundi\",Congés_auto!S64,IF($N$3=\"Mardi\",Congés_auto!T64,IF($N$3=\"Mercredi\",Congés_auto!U64,IF($N$3=\"Jeudi\",Congés_auto!V64,IF($N$3=\"Vendredi\",Congés_auto!W64,IF($N$3=\"Samedi\",Congés_auto!X64,0))))))),IF(B29=\"\",\"\",IF($P$3=\"Lundi\",Congés_auto!S64,IF($P$3=\"Mardi\",Congés_auto!T64,IF($P$3=\"Mercredi\",Congés_auto!U64,IF($P$3=\"Jeudi\",Congés_auto!V64,IF($P$3=\"Vendredi\",Congés_auto!W64,IF($P$3=\"Samedi\",Congés_auto!X64,0))))))))","v":"2019-05-02"},{"$nulls":3},2,"B"]
[27,14,{"$nulls":5},{"$f":"IF(M30=\"A\",IF(B30=\"\",\"\",IF($N$3=\"Lundi\",Congés_auto!S65,IF($N$3=\"Mardi\",Congés_auto!T65,IF($N$3=\"Mercredi\",Congés_auto!U65,IF($N$3=\"Jeudi\",Congés_auto!V65,IF($N$3=\"Vendredi\",Congés_auto!W65,IF($N$3=\"Samedi\",Congés_auto!X65,0))))))),IF(B30=\"\",\"\",IF($P$3=\"Lundi\",Congés_auto!S65,IF($P$3=\"Mardi\",Congés_auto!T65,IF($P$3=\"Mercredi\",Congés_auto!U65,IF($P$3=\"Jeudi\",Congés_auto!V65,IF($P$3=\"Vendredi\",Congés_auto!W65,IF($P$3=\"Samedi\",Congés_auto!X65,0))))))))","v":"2019-04-23"},{"$nulls":3},1,"A"]
[28,14,{"$nulls":5},{"$f":"IF(M31=\"A\",IF(B31=\"\",\"\",IF($N$3=\"Lundi\",Congés_auto!S66,IF($N$3=\"Mardi\",Congés_auto!T66,IF($N$3=\"Mercredi\",Congés_auto!U66,IF($N$3=\"Jeudi\",Congés_auto!V66,IF($N$3=\"Vendredi\",Congés_auto!W66,IF($N$3=\"Samedi\",Congés_auto!X66,0))))))),IF(B31=\"\",\"\",IF($P$3=\"Lundi\",Congés_auto!S66,IF($P$3=\"Mardi\",Congés_auto!T66,IF($P$3=\"Mercredi\",Congés_auto!U66,IF($P$3=\"Jeudi\",Congés_auto!V66,IF($P$3=\"Vendredi\",Congés_auto!W66,IF($P$3=\"Samedi\",Congés_auto!X66,0))))))))","v":"2019-06-06"},{"$nulls":3},2,"B"]
[29,15,{"$nulls":5},{"$f":"IF(M32=\"A\",IF(B32=\"\",\"\",IF($N$3=\"Lundi\",Congés_auto!S67,IF($N$3=\"Mardi\",Congés_auto!T67,IF($N$3=\"Mercredi\",Congés_auto!U67,IF($N$3=\"Jeudi\",Congés_auto!V67,IF($N$3=\"Vendredi\",Congés_auto!W67,IF($N$3=\"Samedi\",Congés_auto!X67,0))))))),IF(B32=\"\",\"\",IF($P$3=\"Lundi\",Congés_auto!S67,IF($P$3=\"Mardi\",Congés_auto!T67,IF($P$3=\"Mercredi\",Congés_auto!U67,IF($P$3=\"Jeudi\",Congés_auto!V67,IF($P$3=\"Vendredi\",Congés_auto!W67,IF($P$3=\"Samedi\",Congés_auto!X67,0))))))))","v":"2019-05-21"},{"$nulls":3},1,"A"]
[30,15,{"$nulls":5},{"$f":"IF(M33=\"A\",IF(B33=\"\",\"\",IF($N$3=\"Lundi\",Congés_auto!S68,IF($N$3=\"Mardi\",Congés_auto!T68,IF($N$3=\"Mercredi\",Congés_auto!U68,IF($N$3=\"Jeudi\",Congés_auto!V68,IF($N$3=\"Vendredi\",Congés_auto!W68,IF($N$3=\"Samedi\",Congés_auto!X68,0))))))),IF(B33=\"\",\"\",IF($P$3=\"Lundi\",Congés_auto!S68,IF($P$3=\"Mardi\",Congés_auto!T68,IF($P$3=\"Mercredi\",Congés_auto!U68,IF($P$3=\"Jeudi\",Congés_auto!V68,IF($P$3=\"Vendredi\",Congés_auto!W68,IF($P$3=\"Samedi\",Congés_auto!X68,0))))))))","v":"2019-06-20"},{"$nulls":3},2,"B"]
[31,16,{"$nulls":5},{"$f":"IF(M34=\"A\",IF(B34=\"\",\"\",IF($N$3=\"Lundi\",Congés_auto!S69,IF($N$3=\"Mardi\",Congés_auto!T69,IF($N$3=\"Mercredi\",Congés_auto!U69,IF($N$3=\"Jeudi\",Congés_auto!V69,IF($N$3=\"Vendredi\",Congés_auto!W69,IF($N$3=\"Samedi\",Congés_auto!X69,0))))))),IF(B34=\"\",\"\",IF($P$3=\"Lundi\",Congés_auto!S69,IF($P$3=\"Mardi\",Congés_auto!T69,IF($P$3=\"Mercredi\",Congés_auto!U69,IF($P$3=\"Jeudi\",Congés_auto!V69,IF($P$3=\"Vendredi\",Congés_auto!W69,IF($P$3=\"Samedi\",Congés_auto!X69,0))))))))","v":"2019-06-04"},{"$nulls":3},1,"A"]
[32,16,{"$nulls":5},{"$f":"IF(M35=\"A\",IF(B35=\"\",\"\",IF($N$3=\"Lundi\",Congés_auto!S70,IF($N$3=\"Mardi\",Congés_auto!T70,IF($N$3=\"Mercredi\",Congés_auto!U70,IF($N$3=\"Jeudi\",Congés_auto!V70,IF($N$3=\"Vendredi\",Congés_auto!W70,IF($N$3=\"Samedi\",Congés_auto!X70,0))))))),IF(B35=\"\",\"\",IF($P$3=\"Lundi\",Congés_auto!S70,IF($P$3=\"Mardi\",Congés_auto!T70,IF($P$3=\"Mercredi\",Congés_auto!U70,IF($P$3=\"Jeudi\",Congés_auto!V70,IF($P$3=\"Vendredi\",Congés_auto!W70,IF($P$3=\"Samedi\",Congés_auto!X70,0))))))))","v":"2019-07-04"},{"$nulls":3},2,"B"]
[33,17,{"$nulls":5},{"$f":"IF(M36=\"A\",IF(B36=\"\",\"\",IF($N$3=\"Lundi\",Congés_auto!S71,IF($N$3=\"Mardi\",Congés_auto!T71,IF($N$3=\"Mercredi\",Congés_auto!U71,IF($N$3=\"Jeudi\",Congés_auto!V71,IF($N$3=\"Vendredi\",Congés_auto!W71,IF($N$3=\"Samedi\",Congés_auto!X71,0))))))),IF(B36=\"\",\"\",IF($P$3=\"Lundi\",Congés_auto!S71,IF($P$3=\"Mardi\",Congés_auto!T71,IF($P$3=\"Mercredi\",Congés_auto!U71,IF($P$3=\"Jeudi\",Congés_auto!V71,IF($P$3=\"Vendredi\",Congés_auto!W71,IF($P$3=\"Samedi\",Congés_auto!X71,0))))))))","v":"2019-06-18"},{"$nulls":3},1,"A"]
[34,17,{"$nulls":5},{"$f":"IF(M37=\"A\",IF(B37=\"\",\"\",IF($N$3=\"Lundi\",Congés_auto!S72,IF($N$3=\"Mardi\",Congés_auto!T72,IF($N$3=\"Mercredi\",Congés_auto!U72,IF($N$3=\"Jeudi\",Congés_auto!V72,IF($N$3=\"Vendredi\",Congés_auto!W72,IF($N$3=\"Samedi\",Congés_auto!X72,0))))))),IF(B37=\"\",\"\",IF($P$3=\"Lundi\",Congés_auto!S72,IF($P$3=\"Mardi\",Congés_auto!T72,IF($P$3=\"Mercredi\",Congés_auto!U72,IF($P$3=\"Jeudi\",Congés_auto!V72,IF($P$3=\"Vendredi\",Congés_auto!W72,IF($P$3=\"Samedi\",Congés_auto!X72,0))))))))","v":""},{"$nulls":3},2,"B"]
[35,{"$f":"IF(OR($O$4=1,$O$4=2),$AA127,IF(OR($O$4=3,$O$4=4),$AC127,IF(OR($O$4=5,$O$4=6),$AE127,IF(OR($O$4=7,$O$4=8),$AG127,\"\"))))","v":18},{"$nulls":9},1,"A"]
[36,18,{"$nulls":5},{"$f":"IF(M39=\"A\",IF(B39=\"\",\"\",IF($N$3=\"Lundi\",Congés_auto!S74,IF($N$3=\"Mardi\",Congés_auto!T74,IF($N$3=\"Mercredi\",Congés_auto!U74,IF($N$3=\"Jeudi\",Congés_auto!V74,IF($N$3=\"Vendredi\",Congés_auto!W74,IF($N$3=\"Samedi\",Congés_auto!X74,0))))))),IF(B39=\"\",\"\",IF($P$3=\"Lundi\",Congés_auto!S74,IF($P$3=\"Mardi\",Congés_auto!T74,IF($P$3=\"Mercredi\",Congés_auto!U74,IF($P$3=\"Jeudi\",Congés_auto!V74,IF($P$3=\"Vendredi\",Congés_auto!W74,IF($P$3=\"Samedi\",Congés_auto!X74,0))))))))","v":""},{"$nulls":3},2,"B"]
[]
[]
[null,null,"Binôme avec :"]
{"$rows_empty":22}
[{"$nulls":28},"Modifier u2 et w2 - Planning pour 8 ou 6 grp",{"$nulls":6},"Sem B 2h",null,"NON"]
[{"$nulls":27},"Planning",{"$f":"T1","v":0},null,null,{"$f":"N3","v":"Mardi"},{"$nulls":10},0]
[]
[{"$nulls":26},{"$f":"Z93","v":"2018-08-21"},{"$f":"OFFSET($Z$93,AA73,0)","v":"2018-08-30"},{"$f":"OFFSET($Z$93,AB73,0)","v":"2018-09-04"},"2018-09-13","2018-09-18","2018-09-27","2018-10-02","2018-10-11","2018-10-30","2018-11-15","2018-11-13","2018-11-29","2018-11-27","2018-12-13","2018-12-11","2019-02-07","2019-01-29","2019-02-21","2019-03-07","2019-02-26","2019-04-04","2019-03-26","2019-04-18","2019-04-09","2019-05-02","2019-04-23","2019-06-06","2019-05-21","2019-06-20","2019-06-04","2019-07-04","2019-06-18","","00:00:00","","00:00:00"]
[]
[]
[]
[{"$nulls":24},"Temps",null,2,2,2,2,2,2,2,2,2,2,2,2,2,2,2,2,2,2,2,2,2,2,2,2,2,2,2,2,2,2,2,2,2,2,2,2]
[{"$nulls":25},"Semaine",1,{"$f":"AA73+1","v":2},{"$f":"AB73+1","v":3},4,5,6,7,8,9,10,11,12,13,14,15,16,17,18,{"$f":"AR73+1","v":19},{"$f":"AS73+1","v":20},21,22,23,24,25,26,27,28,29,30,31,32,33,34,35,36]
[{"$nulls":25},"Grp  1",1,1,{"$f":"AA74+1","v":2},{"$f":"AB74+1","v":2},3,3,4,4,5,5,6,6,7,7,8,8,9,9,10,{"$f":"AR74+1","v":10},11,11,12,12,13,13,14,14,15,15,16,16,17,17,18,{"$f":"BH74+1","v":18}]
[{"$nulls":25},"Grp  2",1,1,{"$f":"AA75+1","v":2},2,3,3,4,4,5,5,6,6,7,7,8,8,9,9,10,10,11,11,12,12,13,13,14,14,15,15,16,16,17,17,18,18]
[{"$nulls":23},"FREQUENCE(A1:A30;{1,8;2,7})",null,"Grp  3",1,1,2,2,3,3,4,4,5,5,6,6,7,7,8,8,9,9,10,10,11,11,12,12,13,13,14,14,15,15,16,16,17,17,18,18]
[{"$nulls":25},"Grp  4",1,2,2,3,3,4,4,5,5,6,6,7,7,8,8,9,9,10,10,11,11,12,12,13,13,14,14,15,15,16,16,17,17,18,18,19]
[{"$nulls":25},"Grp  5",1,2,2,3,3,4,4,5,5,6,6,7,7,8,8,9,9,10,10,11,11,12,12,13,13,14,14,15,15,16,16,17,17,18,18,19]
[{"$nulls":25},"Grp  6",1,2,2,3,3,4,4,5,5,6,6,7,7,8,8,9,9,10,10,11,11,12,12,13,13,14,14,15,15,16,16,17,17,18,18,19]
[{"$nulls":25},"Grp  7",1,2,2,3,3,4,4,5,5,6,6,7,7,8,8,9,9,10,10,11,11,12,12,13,13,14,14,15,15,16,16,17,17,18,18,19]
[{"$nulls":25},"Grp  8",1,2,2,3,3,4,4,5,5,6,6,7,7,8,8,9,9,10,10,11,11,12,12,13,13,14,14,15,15,16,16,17,17,18,18,19]
[{"$nulls":33},"DT1 --> 0,5 h",{"$nulls":6},"DT2 --> 1 h"]
[{"$nulls":33},"Travail noté"]
[]
[{"$nulls":23},{"$f":"CONCATENATE(AJ86,Y87)","v":"01"},"Les groupes"]
[{"$nulls":30},{"$f":"IF(LEFT(T1,1)=\"3\",\"Troisième\",IF(LEFT(T1,1)=\"4\",\"Quatrième\",IF(LEFT(T1,1)=\"5\",\"Cinquiéme\",\"Sixième\")))","v":"Sixième"},{"$nulls":4},{"$f":"T1","v":0},null,null,{"$f":"N3","v":"Mardi"},{"$nulls":4},{"$f":"O3","v":0}]
[{"$nulls":17},{"$error":"#N/A"},{"$error":"#N/A"},{"$error":"#N/A"},{"$error":"#N/A"},{"$error":"#N/A"},1,null,1,{"$f":"IF(ISNA(R87),\"\",R87)&\"  --  \"&IF(ISNA(S87),\"\",S87)&\" --  \"&IF(ISNA(T87),\"\",T87)&\" --  \"&IF(ISNA(U87),\"\",U87)&\"  --  \"&IF(ISNA(V87),\"\",V87)","v":"  --   --   --    --  "},{"$nulls":12},5,{"$f":"IF(ISNA(R91),\"\",R91)&\"  --  \"&IF(ISNA(S91),\"\",S91)&\" --  \"&IF(ISNA(T91),\"\",T91)&\" --  \"&IF(ISNA(U91),\"\",U91)&\"  --  \"&IF(ISNA(V91),\"\",V91)","v":"  --   --   --    --  "}]
[{"$nulls":17},{"$error":"#N/A"},{"$error":"#N/A"},{"$error":"#N/A"},{"$error":"#N/A"},{"$error":"#N/A"},2,null,2,{"$f":"IF(ISNA(R88),\"\",R88)&\"  --  \"&IF(ISNA(S88),\"\",S88)&\" --  \"&IF(ISNA(T88),\"\",T88)&\" --  \"&IF(ISNA(U88),\"\",U88)&\"  --  \"&IF(ISNA(V88),\"\",V88)","v":"  --   --   --    --  "},{"$nulls":12},6,{"$f":"IF(ISNA(R92),\"\",R92)&\"  --  \"&IF(ISNA(S92),\"\",S92)&\" --  \"&IF(ISNA(T92),\"\",T92)&\" --  \"&IF(ISNA(U92),\"\",U92)&\"  --  \"&IF(ISNA(V92),\"\",V92)","v":"  --   --   --    --  "}]
[{"$nulls":17},{"$error":"#N/A"},{"$error":"#N/A"},{"$error":"#N/A"},{"$error":"#N/A"},{"$error":"#N/A"},3,null,3,{"$f":"IF(ISNA(R89),\"\",R89)&\"  --  \"&IF(ISNA(S89),\"\",S89)&\" --  \"&IF(ISNA(T89),\"\",T89)&\" --  \"&IF(ISNA(U89),\"\",U89)&\"  --  \"&IF(ISNA(V89),\"\",V89)","v":"  --   --   --    --  "},{"$nulls":12},7,{"$f":"IF(ISNA(R93),\"\",R93)&\"  --  \"&IF(ISNA(S93),\"\",S93)&\" --  \"&IF(ISNA(T93),\"\",T93)&\" --  \"&IF(ISNA(U93),\"\",U93)&\"  --  \"&IF(ISNA(V93),\"\",V93)","v":"  --   --   --    --  "}]
[{"$nulls":17},{"$error":"#N/A"},{"$error":"#N/A"},{"$error":"#N/A"},{"$error":"#N/A"},{"$error":"#N/A"},4,null,4,{"$f":"IF(ISNA(R90),\"\",R90)&\"  --  \"&IF(ISNA(S90),\"\",S90)&\" --  \"&IF(ISNA(T90),\"\",T90)&\" --  \"&IF(ISNA(U90),\"\",U90)&\"  --  \"&IF(ISNA(V90),\"\",V90)","v":"  --   --   --    --  "},{"$nulls":12},8,{"$f":"IF(ISNA(R94),\"\",R94)&\"  --  \"&IF(ISNA(S94),\"\",S94)&\" --  \"&IF(ISNA(T94),\"\",T94)&\" --  \"&IF(ISNA(U94),\"\",U94)&\"  --  \"&IF(ISNA(V94),\"\",V94)","v":"  --   --   --    --  "}]
[{"$nulls":17},{"$error":"#N/A"},{"$error":"#N/A"},{"$error":"#N/A"},{"$error":"#N/A"},{"$error":"#N/A"},5,{"$nulls":3},"Groupe et N° activité",{"$nulls":7},"Les activités par groupes"]
[{"$nulls":17},{"$error":"#N/A"},{"$error":"#N/A"},{"$error":"#N/A"},{"$error":"#N/A"},{"$error":"#N/A"},null,null,"N° Sem",{"$f":"TEXT(Z93,\"jjjj\")","v":"jjjj"},"G 1","G2","G3","G4","G5","G6","G7","G8"]
[{"$nulls":17},{"$error":"#N/A"},{"$error":"#N/A"},{"$error":"#N/A"},{"$error":"#N/A"},{"$error":"#N/A"},null,null,1,{"$f":"H4","v":"2018-08-21"},{"$f":"AA74","v":1},{"$f":"AA75","v":1},{"$f":"AA76","v":1},{"$f":"AA77","v":1},{"$f":"AA78","v":1},{"$f":"AA79","v":1},{"$f":"AA80","v":1},{"$f":"AA81","v":1},"Accueil - organisation - rotation et planning  - Départ de l' activité \" Présentation du classeur\"",{"$nulls":11},1]
[{"$nulls":17},{"$error":"#N/A"},{"$error":"#N/A"},{"$error":"#N/A"},{"$error":"#N/A"},{"$error":"#N/A"},null,null,{"$f":"Y93+1","v":2},{"$f":"H5","v":"2018-08-30"},{"$f":"IF(OFFSET($AA$74,0,$Y93)=41,\"\",OFFSET($AA$74,0,$Y93))","v":1},{"$f":"IF(OFFSET($AA$74,$Y$93,$Y93)=41,\"\",OFFSET($AA$74,$Y$93,$Y93))","v":1},{"$f":"IF(OFFSET($AA$74,$Y$94,$Y93)=41,\"\",OFFSET($AA$74,$Y$94,$Y93))","v":1},{"$f":"IF(OFFSET($AA$74,$Y$95,$Y93)=41,\"\",OFFSET($AA$74,$Y$95,$Y93))","v":2},{"$f":"IF(OFFSET($AA$74,$Y$96,$Y93)=41,\"\",OFFSET($AA$74,$Y$96,$Y93))","v":2},{"$f":"IF(OFFSET($AA$74,$Y$97,$Y93)=41,\"\",OFFSET($AA$74,$Y$97,$Y93))","v":2},{"$f":"IF(OFFSET($AA$74,$Y$98,$Y93)=41,\"\",OFFSET($AA$74,$Y$98,$Y93))","v":2},{"$f":"IF(OFFSET($AA$74,$Y$99,$Y93)=41,\"\",OFFSET($AA$74,$Y$99,$Y93))","v":2},{"$error":"#VALUE!"},{"$nulls":5},{"$error":"#VALUE!"},{"$nulls":5},{"$f":"AU93+1","v":2}]
[{"$nulls":17},{"$error":"#N/A"},{"$error":"#N/A"},{"$error":"#N/A"},{"$error":"#N/A"},{"$error":"#N/A"},null,null,{"$f":"Y94+1","v":3},"2018-09-04",{"$f":"IF(OFFSET($AA$74,0,$Y94)=41,\"\",OFFSET($AA$74,0,$Y94))","v":2},{"$f":"IF(OFFSET($AA$74,$Y$93,$Y94)=41,\"\",OFFSET($AA$74,$Y$93,$Y94))","v":2},{"$f":"IF(OFFSET($AA$74,$Y$94,$Y94)=41,\"\",OFFSET($AA$74,$Y$94,$Y94))","v":2},{"$f":"IF(OFFSET($AA$74,$Y$95,$Y94)=41,\"\",OFFSET($AA$74,$Y$95,$Y94))","v":2},{"$f":"IF(OFFSET($AA$74,$Y$96,$Y94)=41,\"\",OFFSET($AA$74,$Y$96,$Y94))","v":2},{"$f":"IF(OFFSET($AA$74,$Y$97,$Y94)=41,\"\",OFFSET($AA$74,$Y$97,$Y94))","v":2},{"$f":"IF(OFFSET($AA$74,$Y$98,$Y94)=41,\"\",OFFSET($AA$74,$Y$98,$Y94))","v":2},{"$f":"IF(OFFSET($AA$74,$Y$99,$Y94)=41,\"\",OFFSET($AA$74,$Y$99,$Y94))","v":2},{"$error":"#VALUE!"},{"$nulls":5},{"$error":"#VALUE!"},{"$nulls":5},{"$f":"AU94+1","v":3}]
[{"$nulls":24},4,"2018-09-13",2,2,2,3,3,3,3,3,{"$error":"#VALUE!"},{"$nulls":5},{"$error":"#VALUE!"},{"$nulls":5},4]
[{"$nulls":24},5,"2018-09-18",3,3,3,3,3,3,3,3,{"$error":"#VALUE!"},{"$nulls":5},{"$error":"#VALUE!"},{"$nulls":5},5]
[{"$nulls":24},6,"2018-09-27",3,3,3,4,4,4,4,4,{"$error":"#VALUE!"},{"$nulls":5},{"$error":"#VALUE!"},{"$nulls":5},6]
[{"$nulls":24},7,"2018-10-02",4,4,4,4,4,4,4,4,{"$error":"#VALUE!"},{"$nulls":5},{"$error":"#VALUE!"},{"$nulls":5},7]
[{"$nulls":24},8,"2018-10-11",4,4,4,5,5,5,5,5,{"$error":"#VALUE!"},{"$nulls":5},{"$error":"#VALUE!"},{"$nulls":5},8]
[{"$nulls":24},9,"2018-10-30",5,5,5,5,5,5,5,5,{"$error":"#VALUE!"},{"$nulls":5},{"$error":"#VALUE!"},{"$nulls":5},9]
[{"$nulls":24},10,"2018-11-15",5,5,5,6,6,6,6,6,{"$error":"#VALUE!"},{"$nulls":5},{"$error":"#VALUE!"},{"$nulls":5},10]
[{"$nulls":24},11,"2018-11-13",6,6,6,6,6,6,6,6,{"$error":"#VALUE!"},{"$nulls":5},{"$error":"#VALUE!"},{"$nulls":5},11]
[{"$nulls":24},12,"2018-11-29",6,6,6,7,7,7,7,7,{"$error":"#VALUE!"},{"$nulls":5},{"$error":"#VALUE!"},{"$nulls":5},12]
[{"$nulls":24},13,"2018-11-27",7,7,7,7,7,7,7,7,{"$error":"#VALUE!"},{"$nulls":5},{"$error":"#VALUE!"},{"$nulls":5},13]
[{"$nulls":24},14,"2018-12-13",7,7,7,8,8,8,8,8,{"$error":"#VALUE!"},{"$nulls":5},{"$error":"#VALUE!"},{"$nulls":5},14]
[{"$nulls":24},15,"2018-12-11",8,8,8,8,8,8,8,8,{"$error":"#VALUE!"},{"$nulls":5},{"$error":"#VALUE!"},{"$nulls":5},15]
[{"$nulls":24},16,"2019-02-07",8,8,8,9,9,9,9,9,{"$error":"#VALUE!"},{"$nulls":5},{"$error":"#VALUE!"},{"$nulls":5},16]
[{"$nulls":24},17,"2019-01-29",9,9,9,9,9,9,9,9,{"$error":"#VALUE!"},{"$nulls":5},{"$error":"#VALUE!"},{"$nulls":5},17]
[{"$nulls":24},18,"2019-02-21",9,9,9,10,10,10,10,10,{"$error":"#VALUE!"},{"$nulls":5},{"$error":"#VALUE!"},{"$nulls":5},18]
[{"$nulls":24},19,{"$f":"H23","v":"2019-03-07"},10,10,10,10,10,10,10,10,{"$error":"#VALUE!"},{"$nulls":5},{"$error":"#VALUE!"},{"$nulls":5},19]
[{"$nulls":24},20,"2019-02-26",10,10,10,11,11,11,11,11,{"$error":"#VALUE!"},{"$nulls":5},{"$error":"#VALUE!"},{"$nulls":5},20]
[{"$nulls":24},21,"2019-04-04",11,11,11,11,11,11,11,11,{"$error":"#VALUE!"},{"$nulls":5},{"$error":"#VALUE!"},{"$nulls":5},21]
[{"$nulls":24},22,"2019-03-26",11,11,11,12,12,12,12,12,{"$error":"#VALUE!"},{"$nulls":5},{"$error":"#VALUE!"},{"$nulls":5},22]
[{"$nulls":24},23,"2019-04-18",12,12,12,12,12,12,12,12,{"$error":"#VALUE!"},{"$nulls":5},{"$error":"#VALUE!"},{"$nulls":5},23]
[{"$nulls":24},24,"2019-04-09",12,12,12,13,13,13,13,13,{"$error":"#VALUE!"},{"$nulls":5},{"$error":"#VALUE!"},{"$nulls":5},24]
[{"$nulls":24},25,"2019-05-02",13,13,13,13,13,13,13,13,{"$error":"#VALUE!"},{"$nulls":5},{"$error":"#VALUE!"},{"$nulls":5},25]
[{"$nulls":24},26,"2019-04-23",13,13,13,14,14,14,14,14,{"$error":"#VALUE!"},{"$nulls":5},{"$error":"#VALUE!"},{"$nulls":5},26]
[{"$nulls":24},27,"2019-06-06",14,14,14,14,14,14,14,14,{"$error":"#VALUE!"},{"$nulls":5},{"$error":"#VALUE!"},{"$nulls":5},27]
[{"$nulls":24},28,"2019-05-21",14,14,14,15,15,15,15,15,{"$error":"#VALUE!"},{"$nulls":5},{"$error":"#VALUE!"},{"$nulls":5},28]
[{"$nulls":24},29,"2019-06-20",15,15,15,15,15,15,15,15,{"$error":"#VALUE!"},{"$nulls":5},"",{"$nulls":5},29]
[{"$nulls":24},30,"2019-06-04",15,15,15,16,16,16,16,16,{"$error":"#VALUE!"},{"$nulls":5},{"$error":"#VALUE!"},{"$nulls":5},30]
[{"$nulls":24},31,"2019-07-04",16,16,16,16,16,16,16,16,{"$error":"#VALUE!"},{"$nulls":5},{"$error":"#VALUE!"},{"$nulls":5},31]
[{"$nulls":24},32,"2019-06-18",16,16,16,17,17,17,17,17,{"$error":"#VALUE!"},{"$nulls":5},{"$error":"#VALUE!"},{"$nulls":5},32]
[{"$nulls":24},33,"",17,17,17,17,17,17,17,17,{"$error":"#VALUE!"},{"$nulls":5},"",{"$nulls":5},33]
[{"$nulls":24},34,"00:00:00",17,17,17,18,18,18,18,18,{"$error":"#VALUE!"},{"$nulls":5},{"$error":"#VALUE!"},{"$nulls":5},34]
[{"$nulls":24},35,"",18,18,18,18,18,18,18,18,{"$error":"#VALUE!"},{"$nulls":5},{"$error":"#VALUE!"},{"$nulls":5},35]
[{"$nulls":24},36,null,18,18,18,19,19,19,19,19,{"$error":"#VALUE!"},{"$nulls":5},"",{"$nulls":5},36]

{"sheet":"306","index":12,"n_rows":128,"n_cols":62,"rows_kept":128,"merged":[[0,13,0,15],[1,17,2,18],[2,3,2,6],[2,13,2,14],[2,15,2,16],[3,2,3,6],[3,7,3,8],[4,2,4,6],[4,7,4,8],[5,2,5,6],[5,7,5,8],[6,2,6,6],[6,7,6,8],[7,2,7,6],[7,7,7,8],[8,2,8,6],[8,7,8,8],[9,2,9,6],[9,7,9,8],[10,2,10,6],[10,7,10,8],[11,2,11,6],[11,7,11,8],[12,2,12,6],[12,7,12,8],[13,2,13,6],[13,7,13,8],[14,2,14,6],[14,7,14,8],[15,2,15,6],[15,7,15,8],[16,2,16,6],[16,7,16,8],[17,2,17,6],[17,7,17,8],[18,2,18,6],[18,7,18,8],[19,2,19,6],[19,7,19,8],[20,2,20,6],[20,7,20,8],[21,2,21,6],[21,7,21,8],[22,2,22,6],[22,7,22,8],[23,2,23,6],[23,7,23,8],[24,2,24,6],[24,7,24,8],[25,2,25,6],[25,7,25,8],[26,2,26,6],[26,7,26,8],[27,2,27,6],[27,7,27,8],[28,2,28,6],[28,7,28,8],[29,2,29,6],[29,7,29,8],[30,2,30,6],[30,7,30,8],[31,2,31,6],[31,7,31,8],[32,2,32,6],[32,7,32,8],[33,2,33,6],[33,7,33,8],[34,2,34,6],[34,7,34,8],[35,2,35,6],[35,7,35,8],[36,2,36,6],[36,7,36,8],[37,7,37,8],[38,2,38,6],[38,7,38,8],[65,28,65,29],[67,26,70,26],[67,27,70,27],[67,28,70,28],[67,29,70,29],[67,30,70,30],[67,31,70,31],[67,32,70,32],[67,33,70,33],[67,34,70,34],[67,35,70,35],[67,36,70,36],[67,37,70,37],[67,38,70,38],[67,39,70,39],[67,40,70,40],[67,41,70,41],[67,42,70,42],[67,43,70,43],[67,44,70,44],[67,45,70,45],[67,46,70,46],[67,47,70,47],[67,48,70,48],[67,49,70,49],[67,50,70,50],[67,51,70,51],[67,52,70,52],[67,53,70,53],[67,54,70,54],[67,55,70,55],[67,56,70,56],[67,57,70,57],[67,58,70,58],[67,59,70,59],[67,60,70,60],[67,61,70,61],[71,24,71,25],[84,24,84,45],[85,38,85,41],[86,25,86,36],[86,39,86,45],[87,25,87,36],[87,39,87,45],[88,25,88,36],[88,39,88,45],[89,25,89,36],[89,39,89,45],[90,26,90,33],[90,34,91,45],[92,34,92,45],[93,34,93,39],[93,40,93,45],[94,34,94,39],[94,40,94,45],[95,34,95,39],[95,40,95,45],[96,34,96,39],[96,40,96,45],[97,34,97,39],[97,40,97,45],[98,34,98,39],[98,40,98,45],[99,34,99,39],[99,40,99,45],[100,34,100,39],[100,40,100,45],[101,34,101,39],[101,40,101,45],[102,34,102,39],[102,40,102,45],[103,34,103,39],[103,40,103,45],[104,34,104,39],[104,40,104,45],[105,34,105,39],[105,40,105,45],[106,34,106,39],[106,40,106,45],[107,34,107,39],[107,40,107,45],[108,34,108,39],[108,40,108,45],[109,34,109,39],[109,40,109,45],[110,34,110,39],[110,40,110,45],[111,34,111,39],[111,40,111,45],[112,34,112,39],[112,40,112,45],[113,34,113,39],[113,40,113,45],[114,34,114,39],[114,40,114,45],[115,34,115,39],[115,40,115,45],[116,34,116,39],[116,40,116,45],[117,34,117,39],[117,40,117,45],[118,34,118,39],[118,40,118,45],[119,34,119,39],[119,40,119,45],[120,34,120,39],[120,40,120,45],[121,34,121,39],[121,40,121,45],[122,34,122,39],[122,40,122,45],[123,34,123,39],[123,40,123,45],[124,34,124,39],[124,40,124,45],[125,34,125,39],[125,40,125,45],[126,34,126,39],[126,40,126,45],[127,34,127,39],[127,40,127,45],[129,24,129,36],[130,25,130,36],[130,39,130,45],[131,25,131,36],[131,39,131,45],[132,25,132,36],[132,39,132,45],[133,25,133,36],[133,39,133,45]]}
[{"$nulls":3},"NOM :",{"$nulls":9},"Fond vert = cellules modifiables",{"$nulls":9},"affichage glissant sur 5 semaines"]
[{"$nulls":22},1]
["Cor / Synt","N°",null,{"$f":"\"TECHNOLOGIE  \"&YEAR(H4)&\"  -  \"&YEAR(H4)+1&\"  \"&\n\"    - N° et titre de l'activité\"","v":"TECHNOLOGIE  2018  -  2019      - N° et titre de l'activité"},{"$nulls":7},"Temps / H","Semaine","Vendredi",null,"Mardi",{"$nulls":7},1]
[1,1,{"$nulls":5},{"$f":"IF(M4=\"A\",IF(B4=\"\",\"\",IF($N$3=\"Lundi\",Congés_auto!S39,IF($N$3=\"Mardi\",Congés_auto!T39,IF($N$3=\"Mercredi\",Congés_auto!U39,IF($N$3=\"Jeudi\",Congés_auto!V39,IF($N$3=\"Vendredi\",Congés_auto!W39,IF($N$3=\"Samedi\",Congés_auto!X39,0))))))),IF(B4=\"\",\"\",IF($P$3=\"Lundi\",Congés_auto!S39,IF($P$3=\"Mardi\",Congés_auto!T39,IF($P$3=\"Mercredi\",Congés_auto!U39,IF($P$3=\"Jeudi\",Congés_auto!V39,IF($P$3=\"Vendredi\",Congés_auto!W39,IF($P$3=\"Samedi\",Congés_auto!X39,0))))))))","v":"2018-08-24"},{"$nulls":3},1,"A","GROUPE",1]
[{"$f":"A4+1","v":2},{"$f":"IF(OR($O$4=1,$O$4=2),$AA94,IF(OR($O$4=3,$O$4=4),$AC94,IF(OR($O$4=5,$O$4=6),$AE94,IF(OR($O$4=7,$O$4=8),$AG94,\"\"))))","v":1},{"$nulls":5},{"$f":"IF(M5=\"A\",IF(B5=\"\",\"\",IF($N$3=\"Lundi\",Congés_auto!S40,IF($N$3=\"Mardi\",Congés_auto!T40,IF($N$3=\"Mercredi\",Congés_auto!U40,IF($N$3=\"Jeudi\",Congés_auto!V40,IF($N$3=\"Vendredi\",Congés_auto!W40,IF($N$3=\"Samedi\",Congés_auto!X40,0))))))),IF(B5=\"\",\"\",IF($P$3=\"Lundi\",Congés_auto!S40,IF($P$3=\"Mardi\",Congés_auto!T40,IF($P$3=\"Mercredi\",Congés_auto!U40,IF($P$3=\"Jeudi\",Congés_auto!V40,IF($P$3=\"Vendredi\",Congés_auto!W40,IF($P$3=\"Samedi\",Congés_auto!X40,0))))))))","v":"2018-08-28"},{"$nulls":3},{"$f":"IF(L4=1,2,1)","v":2},{"$f":"IF(M4=\"A\",\"B\",\"A\")","v":"B"}]
[{"$f":"A5+1","v":3},2,{"$nulls":5},{"$f":"IF(M6=\"A\",IF(B6=\"\",\"\",IF($N$3=\"Lundi\",Congés_auto!S41,IF($N$3=\"Mardi\",Congés_auto!T41,IF($N$3=\"Mercredi\",Congés_auto!U41,IF($N$3=\"Jeudi\",Congés_auto!V41,IF($N$3=\"Vendredi\",Congés_auto!W41,IF($N$3=\"Samedi\",Congés_auto!X41,0))))))),IF(B6=\"\",\"\",IF($P$3=\"Lundi\",Congés_auto!S41,IF($P$3=\"Mardi\",Congés_auto!T41,IF($P$3=\"Mercredi\",Congés_auto!U41,IF($P$3=\"Jeudi\",Congés_auto!V41,IF($P$3=\"Vendredi\",Congés_auto!W41,IF($P$3=\"Samedi\",Congés_auto!X41,0))))))))","v":"2018-09-07"},{"$nulls":3},{"$f":"IF(L5=1,2,1)","v":1},{"$f":"IF(M5=\"A\",\"B\",\"A\")","v":"A"}]
[4,2,{"$nulls":5},{"$f":"IF(M7=\"A\",IF(B7=\"\",\"\",IF($N$3=\"Lundi\",Congés_auto!S42,IF($N$3=\"Mardi\",Congés_auto!T42,IF($N$3=\"Mercredi\",Congés_auto!U42,IF($N$3=\"Jeudi\",Congés_auto!V42,IF($N$3=\"Vendredi\",Congés_auto!W42,IF($N$3=\"Samedi\",Congés_auto!X42,0))))))),IF(B7=\"\",\"\",IF($P$3=\"Lundi\",Congés_auto!S42,IF($P$3=\"Mardi\",Congés_auto!T42,IF($P$3=\"Mercredi\",Congés_auto!U42,IF($P$3=\"Jeudi\",Congés_auto!V42,IF($P$3=\"Vendredi\",Congés_auto!W42,IF($P$3=\"Samedi\",Congés_auto!X42,0))))))))","v":"2018-09-11"},{"$nulls":3},2,"B"]
[5,3,{"$nulls":5},{"$f":"IF(M8=\"A\",IF(B8=\"\",\"\",IF($N$3=\"Lundi\",Congés_auto!S43,IF($N$3=\"Mardi\",Congés_auto!T43,IF($N$3=\"Mercredi\",Congés_auto!U43,IF($N$3=\"Jeudi\",Congés_auto!V43,IF($N$3=\"Vendredi\",Congés_auto!W43,IF($N$3=\"Samedi\",Congés_auto!X43,0))))))),IF(B8=\"\",\"\",IF($P$3=\"Lundi\",Congés_auto!S43,IF($P$3=\"Mardi\",Congés_auto!T43,IF($P$3=\"Mercredi\",Congés_auto!U43,IF($P$3=\"Jeudi\",Congés_auto!V43,IF($P$3=\"Vendredi\",Congés_auto!W43,IF($P$3=\"Samedi\",Congés_auto!X43,0))))))))","v":"2018-09-21"},{"$nulls":3},1,"A"]
[6,3,{"$nulls":5},{"$f":"IF(M9=\"A\",IF(B9=\"\",\"\",IF($N$3=\"Lundi\",Congés_auto!S44,IF($N$3=\"Mardi\",Congés_auto!T44,IF($N$3=\"Mercredi\",Congés_auto!U44,IF($N$3=\"Jeudi\",Congés_auto!V44,IF($N$3=\"Vendredi\",Congés_auto!W44,IF($N$3=\"Samedi\",Congés_auto!X44,0))))))),IF(B9=\"\",\"\",IF($P$3=\"Lundi\",Congés_auto!S44,IF($P$3=\"Mardi\",Congés_auto!T44,IF($P$3=\"Mercredi\",Congés_auto!U44,IF($P$3=\"Jeudi\",Congés_auto!V44,IF($P$3=\"Vendredi\",Congés_auto!W44,IF($P$3=\"Samedi\",Congés_auto!X44,0))))))))","v":"2018-09-25"},{"$nulls":3},2,"B"]
[7,4,{"$nulls":5},{"$f":"IF(M10=\"A\",IF(B10=\"\",\"\",IF($N$3=\"Lundi\",Congés_auto!S45,IF($N$3=\"Mardi\",Congés_auto!T45,IF($N$3=\"Mercredi\",Congés_auto!U45,IF($N$3=\"Jeudi\",Congés_auto!V45,IF($N$3=\"Vendredi\",Congés_auto!W45,IF($N$3=\"Samedi\",Congés_auto!X45,0))))))),IF(B10=\"\",\"\",IF($P$3=\"Lundi\",Congés_auto!S45,IF($P$3=\"Mardi\",Congés_auto!T45,IF($P$3=\"Mercredi\",Congés_auto!U45,IF($P$3=\"Jeudi\",Congés_auto!V45,IF($P$3=\"Vendredi\",Congés_auto!W45,IF($P$3=\"Samedi\",Congés_auto!X45,0))))))))","v":"2018-10-05"},{"$nulls":3},1,"A"]
[8,4,{"$nulls":5},{"$f":"IF(M11=\"A\",IF(B11=\"\",\"\",IF($N$3=\"Lundi\",Congés_auto!S46,IF($N$3=\"Mardi\",Congés_auto!T46,IF($N$3=\"Mercredi\",Congés_auto!U46,IF($N$3=\"Jeudi\",Congés_auto!V46,IF($N$3=\"Vendredi\",Congés_auto!W46,IF($N$3=\"Samedi\",Congés_auto!X46,0))))))),IF(B11=\"\",\"\",IF($P$3=\"Lundi\",Congés_auto!S46,IF($P$3=\"Mardi\",Congés_auto!T46,IF($P$3=\"Mercredi\",Congés_auto!U46,IF($P$3=\"Jeudi\",Congés_auto!V46,IF($P$3=\"Vendredi\",Congés_auto!W46,IF($P$3=\"Samedi\",Congés_auto!X46,0))))))))","v":"2018-10-09"},{"$nulls":3},2,"B"]
[9,5,{"$nulls":5},{"$f":"IF(M12=\"A\",IF(B12=\"\",\"\",IF($N$3=\"Lundi\",Congés_auto!S47,IF($N$3=\"Mardi\",Congés_auto!T47,IF($N$3=\"Mercredi\",Congés_auto!U47,IF($N$3=\"Jeudi\",Congés_auto!V47,IF($N$3=\"Vendredi\",Congés_auto!W47,IF($N$3=\"Samedi\",Congés_auto!X47,0))))))),IF(B12=\"\",\"\",IF($P$3=\"Lundi\",Congés_auto!S47,IF($P$3=\"Mardi\",Congés_auto!T47,IF($P$3=\"Mercredi\",Congés_auto!U47,IF($P$3=\"Jeudi\",Congés_auto!V47,IF($P$3=\"Vendredi\",Congés_auto!W47,IF($P$3=\"Samedi\",Congés_auto!X47,0))))))))","v":"2018-11-02"},{"$nulls":3},1,"A"]
[10,5,{"$nulls":5},{"$f":"IF(M13=\"A\",IF(B13=\"\",\"\",IF($N$3=\"Lundi\",Congés_auto!S48,IF($N$3=\"Mardi\",Congés_auto!T48,IF($N$3=\"Mercredi\",Congés_auto!U48,IF($N$3=\"Jeudi\",Congés_auto!V48,IF($N$3=\"Vendredi\",Congés_auto!W48,IF($N$3=\"Samedi\",Congés_auto!X48,0))))))),IF(B13=\"\",\"\",IF($P$3=\"Lundi\",Congés_auto!S48,IF($P$3=\"Mardi\",Congés_auto!T48,IF($P$3=\"Mercredi\",Congés_auto!U48,IF($P$3=\"Jeudi\",Congés_auto!V48,IF($P$3=\"Vendredi\",Congés_auto!W48,IF($P$3=\"Samedi\",Congés_auto!X48,0))))))))","v":"2018-11-06"},{"$nulls":3},2,"B"]
[11,6,{"$nulls":5},{"$f":"IF(M14=\"A\",IF(B14=\"\",\"\",IF($N$3=\"Lundi\",Congés_auto!S49,IF($N$3=\"Mardi\",Congés_auto!T49,IF($N$3=\"Mercredi\",Congés_auto!U49,IF($N$3=\"Jeudi\",Congés_auto!V49,IF($N$3=\"Vendredi\",Congés_auto!W49,IF($N$3=\"Samedi\",Congés_auto!X49,0))))))),IF(B14=\"\",\"\",IF($P$3=\"Lundi\",Congés_auto!S49,IF($P$3=\"Mardi\",Congés_auto!T49,IF($P$3=\"Mercredi\",Congés_auto!U49,IF($P$3=\"Jeudi\",Congés_auto!V49,IF($P$3=\"Vendredi\",Congés_auto!W49,IF($P$3=\"Samedi\",Congés_auto!X49,0))))))))","v":"2018-11-16"},{"$nulls":3},1,"A"]
[12,6,{"$nulls":5},{"$f":"IF(M15=\"A\",IF(B15=\"\",\"\",IF($N$3=\"Lundi\",Congés_auto!S50,IF($N$3=\"Mardi\",Congés_auto!T50,IF($N$3=\"Mercredi\",Congés_auto!U50,IF($N$3=\"Jeudi\",Congés_auto!V50,IF($N$3=\"Vendredi\",Congés_auto!W50,IF($N$3=\"Samedi\",Congés_auto!X50,0))))))),IF(B15=\"\",\"\",IF($P$3=\"Lundi\",Congés_auto!S50,IF($P$3=\"Mardi\",Congés_auto!T50,IF($P$3=\"Mercredi\",Congés_auto!U50,IF($P$3=\"Jeudi\",Congés_auto!V50,IF($P$3=\"Vendredi\",Congés_auto!W50,IF($P$3=\"Samedi\",Congés_auto!X50,0))))))))","v":"2018-11-20"},{"$nulls":3},2,"B"]
[13,7,{"$nulls":5},{"$f":"IF(M16=\"A\",IF(B16=\"\",\"\",IF($N$3=\"Lundi\",Congés_auto!S51,IF($N$3=\"Mardi\",Congés_auto!T51,IF($N$3=\"Mercredi\",Congés_auto!U51,IF($N$3=\"Jeudi\",Congés_auto!V51,IF($N$3=\"Vendredi\",Congés_auto!W51,IF($N$3=\"Samedi\",Congés_auto!X51,0))))))),IF(B16=\"\",\"\",IF($P$3=\"Lundi\",Congés_auto!S51,IF($P$3=\"Mardi\",Congés_auto!T51,IF($P$3=\"Mercredi\",Congés_auto!U51,IF($P$3=\"Jeudi\",Congés_auto!V51,IF($P$3=\"Vendredi\",Congés_auto!W51,IF($P$3=\"Samedi\",Congés_auto!X51,0))))))))","v":"2018-11-30"},{"$nulls":3},1,"A"]
[14,7,{"$nulls":5},{"$f":"IF(M17=\"A\",IF(B17=\"\",\"\",IF($N$3=\"Lundi\",Congés_auto!S52,IF($N$3=\"Mardi\",Congés_auto!T52,IF($N$3=\"Mercredi\",Congés_auto!U52,IF($N$3=\"Jeudi\",Congés_auto!V52,IF($N$3=\"Vendredi\",Congés_auto!W52,IF($N$3=\"Samedi\",Congés_auto!X52,0))))))),IF(B17=\"\",\"\",IF($P$3=\"Lundi\",Congés_auto!S52,IF($P$3=\"Mardi\",Congés_auto!T52,IF($P$3=\"Mercredi\",Congés_auto!U52,IF($P$3=\"Jeudi\",Congés_auto!V52,IF($P$3=\"Vendredi\",Congés_auto!W52,IF($P$3=\"Samedi\",Congés_auto!X52,0))))))))","v":"2018-12-04"},{"$nulls":3},2,"B"]
[15,8,{"$nulls":5},{"$f":"IF(M18=\"A\",IF(B18=\"\",\"\",IF($N$3=\"Lundi\",Congés_auto!S53,IF($N$3=\"Mardi\",Congés_auto!T53,IF($N$3=\"Mercredi\",Congés_auto!U53,IF($N$3=\"Jeudi\",Congés_auto!V53,IF($N$3=\"Vendredi\",Congés_auto!W53,IF($N$3=\"Samedi\",Congés_auto!X53,0))))))),IF(B18=\"\",\"\",IF($P$3=\"Lundi\",Congés_auto!S53,IF($P$3=\"Mardi\",Congés_auto!T53,IF($P$3=\"Mercredi\",Congés_auto!U53,IF($P$3=\"Jeudi\",Congés_auto!V53,IF($P$3=\"Vendredi\",Congés_auto!W53,IF($P$3=\"Samedi\",Congés_auto!X53,0))))))))","v":"2018-12-14"},{"$nulls":3},1,"A"]
[16,8,{"$nulls":5},{"$f":"IF(M19=\"A\",IF(B19=\"\",\"\",IF($N$3=\"Lundi\",Congés_auto!S54,IF($N$3=\"Mardi\",Congés_auto!T54,IF($N$3=\"Mercredi\",Congés_auto!U54,IF($N$3=\"Jeudi\",Congés_auto!V54,IF($N$3=\"Vendredi\",Congés_auto!W54,IF($N$3=\"Samedi\",Congés_auto!X54,0))))))),IF(B19=\"\",\"\",IF($P$3=\"Lundi\",Congés_auto!S54,IF($P$3=\"Mardi\",Congés_auto!T54,IF($P$3=\"Mercredi\",Congés_auto!U54,IF($P$3=\"Jeudi\",Congés_auto!V54,IF($P$3=\"Vendredi\",Congés_auto!W54,IF($P$3=\"Samedi\",Congés_auto!X54,0))))))))","v":"2018-12-18"},{"$nulls":3},2,"B"]
[17,9,{"$nulls":5},{"$f":"IF(M20=\"A\",IF(B20=\"\",\"\",IF($N$3=\"Lundi\",Congés_auto!S55,IF($N$3=\"Mardi\",Congés_auto!T55,IF($N$3=\"Mercredi\",Congés_auto!U55,IF($N$3=\"Jeudi\",Congés_auto!V55,IF($N$3=\"Vendredi\",Congés_auto!W55,IF($N$3=\"Samedi\",Congés_auto!X55,0))))))),IF(B20=\"\",\"\",IF($P$3=\"Lundi\",Congés_auto!S55,IF($P$3=\"Mardi\",Congés_auto!T55,IF($P$3=\"Mercredi\",Congés_auto!U55,IF($P$3=\"Jeudi\",Congés_auto!V55,IF($P$3=\"Vendredi\",Congés_auto!W55,IF($P$3=\"Samedi\",Congés_auto!X55,0))))))))","v":"2019-02-01"},{"$nulls":3},1,"A"]
[18,9,{"$nulls":5},{"$f":"IF(M21=\"A\",IF(B21=\"\",\"\",IF($N$3=\"Lundi\",Congés_auto!S56,IF($N$3=\"Mardi\",Congés_auto!T56,IF($N$3=\"Mercredi\",Congés_auto!U56,IF($N$3=\"Jeudi\",Congés_auto!V56,IF($N$3=\"Vendredi\",Congés_auto!W56,IF($N$3=\"Samedi\",Congés_auto!X56,0))))))),IF(B21=\"\",\"\",IF($P$3=\"Lundi\",Congés_auto!S56,IF($P$3=\"Mardi\",Congés_auto!T56,IF($P$3=\"Mercredi\",Congés_auto!U56,IF($P$3=\"Jeudi\",Congés_auto!V56,IF($P$3=\"Vendredi\",Congés_auto!W56,IF($P$3=\"Samedi\",Congés_auto!X56,0))))))))","v":"2019-02-05"},{"$nulls":3},2,"B"]
[19,10,{"$nulls":5},{"$f":"IF(M22=\"A\",IF(B22=\"\",\"\",IF($N$3=\"Lundi\",Congés_auto!S57,IF($N$3=\"Mardi\",Congés_auto!T57,IF($N$3=\"Mercredi\",Congés_auto!U57,IF($N$3=\"Jeudi\",Congés_auto!V57,IF($N$3=\"Vendredi\",Congés_auto!W57,IF($N$3=\"Samedi\",Congés_auto!X57,0))))))),IF(B22=\"\",\"\",IF($P$3=\"Lundi\",Congés_auto!S57,IF($P$3=\"Mardi\",Congés_auto!T57,IF($P$3=\"Mercredi\",Congés_auto!U57,IF($P$3=\"Jeudi\",Congés_auto!V57,IF($P$3=\"Vendredi\",Congés_auto!W57,IF($P$3=\"Samedi\",Congés_auto!X57,0))))))))","v":"2019-02-15"},{"$nulls":3},1,"A"]
[20,10,{"$nulls":5},{"$f":"IF(M23=\"A\",IF(B23=\"\",\"\",IF($N$3=\"Lundi\",Congés_auto!S58,IF($N$3=\"Mardi\",Congés_auto!T58,IF($N$3=\"Mercredi\",Congés_auto!U58,IF($N$3=\"Jeudi\",Congés_auto!V58,IF($N$3=\"Vendredi\",Congés_auto!W58,IF($N$3=\"Samedi\",Congés_auto!X58,0))))))),IF(B23=\"\",\"\",IF($P$3=\"Lundi\",Congés_auto!S58,IF($P$3=\"Mardi\",Congés_auto!T58,IF($P$3=\"Mercredi\",Congés_auto!U58,IF($P$3=\"Jeudi\",Congés_auto!V58,IF($P$3=\"Vendredi\",Congés_auto!W58,IF($P$3=\"Samedi\",Congés_auto!X58,0))))))))","v":"2019-02-19"},{"$nulls":3},2,"B"]
[21,11,{"$nulls":5},{"$f":"IF(M24=\"A\",IF(B24=\"\",\"\",IF($N$3=\"Lundi\",Congés_auto!S59,IF($N$3=\"Mardi\",Congés_auto!T59,IF($N$3=\"Mercredi\",Congés_auto!U59,IF($N$3=\"Jeudi\",Congés_auto!V59,IF($N$3=\"Vendredi\",Congés_auto!W59,IF($N$3=\"Samedi\",Congés_auto!X59,0))))))),IF(B24=\"\",\"\",IF($P$3=\"Lundi\",Congés_auto!S59,IF($P$3=\"Mardi\",Congés_auto!T59,IF($P$3=\"Mercredi\",Congés_auto!U59,IF($P$3=\"Jeudi\",Congés_auto!V59,IF($P$3=\"Vendredi\",Congés_auto!W59,IF($P$3=\"Samedi\",Congés_auto!X59,0))))))))","v":"2019-03-01"},{"$nulls":3},1,"A"]
[22,11,{"$nulls":5},{"$f":"IF(M25=\"A\",IF(B25=\"\",\"\",IF($N$3=\"Lundi\",Congés_auto!S60,IF($N$3=\"Mardi\",Congés_auto!T60,IF($N$3=\"Mercredi\",Congés_auto!U60,IF($N$3=\"Jeudi\",Congés_auto!V60,IF($N$3=\"Vendredi\",Congés_auto!W60,IF($N$3=\"Samedi\",Congés_auto!X60,0))))))),IF(B25=\"\",\"\",IF($P$3=\"Lundi\",Congés_auto!S60,IF($P$3=\"Mardi\",Congés_auto!T60,IF($P$3=\"Mercredi\",Congés_auto!U60,IF($P$3=\"Jeudi\",Congés_auto!V60,IF($P$3=\"Vendredi\",Congés_auto!W60,IF($P$3=\"Samedi\",Congés_auto!X60,0))))))))","v":"2019-03-05"},{"$nulls":3},2,"B"]
[23,12,{"$nulls":5},{"$f":"IF(M26=\"A\",IF(B26=\"\",\"\",IF($N$3=\"Lundi\",Congés_auto!S61,IF($N$3=\"Mardi\",Congés_auto!T61,IF($N$3=\"Mercredi\",Congés_auto!U61,IF($N$3=\"Jeudi\",Congés_auto!V61,IF($N$3=\"Vendredi\",Congés_auto!W61,IF($N$3=\"Samedi\",Congés_auto!X61,0))))))),IF(B26=\"\",\"\",IF($P$3=\"Lundi\",Congés_auto!S61,IF($P$3=\"Mardi\",Congés_auto!T61,IF($P$3=\"Mercredi\",Congés_auto!U61,IF($P$3=\"Jeudi\",Congés_auto!V61,IF($P$3=\"Vendredi\",Congés_auto!W61,IF($P$3=\"Samedi\",Congés_auto!X61,0))))))))","v":"2019-03-29"},{"$nulls":3},1,"A"]
[24,12,{"$nulls":5},{"$f":"IF(M27=\"A\",IF(B27=\"\",\"\",IF($N$3=\"Lundi\",Congés_auto!S62,IF($N$3=\"Mardi\",Congés_auto!T62,IF($N$3=\"Mercredi\",Congés_auto!U62,IF($N$3=\"Jeudi\",Congés_auto!V62,IF($N$3=\"Vendredi\",Congés_auto!W62,IF($N$3=\"Samedi\",Congés_auto!X62,0))))))),IF(B27=\"\",\"\",IF($P$3=\"Lundi\",Congés_auto!S62,IF($P$3=\"Mardi\",Congés_auto!T62,IF($P$3=\"Mercredi\",Congés_auto!U62,IF($P$3=\"Jeudi\",Congés_auto!V62,IF($P$3=\"Vendredi\",Congés_auto!W62,IF($P$3=\"Samedi\",Congés_auto!X62,0))))))))","v":"2019-04-02"},{"$nulls":3},2,"B"]
[25,13,{"$nulls":5},{"$f":"IF(M28=\"A\",IF(B28=\"\",\"\",IF($N$3=\"Lundi\",Congés_auto!S63,IF($N$3=\"Mardi\",Congés_auto!T63,IF($N$3=\"Mercredi\",Congés_auto!U63,IF($N$3=\"Jeudi\",Congés_auto!V63,IF($N$3=\"Vendredi\",Congés_auto!W63,IF($N$3=\"Samedi\",Congés_auto!X63,0))))))),IF(B28=\"\",\"\",IF($P$3=\"Lundi\",Congés_auto!S63,IF($P$3=\"Mardi\",Congés_auto!T63,IF($P$3=\"Mercredi\",Congés_auto!U63,IF($P$3=\"Jeudi\",Congés_auto!V63,IF($P$3=\"Vendredi\",Congés_auto!W63,IF($P$3=\"Samedi\",Congés_auto!X63,0))))))))","v":"2019-04-12"},{"$nulls":3},1,"A"]
[26,13,{"$nulls":5},{"$f":"IF(M29=\"A\",IF(B29=\"\",\"\",IF($N$3=\"Lundi\",Congés_auto!S64,IF($N$3=\"Mardi\",Congés_auto!T64,IF($N$3=\"Mercredi\",Congés_auto!U64,IF($N$3=\"Jeudi\",Congés_auto!V64,IF($N$3=\"Vendredi\",Congés_auto!W64,IF($N$3=\"Samedi\",Congés_auto!X64,0))))))),IF(B29=\"\",\"\",IF($P$3=\"Lundi\",Congés_auto!S64,IF($P$3=\"Mardi\",Congés_auto!T64,IF($P$3=\"Mercredi\",Congés_auto!U64,IF($P$3=\"Jeudi\",Congés_auto!V64,IF($P$3=\"Vendredi\",Congés_auto!W64,IF($P$3=\"Samedi\",Congés_auto!X64,0))))))))","v":"2019-04-16"},{"$nulls":3},2,"B"]
[27,14,{"$nulls":5},{"$f":"IF(M30=\"A\",IF(B30=\"\",\"\",IF($N$3=\"Lundi\",Congés_auto!S65,IF($N$3=\"Mardi\",Congés_auto!T65,IF($N$3=\"Mercredi\",Congés_auto!U65,IF($N$3=\"Jeudi\",Congés_auto!V65,IF($N$3=\"Vendredi\",Congés_auto!W65,IF($N$3=\"Samedi\",Congés_auto!X65,0))))))),IF(B30=\"\",\"\",IF($P$3=\"Lundi\",Congés_auto!S65,IF($P$3=\"Mardi\",Congés_auto!T65,IF($P$3=\"Mercredi\",Congés_auto!U65,IF($P$3=\"Jeudi\",Congés_auto!V65,IF($P$3=\"Vendredi\",Congés_auto!W65,IF($P$3=\"Samedi\",Congés_auto!X65,0))))))))","v":"2019-04-26"},{"$nulls":3},1,"A"]
[28,14,{"$nulls":5},{"$f":"IF(M31=\"A\",IF(B31=\"\",\"\",IF($N$3=\"Lundi\",Congés_auto!S66,IF($N$3=\"Mardi\",Congés_auto!T66,IF($N$3=\"Mercredi\",Congés_auto!U66,IF($N$3=\"Jeudi\",Congés_auto!V66,IF($N$3=\"Vendredi\",Congés_auto!W66,IF($N$3=\"Samedi\",Congés_auto!X66,0))))))),IF(B31=\"\",\"\",IF($P$3=\"Lundi\",Congés_auto!S66,IF($P$3=\"Mardi\",Congés_auto!T66,IF($P$3=\"Mercredi\",Congés_auto!U66,IF($P$3=\"Jeudi\",Congés_auto!V66,IF($P$3=\"Vendredi\",Congés_auto!W66,IF($P$3=\"Samedi\",Congés_auto!X66,0))))))))","v":"2019-04-30"},{"$nulls":3},2,"B"]
[29,15,{"$nulls":5},{"$f":"IF(M32=\"A\",IF(B32=\"\",\"\",IF($N$3=\"Lundi\",Congés_auto!S67,IF($N$3=\"Mardi\",Congés_auto!T67,IF($N$3=\"Mercredi\",Congés_auto!U67,IF($N$3=\"Jeudi\",Congés_auto!V67,IF($N$3=\"Vendredi\",Congés_auto!W67,IF($N$3=\"Samedi\",Congés_auto!X67,0))))))),IF(B32=\"\",\"\",IF($P$3=\"Lundi\",Congés_auto!S67,IF($P$3=\"Mardi\",Congés_auto!T67,IF($P$3=\"Mercredi\",Congés_auto!U67,IF($P$3=\"Jeudi\",Congés_auto!V67,IF($P$3=\"Vendredi\",Congés_auto!W67,IF($P$3=\"Samedi\",Congés_auto!X67,0))))))))","v":"2019-05-24"},{"$nulls":3},1,"A"]
[30,15,{"$nulls":5},{"$f":"IF(M33=\"A\",IF(B33=\"\",\"\",IF($N$3=\"Lundi\",Congés_auto!S68,IF($N$3=\"Mardi\",Congés_auto!T68,IF($N$3=\"Mercredi\",Congés_auto!U68,IF($N$3=\"Jeudi\",Congés_auto!V68,IF($N$3=\"Vendredi\",Congés_auto!W68,IF($N$3=\"Samedi\",Congés_auto!X68,0))))))),IF(B33=\"\",\"\",IF($P$3=\"Lundi\",Congés_auto!S68,IF($P$3=\"Mardi\",Congés_auto!T68,IF($P$3=\"Mercredi\",Congés_auto!U68,IF($P$3=\"Jeudi\",Congés_auto!V68,IF($P$3=\"Vendredi\",Congés_auto!W68,IF($P$3=\"Samedi\",Congés_auto!X68,0))))))))","v":"2019-05-28"},{"$nulls":3},2,"B"]
[31,16,{"$nulls":5},{"$f":"IF(M34=\"A\",IF(B34=\"\",\"\",IF($N$3=\"Lundi\",Congés_auto!S69,IF($N$3=\"Mardi\",Congés_auto!T69,IF($N$3=\"Mercredi\",Congés_auto!U69,IF($N$3=\"Jeudi\",Congés_auto!V69,IF($N$3=\"Vendredi\",Congés_auto!W69,IF($N$3=\"Samedi\",Congés_auto!X69,0))))))),IF(B34=\"\",\"\",IF($P$3=\"Lundi\",Congés_auto!S69,IF($P$3=\"Mardi\",Congés_auto!T69,IF($P$3=\"Mercredi\",Congés_auto!U69,IF($P$3=\"Jeudi\",Congés_auto!V69,IF($P$3=\"Vendredi\",Congés_auto!W69,IF($P$3=\"Samedi\",Congés_auto!X69,0))))))))","v":"2019-06-07"},{"$nulls":3},1,"A"]
[32,16,{"$nulls":5},{"$f":"IF(M35=\"A\",IF(B35=\"\",\"\",IF($N$3=\"Lundi\",Congés_auto!S70,IF($N$3=\"Mardi\",Congés_auto!T70,IF($N$3=\"Mercredi\",Congés_auto!U70,IF($N$3=\"Jeudi\",Congés_auto!V70,IF($N$3=\"Vendredi\",Congés_auto!W70,IF($N$3=\"Samedi\",Congés_auto!X70,0))))))),IF(B35=\"\",\"\",IF($P$3=\"Lundi\",Congés_auto!S70,IF($P$3=\"Mardi\",Congés_auto!T70,IF($P$3=\"Mercredi\",Congés_auto!U70,IF($P$3=\"Jeudi\",Congés_auto!V70,IF($P$3=\"Vendredi\",Congés_auto!W70,IF($P$3=\"Samedi\",Congés_auto!X70,0))))))))","v":"2019-06-11"},{"$nulls":3},2,"B"]
[33,17,{"$nulls":5},{"$f":"IF(M36=\"A\",IF(B36=\"\",\"\",IF($N$3=\"Lundi\",Congés_auto!S71,IF($N$3=\"Mardi\",Congés_auto!T71,IF($N$3=\"Mercredi\",Congés_auto!U71,IF($N$3=\"Jeudi\",Congés_auto!V71,IF($N$3=\"Vendredi\",Congés_auto!W71,IF($N$3=\"Samedi\",Congés_auto!X71,0))))))),IF(B36=\"\",\"\",IF($P$3=\"Lundi\",Congés_auto!S71,IF($P$3=\"Mardi\",Congés_auto!T71,IF($P$3=\"Mercredi\",Congés_auto!U71,IF($P$3=\"Jeudi\",Congés_auto!V71,IF($P$3=\"Vendredi\",Congés_auto!W71,IF($P$3=\"Samedi\",Congés_auto!X71,0))))))))","v":"2019-06-21"},{"$nulls":3},1,"A"]
[34,17,{"$nulls":5},{"$f":"IF(M37=\"A\",IF(B37=\"\",\"\",IF($N$3=\"Lundi\",Congés_auto!S72,IF($N$3=\"Mardi\",Congés_auto!T72,IF($N$3=\"Mercredi\",Congés_auto!U72,IF($N$3=\"Jeudi\",Congés_auto!V72,IF($N$3=\"Vendredi\",Congés_auto!W72,IF($N$3=\"Samedi\",Congés_auto!X72,0))))))),IF(B37=\"\",\"\",IF($P$3=\"Lundi\",Congés_auto!S72,IF($P$3=\"Mardi\",Congés_auto!T72,IF($P$3=\"Mercredi\",Congés_auto!U72,IF($P$3=\"Jeudi\",Congés_auto!V72,IF($P$3=\"Vendredi\",Congés_auto!W72,IF($P$3=\"Samedi\",Congés_auto!X72,0))))))))","v":"2019-06-25"},{"$nulls":3},2,"B"]
[35,{"$f":"IF(OR($O$4=1,$O$4=2),$AA127,IF(OR($O$4=3,$O$4=4),$AC127,IF(OR($O$4=5,$O$4=6),$AE127,IF(OR($O$4=7,$O$4=8),$AG127,\"\"))))","v":18},{"$nulls":5},{"$f":"IF(M38=\"A\",IF(B38=\"\",\"\",IF($N$3=\"Lundi\",Congés_auto!S73,IF($N$3=\"Mardi\",Congés_auto!T73,IF($N$3=\"Mercredi\",Congés_auto!U73,IF($N$3=\"Jeudi\",Congés_auto!V73,IF($N$3=\"Vendredi\",Congés_auto!W73,IF($N$3=\"Samedi\",Congés_auto!X73,0))))))),IF(B38=\"\",\"\",IF($P$3=\"Lundi\",Congés_auto!S73,IF($P$3=\"Mardi\",Congés_auto!T73,IF($P$3=\"Mercredi\",Congés_auto!U73,IF($P$3=\"Jeudi\",Congés_auto!V73,IF($P$3=\"Vendredi\",Congés_auto!W73,IF($P$3=\"Samedi\",Congés_auto!X73,0))))))))","v":"2019-07-05"},{"$nulls":3},1,"A"]
[36,18,{"$nulls":5},{"$f":"IF(M39=\"A\",IF(B39=\"\",\"\",IF($N$3=\"Lundi\",Congés_auto!S74,IF($N$3=\"Mardi\",Congés_auto!T74,IF($N$3=\"Mercredi\",Congés_auto!U74,IF($N$3=\"Jeudi\",Congés_auto!V74,IF($N$3=\"Vendredi\",Congés_auto!W74,IF($N$3=\"Samedi\",Congés_auto!X74,0))))))),IF(B39=\"\",\"\",IF($P$3=\"Lundi\",Congés_auto!S74,IF($P$3=\"Mardi\",Congés_auto!T74,IF($P$3=\"Mercredi\",Congés_auto!U74,IF($P$3=\"Jeudi\",Congés_auto!V74,IF($P$3=\"Vendredi\",Congés_auto!W74,IF($P$3=\"Samedi\",Congés_auto!X74,0))))))))","v":"2019-08-20"},{"$nulls":3},2,"B"]
[]
[]
[null,null,"Binôme avec :"]
{"$rows_empty":22}
[{"$nulls":28},"Modifier u2 et w2 - Planning pour 8 ou 6 grp",{"$nulls":6},"Sem B 2h",null,"NON"]
[{"$nulls":27},"Planning",{"$f":"T1","v":0},null,null,{"$f":"N3","v":"Vendredi"},{"$nulls":10},0]
[]
[{"$nulls":26},{"$f":"Z93","v":"2018-08-24"},{"$f":"OFFSET($Z$93,AA73,0)","v":"2018-08-28"},{"$f":"OFFSET($Z$93,AB73,0)","v":"2018-09-07"},"2018-09-11","2018-09-21","2018-09-25","2018-10-05","2018-10-09","2018-11-02","2018-11-06","2018-11-16","2018-11-20","2018-11-30","2018-12-04","2018-12-14","2018-12-18","2019-02-01","2019-02-05","2019-02-19","2019-03-01","2019-03-05","2019-03-29","2019-04-02","2019-04-12","2019-04-16","2019-04-26","2019-04-30","2019-05-24","2019-05-28","2019-06-07","2019-06-11","2019-06-21","2019-06-25","2019-07-05","2019-08-20","00:00:00"]
[]
[]
[]
[{"$nulls":24},"Temps",null,2,2,2,2,2,2,2,2,2,2,2,2,2,2,2,2,2,2,2,2,2,2,2,2,2,2,2,2,2,2,2,2,2,2,2,2]
[{"$nulls":25},"Semaine",1,{"$f":"AA73+1","v":2},{"$f":"AB73+1","v":3},4,5,6,7,8,9,10,11,12,13,14,15,16,17,18,{"$f":"AR73+1","v":19},{"$f":"AS73+1","v":20},21,22,23,24,25,26,27,28,29,30,31,32,33,34,35,36]
[{"$nulls":25},"Grp  1",1,1,{"$f":"AA74+1","v":2},{"$f":"AB74+1","v":2},3,3,4,4,5,5,6,6,7,7,8,8,9,9,10,10,11,11,12,12,13,13,14,14,15,15,16,16,17,17,18,18]
[{"$nulls":25},"Grp  2",1,1,{"$f":"AA75+1","v":2},2,3,3,4,4,5,5,6,6,7,7,8,8,9,9,10,10,11,11,12,12,13,13,14,14,15,15,16,16,17,17,18,18]
[{"$nulls":23},"FREQUENCE(A1:A30;{1,8;2,7})",null,"Grp  3",1,1,2,2,3,3,4,4,5,5,6,6,7,7,8,8,9,9,10,10,11,11,12,12,13,13,14,14,15,15,16,16,17,17,18,18]
[{"$nulls":25},"Grp  4",1,2,2,3,3,4,4,5,5,6,6,7,7,8,8,9,9,10,10,11,11,12,12,13,13,14,14,15,15,16,16,17,17,18,18,19]
[{"$nulls":25},"Grp  5",1,2,2,3,3,4,4,5,5,6,6,7,7,8,8,9,9,10,10,11,11,12,12,13,13,14,14,15,15,16,16,17,17,18,18,19]
[{"$nulls":25},"Grp  6",1,2,2,3,3,4,4,5,5,6,6,7,7,8,8,9,9,10,10,11,11,12,12,13,13,14,14,15,15,16,16,17,17,18,18,19]
[{"$nulls":25},"Grp  7",1,2,2,3,3,4,4,5,5,6,6,7,7,8,8,9,9,10,10,11,11,12,12,13,13,14,14,15,15,16,16,17,17,18,18,19]
[{"$nulls":25},"Grp  8",1,2,2,3,3,4,4,5,5,6,6,7,7,8,8,9,9,10,10,11,11,12,12,13,13,14,14,{"$f":"AZ81+1","v":15},15,16,16,17,17,18,18,19]
[{"$nulls":33},"DT1 --> 0,5 h",{"$nulls":6},"DT2 --> 1 h"]
[{"$nulls":33},"Travail noté"]
[]
[{"$nulls":23},{"$f":"CONCATENATE(AJ86,Y87)","v":"01"},"Les groupes"]
[{"$nulls":30},{"$f":"IF(LEFT(T1,1)=\"3\",\"Troisième\",IF(LEFT(T1,1)=\"4\",\"Quatrième\",IF(LEFT(T1,1)=\"5\",\"Cinquiéme\",\"Sixième\")))","v":"Sixième"},{"$nulls":4},{"$f":"T1","v":0},null,null,{"$f":"N3","v":"Vendredi"},{"$nulls":4},{"$f":"O3","v":0}]
[{"$nulls":17},{"$error":"#N/A"},{"$error":"#N/A"},{"$error":"#N/A"},{"$error":"#N/A"},{"$error":"#N/A"},1,null,1,{"$f":"IF(ISNA(R87),\"\",R87)&\"  --  \"&IF(ISNA(S87),\"\",S87)&\" --  \"&IF(ISNA(T87),\"\",T87)&\" --  \"&IF(ISNA(U87),\"\",U87)&\"  --  \"&IF(ISNA(V87),\"\",V87)","v":"  --   --   --    --  "},{"$nulls":12},5,{"$f":"IF(ISNA(R91),\"\",R91)&\"  --  \"&IF(ISNA(S91),\"\",S91)&\" --  \"&IF(ISNA(T91),\"\",T91)&\" --  \"&IF(ISNA(U91),\"\",U91)&\"  --  \"&IF(ISNA(V91),\"\",V91)","v":"  --   --   --    --  "}]
[{"$nulls":17},{"$error":"#N/A"},{"$error":"#N/A"},{"$error":"#N/A"},{"$error":"#N/A"},{"$error":"#N/A"},2,null,2,{"$f":"IF(ISNA(R88),\"\",R88)&\"  --  \"&IF(ISNA(S88),\"\",S88)&\" --  \"&IF(ISNA(T88),\"\",T88)&\" --  \"&IF(ISNA(U88),\"\",U88)&\"  --  \"&IF(ISNA(V88),\"\",V88)","v":"  --   --   --    --  "},{"$nulls":12},6,{"$f":"IF(ISNA(R92),\"\",R92)&\"  --  \"&IF(ISNA(S92),\"\",S92)&\" --  \"&IF(ISNA(T92),\"\",T92)&\" --  \"&IF(ISNA(U92),\"\",U92)&\"  --  \"&IF(ISNA(V92),\"\",V92)","v":"  --   --   --    --  "}]
[{"$nulls":17},{"$error":"#N/A"},{"$error":"#N/A"},{"$error":"#N/A"},{"$error":"#N/A"},{"$error":"#N/A"},3,null,3,{"$f":"IF(ISNA(R89),\"\",R89)&\"  --  \"&IF(ISNA(S89),\"\",S89)&\" --  \"&IF(ISNA(T89),\"\",T89)&\" --  \"&IF(ISNA(U89),\"\",U89)&\"  --  \"&IF(ISNA(V89),\"\",V89)","v":"  --   --   --    --  "},{"$nulls":12},7,{"$f":"IF(ISNA(R93),\"\",R93)&\"  --  \"&IF(ISNA(S93),\"\",S93)&\" --  \"&IF(ISNA(T93),\"\",T93)&\" --  \"&IF(ISNA(U93),\"\",U93)&\"  --  \"&IF(ISNA(V93),\"\",V93)","v":"  --   --   --    --  "}]
[{"$nulls":17},{"$error":"#N/A"},{"$error":"#N/A"},{"$error":"#N/A"},{"$error":"#N/A"},{"$error":"#N/A"},4,null,4,{"$f":"IF(ISNA(R90),\"\",R90)&\"  --  \"&IF(ISNA(S90),\"\",S90)&\" --  \"&IF(ISNA(T90),\"\",T90)&\" --  \"&IF(ISNA(U90),\"\",U90)&\"  --  \"&IF(ISNA(V90),\"\",V90)","v":"  --   --   --    --  "},{"$nulls":12},8,{"$f":"IF(ISNA(R94),\"\",R94)&\"  --  \"&IF(ISNA(S94),\"\",S94)&\" --  \"&IF(ISNA(T94),\"\",T94)&\" --  \"&IF(ISNA(U94),\"\",U94)&\"  --  \"&IF(ISNA(V94),\"\",V94)","v":"  --   --   --    --  "}]
[{"$nulls":17},{"$error":"#N/A"},{"$error":"#N/A"},{"$error":"#N/A"},{"$error":"#N/A"},{"$error":"#N/A"},5,{"$nulls":3},"Groupe et N° activité",{"$nulls":7},"Les activités par groupes"]
[{"$nulls":17},{"$error":"#N/A"},{"$error":"#N/A"},{"$error":"#N/A"},{"$error":"#N/A"},{"$error":"#N/A"},null,null,"N° Sem",{"$f":"TEXT(Z93,\"jjjj\")","v":"jjjj"},"G 1","G2","G3","G4","G5","G6","G7","G8"]
[{"$nulls":17},{"$error":"#N/A"},{"$error":"#N/A"},{"$error":"#N/A"},{"$error":"#N/A"},{"$error":"#N/A"},null,null,1,{"$f":"H4","v":"2018-08-24"},{"$f":"AA74","v":1},{"$f":"AA75","v":1},{"$f":"AA76","v":1},{"$f":"AA77","v":1},{"$f":"AA78","v":1},{"$f":"AA79","v":1},{"$f":"AA80","v":1},{"$f":"AA81","v":1},"Accueil - organisation - rotation et planning  - Départ de l' activité \" Présentation du classeur\"",{"$nulls":11},1]
[{"$nulls":17},{"$error":"#N/A"},{"$error":"#N/A"},{"$error":"#N/A"},{"$error":"#N/A"},{"$error":"#N/A"},null,null,{"$f":"Y93+1","v":2},{"$f":"H5","v":"2018-08-28"},{"$f":"IF(OFFSET($AA$74,0,$Y93)=41,\"\",OFFSET($AA$74,0,$Y93))","v":1},{"$f":"IF(OFFSET($AA$74,$Y$93,$Y93)=41,\"\",OFFSET($AA$74,$Y$93,$Y93))","v":1},{"$f":"IF(OFFSET($AA$74,$Y$94,$Y93)=41,\"\",OFFSET($AA$74,$Y$94,$Y93))","v":1},{"$f":"IF(OFFSET($AA$74,$Y$95,$Y93)=41,\"\",OFFSET($AA$74,$Y$95,$Y93))","v":2},{"$f":"IF(OFFSET($AA$74,$Y$96,$Y93)=41,\"\",OFFSET($AA$74,$Y$96,$Y93))","v":2},{"$f":"IF(OFFSET($AA$74,$Y$97,$Y93)=41,\"\",OFFSET($AA$74,$Y$97,$Y93))","v":2},{"$f":"IF(OFFSET($AA$74,$Y$98,$Y93)=41,\"\",OFFSET($AA$74,$Y$98,$Y93))","v":2},{"$f":"IF(OFFSET($AA$74,$Y$99,$Y93)=41,\"\",OFFSET($AA$74,$Y$99,$Y93))","v":2},{"$error":"#VALUE!"},{"$nulls":5},{"$error":"#VALUE!"},{"$nulls":5},{"$f":"AU93+1","v":2}]
[{"$nulls":17},{"$error":"#N/A"},{"$error":"#N/A"},{"$error":"#N/A"},{"$error":"#N/A"},{"$error":"#N/A"},null,null,{"$f":"Y94+1","v":3},"2018-09-07",{"$f":"IF(OFFSET($AA$74,0,$Y94)=41,\"\",OFFSET($AA$74,0,$Y94))","v":2},{"$f":"IF(OFFSET($AA$74,$Y$93,$Y94)=41,\"\",OFFSET($AA$74,$Y$93,$Y94))","v":2},{"$f":"IF(OFFSET($AA$74,$Y$94,$Y94)=41,\"\",OFFSET($AA$74,$Y$94,$Y94))","v":2},{"$f":"IF(OFFSET($AA$74,$Y$95,$Y94)=41,\"\",OFFSET($AA$74,$Y$95,$Y94))","v":2},{"$f":"IF(OFFSET($AA$74,$Y$96,$Y94)=41,\"\",OFFSET($AA$74,$Y$96,$Y94))","v":2},{"$f":"IF(OFFSET($AA$74,$Y$97,$Y94)=41,\"\",OFFSET($AA$74,$Y$97,$Y94))","v":2},{"$f":"IF(OFFSET($AA$74,$Y$98,$Y94)=41,\"\",OFFSET($AA$74,$Y$98,$Y94))","v":2},{"$f":"IF(OFFSET($AA$74,$Y$99,$Y94)=41,\"\",OFFSET($AA$74,$Y$99,$Y94))","v":2},{"$error":"#VALUE!"},{"$nulls":5},{"$error":"#VALUE!"},{"$nulls":5},{"$f":"AU94+1","v":3}]
[{"$nulls":24},4,"2018-09-11",2,2,2,3,3,3,3,3,{"$error":"#VALUE!"},{"$nulls":5},{"$error":"#VALUE!"},{"$nulls":5},4]
[{"$nulls":24},5,"2018-09-21",3,3,3,3,3,3,3,3,{"$error":"#VALUE!"},{"$nulls":5},{"$error":"#VALUE!"},{"$nulls":5},5]
[{"$nulls":24},6,"2018-09-25",3,3,3,4,4,4,4,4,{"$error":"#VALUE!"},{"$nulls":5},{"$error":"#VALUE!"},{"$nulls":5},6]
[{"$nulls":24},7,"2018-10-05",4,4,4,4,4,4,4,4,{"$error":"#VALUE!"},{"$nulls":5},{"$error":"#VALUE!"},{"$nulls":5},7]
[{"$nulls":24},8,"2018-10-09",4,4,4,5,5,5,5,5,{"$error":"#VALUE!"},{"$nulls":5},{"$error":"#VALUE!"},{"$nulls":5},8]
[{"$nulls":24},9,"2018-11-02",5,5,5,5,5,5,5,5,{"$error":"#VALUE!"},{"$nulls":5},{"$error":"#VALUE!"},{"$nulls":5},9]
[{"$nulls":24},10,"2018-11-06",5,5,5,6,6,6,6,6,{"$error":"#VALUE!"},{"$nulls":5},{"$error":"#VALUE!"},{"$nulls":5},10]
[{"$nulls":24},11,"2018-11-16",6,6,6,6,6,6,6,6,{"$error":"#VALUE!"},{"$nulls":5},{"$error":"#VALUE!"},{"$nulls":5},11]
[{"$nulls":24},12,"2018-11-20",6,6,6,7,7,7,7,7,{"$error":"#VALUE!"},{"$nulls":5},{"$error":"#VALUE!"},{"$nulls":5},12]
[{"$nulls":24},13,"2018-11-30",7,7,7,7,7,7,7,7,{"$error":"#VALUE!"},{"$nulls":5},{"$error":"#VALUE!"},{"$nulls":5},13]
[{"$nulls":24},14,"2018-12-04",7,7,7,8,8,8,8,8,{"$error":"#VALUE!"},{"$nulls":5},{"$error":"#VALUE!"},{"$nulls":5},14]
[{"$nulls":24},15,"2018-12-14",8,8,8,8,8,8,8,8,{"$error":"#VALUE!"},{"$nulls":5},{"$error":"#VALUE!"},{"$nulls":5},15]
[{"$nulls":24},16,"2018-12-18",8,8,8,9,9,9,9,9,{"$error":"#VALUE!"},{"$nulls":5},{"$error":"#VALUE!"},{"$nulls":5},16]
[{"$nulls":24},17,"2019-02-01",9,9,9,9,9,9,9,9,{"$error":"#VALUE!"},{"$nulls":5},{"$error":"#VALUE!"},{"$nulls":5},17]
[{"$nulls":24},18,"2019-02-05",9,9,9,10,10,10,10,10,{"$error":"#VALUE!"},{"$nulls":5},{"$error":"#VALUE!"},{"$nulls":5},18]
[{"$nulls":24},19,{"$f":"H23","v":"2019-02-19"},10,10,10,10,10,10,10,10,{"$error":"#VALUE!"},{"$nulls":5},{"$error":"#VALUE!"},{"$nulls":5},19]
[{"$nulls":24},20,"2019-03-01",10,10,10,11,11,11,11,11,{"$error":"#VALUE!"},{"$nulls":5},{"$error":"#VALUE!"},{"$nulls":5},20]
[{"$nulls":24},21,"2019-03-05",11,11,11,11,11,11,11,11,{"$error":"#VALUE!"},{"$nulls":5},{"$error":"#VALUE!"},{"$nulls":5},21]
[{"$nulls":24},22,"2019-03-29",11,11,11,12,12,12,12,12,{"$error":"#VALUE!"},{"$nulls":5},{"$error":"#VALUE!"},{"$nulls":5},22]
[{"$nulls":24},23,"2019-04-02",12,12,12,12,12,12,12,12,{"$error":"#VALUE!"},{"$nulls":5},{"$error":"#VALUE!"},{"$nulls":5},23]
[{"$nulls":24},24,"2019-04-12",12,12,12,13,13,13,13,13,{"$error":"#VALUE!"},{"$nulls":5},{"$error":"#VALUE!"},{"$nulls":5},24]
[{"$nulls":24},25,"2019-04-16",13,13,13,13,13,13,13,13,{"$error":"#VALUE!"},{"$nulls":5},{"$error":"#VALUE!"},{"$nulls":5},25]
[{"$nulls":24},26,"2019-04-26",13,13,13,14,14,14,14,14,{"$error":"#VALUE!"},{"$nulls":5},{"$error":"#VALUE!"},{"$nulls":5},26]
[{"$nulls":24},27,"2019-04-30",14,14,14,14,14,14,14,14,{"$error":"#VALUE!"},{"$nulls":5},{"$error":"#VALUE!"},{"$nulls":5},27]
[{"$nulls":24},28,"2019-05-24",14,14,14,15,15,15,15,15,{"$error":"#VALUE!"},{"$nulls":5},{"$error":"#VALUE!"},{"$nulls":5},28]
[{"$nulls":24},29,"2019-05-28",15,15,15,15,15,15,15,15,{"$error":"#VALUE!"},{"$nulls":5},"",{"$nulls":5},29]
[{"$nulls":24},30,"2019-06-07",15,15,15,16,16,16,16,16,{"$error":"#VALUE!"},{"$nulls":5},{"$error":"#VALUE!"},{"$nulls":5},30]
[{"$nulls":24},31,"2019-06-11",16,16,16,16,16,16,16,16,{"$error":"#VALUE!"},{"$nulls":5},{"$error":"#VALUE!"},{"$nulls":5},31]
[{"$nulls":24},32,"2019-06-21",16,16,16,17,17,17,17,17,{"$error":"#VALUE!"},{"$nulls":5},{"$error":"#VALUE!"},{"$nulls":5},32]
[{"$nulls":24},33,"2019-06-25",17,17,17,17,17,17,17,17,{"$error":"#VALUE!"},{"$nulls":5},"",{"$nulls":5},33]
[{"$nulls":24},34,"2019-07-05",17,17,17,18,18,18,18,18,{"$error":"#VALUE!"},{"$nulls":5},{"$error":"#VALUE!"},{"$nulls":5},34]
[{"$nulls":24},35,"2019-08-20",18,18,18,18,18,18,18,18,{"$error":"#VALUE!"},{"$nulls":5},{"$error":"#VALUE!"},{"$nulls":5},35]
[{"$nulls":24},36,null,18,18,18,19,19,19,19,19,{"$error":"#VALUE!"},{"$nulls":5},"",{"$nulls":5},36]

{"sheet":"vierge","index":13,"n_rows":128,"n_cols":62,"rows_kept":128,"merged":[[0,13,0,15],[1,17,2,18],[2,0,2,1],[2,3,2,6],[2,13,2,14],[2,15,2,16],[3,2,3,6],[3,7,3,8],[4,2,4,6],[4,7,4,8],[5,2,5,6],[5,7,5,8],[6,2,6,6],[6,7,6,8],[7,2,7,6],[7,7,7,8],[8,2,8,6],[8,7,8,8],[9,2,9,6],[9,7,9,8],[10,2,10,6],[10,7,10,8],[11,2,11,6],[11,7,11,8],[12,2,12,6],[12,7,12,8],[13,2,13,6],[13,7,13,8],[14,2,14,6],[14,7,14,8],[15,2,15,6],[15,7,15,8],[16,2,16,6],[16,7,16,8],[17,2,17,6],[17,7,17,8],[18,2,18,6],[18,7,18,8],[19,2,19,6],[19,7,19,8],[20,2,20,6],[20,7,20,8],[21,2,21,6],[21,7,21,8],[22,2,22,6],[22,7,22,8],[23,2,23,6],[23,7,23,8],[24,2,24,6],[24,7,24,8],[25,2,25,6],[25,7,25,8],[26,2,26,6],[26,7,26,8],[27,2,27,6],[27,7,27,8],[28,2,28,6],[28,7,28,8],[29,2,29,6],[29,7,29,8],[30,2,30,6],[30,7,30,8],[31,2,31,6],[31,7,31,8],[32,2,32,6],[32,7,32,8],[33,2,33,6],[33,7,33,8],[34,2,34,6],[34,7,34,8],[35,2,35,6],[35,7,35,8],[36,2,36,6],[36,7,36,8],[37,7,37,8],[38,2,38,6],[38,7,38,8],[65,28,65,29],[67,26,70,26],[67,27,70,27],[67,28,70,28],[67,29,70,29],[67,30,70,30],[67,31,70,31],[67,32,70,32],[67,33,70,33],[67,34,70,34],[67,35,70,35],[67,36,70,36],[67,37,70,37],[67,38,70,38],[67,39,70,39],[67,40,70,40],[67,41,70,41],[67,42,70,42],[67,43,70,43],[67,44,70,44],[67,45,70,45],[67,46,70,46],[67,47,70,47],[67,48,70,48],[67,49,70,49],[67,50,70,50],[67,51,70,51],[67,52,70,52],[67,53,70,53],[67,54,70,54],[67,55,70,55],[67,56,70,56],[67,57,70,57],[67,58,70,58],[67,59,70,59],[67,60,70,60],[67,61,70,61],[71,24,71,25],[84,24,84,45],[85,38,85,41],[86,25,86,36],[86,39,86,45],[87,25,87,36],[87,39,87,45],[88,25,88,36],[88,39,88,45],[89,25,89,36],[89,39,89,45],[90,26,90,33],[90,34,91,45],[92,34,92,45],[93,34,93,39],[93,40,93,45],[94,34,94,39],[94,40,94,45],[95,34,95,39],[95,40,95,45],[96,34,96,39],[96,40,96,45],[97,34,97,39],[97,40,97,45],[98,34,98,39],[98,40,98,45],[99,34,99,39],[99,40,99,45],[100,34,100,39],[100,40,100,45],[101,34,101,39],[101,40,101,45],[102,34,102,39],[102,40,102,45],[103,34,103,39],[103,40,103,45],[104,34,104,39],[104,40,104,45],[105,34,105,39],[105,40,105,45],[106,34,106,39],[106,40,106,45],[107,34,107,39],[107,40,107,45],[108,34,108,39],[108,40,108,45],[109,34,109,39],[109,40,109,45],[110,34,110,39],[110,40,110,45],[111,34,111,39],[111,40,111,45],[112,34,112,39],[112,40,112,45],[113,34,113,39],[113,40,113,45],[114,34,114,39],[114,40,114,45],[115,34,115,39],[115,40,115,45],[116,34,116,39],[116,40,116,45],[117,34,117,39],[117,40,117,45],[118,34,118,39],[118,40,118,45],[119,34,119,39],[119,40,119,45],[120,34,120,39],[120,40,120,45],[121,34,121,39],[121,40,121,45],[122,34,122,39],[122,40,122,45],[123,34,123,39],[123,40,123,45],[124,34,124,39],[124,40,124,45],[125,34,125,39],[125,40,125,45],[126,34,126,39],[126,40,126,45],[127,34,127,39],[127,40,127,45],[129,24,129,36],[130,25,130,36],[130,39,130,45],[131,25,131,36],[131,39,131,45],[132,25,132,36],[132,39,132,45],[133,25,133,36],[133,39,133,45]]}
[{"$nulls":4},"NOM :",{"$nulls":8},"Fond vert = cellules modifiables",{"$nulls":9},"affichage glissant sur 5 semaines"]
[{"$nulls":22},1]
["N°",null,null,"                TECHNOLOGIE  20 .  .  --  20 .  .",{"$nulls":7},"Temps / H","Synthése","Lundi",null,"Jeudi",{"$nulls":7},1]
[1,1,{"$nulls":11},"GROUPE",1]
[{"$f":"A4+1","v":2},{"$f":"IF(OR($O$4=1,$O$4=2),$AA94,IF(OR($O$4=3,$O$4=4),$AC94,IF(OR($O$4=5,$O$4=6),$AE94,IF(OR($O$4=7,$O$4=8),$AG94,\"\"))))","v":1}]
[{"$f":"A5+1","v":3},2]
[4,2]
[5,3]
[6,3]
[7,4]
[8,4]
[9,5]
[10,5]
[11,6]
[12,6]
[13,7]
[14,7]
[15,8]
[16,8]
[17,9]
[18,9]
[19,10]
[20,10]
[21,11]
[22,11]
[23,12]
[24,12]
[25,13]
[26,13]
[27,14]
[28,14]
[]
[1,15]
[2,16]
[3,16]
[4,17]
[5,17]
[6,{"$f":"IF(OR($O$4=1,$O$4=2),$AA127,IF(OR($O$4=3,$O$4=4),$AC127,IF(OR($O$4=5,$O$4=6),$AE127,IF(OR($O$4=7,$O$4=8),$AG127,\"\"))))","v":18}]
[7,18]
[]
[]
[null,null,"Binôme avec :"]
{"$rows_empty":22}
[{"$nulls":28},"Modifier u2 et w2 - Planning pour 8 ou 6 grp",{"$nulls":6},"Sem B 2h",null,"NON"]
[{"$nulls":27},"Planning",{"$f":"T1","v":0},null,null,{"$f":"N3","v":"Lundi"},{"$nulls":10},0]
[]
[{"$nulls":26},{"$f":"Z93","v":"00:00:00"},{"$f":"OFFSET($Z$93,AA73,0)","v":"00:00:00"},{"$f":"OFFSET($Z$93,AB73,0)","v":"00:00:00"},"00:00:00","00:00:00","00:00:00","00:00:00","00:00:00","00:00:00","00:00:00","00:00:00","00:00:00","00:00:00","00:00:00","00:00:00","00:00:00","00:00:00","00:00:00","00:00:00","00:00:00","00:00:00","00:00:00","00:00:00","00:00:00","00:00:00","00:00:00","00:00:00","00:00:00","00:00:00","00:00:00","00:00:00","00:00:00","00:00:00","00:00:00","00:00:00","00:00:00"]
[]
[]
[]
[{"$nulls":24},"Temps",null,2,2,2,2,2,2,2,2,2,2,2,2,2,2,2,2,2,2,2,2,2,2,2,2,2,2,2,2,2,2,2,2,2,2,2,2]
[{"$nulls":25},"Semaine",1,{"$f":"AA73+1","v":2},{"$f":"AB73+1","v":3},4,5,6,7,8,9,10,11,12,13,14,15,16,17,18,{"$f":"AR73+1","v":19},{"$f":"AS73+1","v":20},21,22,23,24,25,26,27,28,29,30,31,32,33,34,35,36]
[{"$nulls":25},"Grp  1",1,1,{"$f":"AA74+1","v":2},{"$f":"AB74+1","v":2},3,3,4,4,5,5,6,6,7,7,8,8,9,9,10,{"$f":"AR74+1","v":10},11,11,12,12,13,13,14,14,15,15,16,16,17,17,18,{"$f":"BH74+1","v":18}]
[{"$nulls":25},"Grp  2",1,1,{"$f":"AA75+1","v":2},2,3,3,4,4,5,5,6,6,7,7,8,8,9,9,10,10,11,11,12,12,13,13,14,14,15,15,16,16,17,17,18,18]
[{"$nulls":23},"FREQUENCE(A1:A30;{1,8;2,7})",null,"Grp  3",1,1,2,2,3,3,4,4,5,5,6,6,7,7,8,8,9,9,10,10,11,11,12,12,13,13,14,14,15,15,16,16,17,17,18,18]
[{"$nulls":25},"Grp  4",1,2,2,3,3,4,4,5,5,6,6,7,7,8,8,9,9,10,10,11,11,12,12,13,13,14,14,15,15,16,16,17,17,18,18,19]
[{"$nulls":25},"Grp  5",1,2,2,3,3,4,4,5,5,6,6,7,7,8,8,9,9,10,10,11,11,12,12,13,13,14,14,15,15,16,16,17,17,18,18,19]
[{"$nulls":25},"Grp  6",1,2,2,3,3,4,4,5,5,6,6,7,7,8,8,9,9,10,10,11,11,12,12,13,13,14,14,15,15,16,16,17,17,18,18,19]
[{"$nulls":25},"Grp  7",1,2,2,3,3,4,4,5,5,6,6,7,7,8,8,9,9,10,10,11,11,12,12,13,13,14,14,15,15,16,16,17,17,18,18,19]
[{"$nulls":25},"Grp  8",1,2,2,3,3,4,4,5,5,6,6,7,7,8,8,9,9,10,10,11,11,12,12,13,13,14,14,15,15,16,16,17,17,18,18,19]
[{"$nulls":33},"DT1 --> 0,5 h",{"$nulls":6},"DT2 --> 1 h"]
[{"$nulls":33},"Travail noté"]
[]
[{"$nulls":23},{"$f":"CONCATENATE(AJ86,Y87)","v":"01"},"Les groupes"]
[{"$nulls":30},{"$f":"IF(LEFT(T1,1)=\"3\",\"Troisième\",IF(LEFT(T1,1)=\"4\",\"Quatrième\",IF(LEFT(T1,1)=\"5\",\"Cinquiéme\",\"Sixième\")))","v":"Sixième"},{"$nulls":4},{"$f":"T1","v":0},null,null,{"$f":"N3","v":"Lundi"},{"$nulls":4},{"$f":"O3","v":0}]
[{"$nulls":17},{"$error":"#N/A"},{"$error":"#N/A"},{"$error":"#N/A"},{"$error":"#N/A"},{"$error":"#N/A"},1,null,1,{"$f":"IF(ISNA(R87),\"\",R87)&\"  --  \"&IF(ISNA(S87),\"\",S87)&\" --  \"&IF(ISNA(T87),\"\",T87)&\" --  \"&IF(ISNA(U87),\"\",U87)&\"  --  \"&IF(ISNA(V87),\"\",V87)","v":"  --   --   --    --  "},{"$nulls":12},5,{"$f":"IF(ISNA(R91),\"\",R91)&\"  --  \"&IF(ISNA(S91),\"\",S91)&\" --  \"&IF(ISNA(T91),\"\",T91)&\" --  \"&IF(ISNA(U91),\"\",U91)&\"  --  \"&IF(ISNA(V91),\"\",V91)","v":"  --   --   --    --  "}]
[{"$nulls":17},{"$error":"#N/A"},{"$error":"#N/A"},{"$error":"#N/A"},{"$error":"#N/A"},{"$error":"#N/A"},2,null,2,{"$f":"IF(ISNA(R88),\"\",R88)&\"  --  \"&IF(ISNA(S88),\"\",S88)&\" --  \"&IF(ISNA(T88),\"\",T88)&\" --  \"&IF(ISNA(U88),\"\",U88)&\"  --  \"&IF(ISNA(V88),\"\",V88)","v":"  --   --   --    --  "},{"$nulls":12},6,{"$f":"IF(ISNA(R92),\"\",R92)&\"  --  \"&IF(ISNA(S92),\"\",S92)&\" --  \"&IF(ISNA(T92),\"\",T92)&\" --  \"&IF(ISNA(U92),\"\",U92)&\"  --  \"&IF(ISNA(V92),\"\",V92)","v":"  --   --   --    --  "}]
[{"$nulls":17},{"$error":"#N/A"},{"$error":"#N/A"},{"$error":"#N/A"},{"$error":"#N/A"},{"$error":"#N/A"},3,null,3,{"$f":"IF(ISNA(R89),\"\",R89)&\"  --  \"&IF(ISNA(S89),\"\",S89)&\" --  \"&IF(ISNA(T89),\"\",T89)&\" --  \"&IF(ISNA(U89),\"\",U89)&\"  --  \"&IF(ISNA(V89),\"\",V89)","v":"  --   --   --    --  "},{"$nulls":12},7,{"$f":"IF(ISNA(R93),\"\",R93)&\"  --  \"&IF(ISNA(S93),\"\",S93)&\" --  \"&IF(ISNA(T93),\"\",T93)&\" --  \"&IF(ISNA(U93),\"\",U93)&\"  --  \"&IF(ISNA(V93),\"\",V93)","v":"  --   --   --    --  "}]
[{"$nulls":17},{"$error":"#N/A"},{"$error":"#N/A"},{"$error":"#N/A"},{"$error":"#N/A"},{"$error":"#N/A"},4,null,4,{"$f":"IF(ISNA(R90),\"\",R90)&\"  --  \"&IF(ISNA(S90),\"\",S90)&\" --  \"&IF(ISNA(T90),\"\",T90)&\" --  \"&IF(ISNA(U90),\"\",U90)&\"  --  \"&IF(ISNA(V90),\"\",V90)","v":"  --   --   --    --  "},{"$nulls":12},8,{"$f":"IF(ISNA(R94),\"\",R94)&\"  --  \"&IF(ISNA(S94),\"\",S94)&\" --  \"&IF(ISNA(T94),\"\",T94)&\" --  \"&IF(ISNA(U94),\"\",U94)&\"  --  \"&IF(ISNA(V94),\"\",V94)","v":"  --   --   --    --  "}]
[{"$nulls":17},{"$error":"#N/A"},{"$error":"#N/A"},{"$error":"#N/A"},{"$error":"#N/A"},{"$error":"#N/A"},5,{"$nulls":3},"Groupe et N° activité",{"$nulls":7},"Les activités par groupes"]
[{"$nulls":17},{"$error":"#N/A"},{"$error":"#N/A"},{"$error":"#N/A"},{"$error":"#N/A"},{"$error":"#N/A"},null,null,"N° Sem",{"$f":"TEXT(Z93,\"jjjj\")","v":"jjjj"},"G 1","G2","G3","G4","G5","G6","G7","G8"]
[{"$nulls":17},{"$error":"#N/A"},{"$error":"#N/A"},{"$error":"#N/A"},{"$error":"#N/A"},{"$error":"#N/A"},null,null,1,{"$f":"H4","v":"00:00:00"},{"$f":"AA74","v":1},{"$f":"AA75","v":1},{"$f":"AA76","v":1},{"$f":"AA77","v":1},{"$f":"AA78","v":1},{"$f":"AA79","v":1},{"$f":"AA80","v":1},{"$f":"AA81","v":1},"Accueil - organisation - rotation et planning  - Départ de l' activité \" Présentation du classeur\"",{"$nulls":11},1]
[{"$nulls":17},{"$error":"#N/A"},{"$error":"#N/A"},{"$error":"#N/A"},{"$error":"#N/A"},{"$error":"#N/A"},null,null,{"$f":"Y93+1","v":2},{"$f":"H5","v":"00:00:00"},{"$f":"IF(OFFSET($AA$74,0,$Y93)=41,\"\",OFFSET($AA$74,0,$Y93))","v":1},{"$f":"IF(OFFSET($AA$74,$Y$93,$Y93)=41,\"\",OFFSET($AA$74,$Y$93,$Y93))","v":1},{"$f":"IF(OFFSET($AA$74,$Y$94,$Y93)=41,\"\",OFFSET($AA$74,$Y$94,$Y93))","v":1},{"$f":"IF(OFFSET($AA$74,$Y$95,$Y93)=41,\"\",OFFSET($AA$74,$Y$95,$Y93))","v":2},{"$f":"IF(OFFSET($AA$74,$Y$96,$Y93)=41,\"\",OFFSET($AA$74,$Y$96,$Y93))","v":2},{"$f":"IF(OFFSET($AA$74,$Y$97,$Y93)=41,\"\",OFFSET($AA$74,$Y$97,$Y93))","v":2},{"$f":"IF(OFFSET($AA$74,$Y$98,$Y93)=41,\"\",OFFSET($AA$74,$Y$98,$Y93))","v":2},{"$f":"IF(OFFSET($AA$74,$Y$99,$Y93)=41,\"\",OFFSET($AA$74,$Y$99,$Y93))","v":2},{"$error":"#VALUE!"},{"$nulls":5},{"$error":"#VALUE!"},{"$nulls":5},{"$f":"AU93+1","v":2}]
[{"$nulls":17},{"$error":"#N/A"},{"$error":"#N/A"},{"$error":"#N/A"},{"$error":"#N/A"},{"$error":"#N/A"},null,null,{"$f":"Y94+1","v":3},"00:00:00",{"$f":"IF(OFFSET($AA$74,0,$Y94)=41,\"\",OFFSET($AA$74,0,$Y94))","v":2},{"$f":"IF(OFFSET($AA$74,$Y$93,$Y94)=41,\"\",OFFSET($AA$74,$Y$93,$Y94))","v":2},{"$f":"IF(OFFSET($AA$74,$Y$94,$Y94)=41,\"\",OFFSET($AA$74,$Y$94,$Y94))","v":2},{"$f":"IF(OFFSET($AA$74,$Y$95,$Y94)=41,\"\",OFFSET($AA$74,$Y$95,$Y94))","v":2},{"$f":"IF(OFFSET($AA$74,$Y$96,$Y94)=41,\"\",OFFSET($AA$74,$Y$96,$Y94))","v":2},{"$f":"IF(OFFSET($AA$74,$Y$97,$Y94)=41,\"\",OFFSET($AA$74,$Y$97,$Y94))","v":2},{"$f":"IF(OFFSET($AA$74,$Y$98,$Y94)=41,\"\",OFFSET($AA$74,$Y$98,$Y94))","v":2},{"$f":"IF(OFFSET($AA$74,$Y$99,$Y94)=41,\"\",OFFSET($AA$74,$Y$99,$Y94))","v":2},{"$error":"#VALUE!"},{"$nulls":5},{"$error":"#VALUE!"},{"$nulls":5},{"$f":"AU94+1","v":3}]
[{"$nulls":24},4,"00:00:00",2,2,2,3,3,3,3,3,{"$error":"#VALUE!"},{"$nulls":5},{"$error":"#VALUE!"},{"$nulls":5},4]
[{"$nulls":24},5,"00:00:00",3,3,3,3,3,3,3,3,{"$error":"#VALUE!"},{"$nulls":5},{"$error":"#VALUE!"},{"$nulls":5},5]
[{"$nulls":24},6,"00:00:00",3,3,3,4,4,4,4,4,{"$error":"#VALUE!"},{"$nulls":5},{"$error":"#VALUE!"},{"$nulls":5},6]
[{"$nulls":24},7,"00:00:00",4,4,4,4,4,4,4,4,{"$error":"#VALUE!"},{"$nulls":5},{"$error":"#VALUE!"},{"$nulls":5},7]
[{"$nulls":24},8,"00:00:00",4,4,4,5,5,5,5,5,{"$error":"#VALUE!"},{"$nulls":5},{"$error":"#VALUE!"},{"$nulls":5},8]
[{"$nulls":24},9,"00:00:00",5,5,5,5,5,5,5,5,{"$error":"#VALUE!"},{"$nulls":5},{"$error":"#VALUE!"},{"$nulls":5},9]
[{"$nulls":24},10,"00:00:00",5,5,5,6,6,6,6,6,{"$error":"#VALUE!"},{"$nulls":5},{"$error":"#VALUE!"},{"$nulls":5},10]
[{"$nulls":24},11,"00:00:00",6,6,6,6,6,6,6,6,{"$error":"#VALUE!"},{"$nulls":5},{"$error":"#VALUE!"},{"$nulls":5},11]
[{"$nulls":24},12,"00:00:00",6,6,6,7,7,7,7,7,{"$error":"#VALUE!"},{"$nulls":5},{"$error":"#VALUE!"},{"$nulls":5},12]
[{"$nulls":24},13,"00:00:00",7,7,7,7,7,7,7,7,{"$error":"#VALUE!"},{"$nulls":5},{"$error":"#VALUE!"},{"$nulls":5},13]
[{"$nulls":24},14,"00:00:00",7,7,7,8,8,8,8,8,{"$error":"#VALUE!"},{"$nulls":5},{"$error":"#VALUE!"},{"$nulls":5},14]
[{"$nulls":24},15,"00:00:00",8,8,8,8,8,8,8,8,{"$error":"#VALUE!"},{"$nulls":5},{"$error":"#VALUE!"},{"$nulls":5},15]
[{"$nulls":24},16,"00:00:00",8,8,8,9,9,9,9,9,{"$error":"#VALUE!"},{"$nulls":5},{"$error":"#VALUE!"},{"$nulls":5},16]
[{"$nulls":24},17,"00:00:00",9,9,9,9,9,9,9,9,{"$error":"#VALUE!"},{"$nulls":5},{"$error":"#VALUE!"},{"$nulls":5},17]
[{"$nulls":24},18,"00:00:00",9,9,9,10,10,10,10,10,{"$error":"#VALUE!"},{"$nulls":5},{"$error":"#VALUE!"},{"$nulls":5},18]
[{"$nulls":24},19,{"$f":"H23","v":"00:00:00"},10,10,10,10,10,10,10,10,{"$error":"#VALUE!"},{"$nulls":5},{"$error":"#VALUE!"},{"$nulls":5},19]
[{"$nulls":24},20,"00:00:00",10,10,10,11,11,11,11,11,{"$error":"#VALUE!"},{"$nulls":5},{"$error":"#VALUE!"},{"$nulls":5},20]
[{"$nulls":24},21,"00:00:00",11,11,11,11,11,11,11,11,{"$error":"#VALUE!"},{"$nulls":5},{"$error":"#VALUE!"},{"$nulls":5},21]
[{"$nulls":24},22,"00:00:00",11,11,11,12,12,12,12,12,{"$error":"#VALUE!"},{"$nulls":5},{"$error":"#VALUE!"},{"$nulls":5},22]
[{"$nulls":24},23,"00:00:00",12,12,12,12,12,12,12,12,{"$error":"#VALUE!"},{"$nulls":5},{"$error":"#VALUE!"},{"$nulls":5},23]
[{"$nulls":24},24,"00:00:00",12,12,12,13,13,13,13,13,{"$error":"#VALUE!"},{"$nulls":5},{"$error":"#VALUE!"},{"$nulls":5},24]
[{"$nulls":24},25,"00:00:00",13,13,13,13,13,13,13,13,{"$error":"#VALUE!"},{"$nulls":5},{"$error":"#VALUE!"},{"$nulls":5},25]
[{"$nulls":24},26,"00:00:00",13,13,13,14,14,14,14,14,{"$error":"#VALUE!"},{"$nulls":5},{"$error":"#VALUE!"},{"$nulls":5},26]
[{"$nulls":24},27,"00:00:00",14,14,14,14,14,14,14,14,{"$error":"#VALUE!"},{"$nulls":5},{"$error":"#VALUE!"},{"$nulls":5},27]
[{"$nulls":24},28,"00:00:00",14,14,14,15,15,15,15,15,{"$error":"#VALUE!"},{"$nulls":5},{"$error":"#VALUE!"},{"$nulls":5},28]
[{"$nulls":24},29,"00:00:00",15,15,15,15,15,15,15,15,{"$error":"#VALUE!"},{"$nulls":5},"",{"$nulls":5},29]
[{"$nulls":24},30,"00:00:00",15,15,15,16,16,16,16,16,{"$error":"#VALUE!"},{"$nulls":5},{"$error":"#VALUE!"},{"$nulls":5},30]
[{"$nulls":24},31,"00:00:00",16,16,16,16,16,16,16,16,{"$error":"#VALUE!"},{"$nulls":5},{"$error":"#VALUE!"},{"$nulls":5},31]
[{"$nulls":24},32,"00:00:00",16,16,16,17,17,17,17,17,{"$error":"#VALUE!"},{"$nulls":5},{"$error":"#VALUE!"},{"$nulls":5},32]
[{"$nulls":24},33,"00:00:00",17,17,17,17,17,17,17,17,{"$error":"#VALUE!"},{"$nulls":5},"",{"$nulls":5},33]
[{"$nulls":24},34,"00:00:00",17,17,17,18,18,18,18,18,{"$error":"#VALUE!"},{"$nulls":5},{"$error":"#VALUE!"},{"$nulls":5},34]
[{"$nulls":24},35,"00:00:00",18,18,18,18,18,18,18,18,{"$error":"#VALUE!"},{"$nulls":5},{"$error":"#VALUE!"},{"$nulls":5},35]
[{"$nulls":24},36,null,18,18,18,19,19,19,19,19,{"$error":"#VALUE!"},{"$nulls":5},"",{"$nulls":5},36]

{"sheet":"308","index":14,"n_rows":128,"n_cols":62,"rows_kept":128,"merged":[[0,13,0,15],[1,17,2,18],[2,3,2,6],[2,13,2,14],[2,15,2,16],[3,2,3,6],[3,7,3,8],[4,2,4,6],[4,7,4,8],[5,2,5,6],[5,7,5,8],[6,2,6,6],[6,7,6,8],[7,2,7,6],[7,7,7,8],[8,2,8,6],[8,7,8,8],[9,2,9,6],[9,7,9,8],[10,2,10,6],[10,7,10,8],[11,2,11,6],[11,7,11,8],[12,2,12,6],[12,7,12,8],[13,2,13,6],[13,7,13,8],[14,2,14,6],[14,7,14,8],[15,2,15,6],[15,7,15,8],[16,2,16,6],[16,7,16,8],[17,2,17,6],[17,7,17,8],[18,2,18,6],[18,7,18,8],[19,2,19,6],[19,7,19,8],[20,2,20,6],[20,7,20,8],[21,2,21,6],[21,7,21,8],[22,2,22,6],[22,7,22,8],[23,2,23,6],[23,7,23,8],[24,2,24,6],[24,7,24,8],[25,2,25,6],[25,7,25,8],[26,2,26,6],[26,7,26,8],[27,2,27,6],[27,7,27,8],[28,2,28,6],[28,7,28,8],[29,2,29,6],[29,7,29,8],[30,2,30,6],[30,7,30,8],[31,2,31,6],[31,7,31,8],[32,2,32,6],[32,7,32,8],[33,2,33,6],[33,7,33,8],[34,2,34,6],[34,7,34,8],[35,2,35,6],[35,7,35,8],[36,2,36,6],[36,7,36,8],[37,7,37,8],[38,2,38,6],[38,7,38,8],[65,28,65,29],[67,26,70,26],[67,27,70,27],[67,28,70,28],[67,29,70,29],[67,30,70,30],[67,31,70,31],[67,32,70,32],[67,33,70,33],[67,34,70,34],[67,35,70,35],[67,36,70,36],[67,37,70,37],[67,38,70,38],[67,39,70,39],[67,40,70,40],[67,41,70,41],[67,42,70,42],[67,43,70,43],[67,44,70,44],[67,45,70,45],[67,46,70,46],[67,47,70,47],[67,48,70,48],[67,49,70,49],[67,50,70,50],[67,51,70,51],[67,52,70,52],[67,53,70,53],[67,54,70,54],[67,55,70,55],[67,56,70,56],[67,57,70,57],[67,58,70,58],[67,59,70,59],[67,60,70,60],[67,61,70,61],[71,24,71,25],[84,24,84,45],[85,38,85,41],[86,25,86,36],[86,39,86,45],[87,25,87,36],[87,39,87,45],[88,25,88,36],[88,39,88,45],[89,25,89,36],[89,39,89,45],[90,26,90,33],[90,34,91,45],[92,34,92,45],[93,34,93,39],[93,40,93,45],[94,34,94,39],[94,40,94,45],[95,34,95,39],[95,40,95,45],[96,34,96,39],[96,40,96,45],[97,34,97,39],[97,40,97,45],[98,34,98,39],[98,40,98,45],[99,34,99,39],[99,40,99,45],[100,34,100,39],[100,40,100,45],[101,34,101,39],[101,40,101,45],[102,34,102,39],[102,40,102,45],[103,34,103,39],[103,40,103,45],[104,34,104,39],[104,40,104,45],[105,34,105,39],[105,40,105,45],[106,34,106,39],[106,40,106,45],[107,34,107,39],[107,40,107,45],[108,34,108,39],[108,40,108,45],[109,34,109,39],[109,40,109,45],[110,34,110,39],[110,40,110,45],[111,34,111,39],[111,40,111,45],[112,34,112,39],[112,40,112,45],[113,34,113,39],[113,40,113,45],[114,34,114,39],[114,40,114,45],[115,34,115,39],[115,40,115,45],[116,34,116,39],[116,40,116,45],[117,34,117,39],[117,40,117,45],[118,34,118,39],[118,40,118,45],[119,34,119,39],[119,40,119,45],[120,34,120,39],[120,40,120,45],[121,34,121,39],[121,40,121,45],[122,34,122,39],[122,40,122,45],[123,34,123,39],[123,40,123,45],[124,34,124,39],[124,40,124,45],[125,34,125,39],[125,40,125,45],[126,34,126,39],[126,40,126,45],[127,34,127,39],[127,40,127,45],[129,24,129,36],[130,25,130,36],[130,39,130,45],[131,25,131,36],[131,39,131,45],[132,25,132,36],[132,39,132,45],[133,25,133,36],[133,39,133,45]]}
[{"$nulls":3},"NOM :",{"$nulls":9},"Fond vert = cellules modifiables",{"$nulls":9},"affichage glissant sur 5 semaines"]
[{"$nulls":22},1]
["Cor / Synt","N°",null,{"$f":"\"TECHNOLOGIE  \"&YEAR(H4)&\"  -  \"&YEAR(H4)+1&\"  \"&\n\"    - N° et titre de l'activité\"","v":"TECHNOLOGIE  2018  -  2019      - N° et titre de l'activité"},{"$nulls":7},"Temps / H","Semaine","Lundi",null,"Jeudi",{"$nulls":7},1]
[1,1,{"$nulls":5},{"$f":"IF(M4=\"A\",IF(B4=\"\",\"\",IF($N$3=\"Lundi\",Congés_auto!S39,IF($N$3=\"Mardi\",Congés_auto!T39,IF($N$3=\"Mercredi\",Congés_auto!U39,IF($N$3=\"Jeudi\",Congés_auto!V39,IF($N$3=\"Vendredi\",Congés_auto!W39,IF($N$3=\"Samedi\",Congés_auto!X39,0))))))),IF(B4=\"\",\"\",IF($P$3=\"Lundi\",Congés_auto!S39,IF($P$3=\"Mardi\",Congés_auto!T39,IF($P$3=\"Mercredi\",Congés_auto!U39,IF($P$3=\"Jeudi\",Congés_auto!V39,IF($P$3=\"Vendredi\",Congés_auto!W39,IF($P$3=\"Samedi\",Congés_auto!X39,0))))))))","v":"2018-08-20"},{"$nulls":3},2,"A","GROUPE",1]
[{"$f":"A4+1","v":2},{"$f":"IF(OR($O$4=1,$O$4=2),$AA94,IF(OR($O$4=3,$O$4=4),$AC94,IF(OR($O$4=5,$O$4=6),$AE94,IF(OR($O$4=7,$O$4=8),$AG94,\"\"))))","v":1},{"$nulls":5},{"$f":"IF(M5=\"A\",IF(B5=\"\",\"\",IF($N$3=\"Lundi\",Congés_auto!S40,IF($N$3=\"Mardi\",Congés_auto!T40,IF($N$3=\"Mercredi\",Congés_auto!U40,IF($N$3=\"Jeudi\",Congés_auto!V40,IF($N$3=\"Vendredi\",Congés_auto!W40,IF($N$3=\"Samedi\",Congés_auto!X40,0))))))),IF(B5=\"\",\"\",IF($P$3=\"Lundi\",Congés_auto!S40,IF($P$3=\"Mardi\",Congés_auto!T40,IF($P$3=\"Mercredi\",Congés_auto!U40,IF($P$3=\"Jeudi\",Congés_auto!V40,IF($P$3=\"Vendredi\",Congés_auto!W40,IF($P$3=\"Samedi\",Congés_auto!X40,0))))))))","v":"2018-08-30"},{"$nulls":3},{"$f":"IF(L4=1,2,1)","v":1},{"$f":"IF(M4=\"A\",\"B\",\"A\")","v":"B"}]
[{"$f":"A5+1","v":3},2,{"$nulls":5},{"$f":"IF(M6=\"A\",IF(B6=\"\",\"\",IF($N$3=\"Lundi\",Congés_auto!S41,IF($N$3=\"Mardi\",Congés_auto!T41,IF($N$3=\"Mercredi\",Congés_auto!U41,IF($N$3=\"Jeudi\",Congés_auto!V41,IF($N$3=\"Vendredi\",Congés_auto!W41,IF($N$3=\"Samedi\",Congés_auto!X41,0))))))),IF(B6=\"\",\"\",IF($P$3=\"Lundi\",Congés_auto!S41,IF($P$3=\"Mardi\",Congés_auto!T41,IF($P$3=\"Mercredi\",Congés_auto!U41,IF($P$3=\"Jeudi\",Congés_auto!V41,IF($P$3=\"Vendredi\",Congés_auto!W41,IF($P$3=\"Samedi\",Congés_auto!X41,0))))))))","v":"2018-09-03"},{"$nulls":3},{"$f":"IF(L5=1,2,1)","v":2},{"$f":"IF(M5=\"A\",\"B\",\"A\")","v":"A"}]
[4,2,{"$nulls":5},{"$f":"IF(M7=\"A\",IF(B7=\"\",\"\",IF($N$3=\"Lundi\",Congés_auto!S42,IF($N$3=\"Mardi\",Congés_auto!T42,IF($N$3=\"Mercredi\",Congés_auto!U42,IF($N$3=\"Jeudi\",Congés_auto!V42,IF($N$3=\"Vendredi\",Congés_auto!W42,IF($N$3=\"Samedi\",Congés_auto!X42,0))))))),IF(B7=\"\",\"\",IF($P$3=\"Lundi\",Congés_auto!S42,IF($P$3=\"Mardi\",Congés_auto!T42,IF($P$3=\"Mercredi\",Congés_auto!U42,IF($P$3=\"Jeudi\",Congés_auto!V42,IF($P$3=\"Vendredi\",Congés_auto!W42,IF($P$3=\"Samedi\",Congés_auto!X42,0))))))))","v":"2018-09-13"},{"$nulls":3},1,"B"]
[5,3,{"$nulls":5},{"$f":"IF(M8=\"A\",IF(B8=\"\",\"\",IF($N$3=\"Lundi\",Congés_auto!S43,IF($N$3=\"Mardi\",Congés_auto!T43,IF($N$3=\"Mercredi\",Congés_auto!U43,IF($N$3=\"Jeudi\",Congés_auto!V43,IF($N$3=\"Vendredi\",Congés_auto!W43,IF($N$3=\"Samedi\",Congés_auto!X43,0))))))),IF(B8=\"\",\"\",IF($P$3=\"Lundi\",Congés_auto!S43,IF($P$3=\"Mardi\",Congés_auto!T43,IF($P$3=\"Mercredi\",Congés_auto!U43,IF($P$3=\"Jeudi\",Congés_auto!V43,IF($P$3=\"Vendredi\",Congés_auto!W43,IF($P$3=\"Samedi\",Congés_auto!X43,0))))))))","v":"2018-09-17"},{"$nulls":3},2,"A"]
[6,3,{"$nulls":5},{"$f":"IF(M9=\"A\",IF(B9=\"\",\"\",IF($N$3=\"Lundi\",Congés_auto!S44,IF($N$3=\"Mardi\",Congés_auto!T44,IF($N$3=\"Mercredi\",Congés_auto!U44,IF($N$3=\"Jeudi\",Congés_auto!V44,IF($N$3=\"Vendredi\",Congés_auto!W44,IF($N$3=\"Samedi\",Congés_auto!X44,0))))))),IF(B9=\"\",\"\",IF($P$3=\"Lundi\",Congés_auto!S44,IF($P$3=\"Mardi\",Congés_auto!T44,IF($P$3=\"Mercredi\",Congés_auto!U44,IF($P$3=\"Jeudi\",Congés_auto!V44,IF($P$3=\"Vendredi\",Congés_auto!W44,IF($P$3=\"Samedi\",Congés_auto!X44,0))))))))","v":"2018-09-27"},{"$nulls":3},1,"B"]
[7,4,{"$nulls":5},{"$f":"IF(M10=\"A\",IF(B10=\"\",\"\",IF($N$3=\"Lundi\",Congés_auto!S45,IF($N$3=\"Mardi\",Congés_auto!T45,IF($N$3=\"Mercredi\",Congés_auto!U45,IF($N$3=\"Jeudi\",Congés_auto!V45,IF($N$3=\"Vendredi\",Congés_auto!W45,IF($N$3=\"Samedi\",Congés_auto!X45,0))))))),IF(B10=\"\",\"\",IF($P$3=\"Lundi\",Congés_auto!S45,IF($P$3=\"Mardi\",Congés_auto!T45,IF($P$3=\"Mercredi\",Congés_auto!U45,IF($P$3=\"Jeudi\",Congés_auto!V45,IF($P$3=\"Vendredi\",Congés_auto!W45,IF($P$3=\"Samedi\",Congés_auto!X45,0))))))))","v":"2018-10-01"},{"$nulls":3},2,"A"]
[8,4,{"$nulls":5},{"$f":"IF(M11=\"A\",IF(B11=\"\",\"\",IF($N$3=\"Lundi\",Congés_auto!S46,IF($N$3=\"Mardi\",Congés_auto!T46,IF($N$3=\"Mercredi\",Congés_auto!U46,IF($N$3=\"Jeudi\",Congés_auto!V46,IF($N$3=\"Vendredi\",Congés_auto!W46,IF($N$3=\"Samedi\",Congés_auto!X46,0))))))),IF(B11=\"\",\"\",IF($P$3=\"Lundi\",Congés_auto!S46,IF($P$3=\"Mardi\",Congés_auto!T46,IF($P$3=\"Mercredi\",Congés_auto!U46,IF($P$3=\"Jeudi\",Congés_auto!V46,IF($P$3=\"Vendredi\",Congés_auto!W46,IF($P$3=\"Samedi\",Congés_auto!X46,0))))))))","v":"2018-10-11"},{"$nulls":3},1,"B"]
[9,5,{"$nulls":5},{"$f":"IF(M12=\"A\",IF(B12=\"\",\"\",IF($N$3=\"Lundi\",Congés_auto!S47,IF($N$3=\"Mardi\",Congés_auto!T47,IF($N$3=\"Mercredi\",Congés_auto!U47,IF($N$3=\"Jeudi\",Congés_auto!V47,IF($N$3=\"Vendredi\",Congés_auto!W47,IF($N$3=\"Samedi\",Congés_auto!X47,0))))))),IF(B12=\"\",\"\",IF($P$3=\"Lundi\",Congés_auto!S47,IF($P$3=\"Mardi\",Congés_auto!T47,IF($P$3=\"Mercredi\",Congés_auto!U47,IF($P$3=\"Jeudi\",Congés_auto!V47,IF($P$3=\"Vendredi\",Congés_auto!W47,IF($P$3=\"Samedi\",Congés_auto!X47,0))))))))","v":"2018-10-29"},{"$nulls":3},2,"A"]
[10,5,{"$nulls":5},{"$f":"IF(M13=\"A\",IF(B13=\"\",\"\",IF($N$3=\"Lundi\",Congés_auto!S48,IF($N$3=\"Mardi\",Congés_auto!T48,IF($N$3=\"Mercredi\",Congés_auto!U48,IF($N$3=\"Jeudi\",Congés_auto!V48,IF($N$3=\"Vendredi\",Congés_auto!W48,IF($N$3=\"Samedi\",Congés_auto!X48,0))))))),IF(B13=\"\",\"\",IF($P$3=\"Lundi\",Congés_auto!S48,IF($P$3=\"Mardi\",Congés_auto!T48,IF($P$3=\"Mercredi\",Congés_auto!U48,IF($P$3=\"Jeudi\",Congés_auto!V48,IF($P$3=\"Vendredi\",Congés_auto!W48,IF($P$3=\"Samedi\",Congés_auto!X48,0))))))))","v":"2018-11-15"},{"$nulls":3},1,"B"]
[11,6,{"$nulls":5},{"$f":"IF(M14=\"A\",IF(B14=\"\",\"\",IF($N$3=\"Lundi\",Congés_auto!S49,IF($N$3=\"Mardi\",Congés_auto!T49,IF($N$3=\"Mercredi\",Congés_auto!U49,IF($N$3=\"Jeudi\",Congés_auto!V49,IF($N$3=\"Vendredi\",Congés_auto!W49,IF($N$3=\"Samedi\",Congés_auto!X49,0))))))),IF(B14=\"\",\"\",IF($P$3=\"Lundi\",Congés_auto!S49,IF($P$3=\"Mardi\",Congés_auto!T49,IF($P$3=\"Mercredi\",Congés_auto!U49,IF($P$3=\"Jeudi\",Congés_auto!V49,IF($P$3=\"Vendredi\",Congés_auto!W49,IF($P$3=\"Samedi\",Congés_auto!X49,0))))))))","v":"2018-11-12"},{"$nulls":3},2,"A"]
[12,6,{"$nulls":5},{"$f":"IF(M15=\"A\",IF(B15=\"\",\"\",IF($N$3=\"Lundi\",Congés_auto!S50,IF($N$3=\"Mardi\",Congés_auto!T50,IF($N$3=\"Mercredi\",Congés_auto!U50,IF($N$3=\"Jeudi\",Congés_auto!V50,IF($N$3=\"Vendredi\",Congés_auto!W50,IF($N$3=\"Samedi\",Congés_auto!X50,0))))))),IF(B15=\"\",\"\",IF($P$3=\"Lundi\",Congés_auto!S50,IF($P$3=\"Mardi\",Congés_auto!T50,IF($P$3=\"Mercredi\",Congés_auto!U50,IF($P$3=\"Jeudi\",Congés_auto!V50,IF($P$3=\"Vendredi\",Congés_auto!W50,IF($P$3=\"Samedi\",Congés_auto!X50,0))))))))","v":"2018-11-29"},{"$nulls":3},1,"B"]
[13,7,{"$nulls":5},{"$f":"IF(M16=\"A\",IF(B16=\"\",\"\",IF($N$3=\"Lundi\",Congés_auto!S51,IF($N$3=\"Mardi\",Congés_auto!T51,IF($N$3=\"Mercredi\",Congés_auto!U51,IF($N$3=\"Jeudi\",Congés_auto!V51,IF($N$3=\"Vendredi\",Congés_auto!W51,IF($N$3=\"Samedi\",Congés_auto!X51,0))))))),IF(B16=\"\",\"\",IF($P$3=\"Lundi\",Congés_auto!S51,IF($P$3=\"Mardi\",Congés_auto!T51,IF($P$3=\"Mercredi\",Congés_auto!U51,IF($P$3=\"Jeudi\",Congés_auto!V51,IF($P$3=\"Vendredi\",Congés_auto!W51,IF($P$3=\"Samedi\",Congés_auto!X51,0))))))))","v":"2018-11-26"},{"$nulls":3},2,"A"]
[14,7,{"$nulls":5},{"$f":"IF(M17=\"A\",IF(B17=\"\",\"\",IF($N$3=\"Lundi\",Congés_auto!S52,IF($N$3=\"Mardi\",Congés_auto!T52,IF($N$3=\"Mercredi\",Congés_auto!U52,IF($N$3=\"Jeudi\",Congés_auto!V52,IF($N$3=\"Vendredi\",Congés_auto!W52,IF($N$3=\"Samedi\",Congés_auto!X52,0))))))),IF(B17=\"\",\"\",IF($P$3=\"Lundi\",Congés_auto!S52,IF($P$3=\"Mardi\",Congés_auto!T52,IF($P$3=\"Mercredi\",Congés_auto!U52,IF($P$3=\"Jeudi\",Congés_auto!V52,IF($P$3=\"Vendredi\",Congés_auto!W52,IF($P$3=\"Samedi\",Congés_auto!X52,0))))))))","v":"2018-12-13"},{"$nulls":3},1,"B"]
[15,8,{"$nulls":5},{"$f":"IF(M18=\"A\",IF(B18=\"\",\"\",IF($N$3=\"Lundi\",Congés_auto!S53,IF($N$3=\"Mardi\",Congés_auto!T53,IF($N$3=\"Mercredi\",Congés_auto!U53,IF($N$3=\"Jeudi\",Congés_auto!V53,IF($N$3=\"Vendredi\",Congés_auto!W53,IF($N$3=\"Samedi\",Congés_auto!X53,0))))))),IF(B18=\"\",\"\",IF($P$3=\"Lundi\",Congés_auto!S53,IF($P$3=\"Mardi\",Congés_auto!T53,IF($P$3=\"Mercredi\",Congés_auto!U53,IF($P$3=\"Jeudi\",Congés_auto!V53,IF($P$3=\"Vendredi\",Congés_auto!W53,IF($P$3=\"Samedi\",Congés_auto!X53,0))))))))","v":"2018-12-10"},{"$nulls":3},2,"A"]
[16,8,{"$nulls":5},{"$f":"IF(M19=\"A\",IF(B19=\"\",\"\",IF($N$3=\"Lundi\",Congés_auto!S54,IF($N$3=\"Mardi\",Congés_auto!T54,IF($N$3=\"Mercredi\",Congés_auto!U54,IF($N$3=\"Jeudi\",Congés_auto!V54,IF($N$3=\"Vendredi\",Congés_auto!W54,IF($N$3=\"Samedi\",Congés_auto!X54,0))))))),IF(B19=\"\",\"\",IF($P$3=\"Lundi\",Congés_auto!S54,IF($P$3=\"Mardi\",Congés_auto!T54,IF($P$3=\"Mercredi\",Congés_auto!U54,IF($P$3=\"Jeudi\",Congés_auto!V54,IF($P$3=\"Vendredi\",Congés_auto!W54,IF($P$3=\"Samedi\",Congés_auto!X54,0))))))))","v":"2019-02-07"},{"$nulls":3},1,"B"]
[17,9,{"$nulls":5},{"$f":"IF(M20=\"A\",IF(B20=\"\",\"\",IF($N$3=\"Lundi\",Congés_auto!S55,IF($N$3=\"Mardi\",Congés_auto!T55,IF($N$3=\"Mercredi\",Congés_auto!U55,IF($N$3=\"Jeudi\",Congés_auto!V55,IF($N$3=\"Vendredi\",Congés_auto!W55,IF($N$3=\"Samedi\",Congés_auto!X55,0))))))),IF(B20=\"\",\"\",IF($P$3=\"Lundi\",Congés_auto!S55,IF($P$3=\"Mardi\",Congés_auto!T55,IF($P$3=\"Mercredi\",Congés_auto!U55,IF($P$3=\"Jeudi\",Congés_auto!V55,IF($P$3=\"Vendredi\",Congés_auto!W55,IF($P$3=\"Samedi\",Congés_auto!X55,0))))))))","v":"2019-01-28"},{"$nulls":3},2,"A"]
[18,9,{"$nulls":5},{"$f":"IF(M21=\"A\",IF(B21=\"\",\"\",IF($N$3=\"Lundi\",Congés_auto!S56,IF($N$3=\"Mardi\",Congés_auto!T56,IF($N$3=\"Mercredi\",Congés_auto!U56,IF($N$3=\"Jeudi\",Congés_auto!V56,IF($N$3=\"Vendredi\",Congés_auto!W56,IF($N$3=\"Samedi\",Congés_auto!X56,0))))))),IF(B21=\"\",\"\",IF($P$3=\"Lundi\",Congés_auto!S56,IF($P$3=\"Mardi\",Congés_auto!T56,IF($P$3=\"Mercredi\",Congés_auto!U56,IF($P$3=\"Jeudi\",Congés_auto!V56,IF($P$3=\"Vendredi\",Congés_auto!W56,IF($P$3=\"Samedi\",Congés_auto!X56,0))))))))","v":"2019-02-21"},{"$nulls":3},1,"B"]
[19,10,{"$nulls":5},{"$f":"IF(M22=\"A\",IF(B22=\"\",\"\",IF($N$3=\"Lundi\",Congés_auto!S57,IF($N$3=\"Mardi\",Congés_auto!T57,IF($N$3=\"Mercredi\",Congés_auto!U57,IF($N$3=\"Jeudi\",Congés_auto!V57,IF($N$3=\"Vendredi\",Congés_auto!W57,IF($N$3=\"Samedi\",Congés_auto!X57,0))))))),IF(B22=\"\",\"\",IF($P$3=\"Lundi\",Congés_auto!S57,IF($P$3=\"Mardi\",Congés_auto!T57,IF($P$3=\"Mercredi\",Congés_auto!U57,IF($P$3=\"Jeudi\",Congés_auto!V57,IF($P$3=\"Vendredi\",Congés_auto!W57,IF($P$3=\"Samedi\",Congés_auto!X57,0))))))))","v":"2019-02-11"},{"$nulls":3},2,"A"]
[20,10,{"$nulls":5},{"$f":"IF(M23=\"A\",IF(B23=\"\",\"\",IF($N$3=\"Lundi\",Congés_auto!S58,IF($N$3=\"Mardi\",Congés_auto!T58,IF($N$3=\"Mercredi\",Congés_auto!U58,IF($N$3=\"Jeudi\",Congés_auto!V58,IF($N$3=\"Vendredi\",Congés_auto!W58,IF($N$3=\"Samedi\",Congés_auto!X58,0))))))),IF(B23=\"\",\"\",IF($P$3=\"Lundi\",Congés_auto!S58,IF($P$3=\"Mardi\",Congés_auto!T58,IF($P$3=\"Mercredi\",Congés_auto!U58,IF($P$3=\"Jeudi\",Congés_auto!V58,IF($P$3=\"Vendredi\",Congés_auto!W58,IF($P$3=\"Samedi\",Congés_auto!X58,0))))))))","v":"2019-03-07"},{"$nulls":3},1,"B"]
[21,11,{"$nulls":5},{"$f":"IF(M24=\"A\",IF(B24=\"\",\"\",IF($N$3=\"Lundi\",Congés_auto!S59,IF($N$3=\"Mardi\",Congés_auto!T59,IF($N$3=\"Mercredi\",Congés_auto!U59,IF($N$3=\"Jeudi\",Congés_auto!V59,IF($N$3=\"Vendredi\",Congés_auto!W59,IF($N$3=\"Samedi\",Congés_auto!X59,0))))))),IF(B24=\"\",\"\",IF($P$3=\"Lundi\",Congés_auto!S59,IF($P$3=\"Mardi\",Congés_auto!T59,IF($P$3=\"Mercredi\",Congés_auto!U59,IF($P$3=\"Jeudi\",Congés_auto!V59,IF($P$3=\"Vendredi\",Congés_auto!W59,IF($P$3=\"Samedi\",Congés_auto!X59,0))))))))","v":"2019-02-25"},{"$nulls":3},2,"A"]
[22,11,{"$nulls":5},{"$f":"IF(M25=\"A\",IF(B25=\"\",\"\",IF($N$3=\"Lundi\",Congés_auto!S60,IF($N$3=\"Mardi\",Congés_auto!T60,IF($N$3=\"Mercredi\",Congés_auto!U60,IF($N$3=\"Jeudi\",Congés_auto!V60,IF($N$3=\"Vendredi\",Congés_auto!W60,IF($N$3=\"Samedi\",Congés_auto!X60,0))))))),IF(B25=\"\",\"\",IF($P$3=\"Lundi\",Congés_auto!S60,IF($P$3=\"Mardi\",Congés_auto!T60,IF($P$3=\"Mercredi\",Congés_auto!U60,IF($P$3=\"Jeudi\",Congés_auto!V60,IF($P$3=\"Vendredi\",Congés_auto!W60,IF($P$3=\"Samedi\",Congés_auto!X60,0))))))))","v":"2019-04-04"},{"$nulls":3},1,"B"]
[23,12,{"$nulls":5},{"$f":"IF(M26=\"A\",IF(B26=\"\",\"\",IF($N$3=\"Lundi\",Congés_auto!S61,IF($N$3=\"Mardi\",Congés_auto!T61,IF($N$3=\"Mercredi\",Congés_auto!U61,IF($N$3=\"Jeudi\",Congés_auto!V61,IF($N$3=\"Vendredi\",Congés_auto!W61,IF($N$3=\"Samedi\",Congés_auto!X61,0))))))),IF(B26=\"\",\"\",IF($P$3=\"Lundi\",Congés_auto!S61,IF($P$3=\"Mardi\",Congés_auto!T61,IF($P$3=\"Mercredi\",Congés_auto!U61,IF($P$3=\"Jeudi\",Congés_auto!V61,IF($P$3=\"Vendredi\",Congés_auto!W61,IF($P$3=\"Samedi\",Congés_auto!X61,0))))))))","v":"2019-03-25"},{"$nulls":3},2,"A"]
[24,12,{"$nulls":5},{"$f":"IF(M27=\"A\",IF(B27=\"\",\"\",IF($N$3=\"Lundi\",Congés_auto!S62,IF($N$3=\"Mardi\",Congés_auto!T62,IF($N$3=\"Mercredi\",Congés_auto!U62,IF($N$3=\"Jeudi\",Congés_auto!V62,IF($N$3=\"Vendredi\",Congés_auto!W62,IF($N$3=\"Samedi\",Congés_auto!X62,0))))))),IF(B27=\"\",\"\",IF($P$3=\"Lundi\",Congés_auto!S62,IF($P$3=\"Mardi\",Congés_auto!T62,IF($P$3=\"Mercredi\",Congés_auto!U62,IF($P$3=\"Jeudi\",Congés_auto!V62,IF($P$3=\"Vendredi\",Congés_auto!W62,IF($P$3=\"Samedi\",Congés_auto!X62,0))))))))","v":"2019-04-18"},{"$nulls":3},1,"B"]
[25,13,{"$nulls":5},{"$f":"IF(M28=\"A\",IF(B28=\"\",\"\",IF($N$3=\"Lundi\",Congés_auto!S63,IF($N$3=\"Mardi\",Congés_auto!T63,IF($N$3=\"Mercredi\",Congés_auto!U63,IF($N$3=\"Jeudi\",Congés_auto!V63,IF($N$3=\"Vendredi\",Congés_auto!W63,IF($N$3=\"Samedi\",Congés_auto!X63,0))))))),IF(B28=\"\",\"\",IF($P$3=\"Lundi\",Congés_auto!S63,IF($P$3=\"Mardi\",Congés_auto!T63,IF($P$3=\"Mercredi\",Congés_auto!U63,IF($P$3=\"Jeudi\",Congés_auto!V63,IF($P$3=\"Vendredi\",Congés_auto!W63,IF($P$3=\"Samedi\",Congés_auto!X63,0))))))))","v":"2019-04-08"},{"$nulls":3},2,"A"]
[26,13,{"$nulls":5},{"$f":"IF(M29=\"A\",IF(B29=\"\",\"\",IF($N$3=\"Lundi\",Congés_auto!S64,IF($N$3=\"Mardi\",Congés_auto!T64,IF($N$3=\"Mercredi\",Congés_auto!U64,IF($N$3=\"Jeudi\",Congés_auto!V64,IF($N$3=\"Vendredi\",Congés_auto!W64,IF($N$3=\"Samedi\",Congés_auto!X64,0))))))),IF(B29=\"\",\"\",IF($P$3=\"Lundi\",Congés_auto!S64,IF($P$3=\"Mardi\",Congés_auto!T64,IF($P$3=\"Mercredi\",Congés_auto!U64,IF($P$3=\"Jeudi\",Congés_auto!V64,IF($P$3=\"Vendredi\",Congés_auto!W64,IF($P$3=\"Samedi\",Congés_auto!X64,0))))))))","v":"2019-05-02"},{"$nulls":3},1,"B"]
[27,14,{"$nulls":5},{"$f":"IF(M30=\"A\",IF(B30=\"\",\"\",IF($N$3=\"Lundi\",Congés_auto!S65,IF($N$3=\"Mardi\",Congés_auto!T65,IF($N$3=\"Mercredi\",Congés_auto!U65,IF($N$3=\"Jeudi\",Congés_auto!V65,IF($N$3=\"Vendredi\",Congés_auto!W65,IF($N$3=\"Samedi\",Congés_auto!X65,0))))))),IF(B30=\"\",\"\",IF($P$3=\"Lundi\",Congés_auto!S65,IF($P$3=\"Mardi\",Congés_auto!T65,IF($P$3=\"Mercredi\",Congés_auto!U65,IF($P$3=\"Jeudi\",Congés_auto!V65,IF($P$3=\"Vendredi\",Congés_auto!W65,IF($P$3=\"Samedi\",Congés_auto!X65,0))))))))","v":"2019-04-29"},{"$nulls":3},2,"A"]
[28,14,{"$nulls":5},{"$f":"IF(M31=\"A\",IF(B31=\"\",\"\",IF($N$3=\"Lundi\",Congés_auto!S66,IF($N$3=\"Mardi\",Congés_auto!T66,IF($N$3=\"Mercredi\",Congés_auto!U66,IF($N$3=\"Jeudi\",Congés_auto!V66,IF($N$3=\"Vendredi\",Congés_auto!W66,IF($N$3=\"Samedi\",Congés_auto!X66,0))))))),IF(B31=\"\",\"\",IF($P$3=\"Lundi\",Congés_auto!S66,IF($P$3=\"Mardi\",Congés_auto!T66,IF($P$3=\"Mercredi\",Congés_auto!U66,IF($P$3=\"Jeudi\",Congés_auto!V66,IF($P$3=\"Vendredi\",Congés_auto!W66,IF($P$3=\"Samedi\",Congés_auto!X66,0))))))))","v":"2019-06-06"},{"$nulls":3},1,"B"]
[{"$nulls":7},"2018-05-24",{"$nulls":3},1,"B"]
[1,15,{"$nulls":5},"2018-05-28",{"$nulls":3},2,"A"]
[2,16,{"$nulls":5},"2018-06-07",{"$nulls":3},1,"B"]
[3,16,{"$nulls":5},"2018-06-11",{"$nulls":3},2,"A"]
[4,17,{"$nulls":5},"2018-06-21",{"$nulls":3},1,"B"]
[5,17,{"$nulls":5},"2018-06-25",{"$nulls":3},2,"A"]
[6,{"$f":"IF(OR($O$4=1,$O$4=2),$AA127,IF(OR($O$4=3,$O$4=4),$AC127,IF(OR($O$4=5,$O$4=6),$AE127,IF(OR($O$4=7,$O$4=8),$AG127,\"\"))))","v":18},{"$nulls":5},{"$f":"IF(M38=\"A\",IF(B38=\"\",\"\",IF($N$3=\"Lundi\",Congés_auto!S73,IF($N$3=\"Mardi\",Congés_auto!T73,IF($N$3=\"Mercredi\",Congés_auto!U73,IF($N$3=\"Jeudi\",Congés_auto!V73,IF($N$3=\"Vendredi\",Congés_auto!W73,IF($N$3=\"Samedi\",Congés_auto!X73,0))))))),IF(B38=\"\",\"\",IF($P$3=\"Lundi\",Congés_auto!S73,IF($P$3=\"Mardi\",Congés_auto!T73,IF($P$3=\"Mercredi\",Congés_auto!U73,IF($P$3=\"Jeudi\",Congés_auto!V73,IF($P$3=\"Vendredi\",Congés_auto!W73,IF($P$3=\"Samedi\",Congés_auto!X73,0))))))))","v":""},{"$nulls":3},1,"B"]
[7,18,{"$nulls":9},2,{"$f":"IF(M38=\"A\",\"B\",\"A\")","v":"A"}]
[]
[]
[null,null,"Binôme avec :"]
{"$rows_empty":22}
[{"$nulls":28},"Modifier u2 et w2 - Planning pour 8 ou 6 grp",{"$nulls":6},"Sem B 2h",null,"NON"]
[{"$nulls":27},"Planning",{"$f":"T1","v":0},null,null,{"$f":"N3","v":"Lundi"},{"$nulls":10},0]
[]
[{"$nulls":26},{"$f":"Z93","v":"2018-08-20"},{"$f":"OFFSET($Z$93,AA73,0)","v":"2018-08-30"},{"$f":"OFFSET($Z$93,AB73,0)","v":"2018-09-03"},"2018-09-13","2018-09-17","2018-09-27","2018-10-01","2018-10-11","2018-10-29","2018-11-15","2018-11-12","2018-11-29","2018-11-26","2018-12-13","2018-12-10","2019-02-07","2019-01-28","2019-02-21","2019-03-07","2019-02-25","2019-04-04","2019-03-25","2019-04-18","2019-04-08","2019-05-02","2019-04-29","2019-06-06","2018-05-24","2018-05-28","2018-06-07","2018-06-11","2018-06-21","2018-06-25","","00:00:00","00:00:00"]
[]
[]
[]
[{"$nulls":24},"Temps",null,2,2,2,2,2,2,2,2,2,2,2,2,2,2,2,2,2,2,2,2,2,2,2,2,2,2,2,2,2,2,2,2,2,2,2,2]
[{"$nulls":25},"Semaine",1,{"$f":"AA73+1","v":2},{"$f":"AB73+1","v":3},4,5,6,7,8,9,10,11,12,13,14,15,16,17,18,{"$f":"AR73+1","v":19},{"$f":"AS73+1","v":20},21,22,23,24,25,26,27,28,29,30,31,32,33,34,35,36]
[{"$nulls":25},"Grp  1",1,1,{"$f":"AA74+1","v":2},{"$f":"AB74+1","v":2},3,3,4,4,5,5,6,6,7,7,8,8,9,9,10,10,11,11,12,12,13,13,14,14,15,15,16,16,17,17,18,18]
[{"$nulls":25},"Grp  2",1,1,{"$f":"AA75+1","v":2},2,3,3,4,4,5,5,6,6,7,7,8,8,9,9,10,10,11,11,12,12,13,13,14,14,15,15,16,16,17,17,18,18]
[{"$nulls":23},"FREQUENCE(A1:A30;{1,8;2,7})",null,"Grp  3",1,1,2,2,3,3,4,4,5,5,6,6,7,7,8,8,9,9,10,10,11,11,12,12,13,13,14,14,15,15,16,16,17,17,18,18]
[{"$nulls":25},"Grp  4",1,2,2,3,3,4,4,5,5,6,6,7,7,8,8,9,9,10,10,11,11,12,12,13,13,14,14,15,15,16,16,17,17,18,18,19]
[{"$nulls":25},"Grp  5",1,2,2,3,3,4,4,5,5,6,6,7,7,8,8,9,9,10,10,11,11,12,12,13,13,14,14,15,15,16,16,17,17,18,18,19]
[{"$nulls":25},"Grp  6",1,2,2,3,3,4,4,5,5,6,6,7,7,8,8,9,9,10,10,11,11,12,12,13,13,14,14,15,15,16,16,17,17,18,18,19]
[{"$nulls":25},"Grp  7",1,2,2,3,3,4,4,5,5,6,6,7,7,8,8,9,9,10,10,11,11,12,12,13,13,14,14,15,15,16,16,17,17,18,18,19]
[{"$nulls":25},"Grp  8",1,2,2,3,3,4,4,5,5,6,6,7,7,8,8,9,9,10,10,11,11,12,12,13,13,14,14,{"$f":"AZ81+1","v":15},15,16,16,17,17,18,18,19]
[{"$nulls":33},"DT1 --> 0,5 h",{"$nulls":6},"DT2 --> 1 h"]
[{"$nulls":33},"Travail noté"]
[]
[{"$nulls":23},{"$f":"CONCATENATE(AJ86,Y87)","v":"01"},"Les groupes"]
[{"$nulls":30},{"$f":"IF(LEFT(T1,1)=\"3\",\"Troisième\",IF(LEFT(T1,1)=\"4\",\"Quatrième\",IF(LEFT(T1,1)=\"5\",\"Cinquiéme\",\"Sixième\")))","v":"Sixième"},{"$nulls":4},{"$f":"T1","v":0},null,null,{"$f":"N3","v":"Lundi"},{"$nulls":4},{"$f":"O3","v":0}]
[{"$nulls":17},{"$error":"#N/A"},{"$error":"#N/A"},{"$error":"#N/A"},{"$error":"#N/A"},{"$error":"#N/A"},1,null,1,{"$f":"IF(ISNA(R87),\"\",R87)&\"  --  \"&IF(ISNA(S87),\"\",S87)&\" --  \"&IF(ISNA(T87),\"\",T87)&\" --  \"&IF(ISNA(U87),\"\",U87)&\"  --  \"&IF(ISNA(V87),\"\",V87)","v":"  --   --   --    --  "},{"$nulls":12},5,{"$f":"IF(ISNA(R91),\"\",R91)&\"  --  \"&IF(ISNA(S91),\"\",S91)&\" --  \"&IF(ISNA(T91),\"\",T91)&\" --  \"&IF(ISNA(U91),\"\",U91)&\"  --  \"&IF(ISNA(V91),\"\",V91)","v":"  --   --   --    --  "}]
[{"$nulls":17},{"$error":"#N/A"},{"$error":"#N/A"},{"$error":"#N/A"},{"$error":"#N/A"},{"$error":"#N/A"},2,null,2,{"$f":"IF(ISNA(R88),\"\",R88)&\"  --  \"&IF(ISNA(S88),\"\",S88)&\" --  \"&IF(ISNA(T88),\"\",T88)&\" --  \"&IF(ISNA(U88),\"\",U88)&\"  --  \"&IF(ISNA(V88),\"\",V88)","v":"  --   --   --    --  "},{"$nulls":12},6,{"$f":"IF(ISNA(R92),\"\",R92)&\"  --  \"&IF(ISNA(S92),\"\",S92)&\" --  \"&IF(ISNA(T92),\"\",T92)&\" --  \"&IF(ISNA(U92),\"\",U92)&\"  --  \"&IF(ISNA(V92),\"\",V92)","v":"  --   --   --    --  "}]
[{"$nulls":17},{"$error":"#N/A"},{"$error":"#N/A"},{"$error":"#N/A"},{"$error":"#N/A"},{"$error":"#N/A"},3,null,3,{"$f":"IF(ISNA(R89),\"\",R89)&\"  --  \"&IF(ISNA(S89),\"\",S89)&\" --  \"&IF(ISNA(T89),\"\",T89)&\" --  \"&IF(ISNA(U89),\"\",U89)&\"  --  \"&IF(ISNA(V89),\"\",V89)","v":"  --   --   --    --  "},{"$nulls":12},7,{"$f":"IF(ISNA(R93),\"\",R93)&\"  --  \"&IF(ISNA(S93),\"\",S93)&\" --  \"&IF(ISNA(T93),\"\",T93)&\" --  \"&IF(ISNA(U93),\"\",U93)&\"  --  \"&IF(ISNA(V93),\"\",V93)","v":"  --   --   --    --  "}]
[{"$nulls":17},{"$error":"#N/A"},{"$error":"#N/A"},{"$error":"#N/A"},{"$error":"#N/A"},{"$error":"#N/A"},4,null,4,{"$f":"IF(ISNA(R90),\"\",R90)&\"  --  \"&IF(ISNA(S90),\"\",S90)&\" --  \"&IF(ISNA(T90),\"\",T90)&\" --  \"&IF(ISNA(U90),\"\",U90)&\"  --  \"&IF(ISNA(V90),\"\",V90)","v":"  --   --   --    --  "},{"$nulls":12},8,{"$f":"IF(ISNA(R94),\"\",R94)&\"  --  \"&IF(ISNA(S94),\"\",S94)&\" --  \"&IF(ISNA(T94),\"\",T94)&\" --  \"&IF(ISNA(U94),\"\",U94)&\"  --  \"&IF(ISNA(V94),\"\",V94)","v":"  --   --   --    --  "}]
[{"$nulls":17},{"$error":"#N/A"},{"$error":"#N/A"},{"$error":"#N/A"},{"$error":"#N/A"},{"$error":"#N/A"},5,{"$nulls":3},"Groupe et N° activité",{"$nulls":7},"Les activités par groupes"]
[{"$nulls":17},{"$error":"#N/A"},{"$error":"#N/A"},{"$error":"#N/A"},{"$error":"#N/A"},{"$error":"#N/A"},null,null,"N° Sem",{"$f":"TEXT(Z93,\"jjjj\")","v":"jjjj"},"G 1","G2","G3","G4","G5","G6","G7","G8"]
[{"$nulls":17},{"$error":"#N/A"},{"$error":"#N/A"},{"$error":"#N/A"},{"$error":"#N/A"},{"$error":"#N/A"},null,null,1,{"$f":"H4","v":"2018-08-20"},{"$f":"AA74","v":1},{"$f":"AA75","v":1},{"$f":"AA76","v":1},{"$f":"AA77","v":1},{"$f":"AA78","v":1},{"$f":"AA79","v":1},{"$f":"AA80","v":1},{"$f":"AA81","v":1},"Accueil - organisation - rotation et planning  - Départ de l' activité \" Présentation du classeur\"",{"$nulls":11},1]
[{"$nulls":17},{"$error":"#N/A"},{"$error":"#N/A"},{"$error":"#N/A"},{"$error":"#N/A"},{"$error":"#N/A"},null,null,{"$f":"Y93+1","v":2},{"$f":"H5","v":"2018-08-30"},{"$f":"IF(OFFSET($AA$74,0,$Y93)=41,\"\",OFFSET($AA$74,0,$Y93))","v":1},{"$f":"IF(OFFSET($AA$74,$Y$93,$Y93)=41,\"\",OFFSET($AA$74,$Y$93,$Y93))","v":1},{"$f":"IF(OFFSET($AA$74,$Y$94,$Y93)=41,\"\",OFFSET($AA$74,$Y$94,$Y93))","v":1},{"$f":"IF(OFFSET($AA$74,$Y$95,$Y93)=41,\"\",OFFSET($AA$74,$Y$95,$Y93))","v":2},{"$f":"IF(OFFSET($AA$74,$Y$96,$Y93)=41,\"\",OFFSET($AA$74,$Y$96,$Y93))","v":2},{"$f":"IF(OFFSET($AA$74,$Y$97,$Y93)=41,\"\",OFFSET($AA$74,$Y$97,$Y93))","v":2},{"$f":"IF(OFFSET($AA$74,$Y$98,$Y93)=41,\"\",OFFSET($AA$74,$Y$98,$Y93))","v":2},{"$f":"IF(OFFSET($AA$74,$Y$99,$Y93)=41,\"\",OFFSET($AA$74,$Y$99,$Y93))","v":2},{"$error":"#VALUE!"},{"$nulls":5},{"$error":"#VALUE!"},{"$nulls":5},{"$f":"AU93+1","v":2}]
[{"$nulls":17},{"$error":"#N/A"},{"$error":"#N/A"},{"$error":"#N/A"},{"$error":"#N/A"},{"$error":"#N/A"},null,null,{"$f":"Y94+1","v":3},"2018-09-03",{"$f":"IF(OFFSET($AA$74,0,$Y94)=41,\"\",OFFSET($AA$74,0,$Y94))","v":2},{"$f":"IF(OFFSET($AA$74,$Y$93,$Y94)=41,\"\",OFFSET($AA$74,$Y$93,$Y94))","v":2},{"$f":"IF(OFFSET($AA$74,$Y$94,$Y94)=41,\"\",OFFSET($AA$74,$Y$94,$Y94))","v":2},{"$f":"IF(OFFSET($AA$74,$Y$95,$Y94)=41,\"\",OFFSET($AA$74,$Y$95,$Y94))","v":2},{"$f":"IF(OFFSET($AA$74,$Y$96,$Y94)=41,\"\",OFFSET($AA$74,$Y$96,$Y94))","v":2},{"$f":"IF(OFFSET($AA$74,$Y$97,$Y94)=41,\"\",OFFSET($AA$74,$Y$97,$Y94))","v":2},{"$f":"IF(OFFSET($AA$74,$Y$98,$Y94)=41,\"\",OFFSET($AA$74,$Y$98,$Y94))","v":2},{"$f":"IF(OFFSET($AA$74,$Y$99,$Y94)=41,\"\",OFFSET($AA$74,$Y$99,$Y94))","v":2},{"$error":"#VALUE!"},{"$nulls":5},{"$error":"#VALUE!"},{"$nulls":5},{"$f":"AU94+1","v":3}]
[{"$nulls":24},4,"2018-09-13",2,2,2,3,3,3,3,3,{"$error":"#VALUE!"},{"$nulls":5},{"$error":"#VALUE!"},{"$nulls":5},4]
[{"$nulls":24},5,"2018-09-17",3,3,3,3,3,3,3,3,{"$error":"#VALUE!"},{"$nulls":5},{"$error":"#VALUE!"},{"$nulls":5},5]
[{"$nulls":24},6,"2018-09-27",3,3,3,4,4,4,4,4,{"$error":"#VALUE!"},{"$nulls":5},{"$error":"#VALUE!"},{"$nulls":5},6]
[{"$nulls":24},7,"2018-10-01",4,4,4,4,4,4,4,4,{"$error":"#VALUE!"},{"$nulls":5},{"$error":"#VALUE!"},{"$nulls":5},7]
[{"$nulls":24},8,"2018-10-11",4,4,4,5,5,5,5,5,{"$error":"#VALUE!"},{"$nulls":5},{"$error":"#VALUE!"},{"$nulls":5},8]
[{"$nulls":24},9,"2018-10-29",5,5,5,5,5,5,5,5,{"$error":"#VALUE!"},{"$nulls":5},{"$error":"#VALUE!"},{"$nulls":5},9]
[{"$nulls":24},10,"2018-11-15",5,5,5,6,6,6,6,6,{"$error":"#VALUE!"},{"$nulls":5},{"$error":"#VALUE!"},{"$nulls":5},10]
[{"$nulls":24},11,"2018-11-12",6,6,6,6,6,6,6,6,{"$error":"#VALUE!"},{"$nulls":5},{"$error":"#VALUE!"},{"$nulls":5},11]
[{"$nulls":24},12,"2018-11-29",6,6,6,7,7,7,7,7,{"$error":"#VALUE!"},{"$nulls":5},{"$error":"#VALUE!"},{"$nulls":5},12]
[{"$nulls":24},13,"2018-11-26",7,7,7,7,7,7,7,7,{"$error":"#VALUE!"},{"$nulls":5},{"$error":"#VALUE!"},{"$nulls":5},13]
[{"$nulls":24},14,"2018-12-13",7,7,7,8,8,8,8,8,{"$error":"#VALUE!"},{"$nulls":5},{"$error":"#VALUE!"},{"$nulls":5},14]
[{"$nulls":24},15,"2018-12-10",8,8,8,8,8,8,8,8,{"$error":"#VALUE!"},{"$nulls":5},{"$error":"#VALUE!"},{"$nulls":5},15]
[{"$nulls":24},16,"2019-02-07",8,8,8,9,9,9,9,9,{"$error":"#VALUE!"},{"$nulls":5},{"$error":"#VALUE!"},{"$nulls":5},16]
[{"$nulls":24},17,"2019-01-28",9,9,9,9,9,9,9,9,{"$error":"#VALUE!"},{"$nulls":5},{"$error":"#VALUE!"},{"$nulls":5},17]
[{"$nulls":24},18,"2019-02-21",9,9,9,10,10,10,10,10,{"$error":"#VALUE!"},{"$nulls":5},{"$error":"#VALUE!"},{"$nulls":5},18]
[{"$nulls":24},19,{"$f":"H23","v":"2019-03-07"},10,10,10,10,10,10,10,10,{"$error":"#VALUE!"},{"$nulls":5},{"$error":"#VALUE!"},{"$nulls":5},19]
[{"$nulls":24},20,"2019-02-25",10,10,10,11,11,11,11,11,{"$error":"#VALUE!"},{"$nulls":5},{"$error":"#VALUE!"},{"$nulls":5},20]
[{"$nulls":24},21,"2019-04-04",11,11,11,11,11,11,11,11,{"$error":"#VALUE!"},{"$nulls":5},{"$error":"#VALUE!"},{"$nulls":5},21]
[{"$nulls":24},22,"2019-03-25",11,11,11,12,12,12,12,12,{"$error":"#VALUE!"},{"$nulls":5},{"$error":"#VALUE!"},{"$nulls":5},22]
[{"$nulls":24},23,"2019-04-18",12,12,12,12,12,12,12,12,{"$error":"#VALUE!"},{"$nulls":5},{"$error":"#VALUE!"},{"$nulls":5},23]
[{"$nulls":24},24,"2019-04-08",12,12,12,13,13,13,13,13,{"$error":"#VALUE!"},{"$nulls":5},{"$error":"#VALUE!"},{"$nulls":5},24]
[{"$nulls":24},25,"2019-05-02",13,13,13,13,13,13,13,13,{"$error":"#VALUE!"},{"$nulls":5},{"$error":"#VALUE!"},{"$nulls":5},25]
[{"$nulls":24},26,"2019-04-29",13,13,13,14,14,14,14,14,{"$error":"#VALUE!"},{"$nulls":5},{"$error":"#VALUE!"},{"$nulls":5},26]
[{"$nulls":24},27,"2019-06-06",14,14,14,14,14,14,14,14,{"$error":"#VALUE!"},{"$nulls":5},{"$error":"#VALUE!"},{"$nulls":5},27]
[{"$nulls":24},28,"2018-05-24",14,14,14,15,15,15,15,15,{"$error":"#VALUE!"},{"$nulls":5},{"$error":"#VALUE!"},{"$nulls":5},28]
[{"$nulls":24},29,"2018-05-28",15,15,15,15,15,15,15,15,{"$error":"#VALUE!"},{"$nulls":5},"",{"$nulls":5},29]
[{"$nulls":24},30,"2018-06-07",15,15,15,16,16,16,16,16,{"$error":"#VALUE!"},{"$nulls":5},{"$error":"#VALUE!"},{"$nulls":5},30]
[{"$nulls":24},31,"2018-06-11",16,16,16,16,16,16,16,16,{"$error":"#VALUE!"},{"$nulls":5},{"$error":"#VALUE!"},{"$nulls":5},31]
[{"$nulls":24},32,"2018-06-21",16,16,16,17,17,17,17,17,{"$error":"#VALUE!"},{"$nulls":5},{"$error":"#VALUE!"},{"$nulls":5},32]
[{"$nulls":24},33,"2018-06-25",17,17,17,17,17,17,17,17,{"$error":"#VALUE!"},{"$nulls":5},"",{"$nulls":5},33]
[{"$nulls":24},34,"",17,17,17,18,18,18,18,18,{"$error":"#VALUE!"},{"$nulls":5},{"$error":"#VALUE!"},{"$nulls":5},34]
[{"$nulls":24},35,"00:00:00",18,18,18,18,18,18,18,18,{"$error":"#VALUE!"},{"$nulls":5},{"$error":"#VALUE!"},{"$nulls":5},35]
[{"$nulls":24},36,null,18,18,18,19,19,19,19,19,{"$error":"#VALUE!"},{"$nulls":5},"",{"$nulls":5},36]

{"sheet":"Semaine A B","index":15,"n_rows":38,"n_cols":2,"rows_kept":38}
[]
[]
["Semaine 1","A"]
[null,{"$f":"IF(B3=\"A\",\"B\",\"A\")","v":"B"}]
[null,{"$f":"IF(B4=\"A\",\"B\",\"A\")","v":"A"}]
[null,"B"]
[null,"A"]
[null,"B"]
[null,"A"]
[null,"B"]
[null,"A"]
[null,"B"]
[null,"A"]
[null,"B"]
[null,"A"]
[null,"B"]
[null,"A"]
[null,"B"]
[null,"A"]
[null,"B"]
[null,"A"]
[null,"B"]
[null,"A"]
[null,"B"]
[null,"A"]
[null,"B"]
[null,"A"]
[null,"B"]
[null,"A"]
[null,"B"]
[null,"A"]
[null,"B"]
[null,"A"]
[null,"B"]
[null,"A"]
[null,"B"]
[null,"A"]
[null,"B"]

{"sheet":"Rotation 3me","index":16,"n_rows":37,"n_cols":40,"rows_kept":37,"merged":[[0,1,0,10],[1,2,1,38],[1,39,2,39]]}
[null,"En fonction du groupe et de la séance, cette\npage affiche le numéro d'activité à faire."]
[null,null,"Séance",{"$nulls":36},"NB activités/an"]
[null,"Groupe",1,{"$f":"C3+1","v":2},{"$f":"D3+1","v":3},4,5,6,7,8,9,10,11,12,13,14,15,16,17,18,19,20,21,22,23,24,25,26,{"$f":"AB3+1","v":27},{"$f":"AB3+1","v":27},28,29,30,31,32,33,34,35,36]
[null,1,1,2,2,3,3,"C-D",4,4,5,5,10,10,14,"C-D",14,15,15,6,6,7,"C-D",7,8,8,9,9,11,"C-D",11,12,12,17,17,19,19,26,32,{"$f":"compter_uniques(C4:AM4)-1","v":18}]
[null,{"$f":"1+B4","v":2},1,2,2,3,3,"C-D",4,4,5,5,10,10,14,"C-D",14,15,15,6,6,7,"C-D",7,8,8,9,9,11,"C-D",11,12,12,17,17,19,19,26,32,{"$f":"compter_uniques(C5:AM5)-1","v":18}]
[null,{"$f":"1+B5","v":3},1,2,2,3,3,"C-D",4,4,5,5,6,6,10,"C-D",10,14,14,15,15,7,"C-D",7,8,8,9,9,11,"C-D",11,12,12,17,17,19,19,26,32,18]
[null,4,1,2,2,3,3,"C-D",4,4,5,5,6,6,10,"C-D",10,14,14,15,15,7,"C-D",7,8,8,9,9,11,"C-D",11,12,12,17,17,19,19,26,32,18]
[null,{"$f":"1+B7","v":5},1,2,2,3,3,"C-D",4,4,5,5,6,6,7,"C-D",7,10,10,14,14,15,"C-D",15,8,8,9,9,11,"C-D",11,12,12,17,17,19,19,26,32,18]
[null,6,1,2,2,3,3,"C-D",4,4,5,5,6,6,7,"C-D",7,10,10,14,14,15,"C-D",15,8,8,9,9,11,"C-D",11,12,12,17,17,19,19,26,32,18]
[null,7,1,2,2,3,3,"C-D",4,4,5,5,6,6,7,"C-D",7,8,8,10,10,14,"C-D",14,15,15,9,9,11,"C-D",11,12,12,17,17,19,19,26,32,18]
[null,8,1,2,2,3,3,"C-D",4,4,5,5,6,6,7,"C-D",7,8,8,10,10,14,"C-D",14,15,15,9,9,11,"C-D",11,12,12,17,17,19,19,26,32,18]
[null,9,1,2,2,3,3,"C-D",4,4,5,5,6,6,7,"C-D",7,8,8,9,9,10,"C-D",10,14,14,15,15,11,"C-D",11,12,12,17,17,19,19,26,32,18]
[null,10,1,2,2,3,3,"C-D",4,4,5,5,6,6,7,"C-D",7,8,8,9,9,10,"C-D",10,14,14,15,15,11,"C-D",11,12,12,17,17,19,19,26,32,18]
[null,11,1,2,2,3,3,"C-D",4,4,5,5,6,6,7,"C-D",7,8,8,9,9,11,"C-D",11,10,10,14,14,15,"C-D",15,12,12,17,17,19,19,26,32,18]
[null,12,1,2,2,3,3,"C-D",4,4,5,5,6,6,7,"C-D",7,8,8,9,9,11,"C-D",11,10,10,14,14,15,"C-D",15,12,12,17,17,19,19,26,32,18]
[null,13,1,2,2,3,3,"C-D",4,4,5,5,6,6,7,"C-D",7,8,8,9,9,11,"C-D",11,12,12,10,10,14,"C-D",14,15,15,17,17,19,19,26,32,18]
[null,14,1,2,2,3,3,"C-D",4,4,5,5,6,6,7,"C-D",7,8,8,9,9,11,"C-D",11,12,12,10,10,14,"C-D",14,15,15,17,17,19,19,26,32,18]
[null,15,1,2,2,3,3,"C-D",4,4,5,5,6,6,7,"C-D",7,8,8,9,9,11,"C-D",11,12,12,17,17,10,"C-D",10,14,14,15,15,19,19,26,32,18]
[null,16,1,2,2,3,3,"C-D",4,4,5,5,6,6,7,"C-D",7,8,8,9,9,11,"C-D",11,12,12,17,17,10,"C-D",10,14,14,15,15,19,19,26,32,18]
[null,"Nb acti/\nSéance",{"$f":"compter_uniques(C4:C19)","v":1},{"$f":"compter_uniques(D4:D19)","v":1},1,1,1,1,1,1,1,1,2,2,3,1,3,4,4,5,5,5,1,5,5,5,5,5,4,1,4,3,3,2,2,1,1,1,1]
[]
[null,null,1,"Réaliser la page de présentation de votre classeur",{"$nulls":18},{"$f":"1+C37","v":17},"Convertir un signal analogique"]
[null,null,{"$f":"1+C22","v":2},"Histoire et utilisation d'internet",{"$nulls":18},{"$f":"1+W22","v":18},"Fonctions logiques et schémas électriques"]
[null,null,{"$f":"1+C23","v":3},"Programmation par organigramme avec RobotProg",{"$nulls":18},{"$f":"1+W23","v":19},"Echelle en dessin technique"]
[null,null,4,"Utiliser un modeleur volumique ( SolidWorks)",{"$nulls":18},{"$f":"1+W24","v":20},"Choisir une source d'énergie"]
[null,null,5,"Éclairage et économie d'énergie",{"$nulls":18},{"$f":"1+W25","v":21},"Archives des concours Castor-Informatique 3me"]
[null,null,6,"Réaliser un simulateur avec scratch",{"$nulls":18},22,"Comment amplifier un courant électrique"]
[null,null,7,"Analyse fonctionnelle d'un aspirateur robot",{"$nulls":18},23,"Etude d'un capteur"]
[null,null,8,"Protéger mon image sur internet",{"$nulls":18},24,"Comment détecter un niveau d'eau"]
[null,null,9,"Comment fonctionne le réseau informatique du college",{"$nulls":18},25,"Réaliser un circuit mémoire"]
[null,null,10,"Réaliser une maquette avec une imprimante 3D",{"$nulls":18},26,"Préparation brevet"]
[null,null,11,"Produire de l'énergie",{"$nulls":18},28,"Evolution des techniques de récolte de la canne à sucre."]
[null,null,12,"Programmation par blocs. Modifier un programme",{"$nulls":18},29,"Evaluation Bii  + activité 32 ou 36"]
[null,null,13,"Programmation des maquettes PICAXE avec Scratch",{"$nulls":18},32,"Les formules et les fonctions d'un tableur"]
[null,null,14,"Programmer avec le microcontrôleur Arduino",{"$nulls":18},36,"Observer un signal et le mesurer avec un oscilloscope"]
[null,null,15,"Câblage et programmation avec Arduino",{"$nulls":18},39,"Choix des matériaux"]
[null,null,{"$f":"1+C36","v":16},"Programmer un robot. Les microcontrôleurs Arduino et Picaxe",{"$nulls":18},"C-D","Correction et devoir"]

{"sheet":"Rotation 4me","index":17,"n_rows":32,"n_cols":39,"rows_kept":32,"merged":[[0,0,0,9],[1,1,1,37],[1,38,2,38]]}
["En fonction du groupe et de la séance, cette\npage affiche le numéro d'activité à faire."]
[null,"Séance",{"$nulls":36},"NB activités/an"]
["Groupe",1,{"$f":"B3+1","v":2},{"$f":"C3+1","v":3},4,5,6,7,8,9,10,11,12,13,14,15,16,17,18,19,20,21,22,23,24,25,26,27,28,29,30,{"$f":"AD3+1","v":30},31,32,33,34,35,36]
[1,1,1,2,2,3,3,"C-D",4,4,5,5,6,6,"C-D",7,7,8,8,9,9,"C-D",9,10,10,11,11,12,"C-D",12,13,13,14,14,15,"C-D",15,17,{"$f":"compter_uniques(B4:AL4)-1","v":16}]
[{"$f":"1+A4","v":2},1,1,2,2,3,3,"C-D",4,4,5,5,6,6,"C-D",7,7,8,8,9,9,"C-D",9,10,10,11,11,12,"C-D",12,13,13,14,14,15,"C-D",15,17,{"$f":"compter_uniques(B5:AL5)-1","v":16}]
[{"$f":"1+A5","v":3},1,1,2,2,3,3,"C-D",4,4,5,5,6,6,"C-D",7,7,8,8,9,9,"C-D",9,10,10,11,11,12,"C-D",12,13,13,14,14,15,"C-D",15,17,16]
[4,1,1,2,2,3,3,"C-D",4,4,5,5,6,6,"C-D",7,7,8,8,9,9,"C-D",9,10,10,11,11,12,"C-D",12,13,13,14,14,15,"C-D",15,17,16]
[5,1,1,2,2,3,3,"C-D",4,4,5,5,6,6,"C-D",7,7,8,8,9,9,"C-D",9,10,10,11,11,12,"C-D",12,13,13,14,14,15,"C-D",15,17,16]
[6,1,1,2,2,3,3,"C-D",4,4,5,5,6,6,"C-D",7,7,8,8,9,9,"C-D",9,10,10,11,11,12,"C-D",12,14,14,15,15,13,"C-D",13,17,16]
[7,1,1,2,2,3,3,"C-D",4,4,5,5,6,6,"C-D",7,7,8,8,9,9,"C-D",9,10,10,11,11,12,"C-D",12,14,14,15,15,13,"C-D",13,17,16]
[8,1,1,2,2,3,3,"C-D",4,4,5,5,6,6,"C-D",7,7,8,8,9,9,"C-D",9,10,10,11,11,12,"C-D",12,14,14,15,15,13,"C-D",13,17,16]
[9,1,1,2,2,3,3,"C-D",4,4,5,5,6,6,"C-D",7,7,8,8,9,9,"C-D",9,10,10,11,11,12,"C-D",12,14,14,15,15,13,"C-D",13,17,16]
[10,1,1,2,2,3,3,"C-D",4,4,5,5,6,6,"C-D",7,7,8,8,9,9,"C-D",9,10,10,11,11,12,"C-D",12,14,14,15,15,13,"C-D",13,17,16]
[11,1,1,2,2,3,3,"C-D",4,4,5,5,6,6,"C-D",7,7,8,8,9,9,"C-D",9,10,10,11,11,12,"C-D",12,15,15,13,13,14,"C-D",14,17,16]
[12,1,1,2,2,3,3,"C-D",4,4,5,5,6,6,"C-D",7,7,8,8,9,9,"C-D",9,10,10,11,11,12,"C-D",12,15,15,13,13,14,"C-D",14,17,16]
[13,1,1,2,2,3,3,"C-D",4,4,5,5,6,6,"C-D",7,7,8,8,9,9,"C-D",9,10,10,11,11,12,"C-D",12,15,15,13,13,14,"C-D",14,17,16]
[14,1,1,2,2,3,3,"C-D",4,4,5,5,6,6,"C-D",7,7,8,8,9,9,"C-D",9,10,10,11,11,12,"C-D",12,15,15,13,13,14,"C-D",14,17,16]
[15,1,1,2,2,3,3,"C-D",4,4,5,5,6,6,"C-D",7,7,8,8,9,9,"C-D",9,10,10,11,11,12,"C-D",12,15,15,13,13,14,"C-D",14,17,16]
[16,1,1,2,2,3,3,"C-D",4,4,5,5,6,6,"C-D",7,7,8,8,9,9,"C-D",9,10,10,11,11,12,"C-D",12,15,15,13,13,14,"C-D",14,17,16]
["Nb acti/\nSéance",{"$f":"compter_uniques(B4:B19)","v":1},{"$f":"compter_uniques(C4:C19)","v":1},1,1,1,1,1,1,1,1,1,1,1,1,1,1,1,1,1,1,1,1,1,1,1,1,1,1,1,3,3,3,3,3,1,3,1]
[]
[null,1,"Réaliser la page de présentation de votre classeur",{"$nulls":17},{"$f":"1+B32","v":12},"Étude d'un automatisme : L'écluse"]
[null,{"$f":"1+B22","v":2},"Eléments et organisation d'un automatisme",{"$nulls":17},{"$f":"1+U22","v":13},"Comment programmer un robot"]
[null,{"$f":"1+B23","v":3},"Découverte des capteurs et des actionneurs",{"$nulls":17},14,"Le cablage d'un portail coulissant"]
[null,4,"Les organigrammes",{"$nulls":17},15,"Programmer un portail automatique"]
[null,5,"Comment représenter le fonctionnement d'un objet",{"$nulls":17},16,"Programmation par organigramme d'un ascenseur"]
[null,6,"Chaîne d'énergie et chaîne d'information",{"$nulls":17},17,"Notion d'échelle en dessin technique"]
[null,7,"Comment stocker l'énergie électrique",{"$nulls":17},18,"Les contraintes du développement durable"]
[null,8,"Identifier les formes et les sources d'énergie",{"$nulls":17},19,"Les circuits du recyclage"]
[null,9,"Programmation Scratch",{"$nulls":17},20,"Initiation : Le modeleur volumique SolidWorks"]
[null,10,"Étude d'un automatisme : Le château d'eau",{"$nulls":17},21,"Archives des concours Castor-Informatique"]
[null,11,"Les transformations d'énergie dans un objet technique",{"$nulls":17},"C-D",null,"Correction et devoir"]

{"sheet":"edt-Jour-classe-entiere","index":18,"n_rows":128,"n_cols":62,"rows_kept":128,"hidden":true,"merged":[[0,13,0,15],[1,17,2,18],[2,3,2,6],[2,13,2,14],[3,2,3,6],[3,7,3,8],[4,2,4,6],[4,7,4,8],[5,2,5,6],[5,7,5,8],[6,2,6,6],[6,7,6,8],[7,2,7,6],[7,7,7,8],[8,2,8,6],[8,7,8,8],[9,2,9,6],[9,7,9,8],[10,2,10,6],[10,7,10,8],[11,2,11,6],[11,7,11,8],[12,2,12,6],[12,7,12,8],[13,2,13,6],[13,7,13,8],[14,2,14,6],[14,7,14,8],[15,2,15,6],[15,7,15,8],[16,2,16,6],[16,7,16,8],[17,2,17,6],[17,7,17,8],[18,2,18,6],[18,7,18,8],[19,2,19,6],[19,7,19,8],[20,2,20,6],[20,7,20,8],[21,2,21,6],[21,7,21,8],[22,2,22,6],[22,7,22,8],[23,2,23,6],[23,7,23,8],[24,2,24,6],[24,7,24,8],[25,2,25,6],[25,7,25,8],[26,2,26,6],[26,7,26,8],[27,2,27,6],[27,7,27,8],[28,2,28,6],[28,7,28,8],[29,2,29,6],[29,7,29,8],[30,2,30,6],[30,7,30,8],[31,2,31,6],[31,7,31,8],[32,2,32,6],[32,7,32,8],[33,2,33,6],[33,7,33,8],[34,2,34,6],[34,7,34,8],[35,2,35,6],[35,7,35,8],[36,2,36,6],[36,7,36,8],[37,7,37,8],[38,2,38,6],[38,7,38,8],[41,2,41,6],[65,28,65,29],[67,26,70,26],[67,27,70,27],[67,28,70,28],[67,29,70,29],[67,30,70,30],[67,31,70,31],[67,32,70,32],[67,33,70,33],[67,34,70,34],[67,35,70,35],[67,36,70,36],[67,37,70,37],[67,38,70,38],[67,39,70,39],[67,40,70,40],[67,41,70,41],[67,42,70,42],[67,43,70,43],[67,44,70,44],[67,45,70,45],[67,46,70,46],[67,47,70,47],[67,48,70,48],[67,49,70,49],[67,50,70,50],[67,51,70,51],[67,52,70,52],[67,53,70,53],[67,54,70,54],[67,55,70,55],[67,56,70,56],[67,57,70,57],[67,58,70,58],[67,59,70,59],[67,60,70,60],[67,61,70,61],[71,24,71,25],[84,24,84,45],[85,38,85,41],[86,25,86,36],[86,39,86,45],[87,25,87,36],[87,39,87,45],[88,25,88,36],[88,39,88,45],[89,25,89,36],[89,39,89,45],[90,26,90,33],[90,34,91,45],[92,34,92,45],[93,34,93,39],[93,40,93,45],[94,34,94,39],[94,40,94,45],[95,34,95,39],[95,40,95,45],[96,34,96,39],[96,40,96,45],[97,34,97,39],[97,40,97,45],[98,34,98,39],[98,40,98,45],[99,34,99,39],[99,40,99,45],[100,34,100,39],[100,40,100,45],[101,34,101,39],[101,40,101,45],[102,34,102,39],[102,40,102,45],[103,34,103,39],[103,40,103,45],[104,34,104,39],[104,40,104,45],[105,34,105,39],[105,40,105,45],[106,34,106,39],[106,40,106,45],[107,34,107,39],[107,40,107,45],[108,34,108,39],[108,40,108,45],[109,34,109,39],[109,40,109,45],[110,34,110,39],[110,40,110,45],[111,34,111,39],[111,40,111,45],[112,34,112,39],[112,40,112,45],[113,34,113,39],[113,40,113,45],[114,34,114,39],[114,40,114,45],[115,34,115,39],[115,40,115,45],[116,34,116,39],[116,40,116,45],[117,34,117,39],[117,40,117,45],[118,34,118,39],[118,40,118,45],[119,34,119,39],[119,40,119,45],[120,34,120,39],[120,40,120,45],[121,34,121,39],[121,40,121,45],[122,34,122,39],[122,40,122,45],[123,34,123,39],[123,40,123,45],[124,34,124,39],[124,40,124,45],[125,34,125,39],[125,40,125,45],[126,34,126,39],[126,40,126,45],[127,34,127,39],[127,40,127,45],[129,24,129,36],[130,25,130,36],[130,39,130,45],[131,25,131,36],[131,39,131,45],[132,25,132,36],[132,39,132,45],[133,25,133,36],[133,39,133,45]]}
[{"$nulls":3},"NOM :",{"$nulls":9},"Fond vert = cellules modifiables",{"$nulls":9},"affichage glissant sur 5 semaines"]
[{"$nulls":22},1]
[null,"N°",null,{"$f":"\"TECHNOLOGIE  \"&YEAR(H4)&\"  -  \"&YEAR(H4)+1&\"  \"&\n\"    - N° et titre de l'activité\"","v":"TECHNOLOGIE  2018  -  2019      - N° et titre de l'activité"},{"$nulls":7},"Cor / Synt",null,"Vendredi",{"$nulls":9},1]
[1,1,{"$nulls":5},{"$f":"IF(B4=\"\",\"\",IF($N$3=\"Lundi\",Congés_auto!S39,IF($N$3=\"Mardi\",Congés_auto!T39,IF($N$3=\"Mercredi\",Congés_auto!U39,IF($N$3=\"Jeudi\",Congés_auto!V39,IF($N$3=\"Vendredi\",Congés_auto!W39,IF($N$3=\"Samedi\",Congés_auto!X39,0)))))))","v":"2018-08-24"},{"$nulls":5},"GROUPE",1]
[{"$f":"A4+1","v":2},{"$f":"IF(OR($O$4=1,$O$4=2),$AA94,IF(OR($O$4=3,$O$4=4),$AC94,IF(OR($O$4=5,$O$4=6),$AE94,IF(OR($O$4=7,$O$4=8),$AG94,\"\"))))","v":1},{"$nulls":5},{"$f":"IF(B5=\"\",\"\",IF($N$3=\"Lundi\",Congés_auto!S40,IF($N$3=\"Mardi\",Congés_auto!T40,IF($N$3=\"Mercredi\",Congés_auto!U40,IF($N$3=\"Jeudi\",Congés_auto!V40,IF($N$3=\"Vendredi\",Congés_auto!W40,IF($N$3=\"Samedi\",Congés_auto!X40,0)))))))","v":"2018-08-31"}]
[{"$f":"A5+1","v":3},2,{"$nulls":5},{"$f":"IF(B6=\"\",\"\",IF($N$3=\"Lundi\",Congés_auto!S41,IF($N$3=\"Mardi\",Congés_auto!T41,IF($N$3=\"Mercredi\",Congés_auto!U41,IF($N$3=\"Jeudi\",Congés_auto!V41,IF($N$3=\"Vendredi\",Congés_auto!W41,IF($N$3=\"Samedi\",Congés_auto!X41,0)))))))","v":"2018-09-07"}]
[4,2,{"$nulls":5},{"$f":"IF(B7=\"\",\"\",IF($N$3=\"Lundi\",Congés_auto!S42,IF($N$3=\"Mardi\",Congés_auto!T42,IF($N$3=\"Mercredi\",Congés_auto!U42,IF($N$3=\"Jeudi\",Congés_auto!V42,IF($N$3=\"Vendredi\",Congés_auto!W42,IF($N$3=\"Samedi\",Congés_auto!X42,0)))))))","v":"2018-09-14"}]
[5,3,{"$nulls":5},{"$f":"IF(B8=\"\",\"\",IF($N$3=\"Lundi\",Congés_auto!S43,IF($N$3=\"Mardi\",Congés_auto!T43,IF($N$3=\"Mercredi\",Congés_auto!U43,IF($N$3=\"Jeudi\",Congés_auto!V43,IF($N$3=\"Vendredi\",Congés_auto!W43,IF($N$3=\"Samedi\",Congés_auto!X43,0)))))))","v":"2018-09-21"}]
[6,3,{"$nulls":5},{"$f":"IF(B9=\"\",\"\",IF($N$3=\"Lundi\",Congés_auto!S44,IF($N$3=\"Mardi\",Congés_auto!T44,IF($N$3=\"Mercredi\",Congés_auto!U44,IF($N$3=\"Jeudi\",Congés_auto!V44,IF($N$3=\"Vendredi\",Congés_auto!W44,IF($N$3=\"Samedi\",Congés_auto!X44,0)))))))","v":"2018-09-28"}]
[7,4,{"$nulls":5},{"$f":"IF(B10=\"\",\"\",IF($N$3=\"Lundi\",Congés_auto!S45,IF($N$3=\"Mardi\",Congés_auto!T45,IF($N$3=\"Mercredi\",Congés_auto!U45,IF($N$3=\"Jeudi\",Congés_auto!V45,IF($N$3=\"Vendredi\",Congés_auto!W45,IF($N$3=\"Samedi\",Congés_auto!X45,0)))))))","v":"2018-10-05"}]
[8,4,{"$nulls":5},{"$f":"IF(B11=\"\",\"\",IF($N$3=\"Lundi\",Congés_auto!S46,IF($N$3=\"Mardi\",Congés_auto!T46,IF($N$3=\"Mercredi\",Congés_auto!U46,IF($N$3=\"Jeudi\",Congés_auto!V46,IF($N$3=\"Vendredi\",Congés_auto!W46,IF($N$3=\"Samedi\",Congés_auto!X46,0)))))))","v":"2018-10-12"}]
[9,5,{"$nulls":5},{"$f":"IF(B12=\"\",\"\",IF($N$3=\"Lundi\",Congés_auto!S47,IF($N$3=\"Mardi\",Congés_auto!T47,IF($N$3=\"Mercredi\",Congés_auto!U47,IF($N$3=\"Jeudi\",Congés_auto!V47,IF($N$3=\"Vendredi\",Congés_auto!W47,IF($N$3=\"Samedi\",Congés_auto!X47,0)))))))","v":"2018-11-02"}]
[10,5,{"$nulls":5},{"$f":"IF(B13=\"\",\"\",IF($N$3=\"Lundi\",Congés_auto!S48,IF($N$3=\"Mardi\",Congés_auto!T48,IF($N$3=\"Mercredi\",Congés_auto!U48,IF($N$3=\"Jeudi\",Congés_auto!V48,IF($N$3=\"Vendredi\",Congés_auto!W48,IF($N$3=\"Samedi\",Congés_auto!X48,0)))))))","v":"2018-11-09"}]
[11,6,{"$nulls":5},{"$f":"IF(B14=\"\",\"\",IF($N$3=\"Lundi\",Congés_auto!S49,IF($N$3=\"Mardi\",Congés_auto!T49,IF($N$3=\"Mercredi\",Congés_auto!U49,IF($N$3=\"Jeudi\",Congés_auto!V49,IF($N$3=\"Vendredi\",Congés_auto!W49,IF($N$3=\"Samedi\",Congés_auto!X49,0)))))))","v":"2018-11-16"}]
[12,6,{"$nulls":5},{"$f":"IF(B15=\"\",\"\",IF($N$3=\"Lundi\",Congés_auto!S50,IF($N$3=\"Mardi\",Congés_auto!T50,IF($N$3=\"Mercredi\",Congés_auto!U50,IF($N$3=\"Jeudi\",Congés_auto!V50,IF($N$3=\"Vendredi\",Congés_auto!W50,IF($N$3=\"Samedi\",Congés_auto!X50,0)))))))","v":"2018-11-23"}]
[13,7,{"$nulls":5},{"$f":"IF(B16=\"\",\"\",IF($N$3=\"Lundi\",Congés_auto!S51,IF($N$3=\"Mardi\",Congés_auto!T51,IF($N$3=\"Mercredi\",Congés_auto!U51,IF($N$3=\"Jeudi\",Congés_auto!V51,IF($N$3=\"Vendredi\",Congés_auto!W51,IF($N$3=\"Samedi\",Congés_auto!X51,0)))))))","v":"2018-11-30"}]
[14,7,{"$nulls":5},{"$f":"IF(B17=\"\",\"\",IF($N$3=\"Lundi\",Congés_auto!S52,IF($N$3=\"Mardi\",Congés_auto!T52,IF($N$3=\"Mercredi\",Congés_auto!U52,IF($N$3=\"Jeudi\",Congés_auto!V52,IF($N$3=\"Vendredi\",Congés_auto!W52,IF($N$3=\"Samedi\",Congés_auto!X52,0)))))))","v":"2018-12-07"}]
[15,8,{"$nulls":5},{"$f":"IF(B18=\"\",\"\",IF($N$3=\"Lundi\",Congés_auto!S53,IF($N$3=\"Mardi\",Congés_auto!T53,IF($N$3=\"Mercredi\",Congés_auto!U53,IF($N$3=\"Jeudi\",Congés_auto!V53,IF($N$3=\"Vendredi\",Congés_auto!W53,IF($N$3=\"Samedi\",Congés_auto!X53,0)))))))","v":"2018-12-14"}]
[16,8,{"$nulls":5},{"$f":"IF(B19=\"\",\"\",IF($N$3=\"Lundi\",Congés_auto!S54,IF($N$3=\"Mardi\",Congés_auto!T54,IF($N$3=\"Mercredi\",Congés_auto!U54,IF($N$3=\"Jeudi\",Congés_auto!V54,IF($N$3=\"Vendredi\",Congés_auto!W54,IF($N$3=\"Samedi\",Congés_auto!X54,0)))))))","v":"2018-12-21"}]
[17,9,{"$nulls":5},{"$f":"IF(B20=\"\",\"\",IF($N$3=\"Lundi\",Congés_auto!S55,IF($N$3=\"Mardi\",Congés_auto!T55,IF($N$3=\"Mercredi\",Congés_auto!U55,IF($N$3=\"Jeudi\",Congés_auto!V55,IF($N$3=\"Vendredi\",Congés_auto!W55,IF($N$3=\"Samedi\",Congés_auto!X55,0)))))))","v":"2019-02-01"}]
[18,9,{"$nulls":5},{"$f":"IF(B21=\"\",\"\",IF($N$3=\"Lundi\",Congés_auto!S56,IF($N$3=\"Mardi\",Congés_auto!T56,IF($N$3=\"Mercredi\",Congés_auto!U56,IF($N$3=\"Jeudi\",Congés_auto!V56,IF($N$3=\"Vendredi\",Congés_auto!W56,IF($N$3=\"Samedi\",Congés_auto!X56,0)))))))","v":"2019-02-08"}]
[19,10,{"$nulls":5},{"$f":"IF(B22=\"\",\"\",IF($N$3=\"Lundi\",Congés_auto!S57,IF($N$3=\"Mardi\",Congés_auto!T57,IF($N$3=\"Mercredi\",Congés_auto!U57,IF($N$3=\"Jeudi\",Congés_auto!V57,IF($N$3=\"Vendredi\",Congés_auto!W57,IF($N$3=\"Samedi\",Congés_auto!X57,0)))))))","v":"2019-02-15"}]
[20,10,{"$nulls":5},{"$f":"IF(B23=\"\",\"\",IF($N$3=\"Lundi\",Congés_auto!S58,IF($N$3=\"Mardi\",Congés_auto!T58,IF($N$3=\"Mercredi\",Congés_auto!U58,IF($N$3=\"Jeudi\",Congés_auto!V58,IF($N$3=\"Vendredi\",Congés_auto!W58,IF($N$3=\"Samedi\",Congés_auto!X58,0)))))))","v":"2019-02-22"}]
[21,11,{"$nulls":5},{"$f":"IF(B24=\"\",\"\",IF($N$3=\"Lundi\",Congés_auto!S59,IF($N$3=\"Mardi\",Congés_auto!T59,IF($N$3=\"Mercredi\",Congés_auto!U59,IF($N$3=\"Jeudi\",Congés_auto!V59,IF($N$3=\"Vendredi\",Congés_auto!W59,IF($N$3=\"Samedi\",Congés_auto!X59,0)))))))","v":"2019-03-01"}]
[22,11,{"$nulls":5},{"$f":"IF(B25=\"\",\"\",IF($N$3=\"Lundi\",Congés_auto!S60,IF($N$3=\"Mardi\",Congés_auto!T60,IF($N$3=\"Mercredi\",Congés_auto!U60,IF($N$3=\"Jeudi\",Congés_auto!V60,IF($N$3=\"Vendredi\",Congés_auto!W60,IF($N$3=\"Samedi\",Congés_auto!X60,0)))))))","v":"2019-03-08"}]
[23,12,{"$nulls":5},{"$f":"IF(B26=\"\",\"\",IF($N$3=\"Lundi\",Congés_auto!S61,IF($N$3=\"Mardi\",Congés_auto!T61,IF($N$3=\"Mercredi\",Congés_auto!U61,IF($N$3=\"Jeudi\",Congés_auto!V61,IF($N$3=\"Vendredi\",Congés_auto!W61,IF($N$3=\"Samedi\",Congés_auto!X61,0)))))))","v":"2019-03-29"}]
[24,12,{"$nulls":5},{"$f":"IF(B27=\"\",\"\",IF($N$3=\"Lundi\",Congés_auto!S62,IF($N$3=\"Mardi\",Congés_auto!T62,IF($N$3=\"Mercredi\",Congés_auto!U62,IF($N$3=\"Jeudi\",Congés_auto!V62,IF($N$3=\"Vendredi\",Congés_auto!W62,IF($N$3=\"Samedi\",Congés_auto!X62,0)))))))","v":"2019-04-05"}]
[25,13,{"$nulls":5},{"$f":"IF(B28=\"\",\"\",IF($N$3=\"Lundi\",Congés_auto!S63,IF($N$3=\"Mardi\",Congés_auto!T63,IF($N$3=\"Mercredi\",Congés_auto!U63,IF($N$3=\"Jeudi\",Congés_auto!V63,IF($N$3=\"Vendredi\",Congés_auto!W63,IF($N$3=\"Samedi\",Congés_auto!X63,0)))))))","v":"2019-04-12"}]
[26,13,{"$nulls":5},{"$f":"IF(B29=\"\",\"\",IF($N$3=\"Lundi\",Congés_auto!S64,IF($N$3=\"Mardi\",Congés_auto!T64,IF($N$3=\"Mercredi\",Congés_auto!U64,IF($N$3=\"Jeudi\",Congés_auto!V64,IF($N$3=\"Vendredi\",Congés_auto!W64,IF($N$3=\"Samedi\",Congés_auto!X64,0)))))))","v":"2019-04-19"}]
[27,14,{"$nulls":5},{"$f":"IF(B30=\"\",\"\",IF($N$3=\"Lundi\",Congés_auto!S65,IF($N$3=\"Mardi\",Congés_auto!T65,IF($N$3=\"Mercredi\",Congés_auto!U65,IF($N$3=\"Jeudi\",Congés_auto!V65,IF($N$3=\"Vendredi\",Congés_auto!W65,IF($N$3=\"Samedi\",Congés_auto!X65,0)))))))","v":"2019-04-26"}]
[28,14,{"$nulls":5},{"$f":"IF(B31=\"\",\"\",IF($N$3=\"Lundi\",Congés_auto!S66,IF($N$3=\"Mardi\",Congés_auto!T66,IF($N$3=\"Mercredi\",Congés_auto!U66,IF($N$3=\"Jeudi\",Congés_auto!V66,IF($N$3=\"Vendredi\",Congés_auto!W66,IF($N$3=\"Samedi\",Congés_auto!X66,0)))))))","v":"2019-05-03"}]
[29,15,{"$nulls":5},{"$f":"IF(B32=\"\",\"\",IF($N$3=\"Lundi\",Congés_auto!S67,IF($N$3=\"Mardi\",Congés_auto!T67,IF($N$3=\"Mercredi\",Congés_auto!U67,IF($N$3=\"Jeudi\",Congés_auto!V67,IF($N$3=\"Vendredi\",Congés_auto!W67,IF($N$3=\"Samedi\",Congés_auto!X67,0)))))))","v":"2019-05-24"}]
[30,15,{"$nulls":5},{"$f":"IF(B33=\"\",\"\",IF($N$3=\"Lundi\",Congés_auto!S68,IF($N$3=\"Mardi\",Congés_auto!T68,IF($N$3=\"Mercredi\",Congés_auto!U68,IF($N$3=\"Jeudi\",Congés_auto!V68,IF($N$3=\"Vendredi\",Congés_auto!W68,IF($N$3=\"Samedi\",Congés_auto!X68,0)))))))","v":"2019-05-31"}]
[31,16,{"$nulls":5},{"$f":"IF(B34=\"\",\"\",IF($N$3=\"Lundi\",Congés_auto!S69,IF($N$3=\"Mardi\",Congés_auto!T69,IF($N$3=\"Mercredi\",Congés_auto!U69,IF($N$3=\"Jeudi\",Congés_auto!V69,IF($N$3=\"Vendredi\",Congés_auto!W69,IF($N$3=\"Samedi\",Congés_auto!X69,0)))))))","v":"2019-06-07"}]
[32,16,{"$nulls":5},{"$f":"IF(B35=\"\",\"\",IF($N$3=\"Lundi\",Congés_auto!S70,IF($N$3=\"Mardi\",Congés_auto!T70,IF($N$3=\"Mercredi\",Congés_auto!U70,IF($N$3=\"Jeudi\",Congés_auto!V70,IF($N$3=\"Vendredi\",Congés_auto!W70,IF($N$3=\"Samedi\",Congés_auto!X70,0)))))))","v":"2019-06-14"}]
[33,17,{"$nulls":5},{"$f":"IF(B36=\"\",\"\",IF($N$3=\"Lundi\",Congés_auto!S71,IF($N$3=\"Mardi\",Congés_auto!T71,IF($N$3=\"Mercredi\",Congés_auto!U71,IF($N$3=\"Jeudi\",Congés_auto!V71,IF($N$3=\"Vendredi\",Congés_auto!W71,IF($N$3=\"Samedi\",Congés_auto!X71,0)))))))","v":"2019-06-21"}]
[34,17,{"$nulls":5},{"$f":"IF(B37=\"\",\"\",IF($N$3=\"Lundi\",Congés_auto!S72,IF($N$3=\"Mardi\",Congés_auto!T72,IF($N$3=\"Mercredi\",Congés_auto!U72,IF($N$3=\"Jeudi\",Congés_auto!V72,IF($N$3=\"Vendredi\",Congés_auto!W72,IF($N$3=\"Samedi\",Congés_auto!X72,0)))))))","v":"2019-06-28"}]
[35,{"$f":"IF(OR($O$4=1,$O$4=2),$AA127,IF(OR($O$4=3,$O$4=4),$AC127,IF(OR($O$4=5,$O$4=6),$AE127,IF(OR($O$4=7,$O$4=8),$AG127,\"\"))))","v":18},{"$nulls":5},{"$f":"IF(B38=\"\",\"\",IF($N$3=\"Lundi\",Congés_auto!S73,IF($N$3=\"Mardi\",Congés_auto!T73,IF($N$3=\"Mercredi\",Congés_auto!U73,IF($N$3=\"Jeudi\",Congés_auto!V73,IF($N$3=\"Vendredi\",Congés_auto!W73,IF($N$3=\"Samedi\",Congés_auto!X73,0)))))))","v":"2019-07-05"}]
[36,18,{"$nulls":5},{"$f":"IF(B39=\"\",\"\",IF($N$3=\"Lundi\",Congés_auto!S74,IF($N$3=\"Mardi\",Congés_auto!T74,IF($N$3=\"Mercredi\",Congés_auto!U74,IF($N$3=\"Jeudi\",Congés_auto!V74,IF($N$3=\"Vendredi\",Congés_auto!W74,IF($N$3=\"Samedi\",Congés_auto!X74,0)))))))","v":""}]
[]
[]
[null,null,"Les membres de mon groupe."]
{"$rows_empty":22}
[{"$nulls":28},"Modifier u2 et w2 - Planning pour 8 ou 6 grp",{"$nulls":6},"Sem B 2h",null,"NON"]
[{"$nulls":27},"Planning",{"$f":"T1","v":0},null,null,{"$f":"N3","v":"Vendredi"},{"$nulls":10},0]
[]
[{"$nulls":26},{"$f":"Z93","v":"2018-08-24"},{"$f":"OFFSET($Z$93,AA73,0)","v":"2018-08-31"},{"$f":"OFFSET($Z$93,AB73,0)","v":"2018-09-07"},"2018-09-14","2018-09-21","2018-09-28","2018-10-05","2018-10-12","2018-11-02","2018-11-09","2018-11-16","2018-11-23","2018-11-30","2018-12-07","2018-12-14","2018-12-21","2019-02-01","2019-02-08","2019-02-22","2019-03-01","2019-03-08","2019-03-29","2019-04-05","2019-04-12","2019-04-19","2019-04-26","2019-05-03","2019-05-24","2019-05-31","2019-06-07","2019-06-14","2019-06-21","2019-06-28","2019-07-05","","00:00:00"]
[]
[]
[]
[{"$nulls":24},"Temps",null,2,2,2,2,2,2,2,2,2,2,2,2,2,2,2,2,2,2,2,2,2,2,2,2,2,2,2,2,2,2,2,2,2,2,2,2]
[{"$nulls":25},"Semaine",1,{"$f":"AA73+1","v":2},{"$f":"AB73+1","v":3},4,5,6,7,8,9,10,11,12,13,14,15,16,17,18,{"$f":"AR73+1","v":19},{"$f":"AS73+1","v":20},21,22,23,24,25,26,27,28,29,30,31,32,33,34,35,36]
[{"$nulls":25},"Grp  1",1,1,{"$f":"AA74+1","v":2},{"$f":"AB74+1","v":2},3,3,4,4,5,5,6,6,7,7,8,8,9,9,10,10,11,11,12,12,13,13,14,14,15,15,16,16,17,17,18,18]
[{"$nulls":25},"Grp  2",1,1,{"$f":"AA75+1","v":2},2,3,3,4,4,5,5,6,6,7,7,8,8,9,9,10,10,11,11,12,12,13,13,14,14,15,15,16,16,17,17,18,18]
[{"$nulls":23},"FREQUENCE(A1:A30;{1,8;2,7})",null,"Grp  3",1,1,2,2,3,3,4,4,5,5,6,6,7,7,8,8,9,9,10,10,11,11,12,12,13,13,14,14,15,15,16,16,17,17,18,18]
[{"$nulls":25},"Grp  4",1,2,2,3,3,4,4,5,5,6,6,7,7,8,8,9,9,10,10,11,11,12,12,13,13,14,14,15,15,16,16,17,17,18,18,19]
[{"$nulls":25},"Grp  5",1,2,2,3,3,4,4,5,5,6,6,7,7,8,8,9,9,10,10,11,11,12,12,13,13,14,14,15,15,16,16,17,17,18,18,19]
[{"$nulls":25},"Grp  6",1,2,2,3,3,4,4,5,5,6,6,7,7,8,8,9,9,10,10,11,11,12,12,13,13,14,14,15,15,16,16,17,17,18,18,19]
[{"$nulls":25},"Grp  7",1,2,2,3,3,4,4,5,5,6,6,7,7,8,8,9,9,10,10,11,11,12,12,13,13,14,14,15,15,16,16,17,17,18,18,19]
[{"$nulls":25},"Grp  8",1,2,2,3,3,4,4,5,5,6,6,7,7,8,8,9,9,10,10,11,11,12,12,13,13,14,14,{"$f":"AZ81+1","v":15},{"$f":"BA81+1","v":15},{"$f":"BB81+1","v":16},{"$f":"BC81+1","v":16},{"$f":"BD81+1","v":17},{"$f":"BE81+1","v":17},{"$f":"BF81+1","v":18},{"$f":"BG81+1","v":18},{"$f":"BH81+1","v":19}]
[{"$nulls":33},"DT1 --> 0,5 h",{"$nulls":6},"DT2 --> 1 h"]
[{"$nulls":33},"Travail noté"]
[]
[{"$nulls":23},{"$f":"CONCATENATE(AJ86,Y87)","v":"01"},"Les groupes"]
[{"$nulls":30},{"$f":"IF(LEFT(T1,1)=\"3\",\"Troisième\",IF(LEFT(T1,1)=\"4\",\"Quatrième\",IF(LEFT(T1,1)=\"5\",\"Cinquiéme\",\"Sixième\")))","v":"Sixième"},{"$nulls":4},{"$f":"T1","v":0},null,null,{"$f":"N3","v":"Vendredi"},{"$nulls":4},{"$f":"O3","v":0}]
[{"$nulls":17},{"$error":"#N/A"},{"$error":"#N/A"},{"$error":"#N/A"},{"$error":"#N/A"},{"$error":"#N/A"},1,null,1,{"$f":"IF(ISNA(R87),\"\",R87)&\"  --  \"&IF(ISNA(S87),\"\",S87)&\" --  \"&IF(ISNA(T87),\"\",T87)&\" --  \"&IF(ISNA(U87),\"\",U87)&\"  --  \"&IF(ISNA(V87),\"\",V87)","v":"  --   --   --    --  "},{"$nulls":12},5,{"$f":"IF(ISNA(R91),\"\",R91)&\"  --  \"&IF(ISNA(S91),\"\",S91)&\" --  \"&IF(ISNA(T91),\"\",T91)&\" --  \"&IF(ISNA(U91),\"\",U91)&\"  --  \"&IF(ISNA(V91),\"\",V91)","v":"  --   --   --    --  "}]
[{"$nulls":17},{"$error":"#N/A"},{"$error":"#N/A"},{"$error":"#N/A"},{"$error":"#N/A"},{"$error":"#N/A"},2,null,2,{"$f":"IF(ISNA(R88),\"\",R88)&\"  --  \"&IF(ISNA(S88),\"\",S88)&\" --  \"&IF(ISNA(T88),\"\",T88)&\" --  \"&IF(ISNA(U88),\"\",U88)&\"  --  \"&IF(ISNA(V88),\"\",V88)","v":"  --   --   --    --  "},{"$nulls":12},6,{"$f":"IF(ISNA(R92),\"\",R92)&\"  --  \"&IF(ISNA(S92),\"\",S92)&\" --  \"&IF(ISNA(T92),\"\",T92)&\" --  \"&IF(ISNA(U92),\"\",U92)&\"  --  \"&IF(ISNA(V92),\"\",V92)","v":"  --   --   --    --  "}]
[{"$nulls":17},{"$error":"#N/A"},{"$error":"#N/A"},{"$error":"#N/A"},{"$error":"#N/A"},{"$error":"#N/A"},3,null,3,{"$f":"IF(ISNA(R89),\"\",R89)&\"  --  \"&IF(ISNA(S89),\"\",S89)&\" --  \"&IF(ISNA(T89),\"\",T89)&\" --  \"&IF(ISNA(U89),\"\",U89)&\"  --  \"&IF(ISNA(V89),\"\",V89)","v":"  --   --   --    --  "},{"$nulls":12},7,{"$f":"IF(ISNA(R93),\"\",R93)&\"  --  \"&IF(ISNA(S93),\"\",S93)&\" --  \"&IF(ISNA(T93),\"\",T93)&\" --  \"&IF(ISNA(U93),\"\",U93)&\"  --  \"&IF(ISNA(V93),\"\",V93)","v":"  --   --   --    --  "}]
[{"$nulls":17},{"$error":"#N/A"},{"$error":"#N/A"},{"$error":"#N/A"},{"$error":"#N/A"},{"$error":"#N/A"},4,null,4,{"$f":"IF(ISNA(R90),\"\",R90)&\"  --  \"&IF(ISNA(S90),\"\",S90)&\" --  \"&IF(ISNA(T90),\"\",T90)&\" --  \"&IF(ISNA(U90),\"\",U90)&\"  --  \"&IF(ISNA(V90),\"\",V90)","v":"  --   --   --    --  "},{"$nulls":12},8,{"$f":"IF(ISNA(R94),\"\",R94)&\"  --  \"&IF(ISNA(S94),\"\",S94)&\" --  \"&IF(ISNA(T94),\"\",T94)&\" --  \"&IF(ISNA(U94),\"\",U94)&\"  --  \"&IF(ISNA(V94),\"\",V94)","v":"  --   --   --    --  "}]
[{"$nulls":17},{"$error":"#N/A"},{"$error":"#N/A"},{"$error":"#N/A"},{"$error":"#N/A"},{"$error":"#N/A"},5,{"$nulls":3},"Groupe et N° activité",{"$nulls":7},"Les activités par groupes"]
[{"$nulls":17},{"$error":"#N/A"},{"$error":"#N/A"},{"$error":"#N/A"},{"$error":"#N/A"},{"$error":"#N/A"},null,null,"N° Sem",{"$f":"TEXT(Z93,\"jjjj\")","v":"jjjj"},"G 1","G2","G3","G4","G5","G6","G7","G8"]
[{"$nulls":17},{"$error":"#N/A"},{"$error":"#N/A"},{"$error":"#N/A"},{"$error":"#N/A"},{"$error":"#N/A"},null,null,1,{"$f":"H4","v":"2018-08-24"},{"$f":"AA74","v":1},{"$f":"AA75","v":1},{"$f":"AA76","v":1},{"$f":"AA77","v":1},{"$f":"AA78","v":1},{"$f":"AA79","v":1},{"$f":"AA80","v":1},{"$f":"AA81","v":1},"Accueil - organisation - rotation et planning  - Départ de l' activité \" Présentation du classeur\"",{"$nulls":11},1]
[{"$nulls":17},{"$error":"#N/A"},{"$error":"#N/A"},{"$error":"#N/A"},{"$error":"#N/A"},{"$error":"#N/A"},null,null,{"$f":"Y93+1","v":2},{"$f":"H5","v":"2018-08-31"},{"$f":"IF(OFFSET($AA$74,0,$Y93)=41,\"\",OFFSET($AA$74,0,$Y93))","v":1},{"$f":"IF(OFFSET($AA$74,$Y$93,$Y93)=41,\"\",OFFSET($AA$74,$Y$93,$Y93))","v":1},{"$f":"IF(OFFSET($AA$74,$Y$94,$Y93)=41,\"\",OFFSET($AA$74,$Y$94,$Y93))","v":1},{"$f":"IF(OFFSET($AA$74,$Y$95,$Y93)=41,\"\",OFFSET($AA$74,$Y$95,$Y93))","v":2},{"$f":"IF(OFFSET($AA$74,$Y$96,$Y93)=41,\"\",OFFSET($AA$74,$Y$96,$Y93))","v":2},{"$f":"IF(OFFSET($AA$74,$Y$97,$Y93)=41,\"\",OFFSET($AA$74,$Y$97,$Y93))","v":2},{"$f":"IF(OFFSET($AA$74,$Y$98,$Y93)=41,\"\",OFFSET($AA$74,$Y$98,$Y93))","v":2},{"$f":"IF(OFFSET($AA$74,$Y$99,$Y93)=41,\"\",OFFSET($AA$74,$Y$99,$Y93))","v":2},{"$error":"#VALUE!"},{"$nulls":5},{"$error":"#VALUE!"},{"$nulls":5},{"$f":"AU93+1","v":2}]
[{"$nulls":17},{"$error":"#N/A"},{"$error":"#N/A"},{"$error":"#N/A"},{"$error":"#N/A"},{"$error":"#N/A"},null,null,{"$f":"Y94+1","v":3},"2018-09-07",{"$f":"IF(OFFSET($AA$74,0,$Y94)=41,\"\",OFFSET($AA$74,0,$Y94))","v":2},{"$f":"IF(OFFSET($AA$74,$Y$93,$Y94)=41,\"\",OFFSET($AA$74,$Y$93,$Y94))","v":2},{"$f":"IF(OFFSET($AA$74,$Y$94,$Y94)=41,\"\",OFFSET($AA$74,$Y$94,$Y94))","v":2},{"$f":"IF(OFFSET($AA$74,$Y$95,$Y94)=41,\"\",OFFSET($AA$74,$Y$95,$Y94))","v":2},{"$f":"IF(OFFSET($AA$74,$Y$96,$Y94)=41,\"\",OFFSET($AA$74,$Y$96,$Y94))","v":2},{"$f":"IF(OFFSET($AA$74,$Y$97,$Y94)=41,\"\",OFFSET($AA$74,$Y$97,$Y94))","v":2},{"$f":"IF(OFFSET($AA$74,$Y$98,$Y94)=41,\"\",OFFSET($AA$74,$Y$98,$Y94))","v":2},{"$f":"IF(OFFSET($AA$74,$Y$99,$Y94)=41,\"\",OFFSET($AA$74,$Y$99,$Y94))","v":2},{"$error":"#VALUE!"},{"$nulls":5},{"$error":"#VALUE!"},{"$nulls":5},{"$f":"AU94+1","v":3}]
[{"$nulls":24},4,"2018-09-14",2,2,2,3,3,3,3,3,{"$error":"#VALUE!"},{"$nulls":5},{"$error":"#VALUE!"},{"$nulls":5},4]
[{"$nulls":24},5,"2018-09-21",3,3,3,3,3,3,3,3,{"$error":"#VALUE!"},{"$nulls":5},{"$error":"#VALUE!"},{"$nulls":5},5]
[{"$nulls":24},6,"2018-09-28",3,3,3,4,4,4,4,4,{"$error":"#VALUE!"},{"$nulls":5},{"$error":"#VALUE!"},{"$nulls":5},6]
[{"$nulls":24},7,"2018-10-05",4,4,4,4,4,4,4,4,{"$error":"#VALUE!"},{"$nulls":5},{"$error":"#VALUE!"},{"$nulls":5},7]
[{"$nulls":24},8,"2018-10-12",4,4,4,5,5,5,5,5,{"$error":"#VALUE!"},{"$nulls":5},{"$error":"#VALUE!"},{"$nulls":5},8]
[{"$nulls":24},9,"2018-11-02",5,5,5,5,5,5,5,5,{"$error":"#VALUE!"},{"$nulls":5},{"$error":"#VALUE!"},{"$nulls":5},9]
[{"$nulls":24},10,"2018-11-09",5,5,5,6,6,6,6,6,{"$error":"#VALUE!"},{"$nulls":5},{"$error":"#VALUE!"},{"$nulls":5},10]
[{"$nulls":24},11,"2018-11-16",6,6,6,6,6,6,6,6,{"$error":"#VALUE!"},{"$nulls":5},{"$error":"#VALUE!"},{"$nulls":5},11]
[{"$nulls":24},12,"2018-11-23",6,6,6,7,7,7,7,7,{"$error":"#VALUE!"},{"$nulls":5},{"$error":"#VALUE!"},{"$nulls":5},12]
[{"$nulls":24},13,"2018-11-30",7,7,7,7,7,7,7,7,{"$error":"#VALUE!"},{"$nulls":5},{"$error":"#VALUE!"},{"$nulls":5},13]
[{"$nulls":24},14,"2018-12-07",7,7,7,8,8,8,8,8,{"$error":"#VALUE!"},{"$nulls":5},{"$error":"#VALUE!"},{"$nulls":5},14]
[{"$nulls":24},15,"2018-12-14",8,8,8,8,8,8,8,8,{"$error":"#VALUE!"},{"$nulls":5},{"$error":"#VALUE!"},{"$nulls":5},15]
[{"$nulls":24},16,"2018-12-21",8,8,8,9,9,9,9,9,{"$error":"#VALUE!"},{"$nulls":5},{"$error":"#VALUE!"},{"$nulls":5},16]
[{"$nulls":24},17,"2019-02-01",9,9,9,9,9,9,9,9,{"$error":"#VALUE!"},{"$nulls":5},{"$error":"#VALUE!"},{"$nulls":5},17]
[{"$nulls":24},18,"2019-02-08",9,9,9,10,10,10,10,10,{"$error":"#VALUE!"},{"$nulls":5},{"$error":"#VALUE!"},{"$nulls":5},18]
[{"$nulls":24},19,{"$f":"H23","v":"2019-02-22"},10,10,10,10,10,10,10,10,{"$error":"#VALUE!"},{"$nulls":5},{"$error":"#VALUE!"},{"$nulls":5},19]
[{"$nulls":24},20,"2019-03-01",10,10,10,11,11,11,11,11,{"$error":"#VALUE!"},{"$nulls":5},{"$error":"#VALUE!"},{"$nulls":5},20]
[{"$nulls":24},21,"2019-03-08",11,11,11,11,11,11,11,11,{"$error":"#VALUE!"},{"$nulls":5},{"$error":"#VALUE!"},{"$nulls":5},21]
[{"$nulls":24},22,"2019-03-29",11,11,11,12,12,12,12,12,{"$error":"#VALUE!"},{"$nulls":5},{"$error":"#VALUE!"},{"$nulls":5},22]
[{"$nulls":24},23,"2019-04-05",12,12,12,12,12,12,12,12,{"$error":"#VALUE!"},{"$nulls":5},{"$error":"#VALUE!"},{"$nulls":5},23]
[{"$nulls":24},24,"2019-04-12",12,12,12,13,13,13,13,13,{"$error":"#VALUE!"},{"$nulls":5},{"$error":"#VALUE!"},{"$nulls":5},24]
[{"$nulls":24},25,"2019-04-19",13,13,13,13,13,13,13,13,{"$error":"#VALUE!"},{"$nulls":5},{"$error":"#VALUE!"},{"$nulls":5},25]
[{"$nulls":24},26,"2019-04-26",13,13,13,14,14,14,14,14,{"$error":"#VALUE!"},{"$nulls":5},{"$error":"#VALUE!"},{"$nulls":5},26]
[{"$nulls":24},27,"2019-05-03",14,14,14,14,14,14,14,14,{"$error":"#VALUE!"},{"$nulls":5},{"$error":"#VALUE!"},{"$nulls":5},27]
[{"$nulls":24},28,"2019-05-24",14,14,14,15,15,15,15,15,{"$error":"#VALUE!"},{"$nulls":5},{"$error":"#VALUE!"},{"$nulls":5},28]
[{"$nulls":24},29,"2019-05-31",15,15,15,15,15,15,15,15,{"$error":"#VALUE!"},{"$nulls":5},"",{"$nulls":5},29]
[{"$nulls":24},30,"2019-06-07",15,15,15,16,16,16,16,16,{"$error":"#VALUE!"},{"$nulls":5},{"$error":"#VALUE!"},{"$nulls":5},30]
[{"$nulls":24},31,"2019-06-14",16,16,16,16,16,16,16,16,{"$error":"#VALUE!"},{"$nulls":5},{"$error":"#VALUE!"},{"$nulls":5},31]
[{"$nulls":24},32,"2019-06-21",16,16,16,17,17,17,17,17,{"$error":"#VALUE!"},{"$nulls":5},{"$error":"#VALUE!"},{"$nulls":5},32]
[{"$nulls":24},33,"2019-06-28",17,17,17,17,17,17,17,17,{"$error":"#VALUE!"},{"$nulls":5},"",{"$nulls":5},33]
[{"$nulls":24},34,"2019-07-05",17,17,17,18,18,18,18,18,{"$error":"#VALUE!"},{"$nulls":5},{"$error":"#VALUE!"},{"$nulls":5},34]
[{"$nulls":24},35,{"$f":"H39","v":""},18,18,18,18,18,18,18,18,{"$error":"#VALUE!"},{"$nulls":5},{"$error":"#VALUE!"},{"$nulls":5},35]
[{"$nulls":24},36,null,18,18,18,19,19,19,19,19,{"$error":"#VALUE!"},{"$nulls":5},"",{"$nulls":5},36]

{"sheet":"abs-classe","index":19,"n_rows":88,"n_cols":17,"rows_kept":88,"hidden":true}
[{"$nulls":6},"Cycle abs grp 7-8",null,{"$f":"I$4+3","v":4},{"$f":"J$4+3","v":8},12,16,20,24,28,32,36]
[{"$nulls":6},"Cycle abs grp 5-6",null,{"$f":"I$4+2","v":3},{"$f":"J$4+2","v":7},11,15,19,23,27,31,35]
[{"$nulls":6},"Cycle abs grp 3-4",null,{"$f":"I$4+1","v":2},{"$f":"J$4+1","v":6},10,14,18,22,26,30,34]
[{"$nulls":6},"Cycle abs grp 1-2",null,1,5,9,13,17,21,25,29,33]
["Nom","Prénom-1","prénom-2","né","Classe","Grp","Jour","concat",{"$f":"\"Abs - \"&COLUMN(I4)-8","v":"Abs - 1"},{"$f":"\"Abs - \"&COLUMN(J4)-8","v":"Abs - 2"},"Abs - 3","Abs - 4","Abs - 5","Abs - 6","Abs - 7","Abs - 8","Abs - 9"]
[{"$nulls":3},"2001-12-04",301,1,"Mardi",{"$f":"IF(F6=F5,H5+1,E6&F6&0)","v":"30110"},{"$f":"IF($G6=\"Mardi\",IF(OR($F6=1,$F6=2),VLOOKUP($G$8,Congés_auto!$R$5:$BR$5,2+I$4),IF(OR($F6=3,$F6=4),VLOOKUP($G$8,Congés_auto!$R$5:$BR$5,2+I$3),IF(OR($F6=5,$F6=6),VLOOKUP($G$8,Congés_auto!$R$5:$BR$5,2+I$2),IF(OR($F6=7,$F6=8),VLOOKUP($G$8,Congés_auto!$R$5:$BR$5,2+I$1),)))),IF($G6=\"Jeudi\",IF(OR($F6=1,$F6=2),VLOOKUP($G$8,Congés_auto!$R$7:$BR$7,2+I$4),IF(OR($F6=3,$F6=4),VLOOKUP($G$8,Congés_auto!$R$7:$BR$7,2+I$3),IF(OR($F6=5,$F6=6),VLOOKUP($G$8,Congés_auto!$R$7:$BR$7,2+I$2),IF(OR($F6=7,$F6=8),VLOOKUP($G$8,Congés_auto!$R$7:$BR$7,2+I$1),)))),0))","v":"2018-08-28"},{"$f":"IF($G6=\"Mardi\",IF(OR($F6=1,$F6=2),VLOOKUP($G$8,Congés_auto!$R$5:$BR$5,2+J$4),IF(OR($F6=3,$F6=4),VLOOKUP($G$8,Congés_auto!$R$5:$BR$5,2+J$3),IF(OR($F6=5,$F6=6),VLOOKUP($G$8,Congés_auto!$R$5:$BR$5,2+J$2),IF(OR($F6=7,$F6=8),VLOOKUP($G$8,Congés_auto!$R$5:$BR$5,2+J$1),)))),IF($G6=\"Jeudi\",IF(OR($F6=1,$F6=2),VLOOKUP($G$8,Congés_auto!$R$7:$BR$7,2+J$4),IF(OR($F6=3,$F6=4),VLOOKUP($G$8,Congés_auto!$R$7:$BR$7,2+J$3),IF(OR($F6=5,$F6=6),VLOOKUP($G$8,Congés_auto!$R$7:$BR$7,2+J$2),IF(OR($F6=7,$F6=8),VLOOKUP($G$8,Congés_auto!$R$7:$BR$7,2+J$1),)))),0))","v":"2018-09-25"},{"$f":"IF($G6=\"Mardi\",IF(OR($F6=1,$F6=2),VLOOKUP($G$8,Congés_auto!$R$5:$BR$5,2+K$4),IF(OR($F6=3,$F6=4),VLOOKUP($G$8,Congés_auto!$R$5:$BR$5,2+K$3),IF(OR($F6=5,$F6=6),VLOOKUP($G$8,Congés_auto!$R$5:$BR$5,2+K$2),IF(OR($F6=7,$F6=8),VLOOKUP($G$8,Congés_auto!$R$5:$BR$5,2+K$1),)))),IF($G6=\"Jeudi\",IF(OR($F6=1,$F6=2),VLOOKUP($G$8,Congés_auto!$R$7:$BR$7,2+K$4),IF(OR($F6=3,$F6=4),VLOOKUP($G$8,Congés_auto!$R$7:$BR$7,2+K$3),IF(OR($F6=5,$F6=6),VLOOKUP($G$8,Congés_auto!$R$7:$BR$7,2+K$2),IF(OR($F6=7,$F6=8),VLOOKUP($G$8,Congés_auto!$R$7:$BR$7,2+K$1),)))),0))","v":"2018-11-06"},{"$f":"IF($G6=\"Mardi\",IF(OR($F6=1,$F6=2),VLOOKUP($G$8,Congés_auto!$R$5:$BR$5,2+L$4),IF(OR($F6=3,$F6=4),VLOOKUP($G$8,Congés_auto!$R$5:$BR$5,2+L$3),IF(OR($F6=5,$F6=6),VLOOKUP($G$8,Congés_auto!$R$5:$BR$5,2+L$2),IF(OR($F6=7,$F6=8),VLOOKUP($G$8,Congés_auto!$R$5:$BR$5,2+L$1),)))),IF($G6=\"Jeudi\",IF(OR($F6=1,$F6=2),VLOOKUP($G$8,Congés_auto!$R$7:$BR$7,2+L$4),IF(OR($F6=3,$F6=4),VLOOKUP($G$8,Congés_auto!$R$7:$BR$7,2+L$3),IF(OR($F6=5,$F6=6),VLOOKUP($G$8,Congés_auto!$R$7:$BR$7,2+L$2),IF(OR($F6=7,$F6=8),VLOOKUP($G$8,Congés_auto!$R$7:$BR$7,2+L$1),)))),0))","v":"2018-12-04"},{"$f":"IF($G6=\"Mardi\",IF(OR($F6=1,$F6=2),VLOOKUP($G$8,Congés_auto!$R$5:$BR$5,2+M$4),IF(OR($F6=3,$F6=4),VLOOKUP($G$8,Congés_auto!$R$5:$BR$5,2+M$3),IF(OR($F6=5,$F6=6),VLOOKUP($G$8,Congés_auto!$R$5:$BR$5,2+M$2),IF(OR($F6=7,$F6=8),VLOOKUP($G$8,Congés_auto!$R$5:$BR$5,2+M$1),)))),IF($G6=\"Jeudi\",IF(OR($F6=1,$F6=2),VLOOKUP($G$8,Congés_auto!$R$7:$BR$7,2+M$4),IF(OR($F6=3,$F6=4),VLOOKUP($G$8,Congés_auto!$R$7:$BR$7,2+M$3),IF(OR($F6=5,$F6=6),VLOOKUP($G$8,Congés_auto!$R$7:$BR$7,2+M$2),IF(OR($F6=7,$F6=8),VLOOKUP($G$8,Congés_auto!$R$7:$BR$7,2+M$1),)))),0))","v":"2019-02-05"},{"$f":"IF($G6=\"Mardi\",IF(OR($F6=1,$F6=2),VLOOKUP($G$8,Congés_auto!$R$5:$BR$5,2+N$4),IF(OR($F6=3,$F6=4),VLOOKUP($G$8,Congés_auto!$R$5:$BR$5,2+N$3),IF(OR($F6=5,$F6=6),VLOOKUP($G$8,Congés_auto!$R$5:$BR$5,2+N$2),IF(OR($F6=7,$F6=8),VLOOKUP($G$8,Congés_auto!$R$5:$BR$5,2+N$1),)))),IF($G6=\"Jeudi\",IF(OR($F6=1,$F6=2),VLOOKUP($G$8,Congés_auto!$R$7:$BR$7,2+N$4),IF(OR($F6=3,$F6=4),VLOOKUP($G$8,Congés_auto!$R$7:$BR$7,2+N$3),IF(OR($F6=5,$F6=6),VLOOKUP($G$8,Congés_auto!$R$7:$BR$7,2+N$2),IF(OR($F6=7,$F6=8),VLOOKUP($G$8,Congés_auto!$R$7:$BR$7,2+N$1),)))),0))","v":"2019-03-05"},{"$f":"IF($G6=\"Mardi\",IF(OR($F6=1,$F6=2),VLOOKUP($G$8,Congés_auto!$R$5:$BR$5,2+O$4),IF(OR($F6=3,$F6=4),VLOOKUP($G$8,Congés_auto!$R$5:$BR$5,2+O$3),IF(OR($F6=5,$F6=6),VLOOKUP($G$8,Congés_auto!$R$5:$BR$5,2+O$2),IF(OR($F6=7,$F6=8),VLOOKUP($G$8,Congés_auto!$R$5:$BR$5,2+O$1),)))),IF($G6=\"Jeudi\",IF(OR($F6=1,$F6=2),VLOOKUP($G$8,Congés_auto!$R$7:$BR$7,2+O$4),IF(OR($F6=3,$F6=4),VLOOKUP($G$8,Congés_auto!$R$7:$BR$7,2+O$3),IF(OR($F6=5,$F6=6),VLOOKUP($G$8,Congés_auto!$R$7:$BR$7,2+O$2),IF(OR($F6=7,$F6=8),VLOOKUP($G$8,Congés_auto!$R$7:$BR$7,2+O$1),)))),0))","v":"2019-04-16"},{"$f":"IF($G6=\"Mardi\",IF(OR($F6=1,$F6=2),VLOOKUP($G$8,Congés_auto!$R$5:$BR$5,2+P$4),IF(OR($F6=3,$F6=4),VLOOKUP($G$8,Congés_auto!$R$5:$BR$5,2+P$3),IF(OR($F6=5,$F6=6),VLOOKUP($G$8,Congés_auto!$R$5:$BR$5,2+P$2),IF(OR($F6=7,$F6=8),VLOOKUP($G$8,Congés_auto!$R$5:$BR$5,2+P$1),)))),IF($G6=\"Jeudi\",IF(OR($F6=1,$F6=2),VLOOKUP($G$8,Congés_auto!$R$7:$BR$7,2+P$4),IF(OR($F6=3,$F6=4),VLOOKUP($G$8,Congés_auto!$R$7:$BR$7,2+P$3),IF(OR($F6=5,$F6=6),VLOOKUP($G$8,Congés_auto!$R$7:$BR$7,2+P$2),IF(OR($F6=7,$F6=8),VLOOKUP($G$8,Congés_auto!$R$7:$BR$7,2+P$1),)))),0))","v":"2019-05-28"},{"$f":"IF($G6=\"Mardi\",IF(OR($F6=1,$F6=2),VLOOKUP($G$8,Congés_auto!$R$5:$BR$5,2+Q$4),IF(OR($F6=3,$F6=4),VLOOKUP($G$8,Congés_auto!$R$5:$BR$5,2+Q$3),IF(OR($F6=5,$F6=6),VLOOKUP($G$8,Congés_auto!$R$5:$BR$5,2+Q$2),IF(OR($F6=7,$F6=8),VLOOKUP($G$8,Congés_auto!$R$5:$BR$5,2+Q$1),)))),IF($G6=\"Jeudi\",IF(OR($F6=1,$F6=2),VLOOKUP($G$8,Congés_auto!$R$7:$BR$7,2+Q$4),IF(OR($F6=3,$F6=4),VLOOKUP($G$8,Congés_auto!$R$7:$BR$7,2+Q$3),IF(OR($F6=5,$F6=6),VLOOKUP($G$8,Congés_auto!$R$7:$BR$7,2+Q$2),IF(OR($F6=7,$F6=8),VLOOKUP($G$8,Congés_auto!$R$7:$BR$7,2+Q$1),)))),0))","v":"2019-06-25"}]
[{"$nulls":3},"2001-07-10",301,1,"Mardi",30111,{"$f":"IF($G7=\"Mardi\",IF(OR($F7=1,$F7=2),VLOOKUP($G$8,Congés_auto!$R$5:$BR$5,2+I$4),IF(OR($F7=3,$F7=4),VLOOKUP($G$8,Congés_auto!$R$5:$BR$5,2+I$3),IF(OR($F7=5,$F7=6),VLOOKUP($G$8,Congés_auto!$R$5:$BR$5,2+I$2),IF(OR($F7=7,$F7=8),VLOOKUP($G$8,Congés_auto!$R$5:$BR$5,2+I$1),)))),IF($G7=\"Jeudi\",IF(OR($F7=1,$F7=2),VLOOKUP($G$8,Congés_auto!$R$7:$BR$7,2+I$4),IF(OR($F7=3,$F7=4),VLOOKUP($G$8,Congés_auto!$R$7:$BR$7,2+I$3),IF(OR($F7=5,$F7=6),VLOOKUP($G$8,Congés_auto!$R$7:$BR$7,2+I$2),IF(OR($F7=7,$F7=8),VLOOKUP($G$8,Congés_auto!$R$7:$BR$7,2+I$1),)))),0))","v":"2018-08-28"},{"$f":"IF($G7=\"Mardi\",IF(OR($F7=1,$F7=2),VLOOKUP($G$8,Congés_auto!$R$5:$BR$5,2+J$4),IF(OR($F7=3,$F7=4),VLOOKUP($G$8,Congés_auto!$R$5:$BR$5,2+J$3),IF(OR($F7=5,$F7=6),VLOOKUP($G$8,Congés_auto!$R$5:$BR$5,2+J$2),IF(OR($F7=7,$F7=8),VLOOKUP($G$8,Congés_auto!$R$5:$BR$5,2+J$1),)))),IF($G7=\"Jeudi\",IF(OR($F7=1,$F7=2),VLOOKUP($G$8,Congés_auto!$R$7:$BR$7,2+J$4),IF(OR($F7=3,$F7=4),VLOOKUP($G$8,Congés_auto!$R$7:$BR$7,2+J$3),IF(OR($F7=5,$F7=6),VLOOKUP($G$8,Congés_auto!$R$7:$BR$7,2+J$2),IF(OR($F7=7,$F7=8),VLOOKUP($G$8,Congés_auto!$R$7:$BR$7,2+J$1),)))),0))","v":"2018-09-25"},{"$f":"IF($G7=\"Mardi\",IF(OR($F7=1,$F7=2),VLOOKUP($G$8,Congés_auto!$R$5:$BR$5,2+K$4),IF(OR($F7=3,$F7=4),VLOOKUP($G$8,Congés_auto!$R$5:$BR$5,2+K$3),IF(OR($F7=5,$F7=6),VLOOKUP($G$8,Congés_auto!$R$5:$BR$5,2+K$2),IF(OR($F7=7,$F7=8),VLOOKUP($G$8,Congés_auto!$R$5:$BR$5,2+K$1),)))),IF($G7=\"Jeudi\",IF(OR($F7=1,$F7=2),VLOOKUP($G$8,Congés_auto!$R$7:$BR$7,2+K$4),IF(OR($F7=3,$F7=4),VLOOKUP($G$8,Congés_auto!$R$7:$BR$7,2+K$3),IF(OR($F7=5,$F7=6),VLOOKUP($G$8,Congés_auto!$R$7:$BR$7,2+K$2),IF(OR($F7=7,$F7=8),VLOOKUP($G$8,Congés_auto!$R$7:$BR$7,2+K$1),)))),0))","v":"2018-11-06"},{"$f":"IF($G7=\"Mardi\",IF(OR($F7=1,$F7=2),VLOOKUP($G$8,Congés_auto!$R$5:$BR$5,2+L$4),IF(OR($F7=3,$F7=4),VLOOKUP($G$8,Congés_auto!$R$5:$BR$5,2+L$3),IF(OR($F7=5,$F7=6),VLOOKUP($G$8,Congés_auto!$R$5:$BR$5,2+L$2),IF(OR($F7=7,$F7=8),VLOOKUP($G$8,Congés_auto!$R$5:$BR$5,2+L$1),)))),IF($G7=\"Jeudi\",IF(OR($F7=1,$F7=2),VLOOKUP($G$8,Congés_auto!$R$7:$BR$7,2+L$4),IF(OR($F7=3,$F7=4),VLOOKUP($G$8,Congés_auto!$R$7:$BR$7,2+L$3),IF(OR($F7=5,$F7=6),VLOOKUP($G$8,Congés_auto!$R$7:$BR$7,2+L$2),IF(OR($F7=7,$F7=8),VLOOKUP($G$8,Congés_auto!$R$7:$BR$7,2+L$1),)))),0))","v":"2018-12-04"},{"$f":"IF($G7=\"Mardi\",IF(OR($F7=1,$F7=2),VLOOKUP($G$8,Congés_auto!$R$5:$BR$5,2+M$4),IF(OR($F7=3,$F7=4),VLOOKUP($G$8,Congés_auto!$R$5:$BR$5,2+M$3),IF(OR($F7=5,$F7=6),VLOOKUP($G$8,Congés_auto!$R$5:$BR$5,2+M$2),IF(OR($F7=7,$F7=8),VLOOKUP($G$8,Congés_auto!$R$5:$BR$5,2+M$1),)))),IF($G7=\"Jeudi\",IF(OR($F7=1,$F7=2),VLOOKUP($G$8,Congés_auto!$R$7:$BR$7,2+M$4),IF(OR($F7=3,$F7=4),VLOOKUP($G$8,Congés_auto!$R$7:$BR$7,2+M$3),IF(OR($F7=5,$F7=6),VLOOKUP($G$8,Congés_auto!$R$7:$BR$7,2+M$2),IF(OR($F7=7,$F7=8),VLOOKUP($G$8,Congés_auto!$R$7:$BR$7,2+M$1),)))),0))","v":"2019-02-05"},{"$f":"IF($G7=\"Mardi\",IF(OR($F7=1,$F7=2),VLOOKUP($G$8,Congés_auto!$R$5:$BR$5,2+N$4),IF(OR($F7=3,$F7=4),VLOOKUP($G$8,Congés_auto!$R$5:$BR$5,2+N$3),IF(OR($F7=5,$F7=6),VLOOKUP($G$8,Congés_auto!$R$5:$BR$5,2+N$2),IF(OR($F7=7,$F7=8),VLOOKUP($G$8,Congés_auto!$R$5:$BR$5,2+N$1),)))),IF($G7=\"Jeudi\",IF(OR($F7=1,$F7=2),VLOOKUP($G$8,Congés_auto!$R$7:$BR$7,2+N$4),IF(OR($F7=3,$F7=4),VLOOKUP($G$8,Congés_auto!$R$7:$BR$7,2+N$3),IF(OR($F7=5,$F7=6),VLOOKUP($G$8,Congés_auto!$R$7:$BR$7,2+N$2),IF(OR($F7=7,$F7=8),VLOOKUP($G$8,Congés_auto!$R$7:$BR$7,2+N$1),)))),0))","v":"2019-03-05"},{"$f":"IF($G7=\"Mardi\",IF(OR($F7=1,$F7=2),VLOOKUP($G$8,Congés_auto!$R$5:$BR$5,2+O$4),IF(OR($F7=3,$F7=4),VLOOKUP($G$8,Congés_auto!$R$5:$BR$5,2+O$3),IF(OR($F7=5,$F7=6),VLOOKUP($G$8,Congés_auto!$R$5:$BR$5,2+O$2),IF(OR($F7=7,$F7=8),VLOOKUP($G$8,Congés_auto!$R$5:$BR$5,2+O$1),)))),IF($G7=\"Jeudi\",IF(OR($F7=1,$F7=2),VLOOKUP($G$8,Congés_auto!$R$7:$BR$7,2+O$4),IF(OR($F7=3,$F7=4),VLOOKUP($G$8,Congés_auto!$R$7:$BR$7,2+O$3),IF(OR($F7=5,$F7=6),VLOOKUP($G$8,Congés_auto!$R$7:$BR$7,2+O$2),IF(OR($F7=7,$F7=8),VLOOKUP($G$8,Congés_auto!$R$7:$BR$7,2+O$1),)))),0))","v":"2019-04-16"},{"$f":"IF($G7=\"Mardi\",IF(OR($F7=1,$F7=2),VLOOKUP($G$8,Congés_auto!$R$5:$BR$5,2+P$4),IF(OR($F7=3,$F7=4),VLOOKUP($G$8,Congés_auto!$R$5:$BR$5,2+P$3),IF(OR($F7=5,$F7=6),VLOOKUP($G$8,Congés_auto!$R$5:$BR$5,2+P$2),IF(OR($F7=7,$F7=8),VLOOKUP($G$8,Congés_auto!$R$5:$BR$5,2+P$1),)))),IF($G7=\"Jeudi\",IF(OR($F7=1,$F7=2),VLOOKUP($G$8,Congés_auto!$R$7:$BR$7,2+P$4),IF(OR($F7=3,$F7=4),VLOOKUP($G$8,Congés_auto!$R$7:$BR$7,2+P$3),IF(OR($F7=5,$F7=6),VLOOKUP($G$8,Congés_auto!$R$7:$BR$7,2+P$2),IF(OR($F7=7,$F7=8),VLOOKUP($G$8,Congés_auto!$R$7:$BR$7,2+P$1),)))),0))","v":"2019-05-28"},{"$f":"IF($G7=\"Mardi\",IF(OR($F7=1,$F7=2),VLOOKUP($G$8,Congés_auto!$R$5:$BR$5,2+Q$4),IF(OR($F7=3,$F7=4),VLOOKUP($G$8,Congés_auto!$R$5:$BR$5,2+Q$3),IF(OR($F7=5,$F7=6),VLOOKUP($G$8,Congés_auto!$R$5:$BR$5,2+Q$2),IF(OR($F7=7,$F7=8),VLOOKUP($G$8,Congés_auto!$R$5:$BR$5,2+Q$1),)))),IF($G7=\"Jeudi\",IF(OR($F7=1,$F7=2),VLOOKUP($G$8,Congés_auto!$R$7:$BR$7,2+Q$4),IF(OR($F7=3,$F7=4),VLOOKUP($G$8,Congés_auto!$R$7:$BR$7,2+Q$3),IF(OR($F7=5,$F7=6),VLOOKUP($G$8,Congés_auto!$R$7:$BR$7,2+Q$2),IF(OR($F7=7,$F7=8),VLOOKUP($G$8,Congés_auto!$R$7:$BR$7,2+Q$1),)))),0))","v":"2019-06-25"}]
[null,null,"Alyssia","2001-10-06",301,1,"Mardi",30112,{"$f":"IF($G8=\"Mardi\",IF(OR($F8=1,$F8=2),VLOOKUP($G$8,Congés_auto!$R$5:$BR$5,2+I$4),IF(OR($F8=3,$F8=4),VLOOKUP($G$8,Congés_auto!$R$5:$BR$5,2+I$3),IF(OR($F8=5,$F8=6),VLOOKUP($G$8,Congés_auto!$R$5:$BR$5,2+I$2),IF(OR($F8=7,$F8=8),VLOOKUP($G$8,Congés_auto!$R$5:$BR$5,2+I$1),)))),IF($G8=\"Jeudi\",IF(OR($F8=1,$F8=2),VLOOKUP($G$8,Congés_auto!$R$7:$BR$7,2+I$4),IF(OR($F8=3,$F8=4),VLOOKUP($G$8,Congés_auto!$R$7:$BR$7,2+I$3),IF(OR($F8=5,$F8=6),VLOOKUP($G$8,Congés_auto!$R$7:$BR$7,2+I$2),IF(OR($F8=7,$F8=8),VLOOKUP($G$8,Congés_auto!$R$7:$BR$7,2+I$1),)))),0))","v":"2018-08-28"},{"$f":"IF($G8=\"Mardi\",IF(OR($F8=1,$F8=2),VLOOKUP($G$8,Congés_auto!$R$5:$BR$5,2+J$4),IF(OR($F8=3,$F8=4),VLOOKUP($G$8,Congés_auto!$R$5:$BR$5,2+J$3),IF(OR($F8=5,$F8=6),VLOOKUP($G$8,Congés_auto!$R$5:$BR$5,2+J$2),IF(OR($F8=7,$F8=8),VLOOKUP($G$8,Congés_auto!$R$5:$BR$5,2+J$1),)))),IF($G8=\"Jeudi\",IF(OR($F8=1,$F8=2),VLOOKUP($G$8,Congés_auto!$R$7:$BR$7,2+J$4),IF(OR($F8=3,$F8=4),VLOOKUP($G$8,Congés_auto!$R$7:$BR$7,2+J$3),IF(OR($F8=5,$F8=6),VLOOKUP($G$8,Congés_auto!$R$7:$BR$7,2+J$2),IF(OR($F8=7,$F8=8),VLOOKUP($G$8,Congés_auto!$R$7:$BR$7,2+J$1),)))),0))","v":"2018-09-25"},{"$f":"IF($G8=\"Mardi\",IF(OR($F8=1,$F8=2),VLOOKUP($G$8,Congés_auto!$R$5:$BR$5,2+K$4),IF(OR($F8=3,$F8=4),VLOOKUP($G$8,Congés_auto!$R$5:$BR$5,2+K$3),IF(OR($F8=5,$F8=6),VLOOKUP($G$8,Congés_auto!$R$5:$BR$5,2+K$2),IF(OR($F8=7,$F8=8),VLOOKUP($G$8,Congés_auto!$R$5:$BR$5,2+K$1),)))),IF($G8=\"Jeudi\",IF(OR($F8=1,$F8=2),VLOOKUP($G$8,Congés_auto!$R$7:$BR$7,2+K$4),IF(OR($F8=3,$F8=4),VLOOKUP($G$8,Congés_auto!$R$7:$BR$7,2+K$3),IF(OR($F8=5,$F8=6),VLOOKUP($G$8,Congés_auto!$R$7:$BR$7,2+K$2),IF(OR($F8=7,$F8=8),VLOOKUP($G$8,Congés_auto!$R$7:$BR$7,2+K$1),)))),0))","v":"2018-11-06"},{"$f":"IF($G8=\"Mardi\",IF(OR($F8=1,$F8=2),VLOOKUP($G$8,Congés_auto!$R$5:$BR$5,2+L$4),IF(OR($F8=3,$F8=4),VLOOKUP($G$8,Congés_auto!$R$5:$BR$5,2+L$3),IF(OR($F8=5,$F8=6),VLOOKUP($G$8,Congés_auto!$R$5:$BR$5,2+L$2),IF(OR($F8=7,$F8=8),VLOOKUP($G$8,Congés_auto!$R$5:$BR$5,2+L$1),)))),IF($G8=\"Jeudi\",IF(OR($F8=1,$F8=2),VLOOKUP($G$8,Congés_auto!$R$7:$BR$7,2+L$4),IF(OR($F8=3,$F8=4),VLOOKUP($G$8,Congés_auto!$R$7:$BR$7,2+L$3),IF(OR($F8=5,$F8=6),VLOOKUP($G$8,Congés_auto!$R$7:$BR$7,2+L$2),IF(OR($F8=7,$F8=8),VLOOKUP($G$8,Congés_auto!$R$7:$BR$7,2+L$1),)))),0))","v":"2018-12-04"},{"$f":"IF($G8=\"Mardi\",IF(OR($F8=1,$F8=2),VLOOKUP($G$8,Congés_auto!$R$5:$BR$5,2+M$4),IF(OR($F8=3,$F8=4),VLOOKUP($G$8,Congés_auto!$R$5:$BR$5,2+M$3),IF(OR($F8=5,$F8=6),VLOOKUP($G$8,Congés_auto!$R$5:$BR$5,2+M$2),IF(OR($F8=7,$F8=8),VLOOKUP($G$8,Congés_auto!$R$5:$BR$5,2+M$1),)))),IF($G8=\"Jeudi\",IF(OR($F8=1,$F8=2),VLOOKUP($G$8,Congés_auto!$R$7:$BR$7,2+M$4),IF(OR($F8=3,$F8=4),VLOOKUP($G$8,Congés_auto!$R$7:$BR$7,2+M$3),IF(OR($F8=5,$F8=6),VLOOKUP($G$8,Congés_auto!$R$7:$BR$7,2+M$2),IF(OR($F8=7,$F8=8),VLOOKUP($G$8,Congés_auto!$R$7:$BR$7,2+M$1),)))),0))","v":"2019-02-05"},{"$f":"IF($G8=\"Mardi\",IF(OR($F8=1,$F8=2),VLOOKUP($G$8,Congés_auto!$R$5:$BR$5,2+N$4),IF(OR($F8=3,$F8=4),VLOOKUP($G$8,Congés_auto!$R$5:$BR$5,2+N$3),IF(OR($F8=5,$F8=6),VLOOKUP($G$8,Congés_auto!$R$5:$BR$5,2+N$2),IF(OR($F8=7,$F8=8),VLOOKUP($G$8,Congés_auto!$R$5:$BR$5,2+N$1),)))),IF($G8=\"Jeudi\",IF(OR($F8=1,$F8=2),VLOOKUP($G$8,Congés_auto!$R$7:$BR$7,2+N$4),IF(OR($F8=3,$F8=4),VLOOKUP($G$8,Congés_auto!$R$7:$BR$7,2+N$3),IF(OR($F8=5,$F8=6),VLOOKUP($G$8,Congés_auto!$R$7:$BR$7,2+N$2),IF(OR($F8=7,$F8=8),VLOOKUP($G$8,Congés_auto!$R$7:$BR$7,2+N$1),)))),0))","v":"2019-03-05"},{"$f":"IF($G8=\"Mardi\",IF(OR($F8=1,$F8=2),VLOOKUP($G$8,Congés_auto!$R$5:$BR$5,2+O$4),IF(OR($F8=3,$F8=4),VLOOKUP($G$8,Congés_auto!$R$5:$BR$5,2+O$3),IF(OR($F8=5,$F8=6),VLOOKUP($G$8,Congés_auto!$R$5:$BR$5,2+O$2),IF(OR($F8=7,$F8=8),VLOOKUP($G$8,Congés_auto!$R$5:$BR$5,2+O$1),)))),IF($G8=\"Jeudi\",IF(OR($F8=1,$F8=2),VLOOKUP($G$8,Congés_auto!$R$7:$BR$7,2+O$4),IF(OR($F8=3,$F8=4),VLOOKUP($G$8,Congés_auto!$R$7:$BR$7,2+O$3),IF(OR($F8=5,$F8=6),VLOOKUP($G$8,Congés_auto!$R$7:$BR$7,2+O$2),IF(OR($F8=7,$F8=8),VLOOKUP($G$8,Congés_auto!$R$7:$BR$7,2+O$1),)))),0))","v":"2019-04-16"},{"$f":"IF($G8=\"Mardi\",IF(OR($F8=1,$F8=2),VLOOKUP($G$8,Congés_auto!$R$5:$BR$5,2+P$4),IF(OR($F8=3,$F8=4),VLOOKUP($G$8,Congés_auto!$R$5:$BR$5,2+P$3),IF(OR($F8=5,$F8=6),VLOOKUP($G$8,Congés_auto!$R$5:$BR$5,2+P$2),IF(OR($F8=7,$F8=8),VLOOKUP($G$8,Congés_auto!$R$5:$BR$5,2+P$1),)))),IF($G8=\"Jeudi\",IF(OR($F8=1,$F8=2),VLOOKUP($G$8,Congés_auto!$R$7:$BR$7,2+P$4),IF(OR($F8=3,$F8=4),VLOOKUP($G$8,Congés_auto!$R$7:$BR$7,2+P$3),IF(OR($F8=5,$F8=6),VLOOKUP($G$8,Congés_auto!$R$7:$BR$7,2+P$2),IF(OR($F8=7,$F8=8),VLOOKUP($G$8,Congés_auto!$R$7:$BR$7,2+P$1),)))),0))","v":"2019-05-28"},{"$f":"IF($G8=\"Mardi\",IF(OR($F8=1,$F8=2),VLOOKUP($G$8,Congés_auto!$R$5:$BR$5,2+Q$4),IF(OR($F8=3,$F8=4),VLOOKUP($G$8,Congés_auto!$R$5:$BR$5,2+Q$3),IF(OR($F8=5,$F8=6),VLOOKUP($G$8,Congés_auto!$R$5:$BR$5,2+Q$2),IF(OR($F8=7,$F8=8),VLOOKUP($G$8,Congés_auto!$R$5:$BR$5,2+Q$1),)))),IF($G8=\"Jeudi\",IF(OR($F8=1,$F8=2),VLOOKUP($G$8,Congés_auto!$R$7:$BR$7,2+Q$4),IF(OR($F8=3,$F8=4),VLOOKUP($G$8,Congés_auto!$R$7:$BR$7,2+Q$3),IF(OR($F8=5,$F8=6),VLOOKUP($G$8,Congés_auto!$R$7:$BR$7,2+Q$2),IF(OR($F8=7,$F8=8),VLOOKUP($G$8,Congés_auto!$R$7:$BR$7,2+Q$1),)))),0))","v":"2019-06-25"}]
[null,null,"Alix","2001-12-02",301,2,"Mardi","30120",{"$f":"IF($G9=\"Mardi\",IF(OR($F9=1,$F9=2),VLOOKUP($G$8,Congés_auto!$R$5:$BR$5,2+I$4),IF(OR($F9=3,$F9=4),VLOOKUP($G$8,Congés_auto!$R$5:$BR$5,2+I$3),IF(OR($F9=5,$F9=6),VLOOKUP($G$8,Congés_auto!$R$5:$BR$5,2+I$2),IF(OR($F9=7,$F9=8),VLOOKUP($G$8,Congés_auto!$R$5:$BR$5,2+I$1),)))),IF($G9=\"Jeudi\",IF(OR($F9=1,$F9=2),VLOOKUP($G$8,Congés_auto!$R$7:$BR$7,2+I$4),IF(OR($F9=3,$F9=4),VLOOKUP($G$8,Congés_auto!$R$7:$BR$7,2+I$3),IF(OR($F9=5,$F9=6),VLOOKUP($G$8,Congés_auto!$R$7:$BR$7,2+I$2),IF(OR($F9=7,$F9=8),VLOOKUP($G$8,Congés_auto!$R$7:$BR$7,2+I$1),)))),0))","v":"2018-08-28"},{"$f":"IF($G9=\"Mardi\",IF(OR($F9=1,$F9=2),VLOOKUP($G$8,Congés_auto!$R$5:$BR$5,2+J$4),IF(OR($F9=3,$F9=4),VLOOKUP($G$8,Congés_auto!$R$5:$BR$5,2+J$3),IF(OR($F9=5,$F9=6),VLOOKUP($G$8,Congés_auto!$R$5:$BR$5,2+J$2),IF(OR($F9=7,$F9=8),VLOOKUP($G$8,Congés_auto!$R$5:$BR$5,2+J$1),)))),IF($G9=\"Jeudi\",IF(OR($F9=1,$F9=2),VLOOKUP($G$8,Congés_auto!$R$7:$BR$7,2+J$4),IF(OR($F9=3,$F9=4),VLOOKUP($G$8,Congés_auto!$R$7:$BR$7,2+J$3),IF(OR($F9=5,$F9=6),VLOOKUP($G$8,Congés_auto!$R$7:$BR$7,2+J$2),IF(OR($F9=7,$F9=8),VLOOKUP($G$8,Congés_auto!$R$7:$BR$7,2+J$1),)))),0))","v":"2018-09-25"},{"$f":"IF($G9=\"Mardi\",IF(OR($F9=1,$F9=2),VLOOKUP($G$8,Congés_auto!$R$5:$BR$5,2+K$4),IF(OR($F9=3,$F9=4),VLOOKUP($G$8,Congés_auto!$R$5:$BR$5,2+K$3),IF(OR($F9=5,$F9=6),VLOOKUP($G$8,Congés_auto!$R$5:$BR$5,2+K$2),IF(OR($F9=7,$F9=8),VLOOKUP($G$8,Congés_auto!$R$5:$BR$5,2+K$1),)))),IF($G9=\"Jeudi\",IF(OR($F9=1,$F9=2),VLOOKUP($G$8,Congés_auto!$R$7:$BR$7,2+K$4),IF(OR($F9=3,$F9=4),VLOOKUP($G$8,Congés_auto!$R$7:$BR$7,2+K$3),IF(OR($F9=5,$F9=6),VLOOKUP($G$8,Congés_auto!$R$7:$BR$7,2+K$2),IF(OR($F9=7,$F9=8),VLOOKUP($G$8,Congés_auto!$R$7:$BR$7,2+K$1),)))),0))","v":"2018-11-06"},{"$f":"IF($G9=\"Mardi\",IF(OR($F9=1,$F9=2),VLOOKUP($G$8,Congés_auto!$R$5:$BR$5,2+L$4),IF(OR($F9=3,$F9=4),VLOOKUP($G$8,Congés_auto!$R$5:$BR$5,2+L$3),IF(OR($F9=5,$F9=6),VLOOKUP($G$8,Congés_auto!$R$5:$BR$5,2+L$2),IF(OR($F9=7,$F9=8),VLOOKUP($G$8,Congés_auto!$R$5:$BR$5,2+L$1),)))),IF($G9=\"Jeudi\",IF(OR($F9=1,$F9=2),VLOOKUP($G$8,Congés_auto!$R$7:$BR$7,2+L$4),IF(OR($F9=3,$F9=4),VLOOKUP($G$8,Congés_auto!$R$7:$BR$7,2+L$3),IF(OR($F9=5,$F9=6),VLOOKUP($G$8,Congés_auto!$R$7:$BR$7,2+L$2),IF(OR($F9=7,$F9=8),VLOOKUP($G$8,Congés_auto!$R$7:$BR$7,2+L$1),)))),0))","v":"2018-12-04"},{"$f":"IF($G9=\"Mardi\",IF(OR($F9=1,$F9=2),VLOOKUP($G$8,Congés_auto!$R$5:$BR$5,2+M$4),IF(OR($F9=3,$F9=4),VLOOKUP($G$8,Congés_auto!$R$5:$BR$5,2+M$3),IF(OR($F9=5,$F9=6),VLOOKUP($G$8,Congés_auto!$R$5:$BR$5,2+M$2),IF(OR($F9=7,$F9=8),VLOOKUP($G$8,Congés_auto!$R$5:$BR$5,2+M$1),)))),IF($G9=\"Jeudi\",IF(OR($F9=1,$F9=2),VLOOKUP($G$8,Congés_auto!$R$7:$BR$7,2+M$4),IF(OR($F9=3,$F9=4),VLOOKUP($G$8,Congés_auto!$R$7:$BR$7,2+M$3),IF(OR($F9=5,$F9=6),VLOOKUP($G$8,Congés_auto!$R$7:$BR$7,2+M$2),IF(OR($F9=7,$F9=8),VLOOKUP($G$8,Congés_auto!$R$7:$BR$7,2+M$1),)))),0))","v":"2019-02-05"},{"$f":"IF($G9=\"Mardi\",IF(OR($F9=1,$F9=2),VLOOKUP($G$8,Congés_auto!$R$5:$BR$5,2+N$4),IF(OR($F9=3,$F9=4),VLOOKUP($G$8,Congés_auto!$R$5:$BR$5,2+N$3),IF(OR($F9=5,$F9=6),VLOOKUP($G$8,Congés_auto!$R$5:$BR$5,2+N$2),IF(OR($F9=7,$F9=8),VLOOKUP($G$8,Congés_auto!$R$5:$BR$5,2+N$1),)))),IF($G9=\"Jeudi\",IF(OR($F9=1,$F9=2),VLOOKUP($G$8,Congés_auto!$R$7:$BR$7,2+N$4),IF(OR($F9=3,$F9=4),VLOOKUP($G$8,Congés_auto!$R$7:$BR$7,2+N$3),IF(OR($F9=5,$F9=6),VLOOKUP($G$8,Congés_auto!$R$7:$BR$7,2+N$2),IF(OR($F9=7,$F9=8),VLOOKUP($G$8,Congés_auto!$R$7:$BR$7,2+N$1),)))),0))","v":"2019-03-05"},{"$f":"IF($G9=\"Mardi\",IF(OR($F9=1,$F9=2),VLOOKUP($G$8,Congés_auto!$R$5:$BR$5,2+O$4),IF(OR($F9=3,$F9=4),VLOOKUP($G$8,Congés_auto!$R$5:$BR$5,2+O$3),IF(OR($F9=5,$F9=6),VLOOKUP($G$8,Congés_auto!$R$5:$BR$5,2+O$2),IF(OR($F9=7,$F9=8),VLOOKUP($G$8,Congés_auto!$R$5:$BR$5,2+O$1),)))),IF($G9=\"Jeudi\",IF(OR($F9=1,$F9=2),VLOOKUP($G$8,Congés_auto!$R$7:$BR$7,2+O$4),IF(OR($F9=3,$F9=4),VLOOKUP($G$8,Congés_auto!$R$7:$BR$7,2+O$3),IF(OR($F9=5,$F9=6),VLOOKUP($G$8,Congés_auto!$R$7:$BR$7,2+O$2),IF(OR($F9=7,$F9=8),VLOOKUP($G$8,Congés_auto!$R$7:$BR$7,2+O$1),)))),0))","v":"2019-04-16"},{"$f":"IF($G9=\"Mardi\",IF(OR($F9=1,$F9=2),VLOOKUP($G$8,Congés_auto!$R$5:$BR$5,2+P$4),IF(OR($F9=3,$F9=4),VLOOKUP($G$8,Congés_auto!$R$5:$BR$5,2+P$3),IF(OR($F9=5,$F9=6),VLOOKUP($G$8,Congés_auto!$R$5:$BR$5,2+P$2),IF(OR($F9=7,$F9=8),VLOOKUP($G$8,Congés_auto!$R$5:$BR$5,2+P$1),)))),IF($G9=\"Jeudi\",IF(OR($F9=1,$F9=2),VLOOKUP($G$8,Congés_auto!$R$7:$BR$7,2+P$4),IF(OR($F9=3,$F9=4),VLOOKUP($G$8,Congés_auto!$R$7:$BR$7,2+P$3),IF(OR($F9=5,$F9=6),VLOOKUP($G$8,Congés_auto!$R$7:$BR$7,2+P$2),IF(OR($F9=7,$F9=8),VLOOKUP($G$8,Congés_auto!$R$7:$BR$7,2+P$1),)))),0))","v":"2019-05-28"},{"$f":"IF($G9=\"Mardi\",IF(OR($F9=1,$F9=2),VLOOKUP($G$8,Congés_auto!$R$5:$BR$5,2+Q$4),IF(OR($F9=3,$F9=4),VLOOKUP($G$8,Congés_auto!$R$5:$BR$5,2+Q$3),IF(OR($F9=5,$F9=6),VLOOKUP($G$8,Congés_auto!$R$5:$BR$5,2+Q$2),IF(OR($F9=7,$F9=8),VLOOKUP($G$8,Congés_auto!$R$5:$BR$5,2+Q$1),)))),IF($G9=\"Jeudi\",IF(OR($F9=1,$F9=2),VLOOKUP($G$8,Congés_auto!$R$7:$BR$7,2+Q$4),IF(OR($F9=3,$F9=4),VLOOKUP($G$8,Congés_auto!$R$7:$BR$7,2+Q$3),IF(OR($F9=5,$F9=6),VLOOKUP($G$8,Congés_auto!$R$7:$BR$7,2+Q$2),IF(OR($F9=7,$F9=8),VLOOKUP($G$8,Congés_auto!$R$7:$BR$7,2+Q$1),)))),0))","v":"2019-06-25"}]
[null,null,"Stephane","2001-09-14",301,2,"Mardi",30121,{"$f":"IF($G10=\"Mardi\",IF(OR($F10=1,$F10=2),VLOOKUP($G$8,Congés_auto!$R$5:$BR$5,2+I$4),IF(OR($F10=3,$F10=4),VLOOKUP($G$8,Congés_auto!$R$5:$BR$5,2+I$3),IF(OR($F10=5,$F10=6),VLOOKUP($G$8,Congés_auto!$R$5:$BR$5,2+I$2),IF(OR($F10=7,$F10=8),VLOOKUP($G$8,Congés_auto!$R$5:$BR$5,2+I$1),)))),IF($G10=\"Jeudi\",IF(OR($F10=1,$F10=2),VLOOKUP($G$8,Congés_auto!$R$7:$BR$7,2+I$4),IF(OR($F10=3,$F10=4),VLOOKUP($G$8,Congés_auto!$R$7:$BR$7,2+I$3),IF(OR($F10=5,$F10=6),VLOOKUP($G$8,Congés_auto!$R$7:$BR$7,2+I$2),IF(OR($F10=7,$F10=8),VLOOKUP($G$8,Congés_auto!$R$7:$BR$7,2+I$1),)))),0))","v":"2018-08-28"},{"$f":"IF($G10=\"Mardi\",IF(OR($F10=1,$F10=2),VLOOKUP($G$8,Congés_auto!$R$5:$BR$5,2+J$4),IF(OR($F10=3,$F10=4),VLOOKUP($G$8,Congés_auto!$R$5:$BR$5,2+J$3),IF(OR($F10=5,$F10=6),VLOOKUP($G$8,Congés_auto!$R$5:$BR$5,2+J$2),IF(OR($F10=7,$F10=8),VLOOKUP($G$8,Congés_auto!$R$5:$BR$5,2+J$1),)))),IF($G10=\"Jeudi\",IF(OR($F10=1,$F10=2),VLOOKUP($G$8,Congés_auto!$R$7:$BR$7,2+J$4),IF(OR($F10=3,$F10=4),VLOOKUP($G$8,Congés_auto!$R$7:$BR$7,2+J$3),IF(OR($F10=5,$F10=6),VLOOKUP($G$8,Congés_auto!$R$7:$BR$7,2+J$2),IF(OR($F10=7,$F10=8),VLOOKUP($G$8,Congés_auto!$R$7:$BR$7,2+J$1),)))),0))","v":"2018-09-25"},{"$f":"IF($G10=\"Mardi\",IF(OR($F10=1,$F10=2),VLOOKUP($G$8,Congés_auto!$R$5:$BR$5,2+K$4),IF(OR($F10=3,$F10=4),VLOOKUP($G$8,Congés_auto!$R$5:$BR$5,2+K$3),IF(OR($F10=5,$F10=6),VLOOKUP($G$8,Congés_auto!$R$5:$BR$5,2+K$2),IF(OR($F10=7,$F10=8),VLOOKUP($G$8,Congés_auto!$R$5:$BR$5,2+K$1),)))),IF($G10=\"Jeudi\",IF(OR($F10=1,$F10=2),VLOOKUP($G$8,Congés_auto!$R$7:$BR$7,2+K$4),IF(OR($F10=3,$F10=4),VLOOKUP($G$8,Congés_auto!$R$7:$BR$7,2+K$3),IF(OR($F10=5,$F10=6),VLOOKUP($G$8,Congés_auto!$R$7:$BR$7,2+K$2),IF(OR($F10=7,$F10=8),VLOOKUP($G$8,Congés_auto!$R$7:$BR$7,2+K$1),)))),0))","v":"2018-11-06"},{"$f":"IF($G10=\"Mardi\",IF(OR($F10=1,$F10=2),VLOOKUP($G$8,Congés_auto!$R$5:$BR$5,2+L$4),IF(OR($F10=3,$F10=4),VLOOKUP($G$8,Congés_auto!$R$5:$BR$5,2+L$3),IF(OR($F10=5,$F10=6),VLOOKUP($G$8,Congés_auto!$R$5:$BR$5,2+L$2),IF(OR($F10=7,$F10=8),VLOOKUP($G$8,Congés_auto!$R$5:$BR$5,2+L$1),)))),IF($G10=\"Jeudi\",IF(OR($F10=1,$F10=2),VLOOKUP($G$8,Congés_auto!$R$7:$BR$7,2+L$4),IF(OR($F10=3,$F10=4),VLOOKUP($G$8,Congés_auto!$R$7:$BR$7,2+L$3),IF(OR($F10=5,$F10=6),VLOOKUP($G$8,Congés_auto!$R$7:$BR$7,2+L$2),IF(OR($F10=7,$F10=8),VLOOKUP($G$8,Congés_auto!$R$7:$BR$7,2+L$1),)))),0))","v":"2018-12-04"},{"$f":"IF($G10=\"Mardi\",IF(OR($F10=1,$F10=2),VLOOKUP($G$8,Congés_auto!$R$5:$BR$5,2+M$4),IF(OR($F10=3,$F10=4),VLOOKUP($G$8,Congés_auto!$R$5:$BR$5,2+M$3),IF(OR($F10=5,$F10=6),VLOOKUP($G$8,Congés_auto!$R$5:$BR$5,2+M$2),IF(OR($F10=7,$F10=8),VLOOKUP($G$8,Congés_auto!$R$5:$BR$5,2+M$1),)))),IF($G10=\"Jeudi\",IF(OR($F10=1,$F10=2),VLOOKUP($G$8,Congés_auto!$R$7:$BR$7,2+M$4),IF(OR($F10=3,$F10=4),VLOOKUP($G$8,Congés_auto!$R$7:$BR$7,2+M$3),IF(OR($F10=5,$F10=6),VLOOKUP($G$8,Congés_auto!$R$7:$BR$7,2+M$2),IF(OR($F10=7,$F10=8),VLOOKUP($G$8,Congés_auto!$R$7:$BR$7,2+M$1),)))),0))","v":"2019-02-05"},{"$f":"IF($G10=\"Mardi\",IF(OR($F10=1,$F10=2),VLOOKUP($G$8,Congés_auto!$R$5:$BR$5,2+N$4),IF(OR($F10=3,$F10=4),VLOOKUP($G$8,Congés_auto!$R$5:$BR$5,2+N$3),IF(OR($F10=5,$F10=6),VLOOKUP($G$8,Congés_auto!$R$5:$BR$5,2+N$2),IF(OR($F10=7,$F10=8),VLOOKUP($G$8,Congés_auto!$R$5:$BR$5,2+N$1),)))),IF($G10=\"Jeudi\",IF(OR($F10=1,$F10=2),VLOOKUP($G$8,Congés_auto!$R$7:$BR$7,2+N$4),IF(OR($F10=3,$F10=4),VLOOKUP($G$8,Congés_auto!$R$7:$BR$7,2+N$3),IF(OR($F10=5,$F10=6),VLOOKUP($G$8,Congés_auto!$R$7:$BR$7,2+N$2),IF(OR($F10=7,$F10=8),VLOOKUP($G$8,Congés_auto!$R$7:$BR$7,2+N$1),)))),0))","v":"2019-03-05"},{"$f":"IF($G10=\"Mardi\",IF(OR($F10=1,$F10=2),VLOOKUP($G$8,Congés_auto!$R$5:$BR$5,2+O$4),IF(OR($F10=3,$F10=4),VLOOKUP($G$8,Congés_auto!$R$5:$BR$5,2+O$3),IF(OR($F10=5,$F10=6),VLOOKUP($G$8,Congés_auto!$R$5:$BR$5,2+O$2),IF(OR($F10=7,$F10=8),VLOOKUP($G$8,Congés_auto!$R$5:$BR$5,2+O$1),)))),IF($G10=\"Jeudi\",IF(OR($F10=1,$F10=2),VLOOKUP($G$8,Congés_auto!$R$7:$BR$7,2+O$4),IF(OR($F10=3,$F10=4),VLOOKUP($G$8,Congés_auto!$R$7:$BR$7,2+O$3),IF(OR($F10=5,$F10=6),VLOOKUP($G$8,Congés_auto!$R$7:$BR$7,2+O$2),IF(OR($F10=7,$F10=8),VLOOKUP($G$8,Congés_auto!$R$7:$BR$7,2+O$1),)))),0))","v":"2019-04-16"},{"$f":"IF($G10=\"Mardi\",IF(OR($F10=1,$F10=2),VLOOKUP($G$8,Congés_auto!$R$5:$BR$5,2+P$4),IF(OR($F10=3,$F10=4),VLOOKUP($G$8,Congés_auto!$R$5:$BR$5,2+P$3),IF(OR($F10=5,$F10=6),VLOOKUP($G$8,Congés_auto!$R$5:$BR$5,2+P$2),IF(OR($F10=7,$F10=8),VLOOKUP($G$8,Congés_auto!$R$5:$BR$5,2+P$1),)))),IF($G10=\"Jeudi\",IF(OR($F10=1,$F10=2),VLOOKUP($G$8,Congés_auto!$R$7:$BR$7,2+P$4),IF(OR($F10=3,$F10=4),VLOOKUP($G$8,Congés_auto!$R$7:$BR$7,2+P$3),IF(OR($F10=5,$F10=6),VLOOKUP($G$8,Congés_auto!$R$7:$BR$7,2+P$2),IF(OR($F10=7,$F10=8),VLOOKUP($G$8,Congés_auto!$R$7:$BR$7,2+P$1),)))),0))","v":"2019-05-28"},{"$f":"IF($G10=\"Mardi\",IF(OR($F10=1,$F10=2),VLOOKUP($G$8,Congés_auto!$R$5:$BR$5,2+Q$4),IF(OR($F10=3,$F10=4),VLOOKUP($G$8,Congés_auto!$R$5:$BR$5,2+Q$3),IF(OR($F10=5,$F10=6),VLOOKUP($G$8,Congés_auto!$R$5:$BR$5,2+Q$2),IF(OR($F10=7,$F10=8),VLOOKUP($G$8,Congés_auto!$R$5:$BR$5,2+Q$1),)))),IF($G10=\"Jeudi\",IF(OR($F10=1,$F10=2),VLOOKUP($G$8,Congés_auto!$R$7:$BR$7,2+Q$4),IF(OR($F10=3,$F10=4),VLOOKUP($G$8,Congés_auto!$R$7:$BR$7,2+Q$3),IF(OR($F10=5,$F10=6),VLOOKUP($G$8,Congés_auto!$R$7:$BR$7,2+Q$2),IF(OR($F10=7,$F10=8),VLOOKUP($G$8,Congés_auto!$R$7:$BR$7,2+Q$1),)))),0))","v":"2019-06-25"}]
[{"$nulls":3},"2001-08-13",301,2,"Mardi",30122,{"$f":"IF($G11=\"Mardi\",IF(OR($F11=1,$F11=2),VLOOKUP($G$8,Congés_auto!$R$5:$BR$5,2+I$4),IF(OR($F11=3,$F11=4),VLOOKUP($G$8,Congés_auto!$R$5:$BR$5,2+I$3),IF(OR($F11=5,$F11=6),VLOOKUP($G$8,Congés_auto!$R$5:$BR$5,2+I$2),IF(OR($F11=7,$F11=8),VLOOKUP($G$8,Congés_auto!$R$5:$BR$5,2+I$1),)))),IF($G11=\"Jeudi\",IF(OR($F11=1,$F11=2),VLOOKUP($G$8,Congés_auto!$R$7:$BR$7,2+I$4),IF(OR($F11=3,$F11=4),VLOOKUP($G$8,Congés_auto!$R$7:$BR$7,2+I$3),IF(OR($F11=5,$F11=6),VLOOKUP($G$8,Congés_auto!$R$7:$BR$7,2+I$2),IF(OR($F11=7,$F11=8),VLOOKUP($G$8,Congés_auto!$R$7:$BR$7,2+I$1),)))),0))","v":"2018-08-28"},{"$f":"IF($G11=\"Mardi\",IF(OR($F11=1,$F11=2),VLOOKUP($G$8,Congés_auto!$R$5:$BR$5,2+J$4),IF(OR($F11=3,$F11=4),VLOOKUP($G$8,Congés_auto!$R$5:$BR$5,2+J$3),IF(OR($F11=5,$F11=6),VLOOKUP($G$8,Congés_auto!$R$5:$BR$5,2+J$2),IF(OR($F11=7,$F11=8),VLOOKUP($G$8,Congés_auto!$R$5:$BR$5,2+J$1),)))),IF($G11=\"Jeudi\",IF(OR($F11=1,$F11=2),VLOOKUP($G$8,Congés_auto!$R$7:$BR$7,2+J$4),IF(OR($F11=3,$F11=4),VLOOKUP($G$8,Congés_auto!$R$7:$BR$7,2+J$3),IF(OR($F11=5,$F11=6),VLOOKUP($G$8,Congés_auto!$R$7:$BR$7,2+J$2),IF(OR($F11=7,$F11=8),VLOOKUP($G$8,Congés_auto!$R$7:$BR$7,2+J$1),)))),0))","v":"2018-09-25"},{"$f":"IF($G11=\"Mardi\",IF(OR($F11=1,$F11=2),VLOOKUP($G$8,Congés_auto!$R$5:$BR$5,2+K$4),IF(OR($F11=3,$F11=4),VLOOKUP($G$8,Congés_auto!$R$5:$BR$5,2+K$3),IF(OR($F11=5,$F11=6),VLOOKUP($G$8,Congés_auto!$R$5:$BR$5,2+K$2),IF(OR($F11=7,$F11=8),VLOOKUP($G$8,Congés_auto!$R$5:$BR$5,2+K$1),)))),IF($G11=\"Jeudi\",IF(OR($F11=1,$F11=2),VLOOKUP($G$8,Congés_auto!$R$7:$BR$7,2+K$4),IF(OR($F11=3,$F11=4),VLOOKUP($G$8,Congés_auto!$R$7:$BR$7,2+K$3),IF(OR($F11=5,$F11=6),VLOOKUP($G$8,Congés_auto!$R$7:$BR$7,2+K$2),IF(OR($F11=7,$F11=8),VLOOKUP($G$8,Congés_auto!$R$7:$BR$7,2+K$1),)))),0))","v":"2018-11-06"},{"$f":"IF($G11=\"Mardi\",IF(OR($F11=1,$F11=2),VLOOKUP($G$8,Congés_auto!$R$5:$BR$5,2+L$4),IF(OR($F11=3,$F11=4),VLOOKUP($G$8,Congés_auto!$R$5:$BR$5,2+L$3),IF(OR($F11=5,$F11=6),VLOOKUP($G$8,Congés_auto!$R$5:$BR$5,2+L$2),IF(OR($F11=7,$F11=8),VLOOKUP($G$8,Congés_auto!$R$5:$BR$5,2+L$1),)))),IF($G11=\"Jeudi\",IF(OR($F11=1,$F11=2),VLOOKUP($G$8,Congés_auto!$R$7:$BR$7,2+L$4),IF(OR($F11=3,$F11=4),VLOOKUP($G$8,Congés_auto!$R$7:$BR$7,2+L$3),IF(OR($F11=5,$F11=6),VLOOKUP($G$8,Congés_auto!$R$7:$BR$7,2+L$2),IF(OR($F11=7,$F11=8),VLOOKUP($G$8,Congés_auto!$R$7:$BR$7,2+L$1),)))),0))","v":"2018-12-04"},{"$f":"IF($G11=\"Mardi\",IF(OR($F11=1,$F11=2),VLOOKUP($G$8,Congés_auto!$R$5:$BR$5,2+M$4),IF(OR($F11=3,$F11=4),VLOOKUP($G$8,Congés_auto!$R$5:$BR$5,2+M$3),IF(OR($F11=5,$F11=6),VLOOKUP($G$8,Congés_auto!$R$5:$BR$5,2+M$2),IF(OR($F11=7,$F11=8),VLOOKUP($G$8,Congés_auto!$R$5:$BR$5,2+M$1),)))),IF($G11=\"Jeudi\",IF(OR($F11=1,$F11=2),VLOOKUP($G$8,Congés_auto!$R$7:$BR$7,2+M$4),IF(OR($F11=3,$F11=4),VLOOKUP($G$8,Congés_auto!$R$7:$BR$7,2+M$3),IF(OR($F11=5,$F11=6),VLOOKUP($G$8,Congés_auto!$R$7:$BR$7,2+M$2),IF(OR($F11=7,$F11=8),VLOOKUP($G$8,Congés_auto!$R$7:$BR$7,2+M$1),)))),0))","v":"2019-02-05"},{"$f":"IF($G11=\"Mardi\",IF(OR($F11=1,$F11=2),VLOOKUP($G$8,Congés_auto!$R$5:$BR$5,2+N$4),IF(OR($F11=3,$F11=4),VLOOKUP($G$8,Congés_auto!$R$5:$BR$5,2+N$3),IF(OR($F11=5,$F11=6),VLOOKUP($G$8,Congés_auto!$R$5:$BR$5,2+N$2),IF(OR($F11=7,$F11=8),VLOOKUP($G$8,Congés_auto!$R$5:$BR$5,2+N$1),)))),IF($G11=\"Jeudi\",IF(OR($F11=1,$F11=2),VLOOKUP($G$8,Congés_auto!$R$7:$BR$7,2+N$4),IF(OR($F11=3,$F11=4),VLOOKUP($G$8,Congés_auto!$R$7:$BR$7,2+N$3),IF(OR($F11=5,$F11=6),VLOOKUP($G$8,Congés_auto!$R$7:$BR$7,2+N$2),IF(OR($F11=7,$F11=8),VLOOKUP($G$8,Congés_auto!$R$7:$BR$7,2+N$1),)))),0))","v":"2019-03-05"},{"$f":"IF($G11=\"Mardi\",IF(OR($F11=1,$F11=2),VLOOKUP($G$8,Congés_auto!$R$5:$BR$5,2+O$4),IF(OR($F11=3,$F11=4),VLOOKUP($G$8,Congés_auto!$R$5:$BR$5,2+O$3),IF(OR($F11=5,$F11=6),VLOOKUP($G$8,Congés_auto!$R$5:$BR$5,2+O$2),IF(OR($F11=7,$F11=8),VLOOKUP($G$8,Congés_auto!$R$5:$BR$5,2+O$1),)))),IF($G11=\"Jeudi\",IF(OR($F11=1,$F11=2),VLOOKUP($G$8,Congés_auto!$R$7:$BR$7,2+O$4),IF(OR($F11=3,$F11=4),VLOOKUP($G$8,Congés_auto!$R$7:$BR$7,2+O$3),IF(OR($F11=5,$F11=6),VLOOKUP($G$8,Congés_auto!$R$7:$BR$7,2+O$2),IF(OR($F11=7,$F11=8),VLOOKUP($G$8,Congés_auto!$R$7:$BR$7,2+O$1),)))),0))","v":"2019-04-16"},{"$f":"IF($G11=\"Mardi\",IF(OR($F11=1,$F11=2),VLOOKUP($G$8,Congés_auto!$R$5:$BR$5,2+P$4),IF(OR($F11=3,$F11=4),VLOOKUP($G$8,Congés_auto!$R$5:$BR$5,2+P$3),IF(OR($F11=5,$F11=6),VLOOKUP($G$8,Congés_auto!$R$5:$BR$5,2+P$2),IF(OR($F11=7,$F11=8),VLOOKUP($G$8,Congés_auto!$R$5:$BR$5,2+P$1),)))),IF($G11=\"Jeudi\",IF(OR($F11=1,$F11=2),VLOOKUP($G$8,Congés_auto!$R$7:$BR$7,2+P$4),IF(OR($F11=3,$F11=4),VLOOKUP($G$8,Congés_auto!$R$7:$BR$7,2+P$3),IF(OR($F11=5,$F11=6),VLOOKUP($G$8,Congés_auto!$R$7:$BR$7,2+P$2),IF(OR($F11=7,$F11=8),VLOOKUP($G$8,Congés_auto!$R$7:$BR$7,2+P$1),)))),0))","v":"2019-05-28"},{"$f":"IF($G11=\"Mardi\",IF(OR($F11=1,$F11=2),VLOOKUP($G$8,Congés_auto!$R$5:$BR$5,2+Q$4),IF(OR($F11=3,$F11=4),VLOOKUP($G$8,Congés_auto!$R$5:$BR$5,2+Q$3),IF(OR($F11=5,$F11=6),VLOOKUP($G$8,Congés_auto!$R$5:$BR$5,2+Q$2),IF(OR($F11=7,$F11=8),VLOOKUP($G$8,Congés_auto!$R$5:$BR$5,2+Q$1),)))),IF($G11=\"Jeudi\",IF(OR($F11=1,$F11=2),VLOOKUP($G$8,Congés_auto!$R$7:$BR$7,2+Q$4),IF(OR($F11=3,$F11=4),VLOOKUP($G$8,Congés_auto!$R$7:$BR$7,2+Q$3),IF(OR($F11=5,$F11=6),VLOOKUP($G$8,Congés_auto!$R$7:$BR$7,2+Q$2),IF(OR($F11=7,$F11=8),VLOOKUP($G$8,Congés_auto!$R$7:$BR$7,2+Q$1),)))),0))","v":"2019-06-25"}]
[{"$nulls":3},"2001-11-19",301,2,"Mardi",30123,{"$f":"IF($G12=\"Mardi\",IF(OR($F12=1,$F12=2),VLOOKUP($G$8,Congés_auto!$R$5:$BR$5,2+I$4),IF(OR($F12=3,$F12=4),VLOOKUP($G$8,Congés_auto!$R$5:$BR$5,2+I$3),IF(OR($F12=5,$F12=6),VLOOKUP($G$8,Congés_auto!$R$5:$BR$5,2+I$2),IF(OR($F12=7,$F12=8),VLOOKUP($G$8,Congés_auto!$R$5:$BR$5,2+I$1),)))),IF($G12=\"Jeudi\",IF(OR($F12=1,$F12=2),VLOOKUP($G$8,Congés_auto!$R$7:$BR$7,2+I$4),IF(OR($F12=3,$F12=4),VLOOKUP($G$8,Congés_auto!$R$7:$BR$7,2+I$3),IF(OR($F12=5,$F12=6),VLOOKUP($G$8,Congés_auto!$R$7:$BR$7,2+I$2),IF(OR($F12=7,$F12=8),VLOOKUP($G$8,Congés_auto!$R$7:$BR$7,2+I$1),)))),0))","v":"2018-08-28"},{"$f":"IF($G12=\"Mardi\",IF(OR($F12=1,$F12=2),VLOOKUP($G$8,Congés_auto!$R$5:$BR$5,2+J$4),IF(OR($F12=3,$F12=4),VLOOKUP($G$8,Congés_auto!$R$5:$BR$5,2+J$3),IF(OR($F12=5,$F12=6),VLOOKUP($G$8,Congés_auto!$R$5:$BR$5,2+J$2),IF(OR($F12=7,$F12=8),VLOOKUP($G$8,Congés_auto!$R$5:$BR$5,2+J$1),)))),IF($G12=\"Jeudi\",IF(OR($F12=1,$F12=2),VLOOKUP($G$8,Congés_auto!$R$7:$BR$7,2+J$4),IF(OR($F12=3,$F12=4),VLOOKUP($G$8,Congés_auto!$R$7:$BR$7,2+J$3),IF(OR($F12=5,$F12=6),VLOOKUP($G$8,Congés_auto!$R$7:$BR$7,2+J$2),IF(OR($F12=7,$F12=8),VLOOKUP($G$8,Congés_auto!$R$7:$BR$7,2+J$1),)))),0))","v":"2018-09-25"},{"$f":"IF($G12=\"Mardi\",IF(OR($F12=1,$F12=2),VLOOKUP($G$8,Congés_auto!$R$5:$BR$5,2+K$4),IF(OR($F12=3,$F12=4),VLOOKUP($G$8,Congés_auto!$R$5:$BR$5,2+K$3),IF(OR($F12=5,$F12=6),VLOOKUP($G$8,Congés_auto!$R$5:$BR$5,2+K$2),IF(OR($F12=7,$F12=8),VLOOKUP($G$8,Congés_auto!$R$5:$BR$5,2+K$1),)))),IF($G12=\"Jeudi\",IF(OR($F12=1,$F12=2),VLOOKUP($G$8,Congés_auto!$R$7:$BR$7,2+K$4),IF(OR($F12=3,$F12=4),VLOOKUP($G$8,Congés_auto!$R$7:$BR$7,2+K$3),IF(OR($F12=5,$F12=6),VLOOKUP($G$8,Congés_auto!$R$7:$BR$7,2+K$2),IF(OR($F12=7,$F12=8),VLOOKUP($G$8,Congés_auto!$R$7:$BR$7,2+K$1),)))),0))","v":"2018-11-06"},{"$f":"IF($G12=\"Mardi\",IF(OR($F12=1,$F12=2),VLOOKUP($G$8,Congés_auto!$R$5:$BR$5,2+L$4),IF(OR($F12=3,$F12=4),VLOOKUP($G$8,Congés_auto!$R$5:$BR$5,2+L$3),IF(OR($F12=5,$F12=6),VLOOKUP($G$8,Congés_auto!$R$5:$BR$5,2+L$2),IF(OR($F12=7,$F12=8),VLOOKUP($G$8,Congés_auto!$R$5:$BR$5,2+L$1),)))),IF($G12=\"Jeudi\",IF(OR($F12=1,$F12=2),VLOOKUP($G$8,Congés_auto!$R$7:$BR$7,2+L$4),IF(OR($F12=3,$F12=4),VLOOKUP($G$8,Congés_auto!$R$7:$BR$7,2+L$3),IF(OR($F12=5,$F12=6),VLOOKUP($G$8,Congés_auto!$R$7:$BR$7,2+L$2),IF(OR($F12=7,$F12=8),VLOOKUP($G$8,Congés_auto!$R$7:$BR$7,2+L$1),)))),0))","v":"2018-12-04"},{"$f":"IF($G12=\"Mardi\",IF(OR($F12=1,$F12=2),VLOOKUP($G$8,Congés_auto!$R$5:$BR$5,2+M$4),IF(OR($F12=3,$F12=4),VLOOKUP($G$8,Congés_auto!$R$5:$BR$5,2+M$3),IF(OR($F12=5,$F12=6),VLOOKUP($G$8,Congés_auto!$R$5:$BR$5,2+M$2),IF(OR($F12=7,$F12=8),VLOOKUP($G$8,Congés_auto!$R$5:$BR$5,2+M$1),)))),IF($G12=\"Jeudi\",IF(OR($F12=1,$F12=2),VLOOKUP($G$8,Congés_auto!$R$7:$BR$7,2+M$4),IF(OR($F12=3,$F12=4),VLOOKUP($G$8,Congés_auto!$R$7:$BR$7,2+M$3),IF(OR($F12=5,$F12=6),VLOOKUP($G$8,Congés_auto!$R$7:$BR$7,2+M$2),IF(OR($F12=7,$F12=8),VLOOKUP($G$8,Congés_auto!$R$7:$BR$7,2+M$1),)))),0))","v":"2019-02-05"},{"$f":"IF($G12=\"Mardi\",IF(OR($F12=1,$F12=2),VLOOKUP($G$8,Congés_auto!$R$5:$BR$5,2+N$4),IF(OR($F12=3,$F12=4),VLOOKUP($G$8,Congés_auto!$R$5:$BR$5,2+N$3),IF(OR($F12=5,$F12=6),VLOOKUP($G$8,Congés_auto!$R$5:$BR$5,2+N$2),IF(OR($F12=7,$F12=8),VLOOKUP($G$8,Congés_auto!$R$5:$BR$5,2+N$1),)))),IF($G12=\"Jeudi\",IF(OR($F12=1,$F12=2),VLOOKUP($G$8,Congés_auto!$R$7:$BR$7,2+N$4),IF(OR($F12=3,$F12=4),VLOOKUP($G$8,Congés_auto!$R$7:$BR$7,2+N$3),IF(OR($F12=5,$F12=6),VLOOKUP($G$8,Congés_auto!$R$7:$BR$7,2+N$2),IF(OR($F12=7,$F12=8),VLOOKUP($G$8,Congés_auto!$R$7:$BR$7,2+N$1),)))),0))","v":"2019-03-05"},{"$f":"IF($G12=\"Mardi\",IF(OR($F12=1,$F12=2),VLOOKUP($G$8,Congés_auto!$R$5:$BR$5,2+O$4),IF(OR($F12=3,$F12=4),VLOOKUP($G$8,Congés_auto!$R$5:$BR$5,2+O$3),IF(OR($F12=5,$F12=6),VLOOKUP($G$8,Congés_auto!$R$5:$BR$5,2+O$2),IF(OR($F12=7,$F12=8),VLOOKUP($G$8,Congés_auto!$R$5:$BR$5,2+O$1),)))),IF($G12=\"Jeudi\",IF(OR($F12=1,$F12=2),VLOOKUP($G$8,Congés_auto!$R$7:$BR$7,2+O$4),IF(OR($F12=3,$F12=4),VLOOKUP($G$8,Congés_auto!$R$7:$BR$7,2+O$3),IF(OR($F12=5,$F12=6),VLOOKUP($G$8,Congés_auto!$R$7:$BR$7,2+O$2),IF(OR($F12=7,$F12=8),VLOOKUP($G$8,Congés_auto!$R$7:$BR$7,2+O$1),)))),0))","v":"2019-04-16"},{"$f":"IF($G12=\"Mardi\",IF(OR($F12=1,$F12=2),VLOOKUP($G$8,Congés_auto!$R$5:$BR$5,2+P$4),IF(OR($F12=3,$F12=4),VLOOKUP($G$8,Congés_auto!$R$5:$BR$5,2+P$3),IF(OR($F12=5,$F12=6),VLOOKUP($G$8,Congés_auto!$R$5:$BR$5,2+P$2),IF(OR($F12=7,$F12=8),VLOOKUP($G$8,Congés_auto!$R$5:$BR$5,2+P$1),)))),IF($G12=\"Jeudi\",IF(OR($F12=1,$F12=2),VLOOKUP($G$8,Congés_auto!$R$7:$BR$7,2+P$4),IF(OR($F12=3,$F12=4),VLOOKUP($G$8,Congés_auto!$R$7:$BR$7,2+P$3),IF(OR($F12=5,$F12=6),VLOOKUP($G$8,Congés_auto!$R$7:$BR$7,2+P$2),IF(OR($F12=7,$F12=8),VLOOKUP($G$8,Congés_auto!$R$7:$BR$7,2+P$1),)))),0))","v":"2019-05-28"},{"$f":"IF($G12=\"Mardi\",IF(OR($F12=1,$F12=2),VLOOKUP($G$8,Congés_auto!$R$5:$BR$5,2+Q$4),IF(OR($F12=3,$F12=4),VLOOKUP($G$8,Congés_auto!$R$5:$BR$5,2+Q$3),IF(OR($F12=5,$F12=6),VLOOKUP($G$8,Congés_auto!$R$5:$BR$5,2+Q$2),IF(OR($F12=7,$F12=8),VLOOKUP($G$8,Congés_auto!$R$5:$BR$5,2+Q$1),)))),IF($G12=\"Jeudi\",IF(OR($F12=1,$F12=2),VLOOKUP($G$8,Congés_auto!$R$7:$BR$7,2+Q$4),IF(OR($F12=3,$F12=4),VLOOKUP($G$8,Congés_auto!$R$7:$BR$7,2+Q$3),IF(OR($F12=5,$F12=6),VLOOKUP($G$8,Congés_auto!$R$7:$BR$7,2+Q$2),IF(OR($F12=7,$F12=8),VLOOKUP($G$8,Congés_auto!$R$7:$BR$7,2+Q$1),)))),0))","v":"2019-06-25"}]
[null,null,"Sophie","2001-08-09",301,3,"Mardi","30130",{"$f":"IF($G13=\"Mardi\",IF(OR($F13=1,$F13=2),VLOOKUP($G$8,Congés_auto!$R$5:$BR$5,2+I$4),IF(OR($F13=3,$F13=4),VLOOKUP($G$8,Congés_auto!$R$5:$BR$5,2+I$3),IF(OR($F13=5,$F13=6),VLOOKUP($G$8,Congés_auto!$R$5:$BR$5,2+I$2),IF(OR($F13=7,$F13=8),VLOOKUP($G$8,Congés_auto!$R$5:$BR$5,2+I$1),)))),IF($G13=\"Jeudi\",IF(OR($F13=1,$F13=2),VLOOKUP($G$8,Congés_auto!$R$7:$BR$7,2+I$4),IF(OR($F13=3,$F13=4),VLOOKUP($G$8,Congés_auto!$R$7:$BR$7,2+I$3),IF(OR($F13=5,$F13=6),VLOOKUP($G$8,Congés_auto!$R$7:$BR$7,2+I$2),IF(OR($F13=7,$F13=8),VLOOKUP($G$8,Congés_auto!$R$7:$BR$7,2+I$1),)))),0))","v":"2018-09-04"},{"$f":"IF($G13=\"Mardi\",IF(OR($F13=1,$F13=2),VLOOKUP($G$8,Congés_auto!$R$5:$BR$5,2+J$4),IF(OR($F13=3,$F13=4),VLOOKUP($G$8,Congés_auto!$R$5:$BR$5,2+J$3),IF(OR($F13=5,$F13=6),VLOOKUP($G$8,Congés_auto!$R$5:$BR$5,2+J$2),IF(OR($F13=7,$F13=8),VLOOKUP($G$8,Congés_auto!$R$5:$BR$5,2+J$1),)))),IF($G13=\"Jeudi\",IF(OR($F13=1,$F13=2),VLOOKUP($G$8,Congés_auto!$R$7:$BR$7,2+J$4),IF(OR($F13=3,$F13=4),VLOOKUP($G$8,Congés_auto!$R$7:$BR$7,2+J$3),IF(OR($F13=5,$F13=6),VLOOKUP($G$8,Congés_auto!$R$7:$BR$7,2+J$2),IF(OR($F13=7,$F13=8),VLOOKUP($G$8,Congés_auto!$R$7:$BR$7,2+J$1),)))),0))","v":"2018-10-02"},{"$f":"IF($G13=\"Mardi\",IF(OR($F13=1,$F13=2),VLOOKUP($G$8,Congés_auto!$R$5:$BR$5,2+K$4),IF(OR($F13=3,$F13=4),VLOOKUP($G$8,Congés_auto!$R$5:$BR$5,2+K$3),IF(OR($F13=5,$F13=6),VLOOKUP($G$8,Congés_auto!$R$5:$BR$5,2+K$2),IF(OR($F13=7,$F13=8),VLOOKUP($G$8,Congés_auto!$R$5:$BR$5,2+K$1),)))),IF($G13=\"Jeudi\",IF(OR($F13=1,$F13=2),VLOOKUP($G$8,Congés_auto!$R$7:$BR$7,2+K$4),IF(OR($F13=3,$F13=4),VLOOKUP($G$8,Congés_auto!$R$7:$BR$7,2+K$3),IF(OR($F13=5,$F13=6),VLOOKUP($G$8,Congés_auto!$R$7:$BR$7,2+K$2),IF(OR($F13=7,$F13=8),VLOOKUP($G$8,Congés_auto!$R$7:$BR$7,2+K$1),)))),0))","v":"2018-11-13"},{"$f":"IF($G13=\"Mardi\",IF(OR($F13=1,$F13=2),VLOOKUP($G$8,Congés_auto!$R$5:$BR$5,2+L$4),IF(OR($F13=3,$F13=4),VLOOKUP($G$8,Congés_auto!$R$5:$BR$5,2+L$3),IF(OR($F13=5,$F13=6),VLOOKUP($G$8,Congés_auto!$R$5:$BR$5,2+L$2),IF(OR($F13=7,$F13=8),VLOOKUP($G$8,Congés_auto!$R$5:$BR$5,2+L$1),)))),IF($G13=\"Jeudi\",IF(OR($F13=1,$F13=2),VLOOKUP($G$8,Congés_auto!$R$7:$BR$7,2+L$4),IF(OR($F13=3,$F13=4),VLOOKUP($G$8,Congés_auto!$R$7:$BR$7,2+L$3),IF(OR($F13=5,$F13=6),VLOOKUP($G$8,Congés_auto!$R$7:$BR$7,2+L$2),IF(OR($F13=7,$F13=8),VLOOKUP($G$8,Congés_auto!$R$7:$BR$7,2+L$1),)))),0))","v":"2018-12-11"},{"$f":"IF($G13=\"Mardi\",IF(OR($F13=1,$F13=2),VLOOKUP($G$8,Congés_auto!$R$5:$BR$5,2+M$4),IF(OR($F13=3,$F13=4),VLOOKUP($G$8,Congés_auto!$R$5:$BR$5,2+M$3),IF(OR($F13=5,$F13=6),VLOOKUP($G$8,Congés_auto!$R$5:$BR$5,2+M$2),IF(OR($F13=7,$F13=8),VLOOKUP($G$8,Congés_auto!$R$5:$BR$5,2+M$1),)))),IF($G13=\"Jeudi\",IF(OR($F13=1,$F13=2),VLOOKUP($G$8,Congés_auto!$R$7:$BR$7,2+M$4),IF(OR($F13=3,$F13=4),VLOOKUP($G$8,Congés_auto!$R$7:$BR$7,2+M$3),IF(OR($F13=5,$F13=6),VLOOKUP($G$8,Congés_auto!$R$7:$BR$7,2+M$2),IF(OR($F13=7,$F13=8),VLOOKUP($G$8,Congés_auto!$R$7:$BR$7,2+M$1),)))),0))","v":"2019-02-12"},{"$f":"IF($G13=\"Mardi\",IF(OR($F13=1,$F13=2),VLOOKUP($G$8,Congés_auto!$R$5:$BR$5,2+N$4),IF(OR($F13=3,$F13=4),VLOOKUP($G$8,Congés_auto!$R$5:$BR$5,2+N$3),IF(OR($F13=5,$F13=6),VLOOKUP($G$8,Congés_auto!$R$5:$BR$5,2+N$2),IF(OR($F13=7,$F13=8),VLOOKUP($G$8,Congés_auto!$R$5:$BR$5,2+N$1),)))),IF($G13=\"Jeudi\",IF(OR($F13=1,$F13=2),VLOOKUP($G$8,Congés_auto!$R$7:$BR$7,2+N$4),IF(OR($F13=3,$F13=4),VLOOKUP($G$8,Congés_auto!$R$7:$BR$7,2+N$3),IF(OR($F13=5,$F13=6),VLOOKUP($G$8,Congés_auto!$R$7:$BR$7,2+N$2),IF(OR($F13=7,$F13=8),VLOOKUP($G$8,Congés_auto!$R$7:$BR$7,2+N$1),)))),0))","v":"2019-03-26"},{"$f":"IF($G13=\"Mardi\",IF(OR($F13=1,$F13=2),VLOOKUP($G$8,Congés_auto!$R$5:$BR$5,2+O$4),IF(OR($F13=3,$F13=4),VLOOKUP($G$8,Congés_auto!$R$5:$BR$5,2+O$3),IF(OR($F13=5,$F13=6),VLOOKUP($G$8,Congés_auto!$R$5:$BR$5,2+O$2),IF(OR($F13=7,$F13=8),VLOOKUP($G$8,Congés_auto!$R$5:$BR$5,2+O$1),)))),IF($G13=\"Jeudi\",IF(OR($F13=1,$F13=2),VLOOKUP($G$8,Congés_auto!$R$7:$BR$7,2+O$4),IF(OR($F13=3,$F13=4),VLOOKUP($G$8,Congés_auto!$R$7:$BR$7,2+O$3),IF(OR($F13=5,$F13=6),VLOOKUP($G$8,Congés_auto!$R$7:$BR$7,2+O$2),IF(OR($F13=7,$F13=8),VLOOKUP($G$8,Congés_auto!$R$7:$BR$7,2+O$1),)))),0))","v":"2019-04-23"},{"$f":"IF($G13=\"Mardi\",IF(OR($F13=1,$F13=2),VLOOKUP($G$8,Congés_auto!$R$5:$BR$5,2+P$4),IF(OR($F13=3,$F13=4),VLOOKUP($G$8,Congés_auto!$R$5:$BR$5,2+P$3),IF(OR($F13=5,$F13=6),VLOOKUP($G$8,Congés_auto!$R$5:$BR$5,2+P$2),IF(OR($F13=7,$F13=8),VLOOKUP($G$8,Congés_auto!$R$5:$BR$5,2+P$1),)))),IF($G13=\"Jeudi\",IF(OR($F13=1,$F13=2),VLOOKUP($G$8,Congés_auto!$R$7:$BR$7,2+P$4),IF(OR($F13=3,$F13=4),VLOOKUP($G$8,Congés_auto!$R$7:$BR$7,2+P$3),IF(OR($F13=5,$F13=6),VLOOKUP($G$8,Congés_auto!$R$7:$BR$7,2+P$2),IF(OR($F13=7,$F13=8),VLOOKUP($G$8,Congés_auto!$R$7:$BR$7,2+P$1),)))),0))","v":"2019-06-04"},{"$f":"IF($G13=\"Mardi\",IF(OR($F13=1,$F13=2),VLOOKUP($G$8,Congés_auto!$R$5:$BR$5,2+Q$4),IF(OR($F13=3,$F13=4),VLOOKUP($G$8,Congés_auto!$R$5:$BR$5,2+Q$3),IF(OR($F13=5,$F13=6),VLOOKUP($G$8,Congés_auto!$R$5:$BR$5,2+Q$2),IF(OR($F13=7,$F13=8),VLOOKUP($G$8,Congés_auto!$R$5:$BR$5,2+Q$1),)))),IF($G13=\"Jeudi\",IF(OR($F13=1,$F13=2),VLOOKUP($G$8,Congés_auto!$R$7:$BR$7,2+Q$4),IF(OR($F13=3,$F13=4),VLOOKUP($G$8,Congés_auto!$R$7:$BR$7,2+Q$3),IF(OR($F13=5,$F13=6),VLOOKUP($G$8,Congés_auto!$R$7:$BR$7,2+Q$2),IF(OR($F13=7,$F13=8),VLOOKUP($G$8,Congés_auto!$R$7:$BR$7,2+Q$1),)))),0))","v":"2019-07-02"}]
[null,null,"Marie","2001-12-02",301,3,"Mardi",30131,{"$f":"IF($G14=\"Mardi\",IF(OR($F14=1,$F14=2),VLOOKUP($G$8,Congés_auto!$R$5:$BR$5,2+I$4),IF(OR($F14=3,$F14=4),VLOOKUP($G$8,Congés_auto!$R$5:$BR$5,2+I$3),IF(OR($F14=5,$F14=6),VLOOKUP($G$8,Congés_auto!$R$5:$BR$5,2+I$2),IF(OR($F14=7,$F14=8),VLOOKUP($G$8,Congés_auto!$R$5:$BR$5,2+I$1),)))),IF($G14=\"Jeudi\",IF(OR($F14=1,$F14=2),VLOOKUP($G$8,Congés_auto!$R$7:$BR$7,2+I$4),IF(OR($F14=3,$F14=4),VLOOKUP($G$8,Congés_auto!$R$7:$BR$7,2+I$3),IF(OR($F14=5,$F14=6),VLOOKUP($G$8,Congés_auto!$R$7:$BR$7,2+I$2),IF(OR($F14=7,$F14=8),VLOOKUP($G$8,Congés_auto!$R$7:$BR$7,2+I$1),)))),0))","v":"2018-09-04"},{"$f":"IF($G14=\"Mardi\",IF(OR($F14=1,$F14=2),VLOOKUP($G$8,Congés_auto!$R$5:$BR$5,2+J$4),IF(OR($F14=3,$F14=4),VLOOKUP($G$8,Congés_auto!$R$5:$BR$5,2+J$3),IF(OR($F14=5,$F14=6),VLOOKUP($G$8,Congés_auto!$R$5:$BR$5,2+J$2),IF(OR($F14=7,$F14=8),VLOOKUP($G$8,Congés_auto!$R$5:$BR$5,2+J$1),)))),IF($G14=\"Jeudi\",IF(OR($F14=1,$F14=2),VLOOKUP($G$8,Congés_auto!$R$7:$BR$7,2+J$4),IF(OR($F14=3,$F14=4),VLOOKUP($G$8,Congés_auto!$R$7:$BR$7,2+J$3),IF(OR($F14=5,$F14=6),VLOOKUP($G$8,Congés_auto!$R$7:$BR$7,2+J$2),IF(OR($F14=7,$F14=8),VLOOKUP($G$8,Congés_auto!$R$7:$BR$7,2+J$1),)))),0))","v":"2018-10-02"},{"$f":"IF($G14=\"Mardi\",IF(OR($F14=1,$F14=2),VLOOKUP($G$8,Congés_auto!$R$5:$BR$5,2+K$4),IF(OR($F14=3,$F14=4),VLOOKUP($G$8,Congés_auto!$R$5:$BR$5,2+K$3),IF(OR($F14=5,$F14=6),VLOOKUP($G$8,Congés_auto!$R$5:$BR$5,2+K$2),IF(OR($F14=7,$F14=8),VLOOKUP($G$8,Congés_auto!$R$5:$BR$5,2+K$1),)))),IF($G14=\"Jeudi\",IF(OR($F14=1,$F14=2),VLOOKUP($G$8,Congés_auto!$R$7:$BR$7,2+K$4),IF(OR($F14=3,$F14=4),VLOOKUP($G$8,Congés_auto!$R$7:$BR$7,2+K$3),IF(OR($F14=5,$F14=6),VLOOKUP($G$8,Congés_auto!$R$7:$BR$7,2+K$2),IF(OR($F14=7,$F14=8),VLOOKUP($G$8,Congés_auto!$R$7:$BR$7,2+K$1),)))),0))","v":"2018-11-13"},{"$f":"IF($G14=\"Mardi\",IF(OR($F14=1,$F14=2),VLOOKUP($G$8,Congés_auto!$R$5:$BR$5,2+L$4),IF(OR($F14=3,$F14=4),VLOOKUP($G$8,Congés_auto!$R$5:$BR$5,2+L$3),IF(OR($F14=5,$F14=6),VLOOKUP($G$8,Congés_auto!$R$5:$BR$5,2+L$2),IF(OR($F14=7,$F14=8),VLOOKUP($G$8,Congés_auto!$R$5:$BR$5,2+L$1),)))),IF($G14=\"Jeudi\",IF(OR($F14=1,$F14=2),VLOOKUP($G$8,Congés_auto!$R$7:$BR$7,2+L$4),IF(OR($F14=3,$F14=4),VLOOKUP($G$8,Congés_auto!$R$7:$BR$7,2+L$3),IF(OR($F14=5,$F14=6),VLOOKUP($G$8,Congés_auto!$R$7:$BR$7,2+L$2),IF(OR($F14=7,$F14=8),VLOOKUP($G$8,Congés_auto!$R$7:$BR$7,2+L$1),)))),0))","v":"2018-12-11"},{"$f":"IF($G14=\"Mardi\",IF(OR($F14=1,$F14=2),VLOOKUP($G$8,Congés_auto!$R$5:$BR$5,2+M$4),IF(OR($F14=3,$F14=4),VLOOKUP($G$8,Congés_auto!$R$5:$BR$5,2+M$3),IF(OR($F14=5,$F14=6),VLOOKUP($G$8,Congés_auto!$R$5:$BR$5,2+M$2),IF(OR($F14=7,$F14=8),VLOOKUP($G$8,Congés_auto!$R$5:$BR$5,2+M$1),)))),IF($G14=\"Jeudi\",IF(OR($F14=1,$F14=2),VLOOKUP($G$8,Congés_auto!$R$7:$BR$7,2+M$4),IF(OR($F14=3,$F14=4),VLOOKUP($G$8,Congés_auto!$R$7:$BR$7,2+M$3),IF(OR($F14=5,$F14=6),VLOOKUP($G$8,Congés_auto!$R$7:$BR$7,2+M$2),IF(OR($F14=7,$F14=8),VLOOKUP($G$8,Congés_auto!$R$7:$BR$7,2+M$1),)))),0))","v":"2019-02-12"},{"$f":"IF($G14=\"Mardi\",IF(OR($F14=1,$F14=2),VLOOKUP($G$8,Congés_auto!$R$5:$BR$5,2+N$4),IF(OR($F14=3,$F14=4),VLOOKUP($G$8,Congés_auto!$R$5:$BR$5,2+N$3),IF(OR($F14=5,$F14=6),VLOOKUP($G$8,Congés_auto!$R$5:$BR$5,2+N$2),IF(OR($F14=7,$F14=8),VLOOKUP($G$8,Congés_auto!$R$5:$BR$5,2+N$1),)))),IF($G14=\"Jeudi\",IF(OR($F14=1,$F14=2),VLOOKUP($G$8,Congés_auto!$R$7:$BR$7,2+N$4),IF(OR($F14=3,$F14=4),VLOOKUP($G$8,Congés_auto!$R$7:$BR$7,2+N$3),IF(OR($F14=5,$F14=6),VLOOKUP($G$8,Congés_auto!$R$7:$BR$7,2+N$2),IF(OR($F14=7,$F14=8),VLOOKUP($G$8,Congés_auto!$R$7:$BR$7,2+N$1),)))),0))","v":"2019-03-26"},{"$f":"IF($G14=\"Mardi\",IF(OR($F14=1,$F14=2),VLOOKUP($G$8,Congés_auto!$R$5:$BR$5,2+O$4),IF(OR($F14=3,$F14=4),VLOOKUP($G$8,Congés_auto!$R$5:$BR$5,2+O$3),IF(OR($F14=5,$F14=6),VLOOKUP($G$8,Congés_auto!$R$5:$BR$5,2+O$2),IF(OR($F14=7,$F14=8),VLOOKUP($G$8,Congés_auto!$R$5:$BR$5,2+O$1),)))),IF($G14=\"Jeudi\",IF(OR($F14=1,$F14=2),VLOOKUP($G$8,Congés_auto!$R$7:$BR$7,2+O$4),IF(OR($F14=3,$F14=4),VLOOKUP($G$8,Congés_auto!$R$7:$BR$7,2+O$3),IF(OR($F14=5,$F14=6),VLOOKUP($G$8,Congés_auto!$R$7:$BR$7,2+O$2),IF(OR($F14=7,$F14=8),VLOOKUP($G$8,Congés_auto!$R$7:$BR$7,2+O$1),)))),0))","v":"2019-04-23"},{"$f":"IF($G14=\"Mardi\",IF(OR($F14=1,$F14=2),VLOOKUP($G$8,Congés_auto!$R$5:$BR$5,2+P$4),IF(OR($F14=3,$F14=4),VLOOKUP($G$8,Congés_auto!$R$5:$BR$5,2+P$3),IF(OR($F14=5,$F14=6),VLOOKUP($G$8,Congés_auto!$R$5:$BR$5,2+P$2),IF(OR($F14=7,$F14=8),VLOOKUP($G$8,Congés_auto!$R$5:$BR$5,2+P$1),)))),IF($G14=\"Jeudi\",IF(OR($F14=1,$F14=2),VLOOKUP($G$8,Congés_auto!$R$7:$BR$7,2+P$4),IF(OR($F14=3,$F14=4),VLOOKUP($G$8,Congés_auto!$R$7:$BR$7,2+P$3),IF(OR($F14=5,$F14=6),VLOOKUP($G$8,Congés_auto!$R$7:$BR$7,2+P$2),IF(OR($F14=7,$F14=8),VLOOKUP($G$8,Congés_auto!$R$7:$BR$7,2+P$1),)))),0))","v":"2019-06-04"},{"$f":"IF($G14=\"Mardi\",IF(OR($F14=1,$F14=2),VLOOKUP($G$8,Congés_auto!$R$5:$BR$5,2+Q$4),IF(OR($F14=3,$F14=4),VLOOKUP($G$8,Congés_auto!$R$5:$BR$5,2+Q$3),IF(OR($F14=5,$F14=6),VLOOKUP($G$8,Congés_auto!$R$5:$BR$5,2+Q$2),IF(OR($F14=7,$F14=8),VLOOKUP($G$8,Congés_auto!$R$5:$BR$5,2+Q$1),)))),IF($G14=\"Jeudi\",IF(OR($F14=1,$F14=2),VLOOKUP($G$8,Congés_auto!$R$7:$BR$7,2+Q$4),IF(OR($F14=3,$F14=4),VLOOKUP($G$8,Congés_auto!$R$7:$BR$7,2+Q$3),IF(OR($F14=5,$F14=6),VLOOKUP($G$8,Congés_auto!$R$7:$BR$7,2+Q$2),IF(OR($F14=7,$F14=8),VLOOKUP($G$8,Congés_auto!$R$7:$BR$7,2+Q$1),)))),0))","v":"2019-07-02"}]
[{"$nulls":3},"2001-10-15",301,3,"Mardi",30132,{"$f":"IF($G15=\"Mardi\",IF(OR($F15=1,$F15=2),VLOOKUP($G$8,Congés_auto!$R$5:$BR$5,2+I$4),IF(OR($F15=3,$F15=4),VLOOKUP($G$8,Congés_auto!$R$5:$BR$5,2+I$3),IF(OR($F15=5,$F15=6),VLOOKUP($G$8,Congés_auto!$R$5:$BR$5,2+I$2),IF(OR($F15=7,$F15=8),VLOOKUP($G$8,Congés_auto!$R$5:$BR$5,2+I$1),)))),IF($G15=\"Jeudi\",IF(OR($F15=1,$F15=2),VLOOKUP($G$8,Congés_auto!$R$7:$BR$7,2+I$4),IF(OR($F15=3,$F15=4),VLOOKUP($G$8,Congés_auto!$R$7:$BR$7,2+I$3),IF(OR($F15=5,$F15=6),VLOOKUP($G$8,Congés_auto!$R$7:$BR$7,2+I$2),IF(OR($F15=7,$F15=8),VLOOKUP($G$8,Congés_auto!$R$7:$BR$7,2+I$1),)))),0))","v":"2018-09-04"},{"$f":"IF($G15=\"Mardi\",IF(OR($F15=1,$F15=2),VLOOKUP($G$8,Congés_auto!$R$5:$BR$5,2+J$4),IF(OR($F15=3,$F15=4),VLOOKUP($G$8,Congés_auto!$R$5:$BR$5,2+J$3),IF(OR($F15=5,$F15=6),VLOOKUP($G$8,Congés_auto!$R$5:$BR$5,2+J$2),IF(OR($F15=7,$F15=8),VLOOKUP($G$8,Congés_auto!$R$5:$BR$5,2+J$1),)))),IF($G15=\"Jeudi\",IF(OR($F15=1,$F15=2),VLOOKUP($G$8,Congés_auto!$R$7:$BR$7,2+J$4),IF(OR($F15=3,$F15=4),VLOOKUP($G$8,Congés_auto!$R$7:$BR$7,2+J$3),IF(OR($F15=5,$F15=6),VLOOKUP($G$8,Congés_auto!$R$7:$BR$7,2+J$2),IF(OR($F15=7,$F15=8),VLOOKUP($G$8,Congés_auto!$R$7:$BR$7,2+J$1),)))),0))","v":"2018-10-02"},{"$f":"IF($G15=\"Mardi\",IF(OR($F15=1,$F15=2),VLOOKUP($G$8,Congés_auto!$R$5:$BR$5,2+K$4),IF(OR($F15=3,$F15=4),VLOOKUP($G$8,Congés_auto!$R$5:$BR$5,2+K$3),IF(OR($F15=5,$F15=6),VLOOKUP($G$8,Congés_auto!$R$5:$BR$5,2+K$2),IF(OR($F15=7,$F15=8),VLOOKUP($G$8,Congés_auto!$R$5:$BR$5,2+K$1),)))),IF($G15=\"Jeudi\",IF(OR($F15=1,$F15=2),VLOOKUP($G$8,Congés_auto!$R$7:$BR$7,2+K$4),IF(OR($F15=3,$F15=4),VLOOKUP($G$8,Congés_auto!$R$7:$BR$7,2+K$3),IF(OR($F15=5,$F15=6),VLOOKUP($G$8,Congés_auto!$R$7:$BR$7,2+K$2),IF(OR($F15=7,$F15=8),VLOOKUP($G$8,Congés_auto!$R$7:$BR$7,2+K$1),)))),0))","v":"2018-11-13"},{"$f":"IF($G15=\"Mardi\",IF(OR($F15=1,$F15=2),VLOOKUP($G$8,Congés_auto!$R$5:$BR$5,2+L$4),IF(OR($F15=3,$F15=4),VLOOKUP($G$8,Congés_auto!$R$5:$BR$5,2+L$3),IF(OR($F15=5,$F15=6),VLOOKUP($G$8,Congés_auto!$R$5:$BR$5,2+L$2),IF(OR($F15=7,$F15=8),VLOOKUP($G$8,Congés_auto!$R$5:$BR$5,2+L$1),)))),IF($G15=\"Jeudi\",IF(OR($F15=1,$F15=2),VLOOKUP($G$8,Congés_auto!$R$7:$BR$7,2+L$4),IF(OR($F15=3,$F15=4),VLOOKUP($G$8,Congés_auto!$R$7:$BR$7,2+L$3),IF(OR($F15=5,$F15=6),VLOOKUP($G$8,Congés_auto!$R$7:$BR$7,2+L$2),IF(OR($F15=7,$F15=8),VLOOKUP($G$8,Congés_auto!$R$7:$BR$7,2+L$1),)))),0))","v":"2018-12-11"},{"$f":"IF($G15=\"Mardi\",IF(OR($F15=1,$F15=2),VLOOKUP($G$8,Congés_auto!$R$5:$BR$5,2+M$4),IF(OR($F15=3,$F15=4),VLOOKUP($G$8,Congés_auto!$R$5:$BR$5,2+M$3),IF(OR($F15=5,$F15=6),VLOOKUP($G$8,Congés_auto!$R$5:$BR$5,2+M$2),IF(OR($F15=7,$F15=8),VLOOKUP($G$8,Congés_auto!$R$5:$BR$5,2+M$1),)))),IF($G15=\"Jeudi\",IF(OR($F15=1,$F15=2),VLOOKUP($G$8,Congés_auto!$R$7:$BR$7,2+M$4),IF(OR($F15=3,$F15=4),VLOOKUP($G$8,Congés_auto!$R$7:$BR$7,2+M$3),IF(OR($F15=5,$F15=6),VLOOKUP($G$8,Congés_auto!$R$7:$BR$7,2+M$2),IF(OR($F15=7,$F15=8),VLOOKUP($G$8,Congés_auto!$R$7:$BR$7,2+M$1),)))),0))","v":"2019-02-12"},{"$f":"IF($G15=\"Mardi\",IF(OR($F15=1,$F15=2),VLOOKUP($G$8,Congés_auto!$R$5:$BR$5,2+N$4),IF(OR($F15=3,$F15=4),VLOOKUP($G$8,Congés_auto!$R$5:$BR$5,2+N$3),IF(OR($F15=5,$F15=6),VLOOKUP($G$8,Congés_auto!$R$5:$BR$5,2+N$2),IF(OR($F15=7,$F15=8),VLOOKUP($G$8,Congés_auto!$R$5:$BR$5,2+N$1),)))),IF($G15=\"Jeudi\",IF(OR($F15=1,$F15=2),VLOOKUP($G$8,Congés_auto!$R$7:$BR$7,2+N$4),IF(OR($F15=3,$F15=4),VLOOKUP($G$8,Congés_auto!$R$7:$BR$7,2+N$3),IF(OR($F15=5,$F15=6),VLOOKUP($G$8,Congés_auto!$R$7:$BR$7,2+N$2),IF(OR($F15=7,$F15=8),VLOOKUP($G$8,Congés_auto!$R$7:$BR$7,2+N$1),)))),0))","v":"2019-03-26"},{"$f":"IF($G15=\"Mardi\",IF(OR($F15=1,$F15=2),VLOOKUP($G$8,Congés_auto!$R$5:$BR$5,2+O$4),IF(OR($F15=3,$F15=4),VLOOKUP($G$8,Congés_auto!$R$5:$BR$5,2+O$3),IF(OR($F15=5,$F15=6),VLOOKUP($G$8,Congés_auto!$R$5:$BR$5,2+O$2),IF(OR($F15=7,$F15=8),VLOOKUP($G$8,Congés_auto!$R$5:$BR$5,2+O$1),)))),IF($G15=\"Jeudi\",IF(OR($F15=1,$F15=2),VLOOKUP($G$8,Congés_auto!$R$7:$BR$7,2+O$4),IF(OR($F15=3,$F15=4),VLOOKUP($G$8,Congés_auto!$R$7:$BR$7,2+O$3),IF(OR($F15=5,$F15=6),VLOOKUP($G$8,Congés_auto!$R$7:$BR$7,2+O$2),IF(OR($F15=7,$F15=8),VLOOKUP($G$8,Congés_auto!$R$7:$BR$7,2+O$1),)))),0))","v":"2019-04-23"},{"$f":"IF($G15=\"Mardi\",IF(OR($F15=1,$F15=2),VLOOKUP($G$8,Congés_auto!$R$5:$BR$5,2+P$4),IF(OR($F15=3,$F15=4),VLOOKUP($G$8,Congés_auto!$R$5:$BR$5,2+P$3),IF(OR($F15=5,$F15=6),VLOOKUP($G$8,Congés_auto!$R$5:$BR$5,2+P$2),IF(OR($F15=7,$F15=8),VLOOKUP($G$8,Congés_auto!$R$5:$BR$5,2+P$1),)))),IF($G15=\"Jeudi\",IF(OR($F15=1,$F15=2),VLOOKUP($G$8,Congés_auto!$R$7:$BR$7,2+P$4),IF(OR($F15=3,$F15=4),VLOOKUP($G$8,Congés_auto!$R$7:$BR$7,2+P$3),IF(OR($F15=5,$F15=6),VLOOKUP($G$8,Congés_auto!$R$7:$BR$7,2+P$2),IF(OR($F15=7,$F15=8),VLOOKUP($G$8,Congés_auto!$R$7:$BR$7,2+P$1),)))),0))","v":"2019-06-04"},{"$f":"IF($G15=\"Mardi\",IF(OR($F15=1,$F15=2),VLOOKUP($G$8,Congés_auto!$R$5:$BR$5,2+Q$4),IF(OR($F15=3,$F15=4),VLOOKUP($G$8,Congés_auto!$R$5:$BR$5,2+Q$3),IF(OR($F15=5,$F15=6),VLOOKUP($G$8,Congés_auto!$R$5:$BR$5,2+Q$2),IF(OR($F15=7,$F15=8),VLOOKUP($G$8,Congés_auto!$R$5:$BR$5,2+Q$1),)))),IF($G15=\"Jeudi\",IF(OR($F15=1,$F15=2),VLOOKUP($G$8,Congés_auto!$R$7:$BR$7,2+Q$4),IF(OR($F15=3,$F15=4),VLOOKUP($G$8,Congés_auto!$R$7:$BR$7,2+Q$3),IF(OR($F15=5,$F15=6),VLOOKUP($G$8,Congés_auto!$R$7:$BR$7,2+Q$2),IF(OR($F15=7,$F15=8),VLOOKUP($G$8,Congés_auto!$R$7:$BR$7,2+Q$1),)))),0))","v":"2019-07-02"}]
[{"$nulls":3},"2001-10-15",301,3,"Mardi",30133,{"$f":"IF($G16=\"Mardi\",IF(OR($F16=1,$F16=2),VLOOKUP($G$8,Congés_auto!$R$5:$BR$5,2+I$4),IF(OR($F16=3,$F16=4),VLOOKUP($G$8,Congés_auto!$R$5:$BR$5,2+I$3),IF(OR($F16=5,$F16=6),VLOOKUP($G$8,Congés_auto!$R$5:$BR$5,2+I$2),IF(OR($F16=7,$F16=8),VLOOKUP($G$8,Congés_auto!$R$5:$BR$5,2+I$1),)))),IF($G16=\"Jeudi\",IF(OR($F16=1,$F16=2),VLOOKUP($G$8,Congés_auto!$R$7:$BR$7,2+I$4),IF(OR($F16=3,$F16=4),VLOOKUP($G$8,Congés_auto!$R$7:$BR$7,2+I$3),IF(OR($F16=5,$F16=6),VLOOKUP($G$8,Congés_auto!$R$7:$BR$7,2+I$2),IF(OR($F16=7,$F16=8),VLOOKUP($G$8,Congés_auto!$R$7:$BR$7,2+I$1),)))),0))","v":"2018-09-04"},{"$f":"IF($G16=\"Mardi\",IF(OR($F16=1,$F16=2),VLOOKUP($G$8,Congés_auto!$R$5:$BR$5,2+J$4),IF(OR($F16=3,$F16=4),VLOOKUP($G$8,Congés_auto!$R$5:$BR$5,2+J$3),IF(OR($F16=5,$F16=6),VLOOKUP($G$8,Congés_auto!$R$5:$BR$5,2+J$2),IF(OR($F16=7,$F16=8),VLOOKUP($G$8,Congés_auto!$R$5:$BR$5,2+J$1),)))),IF($G16=\"Jeudi\",IF(OR($F16=1,$F16=2),VLOOKUP($G$8,Congés_auto!$R$7:$BR$7,2+J$4),IF(OR($F16=3,$F16=4),VLOOKUP($G$8,Congés_auto!$R$7:$BR$7,2+J$3),IF(OR($F16=5,$F16=6),VLOOKUP($G$8,Congés_auto!$R$7:$BR$7,2+J$2),IF(OR($F16=7,$F16=8),VLOOKUP($G$8,Congés_auto!$R$7:$BR$7,2+J$1),)))),0))","v":"2018-10-02"},{"$f":"IF($G16=\"Mardi\",IF(OR($F16=1,$F16=2),VLOOKUP($G$8,Congés_auto!$R$5:$BR$5,2+K$4),IF(OR($F16=3,$F16=4),VLOOKUP($G$8,Congés_auto!$R$5:$BR$5,2+K$3),IF(OR($F16=5,$F16=6),VLOOKUP($G$8,Congés_auto!$R$5:$BR$5,2+K$2),IF(OR($F16=7,$F16=8),VLOOKUP($G$8,Congés_auto!$R$5:$BR$5,2+K$1),)))),IF($G16=\"Jeudi\",IF(OR($F16=1,$F16=2),VLOOKUP($G$8,Congés_auto!$R$7:$BR$7,2+K$4),IF(OR($F16=3,$F16=4),VLOOKUP($G$8,Congés_auto!$R$7:$BR$7,2+K$3),IF(OR($F16=5,$F16=6),VLOOKUP($G$8,Congés_auto!$R$7:$BR$7,2+K$2),IF(OR($F16=7,$F16=8),VLOOKUP($G$8,Congés_auto!$R$7:$BR$7,2+K$1),)))),0))","v":"2018-11-13"},{"$f":"IF($G16=\"Mardi\",IF(OR($F16=1,$F16=2),VLOOKUP($G$8,Congés_auto!$R$5:$BR$5,2+L$4),IF(OR($F16=3,$F16=4),VLOOKUP($G$8,Congés_auto!$R$5:$BR$5,2+L$3),IF(OR($F16=5,$F16=6),VLOOKUP($G$8,Congés_auto!$R$5:$BR$5,2+L$2),IF(OR($F16=7,$F16=8),VLOOKUP($G$8,Congés_auto!$R$5:$BR$5,2+L$1),)))),IF($G16=\"Jeudi\",IF(OR($F16=1,$F16=2),VLOOKUP($G$8,Congés_auto!$R$7:$BR$7,2+L$4),IF(OR($F16=3,$F16=4),VLOOKUP($G$8,Congés_auto!$R$7:$BR$7,2+L$3),IF(OR($F16=5,$F16=6),VLOOKUP($G$8,Congés_auto!$R$7:$BR$7,2+L$2),IF(OR($F16=7,$F16=8),VLOOKUP($G$8,Congés_auto!$R$7:$BR$7,2+L$1),)))),0))","v":"2018-12-11"},{"$f":"IF($G16=\"Mardi\",IF(OR($F16=1,$F16=2),VLOOKUP($G$8,Congés_auto!$R$5:$BR$5,2+M$4),IF(OR($F16=3,$F16=4),VLOOKUP($G$8,Congés_auto!$R$5:$BR$5,2+M$3),IF(OR($F16=5,$F16=6),VLOOKUP($G$8,Congés_auto!$R$5:$BR$5,2+M$2),IF(OR($F16=7,$F16=8),VLOOKUP($G$8,Congés_auto!$R$5:$BR$5,2+M$1),)))),IF($G16=\"Jeudi\",IF(OR($F16=1,$F16=2),VLOOKUP($G$8,Congés_auto!$R$7:$BR$7,2+M$4),IF(OR($F16=3,$F16=4),VLOOKUP($G$8,Congés_auto!$R$7:$BR$7,2+M$3),IF(OR($F16=5,$F16=6),VLOOKUP($G$8,Congés_auto!$R$7:$BR$7,2+M$2),IF(OR($F16=7,$F16=8),VLOOKUP($G$8,Congés_auto!$R$7:$BR$7,2+M$1),)))),0))","v":"2019-02-12"},{"$f":"IF($G16=\"Mardi\",IF(OR($F16=1,$F16=2),VLOOKUP($G$8,Congés_auto!$R$5:$BR$5,2+N$4),IF(OR($F16=3,$F16=4),VLOOKUP($G$8,Congés_auto!$R$5:$BR$5,2+N$3),IF(OR($F16=5,$F16=6),VLOOKUP($G$8,Congés_auto!$R$5:$BR$5,2+N$2),IF(OR($F16=7,$F16=8),VLOOKUP($G$8,Congés_auto!$R$5:$BR$5,2+N$1),)))),IF($G16=\"Jeudi\",IF(OR($F16=1,$F16=2),VLOOKUP($G$8,Congés_auto!$R$7:$BR$7,2+N$4),IF(OR($F16=3,$F16=4),VLOOKUP($G$8,Congés_auto!$R$7:$BR$7,2+N$3),IF(OR($F16=5,$F16=6),VLOOKUP($G$8,Congés_auto!$R$7:$BR$7,2+N$2),IF(OR($F16=7,$F16=8),VLOOKUP($G$8,Congés_auto!$R$7:$BR$7,2+N$1),)))),0))","v":"2019-03-26"},{"$f":"IF($G16=\"Mardi\",IF(OR($F16=1,$F16=2),VLOOKUP($G$8,Congés_auto!$R$5:$BR$5,2+O$4),IF(OR($F16=3,$F16=4),VLOOKUP($G$8,Congés_auto!$R$5:$BR$5,2+O$3),IF(OR($F16=5,$F16=6),VLOOKUP($G$8,Congés_auto!$R$5:$BR$5,2+O$2),IF(OR($F16=7,$F16=8),VLOOKUP($G$8,Congés_auto!$R$5:$BR$5,2+O$1),)))),IF($G16=\"Jeudi\",IF(OR($F16=1,$F16=2),VLOOKUP($G$8,Congés_auto!$R$7:$BR$7,2+O$4),IF(OR($F16=3,$F16=4),VLOOKUP($G$8,Congés_auto!$R$7:$BR$7,2+O$3),IF(OR($F16=5,$F16=6),VLOOKUP($G$8,Congés_auto!$R$7:$BR$7,2+O$2),IF(OR($F16=7,$F16=8),VLOOKUP($G$8,Congés_auto!$R$7:$BR$7,2+O$1),)))),0))","v":"2019-04-23"},{"$f":"IF($G16=\"Mardi\",IF(OR($F16=1,$F16=2),VLOOKUP($G$8,Congés_auto!$R$5:$BR$5,2+P$4),IF(OR($F16=3,$F16=4),VLOOKUP($G$8,Congés_auto!$R$5:$BR$5,2+P$3),IF(OR($F16=5,$F16=6),VLOOKUP($G$8,Congés_auto!$R$5:$BR$5,2+P$2),IF(OR($F16=7,$F16=8),VLOOKUP($G$8,Congés_auto!$R$5:$BR$5,2+P$1),)))),IF($G16=\"Jeudi\",IF(OR($F16=1,$F16=2),VLOOKUP($G$8,Congés_auto!$R$7:$BR$7,2+P$4),IF(OR($F16=3,$F16=4),VLOOKUP($G$8,Congés_auto!$R$7:$BR$7,2+P$3),IF(OR($F16=5,$F16=6),VLOOKUP($G$8,Congés_auto!$R$7:$BR$7,2+P$2),IF(OR($F16=7,$F16=8),VLOOKUP($G$8,Congés_auto!$R$7:$BR$7,2+P$1),)))),0))","v":"2019-06-04"},{"$f":"IF($G16=\"Mardi\",IF(OR($F16=1,$F16=2),VLOOKUP($G$8,Congés_auto!$R$5:$BR$5,2+Q$4),IF(OR($F16=3,$F16=4),VLOOKUP($G$8,Congés_auto!$R$5:$BR$5,2+Q$3),IF(OR($F16=5,$F16=6),VLOOKUP($G$8,Congés_auto!$R$5:$BR$5,2+Q$2),IF(OR($F16=7,$F16=8),VLOOKUP($G$8,Congés_auto!$R$5:$BR$5,2+Q$1),)))),IF($G16=\"Jeudi\",IF(OR($F16=1,$F16=2),VLOOKUP($G$8,Congés_auto!$R$7:$BR$7,2+Q$4),IF(OR($F16=3,$F16=4),VLOOKUP($G$8,Congés_auto!$R$7:$BR$7,2+Q$3),IF(OR($F16=5,$F16=6),VLOOKUP($G$8,Congés_auto!$R$7:$BR$7,2+Q$2),IF(OR($F16=7,$F16=8),VLOOKUP($G$8,Congés_auto!$R$7:$BR$7,2+Q$1),)))),0))","v":"2019-07-02"}]
[null,null,"Agnès","2002-05-11",301,4,"Mardi","30140",{"$f":"IF($G17=\"Mardi\",IF(OR($F17=1,$F17=2),VLOOKUP($G$8,Congés_auto!$R$5:$BR$5,2+I$4),IF(OR($F17=3,$F17=4),VLOOKUP($G$8,Congés_auto!$R$5:$BR$5,2+I$3),IF(OR($F17=5,$F17=6),VLOOKUP($G$8,Congés_auto!$R$5:$BR$5,2+I$2),IF(OR($F17=7,$F17=8),VLOOKUP($G$8,Congés_auto!$R$5:$BR$5,2+I$1),)))),IF($G17=\"Jeudi\",IF(OR($F17=1,$F17=2),VLOOKUP($G$8,Congés_auto!$R$7:$BR$7,2+I$4),IF(OR($F17=3,$F17=4),VLOOKUP($G$8,Congés_auto!$R$7:$BR$7,2+I$3),IF(OR($F17=5,$F17=6),VLOOKUP($G$8,Congés_auto!$R$7:$BR$7,2+I$2),IF(OR($F17=7,$F17=8),VLOOKUP($G$8,Congés_auto!$R$7:$BR$7,2+I$1),)))),0))","v":"2018-09-04"},{"$f":"IF($G17=\"Mardi\",IF(OR($F17=1,$F17=2),VLOOKUP($G$8,Congés_auto!$R$5:$BR$5,2+J$4),IF(OR($F17=3,$F17=4),VLOOKUP($G$8,Congés_auto!$R$5:$BR$5,2+J$3),IF(OR($F17=5,$F17=6),VLOOKUP($G$8,Congés_auto!$R$5:$BR$5,2+J$2),IF(OR($F17=7,$F17=8),VLOOKUP($G$8,Congés_auto!$R$5:$BR$5,2+J$1),)))),IF($G17=\"Jeudi\",IF(OR($F17=1,$F17=2),VLOOKUP($G$8,Congés_auto!$R$7:$BR$7,2+J$4),IF(OR($F17=3,$F17=4),VLOOKUP($G$8,Congés_auto!$R$7:$BR$7,2+J$3),IF(OR($F17=5,$F17=6),VLOOKUP($G$8,Congés_auto!$R$7:$BR$7,2+J$2),IF(OR($F17=7,$F17=8),VLOOKUP($G$8,Congés_auto!$R$7:$BR$7,2+J$1),)))),0))","v":"2018-10-02"},{"$f":"IF($G17=\"Mardi\",IF(OR($F17=1,$F17=2),VLOOKUP($G$8,Congés_auto!$R$5:$BR$5,2+K$4),IF(OR($F17=3,$F17=4),VLOOKUP($G$8,Congés_auto!$R$5:$BR$5,2+K$3),IF(OR($F17=5,$F17=6),VLOOKUP($G$8,Congés_auto!$R$5:$BR$5,2+K$2),IF(OR($F17=7,$F17=8),VLOOKUP($G$8,Congés_auto!$R$5:$BR$5,2+K$1),)))),IF($G17=\"Jeudi\",IF(OR($F17=1,$F17=2),VLOOKUP($G$8,Congés_auto!$R$7:$BR$7,2+K$4),IF(OR($F17=3,$F17=4),VLOOKUP($G$8,Congés_auto!$R$7:$BR$7,2+K$3),IF(OR($F17=5,$F17=6),VLOOKUP($G$8,Congés_auto!$R$7:$BR$7,2+K$2),IF(OR($F17=7,$F17=8),VLOOKUP($G$8,Congés_auto!$R$7:$BR$7,2+K$1),)))),0))","v":"2018-11-13"},{"$f":"IF($G17=\"Mardi\",IF(OR($F17=1,$F17=2),VLOOKUP($G$8,Congés_auto!$R$5:$BR$5,2+L$4),IF(OR($F17=3,$F17=4),VLOOKUP($G$8,Congés_auto!$R$5:$BR$5,2+L$3),IF(OR($F17=5,$F17=6),VLOOKUP($G$8,Congés_auto!$R$5:$BR$5,2+L$2),IF(OR($F17=7,$F17=8),VLOOKUP($G$8,Congés_auto!$R$5:$BR$5,2+L$1),)))),IF($G17=\"Jeudi\",IF(OR($F17=1,$F17=2),VLOOKUP($G$8,Congés_auto!$R$7:$BR$7,2+L$4),IF(OR($F17=3,$F17=4),VLOOKUP($G$8,Congés_auto!$R$7:$BR$7,2+L$3),IF(OR($F17=5,$F17=6),VLOOKUP($G$8,Congés_auto!$R$7:$BR$7,2+L$2),IF(OR($F17=7,$F17=8),VLOOKUP($G$8,Congés_auto!$R$7:$BR$7,2+L$1),)))),0))","v":"2018-12-11"},{"$f":"IF($G17=\"Mardi\",IF(OR($F17=1,$F17=2),VLOOKUP($G$8,Congés_auto!$R$5:$BR$5,2+M$4),IF(OR($F17=3,$F17=4),VLOOKUP($G$8,Congés_auto!$R$5:$BR$5,2+M$3),IF(OR($F17=5,$F17=6),VLOOKUP($G$8,Congés_auto!$R$5:$BR$5,2+M$2),IF(OR($F17=7,$F17=8),VLOOKUP($G$8,Congés_auto!$R$5:$BR$5,2+M$1),)))),IF($G17=\"Jeudi\",IF(OR($F17=1,$F17=2),VLOOKUP($G$8,Congés_auto!$R$7:$BR$7,2+M$4),IF(OR($F17=3,$F17=4),VLOOKUP($G$8,Congés_auto!$R$7:$BR$7,2+M$3),IF(OR($F17=5,$F17=6),VLOOKUP($G$8,Congés_auto!$R$7:$BR$7,2+M$2),IF(OR($F17=7,$F17=8),VLOOKUP($G$8,Congés_auto!$R$7:$BR$7,2+M$1),)))),0))","v":"2019-02-12"},{"$f":"IF($G17=\"Mardi\",IF(OR($F17=1,$F17=2),VLOOKUP($G$8,Congés_auto!$R$5:$BR$5,2+N$4),IF(OR($F17=3,$F17=4),VLOOKUP($G$8,Congés_auto!$R$5:$BR$5,2+N$3),IF(OR($F17=5,$F17=6),VLOOKUP($G$8,Congés_auto!$R$5:$BR$5,2+N$2),IF(OR($F17=7,$F17=8),VLOOKUP($G$8,Congés_auto!$R$5:$BR$5,2+N$1),)))),IF($G17=\"Jeudi\",IF(OR($F17=1,$F17=2),VLOOKUP($G$8,Congés_auto!$R$7:$BR$7,2+N$4),IF(OR($F17=3,$F17=4),VLOOKUP($G$8,Congés_auto!$R$7:$BR$7,2+N$3),IF(OR($F17=5,$F17=6),VLOOKUP($G$8,Congés_auto!$R$7:$BR$7,2+N$2),IF(OR($F17=7,$F17=8),VLOOKUP($G$8,Congés_auto!$R$7:$BR$7,2+N$1),)))),0))","v":"2019-03-26"},{"$f":"IF($G17=\"Mardi\",IF(OR($F17=1,$F17=2),VLOOKUP($G$8,Congés_auto!$R$5:$BR$5,2+O$4),IF(OR($F17=3,$F17=4),VLOOKUP($G$8,Congés_auto!$R$5:$BR$5,2+O$3),IF(OR($F17=5,$F17=6),VLOOKUP($G$8,Congés_auto!$R$5:$BR$5,2+O$2),IF(OR($F17=7,$F17=8),VLOOKUP($G$8,Congés_auto!$R$5:$BR$5,2+O$1),)))),IF($G17=\"Jeudi\",IF(OR($F17=1,$F17=2),VLOOKUP($G$8,Congés_auto!$R$7:$BR$7,2+O$4),IF(OR($F17=3,$F17=4),VLOOKUP($G$8,Congés_auto!$R$7:$BR$7,2+O$3),IF(OR($F17=5,$F17=6),VLOOKUP($G$8,Congés_auto!$R$7:$BR$7,2+O$2),IF(OR($F17=7,$F17=8),VLOOKUP($G$8,Congés_auto!$R$7:$BR$7,2+O$1),)))),0))","v":"2019-04-23"},{"$f":"IF($G17=\"Mardi\",IF(OR($F17=1,$F17=2),VLOOKUP($G$8,Congés_auto!$R$5:$BR$5,2+P$4),IF(OR($F17=3,$F17=4),VLOOKUP($G$8,Congés_auto!$R$5:$BR$5,2+P$3),IF(OR($F17=5,$F17=6),VLOOKUP($G$8,Congés_auto!$R$5:$BR$5,2+P$2),IF(OR($F17=7,$F17=8),VLOOKUP($G$8,Congés_auto!$R$5:$BR$5,2+P$1),)))),IF($G17=\"Jeudi\",IF(OR($F17=1,$F17=2),VLOOKUP($G$8,Congés_auto!$R$7:$BR$7,2+P$4),IF(OR($F17=3,$F17=4),VLOOKUP($G$8,Congés_auto!$R$7:$BR$7,2+P$3),IF(OR($F17=5,$F17=6),VLOOKUP($G$8,Congés_auto!$R$7:$BR$7,2+P$2),IF(OR($F17=7,$F17=8),VLOOKUP($G$8,Congés_auto!$R$7:$BR$7,2+P$1),)))),0))","v":"2019-06-04"},{"$f":"IF($G17=\"Mardi\",IF(OR($F17=1,$F17=2),VLOOKUP($G$8,Congés_auto!$R$5:$BR$5,2+Q$4),IF(OR($F17=3,$F17=4),VLOOKUP($G$8,Congés_auto!$R$5:$BR$5,2+Q$3),IF(OR($F17=5,$F17=6),VLOOKUP($G$8,Congés_auto!$R$5:$BR$5,2+Q$2),IF(OR($F17=7,$F17=8),VLOOKUP($G$8,Congés_auto!$R$5:$BR$5,2+Q$1),)))),IF($G17=\"Jeudi\",IF(OR($F17=1,$F17=2),VLOOKUP($G$8,Congés_auto!$R$7:$BR$7,2+Q$4),IF(OR($F17=3,$F17=4),VLOOKUP($G$8,Congés_auto!$R$7:$BR$7,2+Q$3),IF(OR($F17=5,$F17=6),VLOOKUP($G$8,Congés_auto!$R$7:$BR$7,2+Q$2),IF(OR($F17=7,$F17=8),VLOOKUP($G$8,Congés_auto!$R$7:$BR$7,2+Q$1),)))),0))","v":"2019-07-02"}]
[{"$nulls":3},"2001-11-14",301,4,"Mardi",30141,{"$f":"IF($G18=\"Mardi\",IF(OR($F18=1,$F18=2),VLOOKUP($G$8,Congés_auto!$R$5:$BR$5,2+I$4),IF(OR($F18=3,$F18=4),VLOOKUP($G$8,Congés_auto!$R$5:$BR$5,2+I$3),IF(OR($F18=5,$F18=6),VLOOKUP($G$8,Congés_auto!$R$5:$BR$5,2+I$2),IF(OR($F18=7,$F18=8),VLOOKUP($G$8,Congés_auto!$R$5:$BR$5,2+I$1),)))),IF($G18=\"Jeudi\",IF(OR($F18=1,$F18=2),VLOOKUP($G$8,Congés_auto!$R$7:$BR$7,2+I$4),IF(OR($F18=3,$F18=4),VLOOKUP($G$8,Congés_auto!$R$7:$BR$7,2+I$3),IF(OR($F18=5,$F18=6),VLOOKUP($G$8,Congés_auto!$R$7:$BR$7,2+I$2),IF(OR($F18=7,$F18=8),VLOOKUP($G$8,Congés_auto!$R$7:$BR$7,2+I$1),)))),0))","v":"2018-09-04"},{"$f":"IF($G18=\"Mardi\",IF(OR($F18=1,$F18=2),VLOOKUP($G$8,Congés_auto!$R$5:$BR$5,2+J$4),IF(OR($F18=3,$F18=4),VLOOKUP($G$8,Congés_auto!$R$5:$BR$5,2+J$3),IF(OR($F18=5,$F18=6),VLOOKUP($G$8,Congés_auto!$R$5:$BR$5,2+J$2),IF(OR($F18=7,$F18=8),VLOOKUP($G$8,Congés_auto!$R$5:$BR$5,2+J$1),)))),IF($G18=\"Jeudi\",IF(OR($F18=1,$F18=2),VLOOKUP($G$8,Congés_auto!$R$7:$BR$7,2+J$4),IF(OR($F18=3,$F18=4),VLOOKUP($G$8,Congés_auto!$R$7:$BR$7,2+J$3),IF(OR($F18=5,$F18=6),VLOOKUP($G$8,Congés_auto!$R$7:$BR$7,2+J$2),IF(OR($F18=7,$F18=8),VLOOKUP($G$8,Congés_auto!$R$7:$BR$7,2+J$1),)))),0))","v":"2018-10-02"},{"$f":"IF($G18=\"Mardi\",IF(OR($F18=1,$F18=2),VLOOKUP($G$8,Congés_auto!$R$5:$BR$5,2+K$4),IF(OR($F18=3,$F18=4),VLOOKUP($G$8,Congés_auto!$R$5:$BR$5,2+K$3),IF(OR($F18=5,$F18=6),VLOOKUP($G$8,Congés_auto!$R$5:$BR$5,2+K$2),IF(OR($F18=7,$F18=8),VLOOKUP($G$8,Congés_auto!$R$5:$BR$5,2+K$1),)))),IF($G18=\"Jeudi\",IF(OR($F18=1,$F18=2),VLOOKUP($G$8,Congés_auto!$R$7:$BR$7,2+K$4),IF(OR($F18=3,$F18=4),VLOOKUP($G$8,Congés_auto!$R$7:$BR$7,2+K$3),IF(OR($F18=5,$F18=6),VLOOKUP($G$8,Congés_auto!$R$7:$BR$7,2+K$2),IF(OR($F18=7,$F18=8),VLOOKUP($G$8,Congés_auto!$R$7:$BR$7,2+K$1),)))),0))","v":"2018-11-13"},{"$f":"IF($G18=\"Mardi\",IF(OR($F18=1,$F18=2),VLOOKUP($G$8,Congés_auto!$R$5:$BR$5,2+L$4),IF(OR($F18=3,$F18=4),VLOOKUP($G$8,Congés_auto!$R$5:$BR$5,2+L$3),IF(OR($F18=5,$F18=6),VLOOKUP($G$8,Congés_auto!$R$5:$BR$5,2+L$2),IF(OR($F18=7,$F18=8),VLOOKUP($G$8,Congés_auto!$R$5:$BR$5,2+L$1),)))),IF($G18=\"Jeudi\",IF(OR($F18=1,$F18=2),VLOOKUP($G$8,Congés_auto!$R$7:$BR$7,2+L$4),IF(OR($F18=3,$F18=4),VLOOKUP($G$8,Congés_auto!$R$7:$BR$7,2+L$3),IF(OR($F18=5,$F18=6),VLOOKUP($G$8,Congés_auto!$R$7:$BR$7,2+L$2),IF(OR($F18=7,$F18=8),VLOOKUP($G$8,Congés_auto!$R$7:$BR$7,2+L$1),)))),0))","v":"2018-12-11"},{"$f":"IF($G18=\"Mardi\",IF(OR($F18=1,$F18=2),VLOOKUP($G$8,Congés_auto!$R$5:$BR$5,2+M$4),IF(OR($F18=3,$F18=4),VLOOKUP($G$8,Congés_auto!$R$5:$BR$5,2+M$3),IF(OR($F18=5,$F18=6),VLOOKUP($G$8,Congés_auto!$R$5:$BR$5,2+M$2),IF(OR($F18=7,$F18=8),VLOOKUP($G$8,Congés_auto!$R$5:$BR$5,2+M$1),)))),IF($G18=\"Jeudi\",IF(OR($F18=1,$F18=2),VLOOKUP($G$8,Congés_auto!$R$7:$BR$7,2+M$4),IF(OR($F18=3,$F18=4),VLOOKUP($G$8,Congés_auto!$R$7:$BR$7,2+M$3),IF(OR($F18=5,$F18=6),VLOOKUP($G$8,Congés_auto!$R$7:$BR$7,2+M$2),IF(OR($F18=7,$F18=8),VLOOKUP($G$8,Congés_auto!$R$7:$BR$7,2+M$1),)))),0))","v":"2019-02-12"},{"$f":"IF($G18=\"Mardi\",IF(OR($F18=1,$F18=2),VLOOKUP($G$8,Congés_auto!$R$5:$BR$5,2+N$4),IF(OR($F18=3,$F18=4),VLOOKUP($G$8,Congés_auto!$R$5:$BR$5,2+N$3),IF(OR($F18=5,$F18=6),VLOOKUP($G$8,Congés_auto!$R$5:$BR$5,2+N$2),IF(OR($F18=7,$F18=8),VLOOKUP($G$8,Congés_auto!$R$5:$BR$5,2+N$1),)))),IF($G18=\"Jeudi\",IF(OR($F18=1,$F18=2),VLOOKUP($G$8,Congés_auto!$R$7:$BR$7,2+N$4),IF(OR($F18=3,$F18=4),VLOOKUP($G$8,Congés_auto!$R$7:$BR$7,2+N$3),IF(OR($F18=5,$F18=6),VLOOKUP($G$8,Congés_auto!$R$7:$BR$7,2+N$2),IF(OR($F18=7,$F18=8),VLOOKUP($G$8,Congés_auto!$R$7:$BR$7,2+N$1),)))),0))","v":"2019-03-26"},{"$f":"IF($G18=\"Mardi\",IF(OR($F18=1,$F18=2),VLOOKUP($G$8,Congés_auto!$R$5:$BR$5,2+O$4),IF(OR($F18=3,$F18=4),VLOOKUP($G$8,Congés_auto!$R$5:$BR$5,2+O$3),IF(OR($F18=5,$F18=6),VLOOKUP($G$8,Congés_auto!$R$5:$BR$5,2+O$2),IF(OR($F18=7,$F18=8),VLOOKUP($G$8,Congés_auto!$R$5:$BR$5,2+O$1),)))),IF($G18=\"Jeudi\",IF(OR($F18=1,$F18=2),VLOOKUP($G$8,Congés_auto!$R$7:$BR$7,2+O$4),IF(OR($F18=3,$F18=4),VLOOKUP($G$8,Congés_auto!$R$7:$BR$7,2+O$3),IF(OR($F18=5,$F18=6),VLOOKUP($G$8,Congés_auto!$R$7:$BR$7,2+O$2),IF(OR($F18=7,$F18=8),VLOOKUP($G$8,Congés_auto!$R$7:$BR$7,2+O$1),)))),0))","v":"2019-04-23"},{"$f":"IF($G18=\"Mardi\",IF(OR($F18=1,$F18=2),VLOOKUP($G$8,Congés_auto!$R$5:$BR$5,2+P$4),IF(OR($F18=3,$F18=4),VLOOKUP($G$8,Congés_auto!$R$5:$BR$5,2+P$3),IF(OR($F18=5,$F18=6),VLOOKUP($G$8,Congés_auto!$R$5:$BR$5,2+P$2),IF(OR($F18=7,$F18=8),VLOOKUP($G$8,Congés_auto!$R$5:$BR$5,2+P$1),)))),IF($G18=\"Jeudi\",IF(OR($F18=1,$F18=2),VLOOKUP($G$8,Congés_auto!$R$7:$BR$7,2+P$4),IF(OR($F18=3,$F18=4),VLOOKUP($G$8,Congés_auto!$R$7:$BR$7,2+P$3),IF(OR($F18=5,$F18=6),VLOOKUP($G$8,Congés_auto!$R$7:$BR$7,2+P$2),IF(OR($F18=7,$F18=8),VLOOKUP($G$8,Congés_auto!$R$7:$BR$7,2+P$1),)))),0))","v":"2019-06-04"},{"$f":"IF($G18=\"Mardi\",IF(OR($F18=1,$F18=2),VLOOKUP($G$8,Congés_auto!$R$5:$BR$5,2+Q$4),IF(OR($F18=3,$F18=4),VLOOKUP($G$8,Congés_auto!$R$5:$BR$5,2+Q$3),IF(OR($F18=5,$F18=6),VLOOKUP($G$8,Congés_auto!$R$5:$BR$5,2+Q$2),IF(OR($F18=7,$F18=8),VLOOKUP($G$8,Congés_auto!$R$5:$BR$5,2+Q$1),)))),IF($G18=\"Jeudi\",IF(OR($F18=1,$F18=2),VLOOKUP($G$8,Congés_auto!$R$7:$BR$7,2+Q$4),IF(OR($F18=3,$F18=4),VLOOKUP($G$8,Congés_auto!$R$7:$BR$7,2+Q$3),IF(OR($F18=5,$F18=6),VLOOKUP($G$8,Congés_auto!$R$7:$BR$7,2+Q$2),IF(OR($F18=7,$F18=8),VLOOKUP($G$8,Congés_auto!$R$7:$BR$7,2+Q$1),)))),0))","v":"2019-07-02"}]
[null,null,"Frank","2001-05-05",301,4,"Mardi",30142,{"$f":"IF($G19=\"Mardi\",IF(OR($F19=1,$F19=2),VLOOKUP($G$8,Congés_auto!$R$5:$BR$5,2+I$4),IF(OR($F19=3,$F19=4),VLOOKUP($G$8,Congés_auto!$R$5:$BR$5,2+I$3),IF(OR($F19=5,$F19=6),VLOOKUP($G$8,Congés_auto!$R$5:$BR$5,2+I$2),IF(OR($F19=7,$F19=8),VLOOKUP($G$8,Congés_auto!$R$5:$BR$5,2+I$1),)))),IF($G19=\"Jeudi\",IF(OR($F19=1,$F19=2),VLOOKUP($G$8,Congés_auto!$R$7:$BR$7,2+I$4),IF(OR($F19=3,$F19=4),VLOOKUP($G$8,Congés_auto!$R$7:$BR$7,2+I$3),IF(OR($F19=5,$F19=6),VLOOKUP($G$8,Congés_auto!$R$7:$BR$7,2+I$2),IF(OR($F19=7,$F19=8),VLOOKUP($G$8,Congés_auto!$R$7:$BR$7,2+I$1),)))),0))","v":"2018-09-04"},{"$f":"IF($G19=\"Mardi\",IF(OR($F19=1,$F19=2),VLOOKUP($G$8,Congés_auto!$R$5:$BR$5,2+J$4),IF(OR($F19=3,$F19=4),VLOOKUP($G$8,Congés_auto!$R$5:$BR$5,2+J$3),IF(OR($F19=5,$F19=6),VLOOKUP($G$8,Congés_auto!$R$5:$BR$5,2+J$2),IF(OR($F19=7,$F19=8),VLOOKUP($G$8,Congés_auto!$R$5:$BR$5,2+J$1),)))),IF($G19=\"Jeudi\",IF(OR($F19=1,$F19=2),VLOOKUP($G$8,Congés_auto!$R$7:$BR$7,2+J$4),IF(OR($F19=3,$F19=4),VLOOKUP($G$8,Congés_auto!$R$7:$BR$7,2+J$3),IF(OR($F19=5,$F19=6),VLOOKUP($G$8,Congés_auto!$R$7:$BR$7,2+J$2),IF(OR($F19=7,$F19=8),VLOOKUP($G$8,Congés_auto!$R$7:$BR$7,2+J$1),)))),0))","v":"2018-10-02"},{"$f":"IF($G19=\"Mardi\",IF(OR($F19=1,$F19=2),VLOOKUP($G$8,Congés_auto!$R$5:$BR$5,2+K$4),IF(OR($F19=3,$F19=4),VLOOKUP($G$8,Congés_auto!$R$5:$BR$5,2+K$3),IF(OR($F19=5,$F19=6),VLOOKUP($G$8,Congés_auto!$R$5:$BR$5,2+K$2),IF(OR($F19=7,$F19=8),VLOOKUP($G$8,Congés_auto!$R$5:$BR$5,2+K$1),)))),IF($G19=\"Jeudi\",IF(OR($F19=1,$F19=2),VLOOKUP($G$8,Congés_auto!$R$7:$BR$7,2+K$4),IF(OR($F19=3,$F19=4),VLOOKUP($G$8,Congés_auto!$R$7:$BR$7,2+K$3),IF(OR($F19=5,$F19=6),VLOOKUP($G$8,Congés_auto!$R$7:$BR$7,2+K$2),IF(OR($F19=7,$F19=8),VLOOKUP($G$8,Congés_auto!$R$7:$BR$7,2+K$1),)))),0))","v":"2018-11-13"},{"$f":"IF($G19=\"Mardi\",IF(OR($F19=1,$F19=2),VLOOKUP($G$8,Congés_auto!$R$5:$BR$5,2+L$4),IF(OR($F19=3,$F19=4),VLOOKUP($G$8,Congés_auto!$R$5:$BR$5,2+L$3),IF(OR($F19=5,$F19=6),VLOOKUP($G$8,Congés_auto!$R$5:$BR$5,2+L$2),IF(OR($F19=7,$F19=8),VLOOKUP($G$8,Congés_auto!$R$5:$BR$5,2+L$1),)))),IF($G19=\"Jeudi\",IF(OR($F19=1,$F19=2),VLOOKUP($G$8,Congés_auto!$R$7:$BR$7,2+L$4),IF(OR($F19=3,$F19=4),VLOOKUP($G$8,Congés_auto!$R$7:$BR$7,2+L$3),IF(OR($F19=5,$F19=6),VLOOKUP($G$8,Congés_auto!$R$7:$BR$7,2+L$2),IF(OR($F19=7,$F19=8),VLOOKUP($G$8,Congés_auto!$R$7:$BR$7,2+L$1),)))),0))","v":"2018-12-11"},{"$f":"IF($G19=\"Mardi\",IF(OR($F19=1,$F19=2),VLOOKUP($G$8,Congés_auto!$R$5:$BR$5,2+M$4),IF(OR($F19=3,$F19=4),VLOOKUP($G$8,Congés_auto!$R$5:$BR$5,2+M$3),IF(OR($F19=5,$F19=6),VLOOKUP($G$8,Congés_auto!$R$5:$BR$5,2+M$2),IF(OR($F19=7,$F19=8),VLOOKUP($G$8,Congés_auto!$R$5:$BR$5,2+M$1),)))),IF($G19=\"Jeudi\",IF(OR($F19=1,$F19=2),VLOOKUP($G$8,Congés_auto!$R$7:$BR$7,2+M$4),IF(OR($F19=3,$F19=4),VLOOKUP($G$8,Congés_auto!$R$7:$BR$7,2+M$3),IF(OR($F19=5,$F19=6),VLOOKUP($G$8,Congés_auto!$R$7:$BR$7,2+M$2),IF(OR($F19=7,$F19=8),VLOOKUP($G$8,Congés_auto!$R$7:$BR$7,2+M$1),)))),0))","v":"2019-02-12"},{"$f":"IF($G19=\"Mardi\",IF(OR($F19=1,$F19=2),VLOOKUP($G$8,Congés_auto!$R$5:$BR$5,2+N$4),IF(OR($F19=3,$F19=4),VLOOKUP($G$8,Congés_auto!$R$5:$BR$5,2+N$3),IF(OR($F19=5,$F19=6),VLOOKUP($G$8,Congés_auto!$R$5:$BR$5,2+N$2),IF(OR($F19=7,$F19=8),VLOOKUP($G$8,Congés_auto!$R$5:$BR$5,2+N$1),)))),IF($G19=\"Jeudi\",IF(OR($F19=1,$F19=2),VLOOKUP($G$8,Congés_auto!$R$7:$BR$7,2+N$4),IF(OR($F19=3,$F19=4),VLOOKUP($G$8,Congés_auto!$R$7:$BR$7,2+N$3),IF(OR($F19=5,$F19=6),VLOOKUP($G$8,Congés_auto!$R$7:$BR$7,2+N$2),IF(OR($F19=7,$F19=8),VLOOKUP($G$8,Congés_auto!$R$7:$BR$7,2+N$1),)))),0))","v":"2019-03-26"},{"$f":"IF($G19=\"Mardi\",IF(OR($F19=1,$F19=2),VLOOKUP($G$8,Congés_auto!$R$5:$BR$5,2+O$4),IF(OR($F19=3,$F19=4),VLOOKUP($G$8,Congés_auto!$R$5:$BR$5,2+O$3),IF(OR($F19=5,$F19=6),VLOOKUP($G$8,Congés_auto!$R$5:$BR$5,2+O$2),IF(OR($F19=7,$F19=8),VLOOKUP($G$8,Congés_auto!$R$5:$BR$5,2+O$1),)))),IF($G19=\"Jeudi\",IF(OR($F19=1,$F19=2),VLOOKUP($G$8,Congés_auto!$R$7:$BR$7,2+O$4),IF(OR($F19=3,$F19=4),VLOOKUP($G$8,Congés_auto!$R$7:$BR$7,2+O$3),IF(OR($F19=5,$F19=6),VLOOKUP($G$8,Congés_auto!$R$7:$BR$7,2+O$2),IF(OR($F19=7,$F19=8),VLOOKUP($G$8,Congés_auto!$R$7:$BR$7,2+O$1),)))),0))","v":"2019-04-23"},{"$f":"IF($G19=\"Mardi\",IF(OR($F19=1,$F19=2),VLOOKUP($G$8,Congés_auto!$R$5:$BR$5,2+P$4),IF(OR($F19=3,$F19=4),VLOOKUP($G$8,Congés_auto!$R$5:$BR$5,2+P$3),IF(OR($F19=5,$F19=6),VLOOKUP($G$8,Congés_auto!$R$5:$BR$5,2+P$2),IF(OR($F19=7,$F19=8),VLOOKUP($G$8,Congés_auto!$R$5:$BR$5,2+P$1),)))),IF($G19=\"Jeudi\",IF(OR($F19=1,$F19=2),VLOOKUP($G$8,Congés_auto!$R$7:$BR$7,2+P$4),IF(OR($F19=3,$F19=4),VLOOKUP($G$8,Congés_auto!$R$7:$BR$7,2+P$3),IF(OR($F19=5,$F19=6),VLOOKUP($G$8,Congés_auto!$R$7:$BR$7,2+P$2),IF(OR($F19=7,$F19=8),VLOOKUP($G$8,Congés_auto!$R$7:$BR$7,2+P$1),)))),0))","v":"2019-06-04"},{"$f":"IF($G19=\"Mardi\",IF(OR($F19=1,$F19=2),VLOOKUP($G$8,Congés_auto!$R$5:$BR$5,2+Q$4),IF(OR($F19=3,$F19=4),VLOOKUP($G$8,Congés_auto!$R$5:$BR$5,2+Q$3),IF(OR($F19=5,$F19=6),VLOOKUP($G$8,Congés_auto!$R$5:$BR$5,2+Q$2),IF(OR($F19=7,$F19=8),VLOOKUP($G$8,Congés_auto!$R$5:$BR$5,2+Q$1),)))),IF($G19=\"Jeudi\",IF(OR($F19=1,$F19=2),VLOOKUP($G$8,Congés_auto!$R$7:$BR$7,2+Q$4),IF(OR($F19=3,$F19=4),VLOOKUP($G$8,Congés_auto!$R$7:$BR$7,2+Q$3),IF(OR($F19=5,$F19=6),VLOOKUP($G$8,Congés_auto!$R$7:$BR$7,2+Q$2),IF(OR($F19=7,$F19=8),VLOOKUP($G$8,Congés_auto!$R$7:$BR$7,2+Q$1),)))),0))","v":"2019-07-02"}]
[null,null,"Julien","2001-05-02",301,5,"Mardi","30150",{"$f":"IF($G20=\"Mardi\",IF(OR($F20=1,$F20=2),VLOOKUP($G$8,Congés_auto!$R$5:$BR$5,2+I$4),IF(OR($F20=3,$F20=4),VLOOKUP($G$8,Congés_auto!$R$5:$BR$5,2+I$3),IF(OR($F20=5,$F20=6),VLOOKUP($G$8,Congés_auto!$R$5:$BR$5,2+I$2),IF(OR($F20=7,$F20=8),VLOOKUP($G$8,Congés_auto!$R$5:$BR$5,2+I$1),)))),IF($G20=\"Jeudi\",IF(OR($F20=1,$F20=2),VLOOKUP($G$8,Congés_auto!$R$7:$BR$7,2+I$4),IF(OR($F20=3,$F20=4),VLOOKUP($G$8,Congés_auto!$R$7:$BR$7,2+I$3),IF(OR($F20=5,$F20=6),VLOOKUP($G$8,Congés_auto!$R$7:$BR$7,2+I$2),IF(OR($F20=7,$F20=8),VLOOKUP($G$8,Congés_auto!$R$7:$BR$7,2+I$1),)))),0))","v":"2018-09-11"},{"$f":"IF($G20=\"Mardi\",IF(OR($F20=1,$F20=2),VLOOKUP($G$8,Congés_auto!$R$5:$BR$5,2+J$4),IF(OR($F20=3,$F20=4),VLOOKUP($G$8,Congés_auto!$R$5:$BR$5,2+J$3),IF(OR($F20=5,$F20=6),VLOOKUP($G$8,Congés_auto!$R$5:$BR$5,2+J$2),IF(OR($F20=7,$F20=8),VLOOKUP($G$8,Congés_auto!$R$5:$BR$5,2+J$1),)))),IF($G20=\"Jeudi\",IF(OR($F20=1,$F20=2),VLOOKUP($G$8,Congés_auto!$R$7:$BR$7,2+J$4),IF(OR($F20=3,$F20=4),VLOOKUP($G$8,Congés_auto!$R$7:$BR$7,2+J$3),IF(OR($F20=5,$F20=6),VLOOKUP($G$8,Congés_auto!$R$7:$BR$7,2+J$2),IF(OR($F20=7,$F20=8),VLOOKUP($G$8,Congés_auto!$R$7:$BR$7,2+J$1),)))),0))","v":"2018-10-09"},{"$f":"IF($G20=\"Mardi\",IF(OR($F20=1,$F20=2),VLOOKUP($G$8,Congés_auto!$R$5:$BR$5,2+K$4),IF(OR($F20=3,$F20=4),VLOOKUP($G$8,Congés_auto!$R$5:$BR$5,2+K$3),IF(OR($F20=5,$F20=6),VLOOKUP($G$8,Congés_auto!$R$5:$BR$5,2+K$2),IF(OR($F20=7,$F20=8),VLOOKUP($G$8,Congés_auto!$R$5:$BR$5,2+K$1),)))),IF($G20=\"Jeudi\",IF(OR($F20=1,$F20=2),VLOOKUP($G$8,Congés_auto!$R$7:$BR$7,2+K$4),IF(OR($F20=3,$F20=4),VLOOKUP($G$8,Congés_auto!$R$7:$BR$7,2+K$3),IF(OR($F20=5,$F20=6),VLOOKUP($G$8,Congés_auto!$R$7:$BR$7,2+K$2),IF(OR($F20=7,$F20=8),VLOOKUP($G$8,Congés_auto!$R$7:$BR$7,2+K$1),)))),0))","v":"2018-11-20"},{"$f":"IF($G20=\"Mardi\",IF(OR($F20=1,$F20=2),VLOOKUP($G$8,Congés_auto!$R$5:$BR$5,2+L$4),IF(OR($F20=3,$F20=4),VLOOKUP($G$8,Congés_auto!$R$5:$BR$5,2+L$3),IF(OR($F20=5,$F20=6),VLOOKUP($G$8,Congés_auto!$R$5:$BR$5,2+L$2),IF(OR($F20=7,$F20=8),VLOOKUP($G$8,Congés_auto!$R$5:$BR$5,2+L$1),)))),IF($G20=\"Jeudi\",IF(OR($F20=1,$F20=2),VLOOKUP($G$8,Congés_auto!$R$7:$BR$7,2+L$4),IF(OR($F20=3,$F20=4),VLOOKUP($G$8,Congés_auto!$R$7:$BR$7,2+L$3),IF(OR($F20=5,$F20=6),VLOOKUP($G$8,Congés_auto!$R$7:$BR$7,2+L$2),IF(OR($F20=7,$F20=8),VLOOKUP($G$8,Congés_auto!$R$7:$BR$7,2+L$1),)))),0))","v":"2018-12-18"},{"$f":"IF($G20=\"Mardi\",IF(OR($F20=1,$F20=2),VLOOKUP($G$8,Congés_auto!$R$5:$BR$5,2+M$4),IF(OR($F20=3,$F20=4),VLOOKUP($G$8,Congés_auto!$R$5:$BR$5,2+M$3),IF(OR($F20=5,$F20=6),VLOOKUP($G$8,Congés_auto!$R$5:$BR$5,2+M$2),IF(OR($F20=7,$F20=8),VLOOKUP($G$8,Congés_auto!$R$5:$BR$5,2+M$1),)))),IF($G20=\"Jeudi\",IF(OR($F20=1,$F20=2),VLOOKUP($G$8,Congés_auto!$R$7:$BR$7,2+M$4),IF(OR($F20=3,$F20=4),VLOOKUP($G$8,Congés_auto!$R$7:$BR$7,2+M$3),IF(OR($F20=5,$F20=6),VLOOKUP($G$8,Congés_auto!$R$7:$BR$7,2+M$2),IF(OR($F20=7,$F20=8),VLOOKUP($G$8,Congés_auto!$R$7:$BR$7,2+M$1),)))),0))","v":"2019-02-19"},{"$f":"IF($G20=\"Mardi\",IF(OR($F20=1,$F20=2),VLOOKUP($G$8,Congés_auto!$R$5:$BR$5,2+N$4),IF(OR($F20=3,$F20=4),VLOOKUP($G$8,Congés_auto!$R$5:$BR$5,2+N$3),IF(OR($F20=5,$F20=6),VLOOKUP($G$8,Congés_auto!$R$5:$BR$5,2+N$2),IF(OR($F20=7,$F20=8),VLOOKUP($G$8,Congés_auto!$R$5:$BR$5,2+N$1),)))),IF($G20=\"Jeudi\",IF(OR($F20=1,$F20=2),VLOOKUP($G$8,Congés_auto!$R$7:$BR$7,2+N$4),IF(OR($F20=3,$F20=4),VLOOKUP($G$8,Congés_auto!$R$7:$BR$7,2+N$3),IF(OR($F20=5,$F20=6),VLOOKUP($G$8,Congés_auto!$R$7:$BR$7,2+N$2),IF(OR($F20=7,$F20=8),VLOOKUP($G$8,Congés_auto!$R$7:$BR$7,2+N$1),)))),0))","v":"2019-04-02"},{"$f":"IF($G20=\"Mardi\",IF(OR($F20=1,$F20=2),VLOOKUP($G$8,Congés_auto!$R$5:$BR$5,2+O$4),IF(OR($F20=3,$F20=4),VLOOKUP($G$8,Congés_auto!$R$5:$BR$5,2+O$3),IF(OR($F20=5,$F20=6),VLOOKUP($G$8,Congés_auto!$R$5:$BR$5,2+O$2),IF(OR($F20=7,$F20=8),VLOOKUP($G$8,Congés_auto!$R$5:$BR$5,2+O$1),)))),IF($G20=\"Jeudi\",IF(OR($F20=1,$F20=2),VLOOKUP($G$8,Congés_auto!$R$7:$BR$7,2+O$4),IF(OR($F20=3,$F20=4),VLOOKUP($G$8,Congés_auto!$R$7:$BR$7,2+O$3),IF(OR($F20=5,$F20=6),VLOOKUP($G$8,Congés_auto!$R$7:$BR$7,2+O$2),IF(OR($F20=7,$F20=8),VLOOKUP($G$8,Congés_auto!$R$7:$BR$7,2+O$1),)))),0))","v":"2019-04-30"},{"$f":"IF($G20=\"Mardi\",IF(OR($F20=1,$F20=2),VLOOKUP($G$8,Congés_auto!$R$5:$BR$5,2+P$4),IF(OR($F20=3,$F20=4),VLOOKUP($G$8,Congés_auto!$R$5:$BR$5,2+P$3),IF(OR($F20=5,$F20=6),VLOOKUP($G$8,Congés_auto!$R$5:$BR$5,2+P$2),IF(OR($F20=7,$F20=8),VLOOKUP($G$8,Congés_auto!$R$5:$BR$5,2+P$1),)))),IF($G20=\"Jeudi\",IF(OR($F20=1,$F20=2),VLOOKUP($G$8,Congés_auto!$R$7:$BR$7,2+P$4),IF(OR($F20=3,$F20=4),VLOOKUP($G$8,Congés_auto!$R$7:$BR$7,2+P$3),IF(OR($F20=5,$F20=6),VLOOKUP($G$8,Congés_auto!$R$7:$BR$7,2+P$2),IF(OR($F20=7,$F20=8),VLOOKUP($G$8,Congés_auto!$R$7:$BR$7,2+P$1),)))),0))","v":"2019-06-11"},{"$f":"IF($G20=\"Mardi\",IF(OR($F20=1,$F20=2),VLOOKUP($G$8,Congés_auto!$R$5:$BR$5,2+Q$4),IF(OR($F20=3,$F20=4),VLOOKUP($G$8,Congés_auto!$R$5:$BR$5,2+Q$3),IF(OR($F20=5,$F20=6),VLOOKUP($G$8,Congés_auto!$R$5:$BR$5,2+Q$2),IF(OR($F20=7,$F20=8),VLOOKUP($G$8,Congés_auto!$R$5:$BR$5,2+Q$1),)))),IF($G20=\"Jeudi\",IF(OR($F20=1,$F20=2),VLOOKUP($G$8,Congés_auto!$R$7:$BR$7,2+Q$4),IF(OR($F20=3,$F20=4),VLOOKUP($G$8,Congés_auto!$R$7:$BR$7,2+Q$3),IF(OR($F20=5,$F20=6),VLOOKUP($G$8,Congés_auto!$R$7:$BR$7,2+Q$2),IF(OR($F20=7,$F20=8),VLOOKUP($G$8,Congés_auto!$R$7:$BR$7,2+Q$1),)))),0))","v":"2019-08-20"}]
[{"$nulls":3},"2001-01-20",301,5,"Mardi",30151,{"$f":"IF($G21=\"Mardi\",IF(OR($F21=1,$F21=2),VLOOKUP($G$8,Congés_auto!$R$5:$BR$5,2+I$4),IF(OR($F21=3,$F21=4),VLOOKUP($G$8,Congés_auto!$R$5:$BR$5,2+I$3),IF(OR($F21=5,$F21=6),VLOOKUP($G$8,Congés_auto!$R$5:$BR$5,2+I$2),IF(OR($F21=7,$F21=8),VLOOKUP($G$8,Congés_auto!$R$5:$BR$5,2+I$1),)))),IF($G21=\"Jeudi\",IF(OR($F21=1,$F21=2),VLOOKUP($G$8,Congés_auto!$R$7:$BR$7,2+I$4),IF(OR($F21=3,$F21=4),VLOOKUP($G$8,Congés_auto!$R$7:$BR$7,2+I$3),IF(OR($F21=5,$F21=6),VLOOKUP($G$8,Congés_auto!$R$7:$BR$7,2+I$2),IF(OR($F21=7,$F21=8),VLOOKUP($G$8,Congés_auto!$R$7:$BR$7,2+I$1),)))),0))","v":"2018-09-11"},{"$f":"IF($G21=\"Mardi\",IF(OR($F21=1,$F21=2),VLOOKUP($G$8,Congés_auto!$R$5:$BR$5,2+J$4),IF(OR($F21=3,$F21=4),VLOOKUP($G$8,Congés_auto!$R$5:$BR$5,2+J$3),IF(OR($F21=5,$F21=6),VLOOKUP($G$8,Congés_auto!$R$5:$BR$5,2+J$2),IF(OR($F21=7,$F21=8),VLOOKUP($G$8,Congés_auto!$R$5:$BR$5,2+J$1),)))),IF($G21=\"Jeudi\",IF(OR($F21=1,$F21=2),VLOOKUP($G$8,Congés_auto!$R$7:$BR$7,2+J$4),IF(OR($F21=3,$F21=4),VLOOKUP($G$8,Congés_auto!$R$7:$BR$7,2+J$3),IF(OR($F21=5,$F21=6),VLOOKUP($G$8,Congés_auto!$R$7:$BR$7,2+J$2),IF(OR($F21=7,$F21=8),VLOOKUP($G$8,Congés_auto!$R$7:$BR$7,2+J$1),)))),0))","v":"2018-10-09"},{"$f":"IF($G21=\"Mardi\",IF(OR($F21=1,$F21=2),VLOOKUP($G$8,Congés_auto!$R$5:$BR$5,2+K$4),IF(OR($F21=3,$F21=4),VLOOKUP($G$8,Congés_auto!$R$5:$BR$5,2+K$3),IF(OR($F21=5,$F21=6),VLOOKUP($G$8,Congés_auto!$R$5:$BR$5,2+K$2),IF(OR($F21=7,$F21=8),VLOOKUP($G$8,Congés_auto!$R$5:$BR$5,2+K$1),)))),IF($G21=\"Jeudi\",IF(OR($F21=1,$F21=2),VLOOKUP($G$8,Congés_auto!$R$7:$BR$7,2+K$4),IF(OR($F21=3,$F21=4),VLOOKUP($G$8,Congés_auto!$R$7:$BR$7,2+K$3),IF(OR($F21=5,$F21=6),VLOOKUP($G$8,Congés_auto!$R$7:$BR$7,2+K$2),IF(OR($F21=7,$F21=8),VLOOKUP($G$8,Congés_auto!$R$7:$BR$7,2+K$1),)))),0))","v":"2018-11-20"},{"$f":"IF($G21=\"Mardi\",IF(OR($F21=1,$F21=2),VLOOKUP($G$8,Congés_auto!$R$5:$BR$5,2+L$4),IF(OR($F21=3,$F21=4),VLOOKUP($G$8,Congés_auto!$R$5:$BR$5,2+L$3),IF(OR($F21=5,$F21=6),VLOOKUP($G$8,Congés_auto!$R$5:$BR$5,2+L$2),IF(OR($F21=7,$F21=8),VLOOKUP($G$8,Congés_auto!$R$5:$BR$5,2+L$1),)))),IF($G21=\"Jeudi\",IF(OR($F21=1,$F21=2),VLOOKUP($G$8,Congés_auto!$R$7:$BR$7,2+L$4),IF(OR($F21=3,$F21=4),VLOOKUP($G$8,Congés_auto!$R$7:$BR$7,2+L$3),IF(OR($F21=5,$F21=6),VLOOKUP($G$8,Congés_auto!$R$7:$BR$7,2+L$2),IF(OR($F21=7,$F21=8),VLOOKUP($G$8,Congés_auto!$R$7:$BR$7,2+L$1),)))),0))","v":"2018-12-18"},{"$f":"IF($G21=\"Mardi\",IF(OR($F21=1,$F21=2),VLOOKUP($G$8,Congés_auto!$R$5:$BR$5,2+M$4),IF(OR($F21=3,$F21=4),VLOOKUP($G$8,Congés_auto!$R$5:$BR$5,2+M$3),IF(OR($F21=5,$F21=6),VLOOKUP($G$8,Congés_auto!$R$5:$BR$5,2+M$2),IF(OR($F21=7,$F21=8),VLOOKUP($G$8,Congés_auto!$R$5:$BR$5,2+M$1),)))),IF($G21=\"Jeudi\",IF(OR($F21=1,$F21=2),VLOOKUP($G$8,Congés_auto!$R$7:$BR$7,2+M$4),IF(OR($F21=3,$F21=4),VLOOKUP($G$8,Congés_auto!$R$7:$BR$7,2+M$3),IF(OR($F21=5,$F21=6),VLOOKUP($G$8,Congés_auto!$R$7:$BR$7,2+M$2),IF(OR($F21=7,$F21=8),VLOOKUP($G$8,Congés_auto!$R$7:$BR$7,2+M$1),)))),0))","v":"2019-02-19"},{"$f":"IF($G21=\"Mardi\",IF(OR($F21=1,$F21=2),VLOOKUP($G$8,Congés_auto!$R$5:$BR$5,2+N$4),IF(OR($F21=3,$F21=4),VLOOKUP($G$8,Congés_auto!$R$5:$BR$5,2+N$3),IF(OR($F21=5,$F21=6),VLOOKUP($G$8,Congés_auto!$R$5:$BR$5,2+N$2),IF(OR($F21=7,$F21=8),VLOOKUP($G$8,Congés_auto!$R$5:$BR$5,2+N$1),)))),IF($G21=\"Jeudi\",IF(OR($F21=1,$F21=2),VLOOKUP($G$8,Congés_auto!$R$7:$BR$7,2+N$4),IF(OR($F21=3,$F21=4),VLOOKUP($G$8,Congés_auto!$R$7:$BR$7,2+N$3),IF(OR($F21=5,$F21=6),VLOOKUP($G$8,Congés_auto!$R$7:$BR$7,2+N$2),IF(OR($F21=7,$F21=8),VLOOKUP($G$8,Congés_auto!$R$7:$BR$7,2+N$1),)))),0))","v":"2019-04-02"},{"$f":"IF($G21=\"Mardi\",IF(OR($F21=1,$F21=2),VLOOKUP($G$8,Congés_auto!$R$5:$BR$5,2+O$4),IF(OR($F21=3,$F21=4),VLOOKUP($G$8,Congés_auto!$R$5:$BR$5,2+O$3),IF(OR($F21=5,$F21=6),VLOOKUP($G$8,Congés_auto!$R$5:$BR$5,2+O$2),IF(OR($F21=7,$F21=8),VLOOKUP($G$8,Congés_auto!$R$5:$BR$5,2+O$1),)))),IF($G21=\"Jeudi\",IF(OR($F21=1,$F21=2),VLOOKUP($G$8,Congés_auto!$R$7:$BR$7,2+O$4),IF(OR($F21=3,$F21=4),VLOOKUP($G$8,Congés_auto!$R$7:$BR$7,2+O$3),IF(OR($F21=5,$F21=6),VLOOKUP($G$8,Congés_auto!$R$7:$BR$7,2+O$2),IF(OR($F21=7,$F21=8),VLOOKUP($G$8,Congés_auto!$R$7:$BR$7,2+O$1),)))),0))","v":"2019-04-30"},{"$f":"IF($G21=\"Mardi\",IF(OR($F21=1,$F21=2),VLOOKUP($G$8,Congés_auto!$R$5:$BR$5,2+P$4),IF(OR($F21=3,$F21=4),VLOOKUP($G$8,Congés_auto!$R$5:$BR$5,2+P$3),IF(OR($F21=5,$F21=6),VLOOKUP($G$8,Congés_auto!$R$5:$BR$5,2+P$2),IF(OR($F21=7,$F21=8),VLOOKUP($G$8,Congés_auto!$R$5:$BR$5,2+P$1),)))),IF($G21=\"Jeudi\",IF(OR($F21=1,$F21=2),VLOOKUP($G$8,Congés_auto!$R$7:$BR$7,2+P$4),IF(OR($F21=3,$F21=4),VLOOKUP($G$8,Congés_auto!$R$7:$BR$7,2+P$3),IF(OR($F21=5,$F21=6),VLOOKUP($G$8,Congés_auto!$R$7:$BR$7,2+P$2),IF(OR($F21=7,$F21=8),VLOOKUP($G$8,Congés_auto!$R$7:$BR$7,2+P$1),)))),0))","v":"2019-06-11"},{"$f":"IF($G21=\"Mardi\",IF(OR($F21=1,$F21=2),VLOOKUP($G$8,Congés_auto!$R$5:$BR$5,2+Q$4),IF(OR($F21=3,$F21=4),VLOOKUP($G$8,Congés_auto!$R$5:$BR$5,2+Q$3),IF(OR($F21=5,$F21=6),VLOOKUP($G$8,Congés_auto!$R$5:$BR$5,2+Q$2),IF(OR($F21=7,$F21=8),VLOOKUP($G$8,Congés_auto!$R$5:$BR$5,2+Q$1),)))),IF($G21=\"Jeudi\",IF(OR($F21=1,$F21=2),VLOOKUP($G$8,Congés_auto!$R$7:$BR$7,2+Q$4),IF(OR($F21=3,$F21=4),VLOOKUP($G$8,Congés_auto!$R$7:$BR$7,2+Q$3),IF(OR($F21=5,$F21=6),VLOOKUP($G$8,Congés_auto!$R$7:$BR$7,2+Q$2),IF(OR($F21=7,$F21=8),VLOOKUP($G$8,Congés_auto!$R$7:$BR$7,2+Q$1),)))),0))","v":"2019-08-20"}]
[{"$nulls":3},"2001-10-23",301,5,"Mardi",30152,{"$f":"IF($G22=\"Mardi\",IF(OR($F22=1,$F22=2),VLOOKUP($G$8,Congés_auto!$R$5:$BR$5,2+I$4),IF(OR($F22=3,$F22=4),VLOOKUP($G$8,Congés_auto!$R$5:$BR$5,2+I$3),IF(OR($F22=5,$F22=6),VLOOKUP($G$8,Congés_auto!$R$5:$BR$5,2+I$2),IF(OR($F22=7,$F22=8),VLOOKUP($G$8,Congés_auto!$R$5:$BR$5,2+I$1),)))),IF($G22=\"Jeudi\",IF(OR($F22=1,$F22=2),VLOOKUP($G$8,Congés_auto!$R$7:$BR$7,2+I$4),IF(OR($F22=3,$F22=4),VLOOKUP($G$8,Congés_auto!$R$7:$BR$7,2+I$3),IF(OR($F22=5,$F22=6),VLOOKUP($G$8,Congés_auto!$R$7:$BR$7,2+I$2),IF(OR($F22=7,$F22=8),VLOOKUP($G$8,Congés_auto!$R$7:$BR$7,2+I$1),)))),0))","v":"2018-09-11"},{"$f":"IF($G22=\"Mardi\",IF(OR($F22=1,$F22=2),VLOOKUP($G$8,Congés_auto!$R$5:$BR$5,2+J$4),IF(OR($F22=3,$F22=4),VLOOKUP($G$8,Congés_auto!$R$5:$BR$5,2+J$3),IF(OR($F22=5,$F22=6),VLOOKUP($G$8,Congés_auto!$R$5:$BR$5,2+J$2),IF(OR($F22=7,$F22=8),VLOOKUP($G$8,Congés_auto!$R$5:$BR$5,2+J$1),)))),IF($G22=\"Jeudi\",IF(OR($F22=1,$F22=2),VLOOKUP($G$8,Congés_auto!$R$7:$BR$7,2+J$4),IF(OR($F22=3,$F22=4),VLOOKUP($G$8,Congés_auto!$R$7:$BR$7,2+J$3),IF(OR($F22=5,$F22=6),VLOOKUP($G$8,Congés_auto!$R$7:$BR$7,2+J$2),IF(OR($F22=7,$F22=8),VLOOKUP($G$8,Congés_auto!$R$7:$BR$7,2+J$1),)))),0))","v":"2018-10-09"},{"$f":"IF($G22=\"Mardi\",IF(OR($F22=1,$F22=2),VLOOKUP($G$8,Congés_auto!$R$5:$BR$5,2+K$4),IF(OR($F22=3,$F22=4),VLOOKUP($G$8,Congés_auto!$R$5:$BR$5,2+K$3),IF(OR($F22=5,$F22=6),VLOOKUP($G$8,Congés_auto!$R$5:$BR$5,2+K$2),IF(OR($F22=7,$F22=8),VLOOKUP($G$8,Congés_auto!$R$5:$BR$5,2+K$1),)))),IF($G22=\"Jeudi\",IF(OR($F22=1,$F22=2),VLOOKUP($G$8,Congés_auto!$R$7:$BR$7,2+K$4),IF(OR($F22=3,$F22=4),VLOOKUP($G$8,Congés_auto!$R$7:$BR$7,2+K$3),IF(OR($F22=5,$F22=6),VLOOKUP($G$8,Congés_auto!$R$7:$BR$7,2+K$2),IF(OR($F22=7,$F22=8),VLOOKUP($G$8,Congés_auto!$R$7:$BR$7,2+K$1),)))),0))","v":"2018-11-20"},{"$f":"IF($G22=\"Mardi\",IF(OR($F22=1,$F22=2),VLOOKUP($G$8,Congés_auto!$R$5:$BR$5,2+L$4),IF(OR($F22=3,$F22=4),VLOOKUP($G$8,Congés_auto!$R$5:$BR$5,2+L$3),IF(OR($F22=5,$F22=6),VLOOKUP($G$8,Congés_auto!$R$5:$BR$5,2+L$2),IF(OR($F22=7,$F22=8),VLOOKUP($G$8,Congés_auto!$R$5:$BR$5,2+L$1),)))),IF($G22=\"Jeudi\",IF(OR($F22=1,$F22=2),VLOOKUP($G$8,Congés_auto!$R$7:$BR$7,2+L$4),IF(OR($F22=3,$F22=4),VLOOKUP($G$8,Congés_auto!$R$7:$BR$7,2+L$3),IF(OR($F22=5,$F22=6),VLOOKUP($G$8,Congés_auto!$R$7:$BR$7,2+L$2),IF(OR($F22=7,$F22=8),VLOOKUP($G$8,Congés_auto!$R$7:$BR$7,2+L$1),)))),0))","v":"2018-12-18"},{"$f":"IF($G22=\"Mardi\",IF(OR($F22=1,$F22=2),VLOOKUP($G$8,Congés_auto!$R$5:$BR$5,2+M$4),IF(OR($F22=3,$F22=4),VLOOKUP($G$8,Congés_auto!$R$5:$BR$5,2+M$3),IF(OR($F22=5,$F22=6),VLOOKUP($G$8,Congés_auto!$R$5:$BR$5,2+M$2),IF(OR($F22=7,$F22=8),VLOOKUP($G$8,Congés_auto!$R$5:$BR$5,2+M$1),)))),IF($G22=\"Jeudi\",IF(OR($F22=1,$F22=2),VLOOKUP($G$8,Congés_auto!$R$7:$BR$7,2+M$4),IF(OR($F22=3,$F22=4),VLOOKUP($G$8,Congés_auto!$R$7:$BR$7,2+M$3),IF(OR($F22=5,$F22=6),VLOOKUP($G$8,Congés_auto!$R$7:$BR$7,2+M$2),IF(OR($F22=7,$F22=8),VLOOKUP($G$8,Congés_auto!$R$7:$BR$7,2+M$1),)))),0))","v":"2019-02-19"},{"$f":"IF($G22=\"Mardi\",IF(OR($F22=1,$F22=2),VLOOKUP($G$8,Congés_auto!$R$5:$BR$5,2+N$4),IF(OR($F22=3,$F22=4),VLOOKUP($G$8,Congés_auto!$R$5:$BR$5,2+N$3),IF(OR($F22=5,$F22=6),VLOOKUP($G$8,Congés_auto!$R$5:$BR$5,2+N$2),IF(OR($F22=7,$F22=8),VLOOKUP($G$8,Congés_auto!$R$5:$BR$5,2+N$1),)))),IF($G22=\"Jeudi\",IF(OR($F22=1,$F22=2),VLOOKUP($G$8,Congés_auto!$R$7:$BR$7,2+N$4),IF(OR($F22=3,$F22=4),VLOOKUP($G$8,Congés_auto!$R$7:$BR$7,2+N$3),IF(OR($F22=5,$F22=6),VLOOKUP($G$8,Congés_auto!$R$7:$BR$7,2+N$2),IF(OR($F22=7,$F22=8),VLOOKUP($G$8,Congés_auto!$R$7:$BR$7,2+N$1),)))),0))","v":"2019-04-02"},{"$f":"IF($G22=\"Mardi\",IF(OR($F22=1,$F22=2),VLOOKUP($G$8,Congés_auto!$R$5:$BR$5,2+O$4),IF(OR($F22=3,$F22=4),VLOOKUP($G$8,Congés_auto!$R$5:$BR$5,2+O$3),IF(OR($F22=5,$F22=6),VLOOKUP($G$8,Congés_auto!$R$5:$BR$5,2+O$2),IF(OR($F22=7,$F22=8),VLOOKUP($G$8,Congés_auto!$R$5:$BR$5,2+O$1),)))),IF($G22=\"Jeudi\",IF(OR($F22=1,$F22=2),VLOOKUP($G$8,Congés_auto!$R$7:$BR$7,2+O$4),IF(OR($F22=3,$F22=4),VLOOKUP($G$8,Congés_auto!$R$7:$BR$7,2+O$3),IF(OR($F22=5,$F22=6),VLOOKUP($G$8,Congés_auto!$R$7:$BR$7,2+O$2),IF(OR($F22=7,$F22=8),VLOOKUP($G$8,Congés_auto!$R$7:$BR$7,2+O$1),)))),0))","v":"2019-04-30"},{"$f":"IF($G22=\"Mardi\",IF(OR($F22=1,$F22=2),VLOOKUP($G$8,Congés_auto!$R$5:$BR$5,2+P$4),IF(OR($F22=3,$F22=4),VLOOKUP($G$8,Congés_auto!$R$5:$BR$5,2+P$3),IF(OR($F22=5,$F22=6),VLOOKUP($G$8,Congés_auto!$R$5:$BR$5,2+P$2),IF(OR($F22=7,$F22=8),VLOOKUP($G$8,Congés_auto!$R$5:$BR$5,2+P$1),)))),IF($G22=\"Jeudi\",IF(OR($F22=1,$F22=2),VLOOKUP($G$8,Congés_auto!$R$7:$BR$7,2+P$4),IF(OR($F22=3,$F22=4),VLOOKUP($G$8,Congés_auto!$R$7:$BR$7,2+P$3),IF(OR($F22=5,$F22=6),VLOOKUP($G$8,Congés_auto!$R$7:$BR$7,2+P$2),IF(OR($F22=7,$F22=8),VLOOKUP($G$8,Congés_auto!$R$7:$BR$7,2+P$1),)))),0))","v":"2019-06-11"},{"$f":"IF($G22=\"Mardi\",IF(OR($F22=1,$F22=2),VLOOKUP($G$8,Congés_auto!$R$5:$BR$5,2+Q$4),IF(OR($F22=3,$F22=4),VLOOKUP($G$8,Congés_auto!$R$5:$BR$5,2+Q$3),IF(OR($F22=5,$F22=6),VLOOKUP($G$8,Congés_auto!$R$5:$BR$5,2+Q$2),IF(OR($F22=7,$F22=8),VLOOKUP($G$8,Congés_auto!$R$5:$BR$5,2+Q$1),)))),IF($G22=\"Jeudi\",IF(OR($F22=1,$F22=2),VLOOKUP($G$8,Congés_auto!$R$7:$BR$7,2+Q$4),IF(OR($F22=3,$F22=4),VLOOKUP($G$8,Congés_auto!$R$7:$BR$7,2+Q$3),IF(OR($F22=5,$F22=6),VLOOKUP($G$8,Congés_auto!$R$7:$BR$7,2+Q$2),IF(OR($F22=7,$F22=8),VLOOKUP($G$8,Congés_auto!$R$7:$BR$7,2+Q$1),)))),0))","v":"2019-08-20"}]
[{"$nulls":3},"2001-05-03",301,5,"Mardi",30153,{"$f":"IF($G23=\"Mardi\",IF(OR($F23=1,$F23=2),VLOOKUP($G$8,Congés_auto!$R$5:$BR$5,2+I$4),IF(OR($F23=3,$F23=4),VLOOKUP($G$8,Congés_auto!$R$5:$BR$5,2+I$3),IF(OR($F23=5,$F23=6),VLOOKUP($G$8,Congés_auto!$R$5:$BR$5,2+I$2),IF(OR($F23=7,$F23=8),VLOOKUP($G$8,Congés_auto!$R$5:$BR$5,2+I$1),)))),IF($G23=\"Jeudi\",IF(OR($F23=1,$F23=2),VLOOKUP($G$8,Congés_auto!$R$7:$BR$7,2+I$4),IF(OR($F23=3,$F23=4),VLOOKUP($G$8,Congés_auto!$R$7:$BR$7,2+I$3),IF(OR($F23=5,$F23=6),VLOOKUP($G$8,Congés_auto!$R$7:$BR$7,2+I$2),IF(OR($F23=7,$F23=8),VLOOKUP($G$8,Congés_auto!$R$7:$BR$7,2+I$1),)))),0))","v":"2018-09-11"},{"$f":"IF($G23=\"Mardi\",IF(OR($F23=1,$F23=2),VLOOKUP($G$8,Congés_auto!$R$5:$BR$5,2+J$4),IF(OR($F23=3,$F23=4),VLOOKUP($G$8,Congés_auto!$R$5:$BR$5,2+J$3),IF(OR($F23=5,$F23=6),VLOOKUP($G$8,Congés_auto!$R$5:$BR$5,2+J$2),IF(OR($F23=7,$F23=8),VLOOKUP($G$8,Congés_auto!$R$5:$BR$5,2+J$1),)))),IF($G23=\"Jeudi\",IF(OR($F23=1,$F23=2),VLOOKUP($G$8,Congés_auto!$R$7:$BR$7,2+J$4),IF(OR($F23=3,$F23=4),VLOOKUP($G$8,Congés_auto!$R$7:$BR$7,2+J$3),IF(OR($F23=5,$F23=6),VLOOKUP($G$8,Congés_auto!$R$7:$BR$7,2+J$2),IF(OR($F23=7,$F23=8),VLOOKUP($G$8,Congés_auto!$R$7:$BR$7,2+J$1),)))),0))","v":"2018-10-09"},{"$f":"IF($G23=\"Mardi\",IF(OR($F23=1,$F23=2),VLOOKUP($G$8,Congés_auto!$R$5:$BR$5,2+K$4),IF(OR($F23=3,$F23=4),VLOOKUP($G$8,Congés_auto!$R$5:$BR$5,2+K$3),IF(OR($F23=5,$F23=6),VLOOKUP($G$8,Congés_auto!$R$5:$BR$5,2+K$2),IF(OR($F23=7,$F23=8),VLOOKUP($G$8,Congés_auto!$R$5:$BR$5,2+K$1),)))),IF($G23=\"Jeudi\",IF(OR($F23=1,$F23=2),VLOOKUP($G$8,Congés_auto!$R$7:$BR$7,2+K$4),IF(OR($F23=3,$F23=4),VLOOKUP($G$8,Congés_auto!$R$7:$BR$7,2+K$3),IF(OR($F23=5,$F23=6),VLOOKUP($G$8,Congés_auto!$R$7:$BR$7,2+K$2),IF(OR($F23=7,$F23=8),VLOOKUP($G$8,Congés_auto!$R$7:$BR$7,2+K$1),)))),0))","v":"2018-11-20"},{"$f":"IF($G23=\"Mardi\",IF(OR($F23=1,$F23=2),VLOOKUP($G$8,Congés_auto!$R$5:$BR$5,2+L$4),IF(OR($F23=3,$F23=4),VLOOKUP($G$8,Congés_auto!$R$5:$BR$5,2+L$3),IF(OR($F23=5,$F23=6),VLOOKUP($G$8,Congés_auto!$R$5:$BR$5,2+L$2),IF(OR($F23=7,$F23=8),VLOOKUP($G$8,Congés_auto!$R$5:$BR$5,2+L$1),)))),IF($G23=\"Jeudi\",IF(OR($F23=1,$F23=2),VLOOKUP($G$8,Congés_auto!$R$7:$BR$7,2+L$4),IF(OR($F23=3,$F23=4),VLOOKUP($G$8,Congés_auto!$R$7:$BR$7,2+L$3),IF(OR($F23=5,$F23=6),VLOOKUP($G$8,Congés_auto!$R$7:$BR$7,2+L$2),IF(OR($F23=7,$F23=8),VLOOKUP($G$8,Congés_auto!$R$7:$BR$7,2+L$1),)))),0))","v":"2018-12-18"},{"$f":"IF($G23=\"Mardi\",IF(OR($F23=1,$F23=2),VLOOKUP($G$8,Congés_auto!$R$5:$BR$5,2+M$4),IF(OR($F23=3,$F23=4),VLOOKUP($G$8,Congés_auto!$R$5:$BR$5,2+M$3),IF(OR($F23=5,$F23=6),VLOOKUP($G$8,Congés_auto!$R$5:$BR$5,2+M$2),IF(OR($F23=7,$F23=8),VLOOKUP($G$8,Congés_auto!$R$5:$BR$5,2+M$1),)))),IF($G23=\"Jeudi\",IF(OR($F23=1,$F23=2),VLOOKUP($G$8,Congés_auto!$R$7:$BR$7,2+M$4),IF(OR($F23=3,$F23=4),VLOOKUP($G$8,Congés_auto!$R$7:$BR$7,2+M$3),IF(OR($F23=5,$F23=6),VLOOKUP($G$8,Congés_auto!$R$7:$BR$7,2+M$2),IF(OR($F23=7,$F23=8),VLOOKUP($G$8,Congés_auto!$R$7:$BR$7,2+M$1),)))),0))","v":"2019-02-19"},{"$f":"IF($G23=\"Mardi\",IF(OR($F23=1,$F23=2),VLOOKUP($G$8,Congés_auto!$R$5:$BR$5,2+N$4),IF(OR($F23=3,$F23=4),VLOOKUP($G$8,Congés_auto!$R$5:$BR$5,2+N$3),IF(OR($F23=5,$F23=6),VLOOKUP($G$8,Congés_auto!$R$5:$BR$5,2+N$2),IF(OR($F23=7,$F23=8),VLOOKUP($G$8,Congés_auto!$R$5:$BR$5,2+N$1),)))),IF($G23=\"Jeudi\",IF(OR($F23=1,$F23=2),VLOOKUP($G$8,Congés_auto!$R$7:$BR$7,2+N$4),IF(OR($F23=3,$F23=4),VLOOKUP($G$8,Congés_auto!$R$7:$BR$7,2+N$3),IF(OR($F23=5,$F23=6),VLOOKUP($G$8,Congés_auto!$R$7:$BR$7,2+N$2),IF(OR($F23=7,$F23=8),VLOOKUP($G$8,Congés_auto!$R$7:$BR$7,2+N$1),)))),0))","v":"2019-04-02"},{"$f":"IF($G23=\"Mardi\",IF(OR($F23=1,$F23=2),VLOOKUP($G$8,Congés_auto!$R$5:$BR$5,2+O$4),IF(OR($F23=3,$F23=4),VLOOKUP($G$8,Congés_auto!$R$5:$BR$5,2+O$3),IF(OR($F23=5,$F23=6),VLOOKUP($G$8,Congés_auto!$R$5:$BR$5,2+O$2),IF(OR($F23=7,$F23=8),VLOOKUP($G$8,Congés_auto!$R$5:$BR$5,2+O$1),)))),IF($G23=\"Jeudi\",IF(OR($F23=1,$F23=2),VLOOKUP($G$8,Congés_auto!$R$7:$BR$7,2+O$4),IF(OR($F23=3,$F23=4),VLOOKUP($G$8,Congés_auto!$R$7:$BR$7,2+O$3),IF(OR($F23=5,$F23=6),VLOOKUP($G$8,Congés_auto!$R$7:$BR$7,2+O$2),IF(OR($F23=7,$F23=8),VLOOKUP($G$8,Congés_auto!$R$7:$BR$7,2+O$1),)))),0))","v":"2019-04-30"},{"$f":"IF($G23=\"Mardi\",IF(OR($F23=1,$F23=2),VLOOKUP($G$8,Congés_auto!$R$5:$BR$5,2+P$4),IF(OR($F23=3,$F23=4),VLOOKUP($G$8,Congés_auto!$R$5:$BR$5,2+P$3),IF(OR($F23=5,$F23=6),VLOOKUP($G$8,Congés_auto!$R$5:$BR$5,2+P$2),IF(OR($F23=7,$F23=8),VLOOKUP($G$8,Congés_auto!$R$5:$BR$5,2+P$1),)))),IF($G23=\"Jeudi\",IF(OR($F23=1,$F23=2),VLOOKUP($G$8,Congés_auto!$R$7:$BR$7,2+P$4),IF(OR($F23=3,$F23=4),VLOOKUP($G$8,Congés_auto!$R$7:$BR$7,2+P$3),IF(OR($F23=5,$F23=6),VLOOKUP($G$8,Congés_auto!$R$7:$BR$7,2+P$2),IF(OR($F23=7,$F23=8),VLOOKUP($G$8,Congés_auto!$R$7:$BR$7,2+P$1),)))),0))","v":"2019-06-11"},{"$f":"IF($G23=\"Mardi\",IF(OR($F23=1,$F23=2),VLOOKUP($G$8,Congés_auto!$R$5:$BR$5,2+Q$4),IF(OR($F23=3,$F23=4),VLOOKUP($G$8,Congés_auto!$R$5:$BR$5,2+Q$3),IF(OR($F23=5,$F23=6),VLOOKUP($G$8,Congés_auto!$R$5:$BR$5,2+Q$2),IF(OR($F23=7,$F23=8),VLOOKUP($G$8,Congés_auto!$R$5:$BR$5,2+Q$1),)))),IF($G23=\"Jeudi\",IF(OR($F23=1,$F23=2),VLOOKUP($G$8,Congés_auto!$R$7:$BR$7,2+Q$4),IF(OR($F23=3,$F23=4),VLOOKUP($G$8,Congés_auto!$R$7:$BR$7,2+Q$3),IF(OR($F23=5,$F23=6),VLOOKUP($G$8,Congés_auto!$R$7:$BR$7,2+Q$2),IF(OR($F23=7,$F23=8),VLOOKUP($G$8,Congés_auto!$R$7:$BR$7,2+Q$1),)))),0))","v":"2019-08-20"}]
[null,null,"Benjamin","2001-06-20",301,6,"Mardi","30160",{"$f":"IF($G24=\"Mardi\",IF(OR($F24=1,$F24=2),VLOOKUP($G$8,Congés_auto!$R$5:$BR$5,2+I$4),IF(OR($F24=3,$F24=4),VLOOKUP($G$8,Congés_auto!$R$5:$BR$5,2+I$3),IF(OR($F24=5,$F24=6),VLOOKUP($G$8,Congés_auto!$R$5:$BR$5,2+I$2),IF(OR($F24=7,$F24=8),VLOOKUP($G$8,Congés_auto!$R$5:$BR$5,2+I$1),)))),IF($G24=\"Jeudi\",IF(OR($F24=1,$F24=2),VLOOKUP($G$8,Congés_auto!$R$7:$BR$7,2+I$4),IF(OR($F24=3,$F24=4),VLOOKUP($G$8,Congés_auto!$R$7:$BR$7,2+I$3),IF(OR($F24=5,$F24=6),VLOOKUP($G$8,Congés_auto!$R$7:$BR$7,2+I$2),IF(OR($F24=7,$F24=8),VLOOKUP($G$8,Congés_auto!$R$7:$BR$7,2+I$1),)))),0))","v":"2018-09-11"},{"$f":"IF($G24=\"Mardi\",IF(OR($F24=1,$F24=2),VLOOKUP($G$8,Congés_auto!$R$5:$BR$5,2+J$4),IF(OR($F24=3,$F24=4),VLOOKUP($G$8,Congés_auto!$R$5:$BR$5,2+J$3),IF(OR($F24=5,$F24=6),VLOOKUP($G$8,Congés_auto!$R$5:$BR$5,2+J$2),IF(OR($F24=7,$F24=8),VLOOKUP($G$8,Congés_auto!$R$5:$BR$5,2+J$1),)))),IF($G24=\"Jeudi\",IF(OR($F24=1,$F24=2),VLOOKUP($G$8,Congés_auto!$R$7:$BR$7,2+J$4),IF(OR($F24=3,$F24=4),VLOOKUP($G$8,Congés_auto!$R$7:$BR$7,2+J$3),IF(OR($F24=5,$F24=6),VLOOKUP($G$8,Congés_auto!$R$7:$BR$7,2+J$2),IF(OR($F24=7,$F24=8),VLOOKUP($G$8,Congés_auto!$R$7:$BR$7,2+J$1),)))),0))","v":"2018-10-09"},{"$f":"IF($G24=\"Mardi\",IF(OR($F24=1,$F24=2),VLOOKUP($G$8,Congés_auto!$R$5:$BR$5,2+K$4),IF(OR($F24=3,$F24=4),VLOOKUP($G$8,Congés_auto!$R$5:$BR$5,2+K$3),IF(OR($F24=5,$F24=6),VLOOKUP($G$8,Congés_auto!$R$5:$BR$5,2+K$2),IF(OR($F24=7,$F24=8),VLOOKUP($G$8,Congés_auto!$R$5:$BR$5,2+K$1),)))),IF($G24=\"Jeudi\",IF(OR($F24=1,$F24=2),VLOOKUP($G$8,Congés_auto!$R$7:$BR$7,2+K$4),IF(OR($F24=3,$F24=4),VLOOKUP($G$8,Congés_auto!$R$7:$BR$7,2+K$3),IF(OR($F24=5,$F24=6),VLOOKUP($G$8,Congés_auto!$R$7:$BR$7,2+K$2),IF(OR($F24=7,$F24=8),VLOOKUP($G$8,Congés_auto!$R$7:$BR$7,2+K$1),)))),0))","v":"2018-11-20"},{"$f":"IF($G24=\"Mardi\",IF(OR($F24=1,$F24=2),VLOOKUP($G$8,Congés_auto!$R$5:$BR$5,2+L$4),IF(OR($F24=3,$F24=4),VLOOKUP($G$8,Congés_auto!$R$5:$BR$5,2+L$3),IF(OR($F24=5,$F24=6),VLOOKUP($G$8,Congés_auto!$R$5:$BR$5,2+L$2),IF(OR($F24=7,$F24=8),VLOOKUP($G$8,Congés_auto!$R$5:$BR$5,2+L$1),)))),IF($G24=\"Jeudi\",IF(OR($F24=1,$F24=2),VLOOKUP($G$8,Congés_auto!$R$7:$BR$7,2+L$4),IF(OR($F24=3,$F24=4),VLOOKUP($G$8,Congés_auto!$R$7:$BR$7,2+L$3),IF(OR($F24=5,$F24=6),VLOOKUP($G$8,Congés_auto!$R$7:$BR$7,2+L$2),IF(OR($F24=7,$F24=8),VLOOKUP($G$8,Congés_auto!$R$7:$BR$7,2+L$1),)))),0))","v":"2018-12-18"},{"$f":"IF($G24=\"Mardi\",IF(OR($F24=1,$F24=2),VLOOKUP($G$8,Congés_auto!$R$5:$BR$5,2+M$4),IF(OR($F24=3,$F24=4),VLOOKUP($G$8,Congés_auto!$R$5:$BR$5,2+M$3),IF(OR($F24=5,$F24=6),VLOOKUP($G$8,Congés_auto!$R$5:$BR$5,2+M$2),IF(OR($F24=7,$F24=8),VLOOKUP($G$8,Congés_auto!$R$5:$BR$5,2+M$1),)))),IF($G24=\"Jeudi\",IF(OR($F24=1,$F24=2),VLOOKUP($G$8,Congés_auto!$R$7:$BR$7,2+M$4),IF(OR($F24=3,$F24=4),VLOOKUP($G$8,Congés_auto!$R$7:$BR$7,2+M$3),IF(OR($F24=5,$F24=6),VLOOKUP($G$8,Congés_auto!$R$7:$BR$7,2+M$2),IF(OR($F24=7,$F24=8),VLOOKUP($G$8,Congés_auto!$R$7:$BR$7,2+M$1),)))),0))","v":"2019-02-19"},{"$f":"IF($G24=\"Mardi\",IF(OR($F24=1,$F24=2),VLOOKUP($G$8,Congés_auto!$R$5:$BR$5,2+N$4),IF(OR($F24=3,$F24=4),VLOOKUP($G$8,Congés_auto!$R$5:$BR$5,2+N$3),IF(OR($F24=5,$F24=6),VLOOKUP($G$8,Congés_auto!$R$5:$BR$5,2+N$2),IF(OR($F24=7,$F24=8),VLOOKUP($G$8,Congés_auto!$R$5:$BR$5,2+N$1),)))),IF($G24=\"Jeudi\",IF(OR($F24=1,$F24=2),VLOOKUP($G$8,Congés_auto!$R$7:$BR$7,2+N$4),IF(OR($F24=3,$F24=4),VLOOKUP($G$8,Congés_auto!$R$7:$BR$7,2+N$3),IF(OR($F24=5,$F24=6),VLOOKUP($G$8,Congés_auto!$R$7:$BR$7,2+N$2),IF(OR($F24=7,$F24=8),VLOOKUP($G$8,Congés_auto!$R$7:$BR$7,2+N$1),)))),0))","v":"2019-04-02"},{"$f":"IF($G24=\"Mardi\",IF(OR($F24=1,$F24=2),VLOOKUP($G$8,Congés_auto!$R$5:$BR$5,2+O$4),IF(OR($F24=3,$F24=4),VLOOKUP($G$8,Congés_auto!$R$5:$BR$5,2+O$3),IF(OR($F24=5,$F24=6),VLOOKUP($G$8,Congés_auto!$R$5:$BR$5,2+O$2),IF(OR($F24=7,$F24=8),VLOOKUP($G$8,Congés_auto!$R$5:$BR$5,2+O$1),)))),IF($G24=\"Jeudi\",IF(OR($F24=1,$F24=2),VLOOKUP($G$8,Congés_auto!$R$7:$BR$7,2+O$4),IF(OR($F24=3,$F24=4),VLOOKUP($G$8,Congés_auto!$R$7:$BR$7,2+O$3),IF(OR($F24=5,$F24=6),VLOOKUP($G$8,Congés_auto!$R$7:$BR$7,2+O$2),IF(OR($F24=7,$F24=8),VLOOKUP($G$8,Congés_auto!$R$7:$BR$7,2+O$1),)))),0))","v":"2019-04-30"},{"$f":"IF($G24=\"Mardi\",IF(OR($F24=1,$F24=2),VLOOKUP($G$8,Congés_auto!$R$5:$BR$5,2+P$4),IF(OR($F24=3,$F24=4),VLOOKUP($G$8,Congés_auto!$R$5:$BR$5,2+P$3),IF(OR($F24=5,$F24=6),VLOOKUP($G$8,Congés_auto!$R$5:$BR$5,2+P$2),IF(OR($F24=7,$F24=8),VLOOKUP($G$8,Congés_auto!$R$5:$BR$5,2+P$1),)))),IF($G24=\"Jeudi\",IF(OR($F24=1,$F24=2),VLOOKUP($G$8,Congés_auto!$R$7:$BR$7,2+P$4),IF(OR($F24=3,$F24=4),VLOOKUP($G$8,Congés_auto!$R$7:$BR$7,2+P$3),IF(OR($F24=5,$F24=6),VLOOKUP($G$8,Congés_auto!$R$7:$BR$7,2+P$2),IF(OR($F24=7,$F24=8),VLOOKUP($G$8,Congés_auto!$R$7:$BR$7,2+P$1),)))),0))","v":"2019-06-11"},{"$f":"IF($G24=\"Mardi\",IF(OR($F24=1,$F24=2),VLOOKUP($G$8,Congés_auto!$R$5:$BR$5,2+Q$4),IF(OR($F24=3,$F24=4),VLOOKUP($G$8,Congés_auto!$R$5:$BR$5,2+Q$3),IF(OR($F24=5,$F24=6),VLOOKUP($G$8,Congés_auto!$R$5:$BR$5,2+Q$2),IF(OR($F24=7,$F24=8),VLOOKUP($G$8,Congés_auto!$R$5:$BR$5,2+Q$1),)))),IF($G24=\"Jeudi\",IF(OR($F24=1,$F24=2),VLOOKUP($G$8,Congés_auto!$R$7:$BR$7,2+Q$4),IF(OR($F24=3,$F24=4),VLOOKUP($G$8,Congés_auto!$R$7:$BR$7,2+Q$3),IF(OR($F24=5,$F24=6),VLOOKUP($G$8,Congés_auto!$R$7:$BR$7,2+Q$2),IF(OR($F24=7,$F24=8),VLOOKUP($G$8,Congés_auto!$R$7:$BR$7,2+Q$1),)))),0))","v":"2019-08-20"}]
[{"$nulls":3},"2001-06-05",301,6,"Mardi",30161,{"$f":"IF($G25=\"Mardi\",IF(OR($F25=1,$F25=2),VLOOKUP($G$8,Congés_auto!$R$5:$BR$5,2+I$4),IF(OR($F25=3,$F25=4),VLOOKUP($G$8,Congés_auto!$R$5:$BR$5,2+I$3),IF(OR($F25=5,$F25=6),VLOOKUP($G$8,Congés_auto!$R$5:$BR$5,2+I$2),IF(OR($F25=7,$F25=8),VLOOKUP($G$8,Congés_auto!$R$5:$BR$5,2+I$1),)))),IF($G25=\"Jeudi\",IF(OR($F25=1,$F25=2),VLOOKUP($G$8,Congés_auto!$R$7:$BR$7,2+I$4),IF(OR($F25=3,$F25=4),VLOOKUP($G$8,Congés_auto!$R$7:$BR$7,2+I$3),IF(OR($F25=5,$F25=6),VLOOKUP($G$8,Congés_auto!$R$7:$BR$7,2+I$2),IF(OR($F25=7,$F25=8),VLOOKUP($G$8,Congés_auto!$R$7:$BR$7,2+I$1),)))),0))","v":"2018-09-11"},{"$f":"IF($G25=\"Mardi\",IF(OR($F25=1,$F25=2),VLOOKUP($G$8,Congés_auto!$R$5:$BR$5,2+J$4),IF(OR($F25=3,$F25=4),VLOOKUP($G$8,Congés_auto!$R$5:$BR$5,2+J$3),IF(OR($F25=5,$F25=6),VLOOKUP($G$8,Congés_auto!$R$5:$BR$5,2+J$2),IF(OR($F25=7,$F25=8),VLOOKUP($G$8,Congés_auto!$R$5:$BR$5,2+J$1),)))),IF($G25=\"Jeudi\",IF(OR($F25=1,$F25=2),VLOOKUP($G$8,Congés_auto!$R$7:$BR$7,2+J$4),IF(OR($F25=3,$F25=4),VLOOKUP($G$8,Congés_auto!$R$7:$BR$7,2+J$3),IF(OR($F25=5,$F25=6),VLOOKUP($G$8,Congés_auto!$R$7:$BR$7,2+J$2),IF(OR($F25=7,$F25=8),VLOOKUP($G$8,Congés_auto!$R$7:$BR$7,2+J$1),)))),0))","v":"2018-10-09"},{"$f":"IF($G25=\"Mardi\",IF(OR($F25=1,$F25=2),VLOOKUP($G$8,Congés_auto!$R$5:$BR$5,2+K$4),IF(OR($F25=3,$F25=4),VLOOKUP($G$8,Congés_auto!$R$5:$BR$5,2+K$3),IF(OR($F25=5,$F25=6),VLOOKUP($G$8,Congés_auto!$R$5:$BR$5,2+K$2),IF(OR($F25=7,$F25=8),VLOOKUP($G$8,Congés_auto!$R$5:$BR$5,2+K$1),)))),IF($G25=\"Jeudi\",IF(OR($F25=1,$F25=2),VLOOKUP($G$8,Congés_auto!$R$7:$BR$7,2+K$4),IF(OR($F25=3,$F25=4),VLOOKUP($G$8,Congés_auto!$R$7:$BR$7,2+K$3),IF(OR($F25=5,$F25=6),VLOOKUP($G$8,Congés_auto!$R$7:$BR$7,2+K$2),IF(OR($F25=7,$F25=8),VLOOKUP($G$8,Congés_auto!$R$7:$BR$7,2+K$1),)))),0))","v":"2018-11-20"},{"$f":"IF($G25=\"Mardi\",IF(OR($F25=1,$F25=2),VLOOKUP($G$8,Congés_auto!$R$5:$BR$5,2+L$4),IF(OR($F25=3,$F25=4),VLOOKUP($G$8,Congés_auto!$R$5:$BR$5,2+L$3),IF(OR($F25=5,$F25=6),VLOOKUP($G$8,Congés_auto!$R$5:$BR$5,2+L$2),IF(OR($F25=7,$F25=8),VLOOKUP($G$8,Congés_auto!$R$5:$BR$5,2+L$1),)))),IF($G25=\"Jeudi\",IF(OR($F25=1,$F25=2),VLOOKUP($G$8,Congés_auto!$R$7:$BR$7,2+L$4),IF(OR($F25=3,$F25=4),VLOOKUP($G$8,Congés_auto!$R$7:$BR$7,2+L$3),IF(OR($F25=5,$F25=6),VLOOKUP($G$8,Congés_auto!$R$7:$BR$7,2+L$2),IF(OR($F25=7,$F25=8),VLOOKUP($G$8,Congés_auto!$R$7:$BR$7,2+L$1),)))),0))","v":"2018-12-18"},{"$f":"IF($G25=\"Mardi\",IF(OR($F25=1,$F25=2),VLOOKUP($G$8,Congés_auto!$R$5:$BR$5,2+M$4),IF(OR($F25=3,$F25=4),VLOOKUP($G$8,Congés_auto!$R$5:$BR$5,2+M$3),IF(OR($F25=5,$F25=6),VLOOKUP($G$8,Congés_auto!$R$5:$BR$5,2+M$2),IF(OR($F25=7,$F25=8),VLOOKUP($G$8,Congés_auto!$R$5:$BR$5,2+M$1),)))),IF($G25=\"Jeudi\",IF(OR($F25=1,$F25=2),VLOOKUP($G$8,Congés_auto!$R$7:$BR$7,2+M$4),IF(OR($F25=3,$F25=4),VLOOKUP($G$8,Congés_auto!$R$7:$BR$7,2+M$3),IF(OR($F25=5,$F25=6),VLOOKUP($G$8,Congés_auto!$R$7:$BR$7,2+M$2),IF(OR($F25=7,$F25=8),VLOOKUP($G$8,Congés_auto!$R$7:$BR$7,2+M$1),)))),0))","v":"2019-02-19"},{"$f":"IF($G25=\"Mardi\",IF(OR($F25=1,$F25=2),VLOOKUP($G$8,Congés_auto!$R$5:$BR$5,2+N$4),IF(OR($F25=3,$F25=4),VLOOKUP($G$8,Congés_auto!$R$5:$BR$5,2+N$3),IF(OR($F25=5,$F25=6),VLOOKUP($G$8,Congés_auto!$R$5:$BR$5,2+N$2),IF(OR($F25=7,$F25=8),VLOOKUP($G$8,Congés_auto!$R$5:$BR$5,2+N$1),)))),IF($G25=\"Jeudi\",IF(OR($F25=1,$F25=2),VLOOKUP($G$8,Congés_auto!$R$7:$BR$7,2+N$4),IF(OR($F25=3,$F25=4),VLOOKUP($G$8,Congés_auto!$R$7:$BR$7,2+N$3),IF(OR($F25=5,$F25=6),VLOOKUP($G$8,Congés_auto!$R$7:$BR$7,2+N$2),IF(OR($F25=7,$F25=8),VLOOKUP($G$8,Congés_auto!$R$7:$BR$7,2+N$1),)))),0))","v":"2019-04-02"},{"$f":"IF($G25=\"Mardi\",IF(OR($F25=1,$F25=2),VLOOKUP($G$8,Congés_auto!$R$5:$BR$5,2+O$4),IF(OR($F25=3,$F25=4),VLOOKUP($G$8,Congés_auto!$R$5:$BR$5,2+O$3),IF(OR($F25=5,$F25=6),VLOOKUP($G$8,Congés_auto!$R$5:$BR$5,2+O$2),IF(OR($F25=7,$F25=8),VLOOKUP($G$8,Congés_auto!$R$5:$BR$5,2+O$1),)))),IF($G25=\"Jeudi\",IF(OR($F25=1,$F25=2),VLOOKUP($G$8,Congés_auto!$R$7:$BR$7,2+O$4),IF(OR($F25=3,$F25=4),VLOOKUP($G$8,Congés_auto!$R$7:$BR$7,2+O$3),IF(OR($F25=5,$F25=6),VLOOKUP($G$8,Congés_auto!$R$7:$BR$7,2+O$2),IF(OR($F25=7,$F25=8),VLOOKUP($G$8,Congés_auto!$R$7:$BR$7,2+O$1),)))),0))","v":"2019-04-30"},{"$f":"IF($G25=\"Mardi\",IF(OR($F25=1,$F25=2),VLOOKUP($G$8,Congés_auto!$R$5:$BR$5,2+P$4),IF(OR($F25=3,$F25=4),VLOOKUP($G$8,Congés_auto!$R$5:$BR$5,2+P$3),IF(OR($F25=5,$F25=6),VLOOKUP($G$8,Congés_auto!$R$5:$BR$5,2+P$2),IF(OR($F25=7,$F25=8),VLOOKUP($G$8,Congés_auto!$R$5:$BR$5,2+P$1),)))),IF($G25=\"Jeudi\",IF(OR($F25=1,$F25=2),VLOOKUP($G$8,Congés_auto!$R$7:$BR$7,2+P$4),IF(OR($F25=3,$F25=4),VLOOKUP($G$8,Congés_auto!$R$7:$BR$7,2+P$3),IF(OR($F25=5,$F25=6),VLOOKUP($G$8,Congés_auto!$R$7:$BR$7,2+P$2),IF(OR($F25=7,$F25=8),VLOOKUP($G$8,Congés_auto!$R$7:$BR$7,2+P$1),)))),0))","v":"2019-06-11"},{"$f":"IF($G25=\"Mardi\",IF(OR($F25=1,$F25=2),VLOOKUP($G$8,Congés_auto!$R$5:$BR$5,2+Q$4),IF(OR($F25=3,$F25=4),VLOOKUP($G$8,Congés_auto!$R$5:$BR$5,2+Q$3),IF(OR($F25=5,$F25=6),VLOOKUP($G$8,Congés_auto!$R$5:$BR$5,2+Q$2),IF(OR($F25=7,$F25=8),VLOOKUP($G$8,Congés_auto!$R$5:$BR$5,2+Q$1),)))),IF($G25=\"Jeudi\",IF(OR($F25=1,$F25=2),VLOOKUP($G$8,Congés_auto!$R$7:$BR$7,2+Q$4),IF(OR($F25=3,$F25=4),VLOOKUP($G$8,Congés_auto!$R$7:$BR$7,2+Q$3),IF(OR($F25=5,$F25=6),VLOOKUP($G$8,Congés_auto!$R$7:$BR$7,2+Q$2),IF(OR($F25=7,$F25=8),VLOOKUP($G$8,Congés_auto!$R$7:$BR$7,2+Q$1),)))),0))","v":"2019-08-20"}]
[{"$nulls":3},"2001-09-20",301,6,"Mardi",30162,{"$f":"IF($G26=\"Mardi\",IF(OR($F26=1,$F26=2),VLOOKUP($G$8,Congés_auto!$R$5:$BR$5,2+I$4),IF(OR($F26=3,$F26=4),VLOOKUP($G$8,Congés_auto!$R$5:$BR$5,2+I$3),IF(OR($F26=5,$F26=6),VLOOKUP($G$8,Congés_auto!$R$5:$BR$5,2+I$2),IF(OR($F26=7,$F26=8),VLOOKUP($G$8,Congés_auto!$R$5:$BR$5,2+I$1),)))),IF($G26=\"Jeudi\",IF(OR($F26=1,$F26=2),VLOOKUP($G$8,Congés_auto!$R$7:$BR$7,2+I$4),IF(OR($F26=3,$F26=4),VLOOKUP($G$8,Congés_auto!$R$7:$BR$7,2+I$3),IF(OR($F26=5,$F26=6),VLOOKUP($G$8,Congés_auto!$R$7:$BR$7,2+I$2),IF(OR($F26=7,$F26=8),VLOOKUP($G$8,Congés_auto!$R$7:$BR$7,2+I$1),)))),0))","v":"2018-09-11"},{"$f":"IF($G26=\"Mardi\",IF(OR($F26=1,$F26=2),VLOOKUP($G$8,Congés_auto!$R$5:$BR$5,2+J$4),IF(OR($F26=3,$F26=4),VLOOKUP($G$8,Congés_auto!$R$5:$BR$5,2+J$3),IF(OR($F26=5,$F26=6),VLOOKUP($G$8,Congés_auto!$R$5:$BR$5,2+J$2),IF(OR($F26=7,$F26=8),VLOOKUP($G$8,Congés_auto!$R$5:$BR$5,2+J$1),)))),IF($G26=\"Jeudi\",IF(OR($F26=1,$F26=2),VLOOKUP($G$8,Congés_auto!$R$7:$BR$7,2+J$4),IF(OR($F26=3,$F26=4),VLOOKUP($G$8,Congés_auto!$R$7:$BR$7,2+J$3),IF(OR($F26=5,$F26=6),VLOOKUP($G$8,Congés_auto!$R$7:$BR$7,2+J$2),IF(OR($F26=7,$F26=8),VLOOKUP($G$8,Congés_auto!$R$7:$BR$7,2+J$1),)))),0))","v":"2018-10-09"},{"$f":"IF($G26=\"Mardi\",IF(OR($F26=1,$F26=2),VLOOKUP($G$8,Congés_auto!$R$5:$BR$5,2+K$4),IF(OR($F26=3,$F26=4),VLOOKUP($G$8,Congés_auto!$R$5:$BR$5,2+K$3),IF(OR($F26=5,$F26=6),VLOOKUP($G$8,Congés_auto!$R$5:$BR$5,2+K$2),IF(OR($F26=7,$F26=8),VLOOKUP($G$8,Congés_auto!$R$5:$BR$5,2+K$1),)))),IF($G26=\"Jeudi\",IF(OR($F26=1,$F26=2),VLOOKUP($G$8,Congés_auto!$R$7:$BR$7,2+K$4),IF(OR($F26=3,$F26=4),VLOOKUP($G$8,Congés_auto!$R$7:$BR$7,2+K$3),IF(OR($F26=5,$F26=6),VLOOKUP($G$8,Congés_auto!$R$7:$BR$7,2+K$2),IF(OR($F26=7,$F26=8),VLOOKUP($G$8,Congés_auto!$R$7:$BR$7,2+K$1),)))),0))","v":"2018-11-20"},{"$f":"IF($G26=\"Mardi\",IF(OR($F26=1,$F26=2),VLOOKUP($G$8,Congés_auto!$R$5:$BR$5,2+L$4),IF(OR($F26=3,$F26=4),VLOOKUP($G$8,Congés_auto!$R$5:$BR$5,2+L$3),IF(OR($F26=5,$F26=6),VLOOKUP($G$8,Congés_auto!$R$5:$BR$5,2+L$2),IF(OR($F26=7,$F26=8),VLOOKUP($G$8,Congés_auto!$R$5:$BR$5,2+L$1),)))),IF($G26=\"Jeudi\",IF(OR($F26=1,$F26=2),VLOOKUP($G$8,Congés_auto!$R$7:$BR$7,2+L$4),IF(OR($F26=3,$F26=4),VLOOKUP($G$8,Congés_auto!$R$7:$BR$7,2+L$3),IF(OR($F26=5,$F26=6),VLOOKUP($G$8,Congés_auto!$R$7:$BR$7,2+L$2),IF(OR($F26=7,$F26=8),VLOOKUP($G$8,Congés_auto!$R$7:$BR$7,2+L$1),)))),0))","v":"2018-12-18"},{"$f":"IF($G26=\"Mardi\",IF(OR($F26=1,$F26=2),VLOOKUP($G$8,Congés_auto!$R$5:$BR$5,2+M$4),IF(OR($F26=3,$F26=4),VLOOKUP($G$8,Congés_auto!$R$5:$BR$5,2+M$3),IF(OR($F26=5,$F26=6),VLOOKUP($G$8,Congés_auto!$R$5:$BR$5,2+M$2),IF(OR($F26=7,$F26=8),VLOOKUP($G$8,Congés_auto!$R$5:$BR$5,2+M$1),)))),IF($G26=\"Jeudi\",IF(OR($F26=1,$F26=2),VLOOKUP($G$8,Congés_auto!$R$7:$BR$7,2+M$4),IF(OR($F26=3,$F26=4),VLOOKUP($G$8,Congés_auto!$R$7:$BR$7,2+M$3),IF(OR($F26=5,$F26=6),VLOOKUP($G$8,Congés_auto!$R$7:$BR$7,2+M$2),IF(OR($F26=7,$F26=8),VLOOKUP($G$8,Congés_auto!$R$7:$BR$7,2+M$1),)))),0))","v":"2019-02-19"},{"$f":"IF($G26=\"Mardi\",IF(OR($F26=1,$F26=2),VLOOKUP($G$8,Congés_auto!$R$5:$BR$5,2+N$4),IF(OR($F26=3,$F26=4),VLOOKUP($G$8,Congés_auto!$R$5:$BR$5,2+N$3),IF(OR($F26=5,$F26=6),VLOOKUP($G$8,Congés_auto!$R$5:$BR$5,2+N$2),IF(OR($F26=7,$F26=8),VLOOKUP($G$8,Congés_auto!$R$5:$BR$5,2+N$1),)))),IF($G26=\"Jeudi\",IF(OR($F26=1,$F26=2),VLOOKUP($G$8,Congés_auto!$R$7:$BR$7,2+N$4),IF(OR($F26=3,$F26=4),VLOOKUP($G$8,Congés_auto!$R$7:$BR$7,2+N$3),IF(OR($F26=5,$F26=6),VLOOKUP($G$8,Congés_auto!$R$7:$BR$7,2+N$2),IF(OR($F26=7,$F26=8),VLOOKUP($G$8,Congés_auto!$R$7:$BR$7,2+N$1),)))),0))","v":"2019-04-02"},{"$f":"IF($G26=\"Mardi\",IF(OR($F26=1,$F26=2),VLOOKUP($G$8,Congés_auto!$R$5:$BR$5,2+O$4),IF(OR($F26=3,$F26=4),VLOOKUP($G$8,Congés_auto!$R$5:$BR$5,2+O$3),IF(OR($F26=5,$F26=6),VLOOKUP($G$8,Congés_auto!$R$5:$BR$5,2+O$2),IF(OR($F26=7,$F26=8),VLOOKUP($G$8,Congés_auto!$R$5:$BR$5,2+O$1),)))),IF($G26=\"Jeudi\",IF(OR($F26=1,$F26=2),VLOOKUP($G$8,Congés_auto!$R$7:$BR$7,2+O$4),IF(OR($F26=3,$F26=4),VLOOKUP($G$8,Congés_auto!$R$7:$BR$7,2+O$3),IF(OR($F26=5,$F26=6),VLOOKUP($G$8,Congés_auto!$R$7:$BR$7,2+O$2),IF(OR($F26=7,$F26=8),VLOOKUP($G$8,Congés_auto!$R$7:$BR$7,2+O$1),)))),0))","v":"2019-04-30"},{"$f":"IF($G26=\"Mardi\",IF(OR($F26=1,$F26=2),VLOOKUP($G$8,Congés_auto!$R$5:$BR$5,2+P$4),IF(OR($F26=3,$F26=4),VLOOKUP($G$8,Congés_auto!$R$5:$BR$5,2+P$3),IF(OR($F26=5,$F26=6),VLOOKUP($G$8,Congés_auto!$R$5:$BR$5,2+P$2),IF(OR($F26=7,$F26=8),VLOOKUP($G$8,Congés_auto!$R$5:$BR$5,2+P$1),)))),IF($G26=\"Jeudi\",IF(OR($F26=1,$F26=2),VLOOKUP($G$8,Congés_auto!$R$7:$BR$7,2+P$4),IF(OR($F26=3,$F26=4),VLOOKUP($G$8,Congés_auto!$R$7:$BR$7,2+P$3),IF(OR($F26=5,$F26=6),VLOOKUP($G$8,Congés_auto!$R$7:$BR$7,2+P$2),IF(OR($F26=7,$F26=8),VLOOKUP($G$8,Congés_auto!$R$7:$BR$7,2+P$1),)))),0))","v":"2019-06-11"},{"$f":"IF($G26=\"Mardi\",IF(OR($F26=1,$F26=2),VLOOKUP($G$8,Congés_auto!$R$5:$BR$5,2+Q$4),IF(OR($F26=3,$F26=4),VLOOKUP($G$8,Congés_auto!$R$5:$BR$5,2+Q$3),IF(OR($F26=5,$F26=6),VLOOKUP($G$8,Congés_auto!$R$5:$BR$5,2+Q$2),IF(OR($F26=7,$F26=8),VLOOKUP($G$8,Congés_auto!$R$5:$BR$5,2+Q$1),)))),IF($G26=\"Jeudi\",IF(OR($F26=1,$F26=2),VLOOKUP($G$8,Congés_auto!$R$7:$BR$7,2+Q$4),IF(OR($F26=3,$F26=4),VLOOKUP($G$8,Congés_auto!$R$7:$BR$7,2+Q$3),IF(OR($F26=5,$F26=6),VLOOKUP($G$8,Congés_auto!$R$7:$BR$7,2+Q$2),IF(OR($F26=7,$F26=8),VLOOKUP($G$8,Congés_auto!$R$7:$BR$7,2+Q$1),)))),0))","v":"2019-08-20"}]
[null,null,"Francine","2001-11-02",301,6,"Mardi",30163,{"$f":"IF($G27=\"Mardi\",IF(OR($F27=1,$F27=2),VLOOKUP($G$8,Congés_auto!$R$5:$BR$5,2+I$4),IF(OR($F27=3,$F27=4),VLOOKUP($G$8,Congés_auto!$R$5:$BR$5,2+I$3),IF(OR($F27=5,$F27=6),VLOOKUP($G$8,Congés_auto!$R$5:$BR$5,2+I$2),IF(OR($F27=7,$F27=8),VLOOKUP($G$8,Congés_auto!$R$5:$BR$5,2+I$1),)))),IF($G27=\"Jeudi\",IF(OR($F27=1,$F27=2),VLOOKUP($G$8,Congés_auto!$R$7:$BR$7,2+I$4),IF(OR($F27=3,$F27=4),VLOOKUP($G$8,Congés_auto!$R$7:$BR$7,2+I$3),IF(OR($F27=5,$F27=6),VLOOKUP($G$8,Congés_auto!$R$7:$BR$7,2+I$2),IF(OR($F27=7,$F27=8),VLOOKUP($G$8,Congés_auto!$R$7:$BR$7,2+I$1),)))),0))","v":"2018-09-11"},{"$f":"IF($G27=\"Mardi\",IF(OR($F27=1,$F27=2),VLOOKUP($G$8,Congés_auto!$R$5:$BR$5,2+J$4),IF(OR($F27=3,$F27=4),VLOOKUP($G$8,Congés_auto!$R$5:$BR$5,2+J$3),IF(OR($F27=5,$F27=6),VLOOKUP($G$8,Congés_auto!$R$5:$BR$5,2+J$2),IF(OR($F27=7,$F27=8),VLOOKUP($G$8,Congés_auto!$R$5:$BR$5,2+J$1),)))),IF($G27=\"Jeudi\",IF(OR($F27=1,$F27=2),VLOOKUP($G$8,Congés_auto!$R$7:$BR$7,2+J$4),IF(OR($F27=3,$F27=4),VLOOKUP($G$8,Congés_auto!$R$7:$BR$7,2+J$3),IF(OR($F27=5,$F27=6),VLOOKUP($G$8,Congés_auto!$R$7:$BR$7,2+J$2),IF(OR($F27=7,$F27=8),VLOOKUP($G$8,Congés_auto!$R$7:$BR$7,2+J$1),)))),0))","v":"2018-10-09"},{"$f":"IF($G27=\"Mardi\",IF(OR($F27=1,$F27=2),VLOOKUP($G$8,Congés_auto!$R$5:$BR$5,2+K$4),IF(OR($F27=3,$F27=4),VLOOKUP($G$8,Congés_auto!$R$5:$BR$5,2+K$3),IF(OR($F27=5,$F27=6),VLOOKUP($G$8,Congés_auto!$R$5:$BR$5,2+K$2),IF(OR($F27=7,$F27=8),VLOOKUP($G$8,Congés_auto!$R$5:$BR$5,2+K$1),)))),IF($G27=\"Jeudi\",IF(OR($F27=1,$F27=2),VLOOKUP($G$8,Congés_auto!$R$7:$BR$7,2+K$4),IF(OR($F27=3,$F27=4),VLOOKUP($G$8,Congés_auto!$R$7:$BR$7,2+K$3),IF(OR($F27=5,$F27=6),VLOOKUP($G$8,Congés_auto!$R$7:$BR$7,2+K$2),IF(OR($F27=7,$F27=8),VLOOKUP($G$8,Congés_auto!$R$7:$BR$7,2+K$1),)))),0))","v":"2018-11-20"},{"$f":"IF($G27=\"Mardi\",IF(OR($F27=1,$F27=2),VLOOKUP($G$8,Congés_auto!$R$5:$BR$5,2+L$4),IF(OR($F27=3,$F27=4),VLOOKUP($G$8,Congés_auto!$R$5:$BR$5,2+L$3),IF(OR($F27=5,$F27=6),VLOOKUP($G$8,Congés_auto!$R$5:$BR$5,2+L$2),IF(OR($F27=7,$F27=8),VLOOKUP($G$8,Congés_auto!$R$5:$BR$5,2+L$1),)))),IF($G27=\"Jeudi\",IF(OR($F27=1,$F27=2),VLOOKUP($G$8,Congés_auto!$R$7:$BR$7,2+L$4),IF(OR($F27=3,$F27=4),VLOOKUP($G$8,Congés_auto!$R$7:$BR$7,2+L$3),IF(OR($F27=5,$F27=6),VLOOKUP($G$8,Congés_auto!$R$7:$BR$7,2+L$2),IF(OR($F27=7,$F27=8),VLOOKUP($G$8,Congés_auto!$R$7:$BR$7,2+L$1),)))),0))","v":"2018-12-18"},{"$f":"IF($G27=\"Mardi\",IF(OR($F27=1,$F27=2),VLOOKUP($G$8,Congés_auto!$R$5:$BR$5,2+M$4),IF(OR($F27=3,$F27=4),VLOOKUP($G$8,Congés_auto!$R$5:$BR$5,2+M$3),IF(OR($F27=5,$F27=6),VLOOKUP($G$8,Congés_auto!$R$5:$BR$5,2+M$2),IF(OR($F27=7,$F27=8),VLOOKUP($G$8,Congés_auto!$R$5:$BR$5,2+M$1),)))),IF($G27=\"Jeudi\",IF(OR($F27=1,$F27=2),VLOOKUP($G$8,Congés_auto!$R$7:$BR$7,2+M$4),IF(OR($F27=3,$F27=4),VLOOKUP($G$8,Congés_auto!$R$7:$BR$7,2+M$3),IF(OR($F27=5,$F27=6),VLOOKUP($G$8,Congés_auto!$R$7:$BR$7,2+M$2),IF(OR($F27=7,$F27=8),VLOOKUP($G$8,Congés_auto!$R$7:$BR$7,2+M$1),)))),0))","v":"2019-02-19"},{"$f":"IF($G27=\"Mardi\",IF(OR($F27=1,$F27=2),VLOOKUP($G$8,Congés_auto!$R$5:$BR$5,2+N$4),IF(OR($F27=3,$F27=4),VLOOKUP($G$8,Congés_auto!$R$5:$BR$5,2+N$3),IF(OR($F27=5,$F27=6),VLOOKUP($G$8,Congés_auto!$R$5:$BR$5,2+N$2),IF(OR($F27=7,$F27=8),VLOOKUP($G$8,Congés_auto!$R$5:$BR$5,2+N$1),)))),IF($G27=\"Jeudi\",IF(OR($F27=1,$F27=2),VLOOKUP($G$8,Congés_auto!$R$7:$BR$7,2+N$4),IF(OR($F27=3,$F27=4),VLOOKUP($G$8,Congés_auto!$R$7:$BR$7,2+N$3),IF(OR($F27=5,$F27=6),VLOOKUP($G$8,Congés_auto!$R$7:$BR$7,2+N$2),IF(OR($F27=7,$F27=8),VLOOKUP($G$8,Congés_auto!$R$7:$BR$7,2+N$1),)))),0))","v":"2019-04-02"},{"$f":"IF($G27=\"Mardi\",IF(OR($F27=1,$F27=2),VLOOKUP($G$8,Congés_auto!$R$5:$BR$5,2+O$4),IF(OR($F27=3,$F27=4),VLOOKUP($G$8,Congés_auto!$R$5:$BR$5,2+O$3),IF(OR($F27=5,$F27=6),VLOOKUP($G$8,Congés_auto!$R$5:$BR$5,2+O$2),IF(OR($F27=7,$F27=8),VLOOKUP($G$8,Congés_auto!$R$5:$BR$5,2+O$1),)))),IF($G27=\"Jeudi\",IF(OR($F27=1,$F27=2),VLOOKUP($G$8,Congés_auto!$R$7:$BR$7,2+O$4),IF(OR($F27=3,$F27=4),VLOOKUP($G$8,Congés_auto!$R$7:$BR$7,2+O$3),IF(OR($F27=5,$F27=6),VLOOKUP($G$8,Congés_auto!$R$7:$BR$7,2+O$2),IF(OR($F27=7,$F27=8),VLOOKUP($G$8,Congés_auto!$R$7:$BR$7,2+O$1),)))),0))","v":"2019-04-30"},{"$f":"IF($G27=\"Mardi\",IF(OR($F27=1,$F27=2),VLOOKUP($G$8,Congés_auto!$R$5:$BR$5,2+P$4),IF(OR($F27=3,$F27=4),VLOOKUP($G$8,Congés_auto!$R$5:$BR$5,2+P$3),IF(OR($F27=5,$F27=6),VLOOKUP($G$8,Congés_auto!$R$5:$BR$5,2+P$2),IF(OR($F27=7,$F27=8),VLOOKUP($G$8,Congés_auto!$R$5:$BR$5,2+P$1),)))),IF($G27=\"Jeudi\",IF(OR($F27=1,$F27=2),VLOOKUP($G$8,Congés_auto!$R$7:$BR$7,2+P$4),IF(OR($F27=3,$F27=4),VLOOKUP($G$8,Congés_auto!$R$7:$BR$7,2+P$3),IF(OR($F27=5,$F27=6),VLOOKUP($G$8,Congés_auto!$R$7:$BR$7,2+P$2),IF(OR($F27=7,$F27=8),VLOOKUP($G$8,Congés_auto!$R$7:$BR$7,2+P$1),)))),0))","v":"2019-06-11"},{"$f":"IF($G27=\"Mardi\",IF(OR($F27=1,$F27=2),VLOOKUP($G$8,Congés_auto!$R$5:$BR$5,2+Q$4),IF(OR($F27=3,$F27=4),VLOOKUP($G$8,Congés_auto!$R$5:$BR$5,2+Q$3),IF(OR($F27=5,$F27=6),VLOOKUP($G$8,Congés_auto!$R$5:$BR$5,2+Q$2),IF(OR($F27=7,$F27=8),VLOOKUP($G$8,Congés_auto!$R$5:$BR$5,2+Q$1),)))),IF($G27=\"Jeudi\",IF(OR($F27=1,$F27=2),VLOOKUP($G$8,Congés_auto!$R$7:$BR$7,2+Q$4),IF(OR($F27=3,$F27=4),VLOOKUP($G$8,Congés_auto!$R$7:$BR$7,2+Q$3),IF(OR($F27=5,$F27=6),VLOOKUP($G$8,Congés_auto!$R$7:$BR$7,2+Q$2),IF(OR($F27=7,$F27=8),VLOOKUP($G$8,Congés_auto!$R$7:$BR$7,2+Q$1),)))),0))","v":"2019-08-20"}]
[{"$nulls":3},"2001-07-06",301,7,"Mardi","30170",{"$f":"IF($G28=\"Mardi\",IF(OR($F28=1,$F28=2),VLOOKUP($G$8,Congés_auto!$R$5:$BR$5,2+I$4),IF(OR($F28=3,$F28=4),VLOOKUP($G$8,Congés_auto!$R$5:$BR$5,2+I$3),IF(OR($F28=5,$F28=6),VLOOKUP($G$8,Congés_auto!$R$5:$BR$5,2+I$2),IF(OR($F28=7,$F28=8),VLOOKUP($G$8,Congés_auto!$R$5:$BR$5,2+I$1),)))),IF($G28=\"Jeudi\",IF(OR($F28=1,$F28=2),VLOOKUP($G$8,Congés_auto!$R$7:$BR$7,2+I$4),IF(OR($F28=3,$F28=4),VLOOKUP($G$8,Congés_auto!$R$7:$BR$7,2+I$3),IF(OR($F28=5,$F28=6),VLOOKUP($G$8,Congés_auto!$R$7:$BR$7,2+I$2),IF(OR($F28=7,$F28=8),VLOOKUP($G$8,Congés_auto!$R$7:$BR$7,2+I$1),)))),0))","v":"2018-09-18"},{"$f":"IF($G28=\"Mardi\",IF(OR($F28=1,$F28=2),VLOOKUP($G$8,Congés_auto!$R$5:$BR$5,2+J$4),IF(OR($F28=3,$F28=4),VLOOKUP($G$8,Congés_auto!$R$5:$BR$5,2+J$3),IF(OR($F28=5,$F28=6),VLOOKUP($G$8,Congés_auto!$R$5:$BR$5,2+J$2),IF(OR($F28=7,$F28=8),VLOOKUP($G$8,Congés_auto!$R$5:$BR$5,2+J$1),)))),IF($G28=\"Jeudi\",IF(OR($F28=1,$F28=2),VLOOKUP($G$8,Congés_auto!$R$7:$BR$7,2+J$4),IF(OR($F28=3,$F28=4),VLOOKUP($G$8,Congés_auto!$R$7:$BR$7,2+J$3),IF(OR($F28=5,$F28=6),VLOOKUP($G$8,Congés_auto!$R$7:$BR$7,2+J$2),IF(OR($F28=7,$F28=8),VLOOKUP($G$8,Congés_auto!$R$7:$BR$7,2+J$1),)))),0))","v":"2018-10-30"},{"$f":"IF($G28=\"Mardi\",IF(OR($F28=1,$F28=2),VLOOKUP($G$8,Congés_auto!$R$5:$BR$5,2+K$4),IF(OR($F28=3,$F28=4),VLOOKUP($G$8,Congés_auto!$R$5:$BR$5,2+K$3),IF(OR($F28=5,$F28=6),VLOOKUP($G$8,Congés_auto!$R$5:$BR$5,2+K$2),IF(OR($F28=7,$F28=8),VLOOKUP($G$8,Congés_auto!$R$5:$BR$5,2+K$1),)))),IF($G28=\"Jeudi\",IF(OR($F28=1,$F28=2),VLOOKUP($G$8,Congés_auto!$R$7:$BR$7,2+K$4),IF(OR($F28=3,$F28=4),VLOOKUP($G$8,Congés_auto!$R$7:$BR$7,2+K$3),IF(OR($F28=5,$F28=6),VLOOKUP($G$8,Congés_auto!$R$7:$BR$7,2+K$2),IF(OR($F28=7,$F28=8),VLOOKUP($G$8,Congés_auto!$R$7:$BR$7,2+K$1),)))),0))","v":"2018-11-27"},{"$f":"IF($G28=\"Mardi\",IF(OR($F28=1,$F28=2),VLOOKUP($G$8,Congés_auto!$R$5:$BR$5,2+L$4),IF(OR($F28=3,$F28=4),VLOOKUP($G$8,Congés_auto!$R$5:$BR$5,2+L$3),IF(OR($F28=5,$F28=6),VLOOKUP($G$8,Congés_auto!$R$5:$BR$5,2+L$2),IF(OR($F28=7,$F28=8),VLOOKUP($G$8,Congés_auto!$R$5:$BR$5,2+L$1),)))),IF($G28=\"Jeudi\",IF(OR($F28=1,$F28=2),VLOOKUP($G$8,Congés_auto!$R$7:$BR$7,2+L$4),IF(OR($F28=3,$F28=4),VLOOKUP($G$8,Congés_auto!$R$7:$BR$7,2+L$3),IF(OR($F28=5,$F28=6),VLOOKUP($G$8,Congés_auto!$R$7:$BR$7,2+L$2),IF(OR($F28=7,$F28=8),VLOOKUP($G$8,Congés_auto!$R$7:$BR$7,2+L$1),)))),0))","v":"2019-01-29"},{"$f":"IF($G28=\"Mardi\",IF(OR($F28=1,$F28=2),VLOOKUP($G$8,Congés_auto!$R$5:$BR$5,2+M$4),IF(OR($F28=3,$F28=4),VLOOKUP($G$8,Congés_auto!$R$5:$BR$5,2+M$3),IF(OR($F28=5,$F28=6),VLOOKUP($G$8,Congés_auto!$R$5:$BR$5,2+M$2),IF(OR($F28=7,$F28=8),VLOOKUP($G$8,Congés_auto!$R$5:$BR$5,2+M$1),)))),IF($G28=\"Jeudi\",IF(OR($F28=1,$F28=2),VLOOKUP($G$8,Congés_auto!$R$7:$BR$7,2+M$4),IF(OR($F28=3,$F28=4),VLOOKUP($G$8,Congés_auto!$R$7:$BR$7,2+M$3),IF(OR($F28=5,$F28=6),VLOOKUP($G$8,Congés_auto!$R$7:$BR$7,2+M$2),IF(OR($F28=7,$F28=8),VLOOKUP($G$8,Congés_auto!$R$7:$BR$7,2+M$1),)))),0))","v":"2019-02-26"},{"$f":"IF($G28=\"Mardi\",IF(OR($F28=1,$F28=2),VLOOKUP($G$8,Congés_auto!$R$5:$BR$5,2+N$4),IF(OR($F28=3,$F28=4),VLOOKUP($G$8,Congés_auto!$R$5:$BR$5,2+N$3),IF(OR($F28=5,$F28=6),VLOOKUP($G$8,Congés_auto!$R$5:$BR$5,2+N$2),IF(OR($F28=7,$F28=8),VLOOKUP($G$8,Congés_auto!$R$5:$BR$5,2+N$1),)))),IF($G28=\"Jeudi\",IF(OR($F28=1,$F28=2),VLOOKUP($G$8,Congés_auto!$R$7:$BR$7,2+N$4),IF(OR($F28=3,$F28=4),VLOOKUP($G$8,Congés_auto!$R$7:$BR$7,2+N$3),IF(OR($F28=5,$F28=6),VLOOKUP($G$8,Congés_auto!$R$7:$BR$7,2+N$2),IF(OR($F28=7,$F28=8),VLOOKUP($G$8,Congés_auto!$R$7:$BR$7,2+N$1),)))),0))","v":"2019-04-09"},{"$f":"IF($G28=\"Mardi\",IF(OR($F28=1,$F28=2),VLOOKUP($G$8,Congés_auto!$R$5:$BR$5,2+O$4),IF(OR($F28=3,$F28=4),VLOOKUP($G$8,Congés_auto!$R$5:$BR$5,2+O$3),IF(OR($F28=5,$F28=6),VLOOKUP($G$8,Congés_auto!$R$5:$BR$5,2+O$2),IF(OR($F28=7,$F28=8),VLOOKUP($G$8,Congés_auto!$R$5:$BR$5,2+O$1),)))),IF($G28=\"Jeudi\",IF(OR($F28=1,$F28=2),VLOOKUP($G$8,Congés_auto!$R$7:$BR$7,2+O$4),IF(OR($F28=3,$F28=4),VLOOKUP($G$8,Congés_auto!$R$7:$BR$7,2+O$3),IF(OR($F28=5,$F28=6),VLOOKUP($G$8,Congés_auto!$R$7:$BR$7,2+O$2),IF(OR($F28=7,$F28=8),VLOOKUP($G$8,Congés_auto!$R$7:$BR$7,2+O$1),)))),0))","v":"2019-05-21"},{"$f":"IF($G28=\"Mardi\",IF(OR($F28=1,$F28=2),VLOOKUP($G$8,Congés_auto!$R$5:$BR$5,2+P$4),IF(OR($F28=3,$F28=4),VLOOKUP($G$8,Congés_auto!$R$5:$BR$5,2+P$3),IF(OR($F28=5,$F28=6),VLOOKUP($G$8,Congés_auto!$R$5:$BR$5,2+P$2),IF(OR($F28=7,$F28=8),VLOOKUP($G$8,Congés_auto!$R$5:$BR$5,2+P$1),)))),IF($G28=\"Jeudi\",IF(OR($F28=1,$F28=2),VLOOKUP($G$8,Congés_auto!$R$7:$BR$7,2+P$4),IF(OR($F28=3,$F28=4),VLOOKUP($G$8,Congés_auto!$R$7:$BR$7,2+P$3),IF(OR($F28=5,$F28=6),VLOOKUP($G$8,Congés_auto!$R$7:$BR$7,2+P$2),IF(OR($F28=7,$F28=8),VLOOKUP($G$8,Congés_auto!$R$7:$BR$7,2+P$1),)))),0))","v":"2019-06-18"},{"$f":"IF($G28=\"Mardi\",IF(OR($F28=1,$F28=2),VLOOKUP($G$8,Congés_auto!$R$5:$BR$5,2+Q$4),IF(OR($F28=3,$F28=4),VLOOKUP($G$8,Congés_auto!$R$5:$BR$5,2+Q$3),IF(OR($F28=5,$F28=6),VLOOKUP($G$8,Congés_auto!$R$5:$BR$5,2+Q$2),IF(OR($F28=7,$F28=8),VLOOKUP($G$8,Congés_auto!$R$5:$BR$5,2+Q$1),)))),IF($G28=\"Jeudi\",IF(OR($F28=1,$F28=2),VLOOKUP($G$8,Congés_auto!$R$7:$BR$7,2+Q$4),IF(OR($F28=3,$F28=4),VLOOKUP($G$8,Congés_auto!$R$7:$BR$7,2+Q$3),IF(OR($F28=5,$F28=6),VLOOKUP($G$8,Congés_auto!$R$7:$BR$7,2+Q$2),IF(OR($F28=7,$F28=8),VLOOKUP($G$8,Congés_auto!$R$7:$BR$7,2+Q$1),)))),0))","v":""}]
[{"$nulls":3},"2001-11-30",301,7,"Mardi",30171,{"$f":"IF($G29=\"Mardi\",IF(OR($F29=1,$F29=2),VLOOKUP($G$8,Congés_auto!$R$5:$BR$5,2+I$4),IF(OR($F29=3,$F29=4),VLOOKUP($G$8,Congés_auto!$R$5:$BR$5,2+I$3),IF(OR($F29=5,$F29=6),VLOOKUP($G$8,Congés_auto!$R$5:$BR$5,2+I$2),IF(OR($F29=7,$F29=8),VLOOKUP($G$8,Congés_auto!$R$5:$BR$5,2+I$1),)))),IF($G29=\"Jeudi\",IF(OR($F29=1,$F29=2),VLOOKUP($G$8,Congés_auto!$R$7:$BR$7,2+I$4),IF(OR($F29=3,$F29=4),VLOOKUP($G$8,Congés_auto!$R$7:$BR$7,2+I$3),IF(OR($F29=5,$F29=6),VLOOKUP($G$8,Congés_auto!$R$7:$BR$7,2+I$2),IF(OR($F29=7,$F29=8),VLOOKUP($G$8,Congés_auto!$R$7:$BR$7,2+I$1),)))),0))","v":"2018-09-18"},{"$f":"IF($G29=\"Mardi\",IF(OR($F29=1,$F29=2),VLOOKUP($G$8,Congés_auto!$R$5:$BR$5,2+J$4),IF(OR($F29=3,$F29=4),VLOOKUP($G$8,Congés_auto!$R$5:$BR$5,2+J$3),IF(OR($F29=5,$F29=6),VLOOKUP($G$8,Congés_auto!$R$5:$BR$5,2+J$2),IF(OR($F29=7,$F29=8),VLOOKUP($G$8,Congés_auto!$R$5:$BR$5,2+J$1),)))),IF($G29=\"Jeudi\",IF(OR($F29=1,$F29=2),VLOOKUP($G$8,Congés_auto!$R$7:$BR$7,2+J$4),IF(OR($F29=3,$F29=4),VLOOKUP($G$8,Congés_auto!$R$7:$BR$7,2+J$3),IF(OR($F29=5,$F29=6),VLOOKUP($G$8,Congés_auto!$R$7:$BR$7,2+J$2),IF(OR($F29=7,$F29=8),VLOOKUP($G$8,Congés_auto!$R$7:$BR$7,2+J$1),)))),0))","v":"2018-10-30"},{"$f":"IF($G29=\"Mardi\",IF(OR($F29=1,$F29=2),VLOOKUP($G$8,Congés_auto!$R$5:$BR$5,2+K$4),IF(OR($F29=3,$F29=4),VLOOKUP($G$8,Congés_auto!$R$5:$BR$5,2+K$3),IF(OR($F29=5,$F29=6),VLOOKUP($G$8,Congés_auto!$R$5:$BR$5,2+K$2),IF(OR($F29=7,$F29=8),VLOOKUP($G$8,Congés_auto!$R$5:$BR$5,2+K$1),)))),IF($G29=\"Jeudi\",IF(OR($F29=1,$F29=2),VLOOKUP($G$8,Congés_auto!$R$7:$BR$7,2+K$4),IF(OR($F29=3,$F29=4),VLOOKUP($G$8,Congés_auto!$R$7:$BR$7,2+K$3),IF(OR($F29=5,$F29=6),VLOOKUP($G$8,Congés_auto!$R$7:$BR$7,2+K$2),IF(OR($F29=7,$F29=8),VLOOKUP($G$8,Congés_auto!$R$7:$BR$7,2+K$1),)))),0))","v":"2018-11-27"},{"$f":"IF($G29=\"Mardi\",IF(OR($F29=1,$F29=2),VLOOKUP($G$8,Congés_auto!$R$5:$BR$5,2+L$4),IF(OR($F29=3,$F29=4),VLOOKUP($G$8,Congés_auto!$R$5:$BR$5,2+L$3),IF(OR($F29=5,$F29=6),VLOOKUP($G$8,Congés_auto!$R$5:$BR$5,2+L$2),IF(OR($F29=7,$F29=8),VLOOKUP($G$8,Congés_auto!$R$5:$BR$5,2+L$1),)))),IF($G29=\"Jeudi\",IF(OR($F29=1,$F29=2),VLOOKUP($G$8,Congés_auto!$R$7:$BR$7,2+L$4),IF(OR($F29=3,$F29=4),VLOOKUP($G$8,Congés_auto!$R$7:$BR$7,2+L$3),IF(OR($F29=5,$F29=6),VLOOKUP($G$8,Congés_auto!$R$7:$BR$7,2+L$2),IF(OR($F29=7,$F29=8),VLOOKUP($G$8,Congés_auto!$R$7:$BR$7,2+L$1),)))),0))","v":"2019-01-29"},{"$f":"IF($G29=\"Mardi\",IF(OR($F29=1,$F29=2),VLOOKUP($G$8,Congés_auto!$R$5:$BR$5,2+M$4),IF(OR($F29=3,$F29=4),VLOOKUP($G$8,Congés_auto!$R$5:$BR$5,2+M$3),IF(OR($F29=5,$F29=6),VLOOKUP($G$8,Congés_auto!$R$5:$BR$5,2+M$2),IF(OR($F29=7,$F29=8),VLOOKUP($G$8,Congés_auto!$R$5:$BR$5,2+M$1),)))),IF($G29=\"Jeudi\",IF(OR($F29=1,$F29=2),VLOOKUP($G$8,Congés_auto!$R$7:$BR$7,2+M$4),IF(OR($F29=3,$F29=4),VLOOKUP($G$8,Congés_auto!$R$7:$BR$7,2+M$3),IF(OR($F29=5,$F29=6),VLOOKUP($G$8,Congés_auto!$R$7:$BR$7,2+M$2),IF(OR($F29=7,$F29=8),VLOOKUP($G$8,Congés_auto!$R$7:$BR$7,2+M$1),)))),0))","v":"2019-02-26"},{"$f":"IF($G29=\"Mardi\",IF(OR($F29=1,$F29=2),VLOOKUP($G$8,Congés_auto!$R$5:$BR$5,2+N$4),IF(OR($F29=3,$F29=4),VLOOKUP($G$8,Congés_auto!$R$5:$BR$5,2+N$3),IF(OR($F29=5,$F29=6),VLOOKUP($G$8,Congés_auto!$R$5:$BR$5,2+N$2),IF(OR($F29=7,$F29=8),VLOOKUP($G$8,Congés_auto!$R$5:$BR$5,2+N$1),)))),IF($G29=\"Jeudi\",IF(OR($F29=1,$F29=2),VLOOKUP($G$8,Congés_auto!$R$7:$BR$7,2+N$4),IF(OR($F29=3,$F29=4),VLOOKUP($G$8,Congés_auto!$R$7:$BR$7,2+N$3),IF(OR($F29=5,$F29=6),VLOOKUP($G$8,Congés_auto!$R$7:$BR$7,2+N$2),IF(OR($F29=7,$F29=8),VLOOKUP($G$8,Congés_auto!$R$7:$BR$7,2+N$1),)))),0))","v":"2019-04-09"},{"$f":"IF($G29=\"Mardi\",IF(OR($F29=1,$F29=2),VLOOKUP($G$8,Congés_auto!$R$5:$BR$5,2+O$4),IF(OR($F29=3,$F29=4),VLOOKUP($G$8,Congés_auto!$R$5:$BR$5,2+O$3),IF(OR($F29=5,$F29=6),VLOOKUP($G$8,Congés_auto!$R$5:$BR$5,2+O$2),IF(OR($F29=7,$F29=8),VLOOKUP($G$8,Congés_auto!$R$5:$BR$5,2+O$1),)))),IF($G29=\"Jeudi\",IF(OR($F29=1,$F29=2),VLOOKUP($G$8,Congés_auto!$R$7:$BR$7,2+O$4),IF(OR($F29=3,$F29=4),VLOOKUP($G$8,Congés_auto!$R$7:$BR$7,2+O$3),IF(OR($F29=5,$F29=6),VLOOKUP($G$8,Congés_auto!$R$7:$BR$7,2+O$2),IF(OR($F29=7,$F29=8),VLOOKUP($G$8,Congés_auto!$R$7:$BR$7,2+O$1),)))),0))","v":"2019-05-21"},{"$f":"IF($G29=\"Mardi\",IF(OR($F29=1,$F29=2),VLOOKUP($G$8,Congés_auto!$R$5:$BR$5,2+P$4),IF(OR($F29=3,$F29=4),VLOOKUP($G$8,Congés_auto!$R$5:$BR$5,2+P$3),IF(OR($F29=5,$F29=6),VLOOKUP($G$8,Congés_auto!$R$5:$BR$5,2+P$2),IF(OR($F29=7,$F29=8),VLOOKUP($G$8,Congés_auto!$R$5:$BR$5,2+P$1),)))),IF($G29=\"Jeudi\",IF(OR($F29=1,$F29=2),VLOOKUP($G$8,Congés_auto!$R$7:$BR$7,2+P$4),IF(OR($F29=3,$F29=4),VLOOKUP($G$8,Congés_auto!$R$7:$BR$7,2+P$3),IF(OR($F29=5,$F29=6),VLOOKUP($G$8,Congés_auto!$R$7:$BR$7,2+P$2),IF(OR($F29=7,$F29=8),VLOOKUP($G$8,Congés_auto!$R$7:$BR$7,2+P$1),)))),0))","v":"2019-06-18"},{"$f":"IF($G29=\"Mardi\",IF(OR($F29=1,$F29=2),VLOOKUP($G$8,Congés_auto!$R$5:$BR$5,2+Q$4),IF(OR($F29=3,$F29=4),VLOOKUP($G$8,Congés_auto!$R$5:$BR$5,2+Q$3),IF(OR($F29=5,$F29=6),VLOOKUP($G$8,Congés_auto!$R$5:$BR$5,2+Q$2),IF(OR($F29=7,$F29=8),VLOOKUP($G$8,Congés_auto!$R$5:$BR$5,2+Q$1),)))),IF($G29=\"Jeudi\",IF(OR($F29=1,$F29=2),VLOOKUP($G$8,Congés_auto!$R$7:$BR$7,2+Q$4),IF(OR($F29=3,$F29=4),VLOOKUP($G$8,Congés_auto!$R$7:$BR$7,2+Q$3),IF(OR($F29=5,$F29=6),VLOOKUP($G$8,Congés_auto!$R$7:$BR$7,2+Q$2),IF(OR($F29=7,$F29=8),VLOOKUP($G$8,Congés_auto!$R$7:$BR$7,2+Q$1),)))),0))","v":""}]
[null,null,"Julia","2001-03-23",301,7,"Mardi",30172,{"$f":"IF($G30=\"Mardi\",IF(OR($F30=1,$F30=2),VLOOKUP($G$8,Congés_auto!$R$5:$BR$5,2+I$4),IF(OR($F30=3,$F30=4),VLOOKUP($G$8,Congés_auto!$R$5:$BR$5,2+I$3),IF(OR($F30=5,$F30=6),VLOOKUP($G$8,Congés_auto!$R$5:$BR$5,2+I$2),IF(OR($F30=7,$F30=8),VLOOKUP($G$8,Congés_auto!$R$5:$BR$5,2+I$1),)))),IF($G30=\"Jeudi\",IF(OR($F30=1,$F30=2),VLOOKUP($G$8,Congés_auto!$R$7:$BR$7,2+I$4),IF(OR($F30=3,$F30=4),VLOOKUP($G$8,Congés_auto!$R$7:$BR$7,2+I$3),IF(OR($F30=5,$F30=6),VLOOKUP($G$8,Congés_auto!$R$7:$BR$7,2+I$2),IF(OR($F30=7,$F30=8),VLOOKUP($G$8,Congés_auto!$R$7:$BR$7,2+I$1),)))),0))","v":"2018-09-18"},{"$f":"IF($G30=\"Mardi\",IF(OR($F30=1,$F30=2),VLOOKUP($G$8,Congés_auto!$R$5:$BR$5,2+J$4),IF(OR($F30=3,$F30=4),VLOOKUP($G$8,Congés_auto!$R$5:$BR$5,2+J$3),IF(OR($F30=5,$F30=6),VLOOKUP($G$8,Congés_auto!$R$5:$BR$5,2+J$2),IF(OR($F30=7,$F30=8),VLOOKUP($G$8,Congés_auto!$R$5:$BR$5,2+J$1),)))),IF($G30=\"Jeudi\",IF(OR($F30=1,$F30=2),VLOOKUP($G$8,Congés_auto!$R$7:$BR$7,2+J$4),IF(OR($F30=3,$F30=4),VLOOKUP($G$8,Congés_auto!$R$7:$BR$7,2+J$3),IF(OR($F30=5,$F30=6),VLOOKUP($G$8,Congés_auto!$R$7:$BR$7,2+J$2),IF(OR($F30=7,$F30=8),VLOOKUP($G$8,Congés_auto!$R$7:$BR$7,2+J$1),)))),0))","v":"2018-10-30"},{"$f":"IF($G30=\"Mardi\",IF(OR($F30=1,$F30=2),VLOOKUP($G$8,Congés_auto!$R$5:$BR$5,2+K$4),IF(OR($F30=3,$F30=4),VLOOKUP($G$8,Congés_auto!$R$5:$BR$5,2+K$3),IF(OR($F30=5,$F30=6),VLOOKUP($G$8,Congés_auto!$R$5:$BR$5,2+K$2),IF(OR($F30=7,$F30=8),VLOOKUP($G$8,Congés_auto!$R$5:$BR$5,2+K$1),)))),IF($G30=\"Jeudi\",IF(OR($F30=1,$F30=2),VLOOKUP($G$8,Congés_auto!$R$7:$BR$7,2+K$4),IF(OR($F30=3,$F30=4),VLOOKUP($G$8,Congés_auto!$R$7:$BR$7,2+K$3),IF(OR($F30=5,$F30=6),VLOOKUP($G$8,Congés_auto!$R$7:$BR$7,2+K$2),IF(OR($F30=7,$F30=8),VLOOKUP($G$8,Congés_auto!$R$7:$BR$7,2+K$1),)))),0))","v":"2018-11-27"},{"$f":"IF($G30=\"Mardi\",IF(OR($F30=1,$F30=2),VLOOKUP($G$8,Congés_auto!$R$5:$BR$5,2+L$4),IF(OR($F30=3,$F30=4),VLOOKUP($G$8,Congés_auto!$R$5:$BR$5,2+L$3),IF(OR($F30=5,$F30=6),VLOOKUP($G$8,Congés_auto!$R$5:$BR$5,2+L$2),IF(OR($F30=7,$F30=8),VLOOKUP($G$8,Congés_auto!$R$5:$BR$5,2+L$1),)))),IF($G30=\"Jeudi\",IF(OR($F30=1,$F30=2),VLOOKUP($G$8,Congés_auto!$R$7:$BR$7,2+L$4),IF(OR($F30=3,$F30=4),VLOOKUP($G$8,Congés_auto!$R$7:$BR$7,2+L$3),IF(OR($F30=5,$F30=6),VLOOKUP($G$8,Congés_auto!$R$7:$BR$7,2+L$2),IF(OR($F30=7,$F30=8),VLOOKUP($G$8,Congés_auto!$R$7:$BR$7,2+L$1),)))),0))","v":"2019-01-29"},{"$f":"IF($G30=\"Mardi\",IF(OR($F30=1,$F30=2),VLOOKUP($G$8,Congés_auto!$R$5:$BR$5,2+M$4),IF(OR($F30=3,$F30=4),VLOOKUP($G$8,Congés_auto!$R$5:$BR$5,2+M$3),IF(OR($F30=5,$F30=6),VLOOKUP($G$8,Congés_auto!$R$5:$BR$5,2+M$2),IF(OR($F30=7,$F30=8),VLOOKUP($G$8,Congés_auto!$R$5:$BR$5,2+M$1),)))),IF($G30=\"Jeudi\",IF(OR($F30=1,$F30=2),VLOOKUP($G$8,Congés_auto!$R$7:$BR$7,2+M$4),IF(OR($F30=3,$F30=4),VLOOKUP($G$8,Congés_auto!$R$7:$BR$7,2+M$3),IF(OR($F30=5,$F30=6),VLOOKUP($G$8,Congés_auto!$R$7:$BR$7,2+M$2),IF(OR($F30=7,$F30=8),VLOOKUP($G$8,Congés_auto!$R$7:$BR$7,2+M$1),)))),0))","v":"2019-02-26"},{"$f":"IF($G30=\"Mardi\",IF(OR($F30=1,$F30=2),VLOOKUP($G$8,Congés_auto!$R$5:$BR$5,2+N$4),IF(OR($F30=3,$F30=4),VLOOKUP($G$8,Congés_auto!$R$5:$BR$5,2+N$3),IF(OR($F30=5,$F30=6),VLOOKUP($G$8,Congés_auto!$R$5:$BR$5,2+N$2),IF(OR($F30=7,$F30=8),VLOOKUP($G$8,Congés_auto!$R$5:$BR$5,2+N$1),)))),IF($G30=\"Jeudi\",IF(OR($F30=1,$F30=2),VLOOKUP($G$8,Congés_auto!$R$7:$BR$7,2+N$4),IF(OR($F30=3,$F30=4),VLOOKUP($G$8,Congés_auto!$R$7:$BR$7,2+N$3),IF(OR($F30=5,$F30=6),VLOOKUP($G$8,Congés_auto!$R$7:$BR$7,2+N$2),IF(OR($F30=7,$F30=8),VLOOKUP($G$8,Congés_auto!$R$7:$BR$7,2+N$1),)))),0))","v":"2019-04-09"},{"$f":"IF($G30=\"Mardi\",IF(OR($F30=1,$F30=2),VLOOKUP($G$8,Congés_auto!$R$5:$BR$5,2+O$4),IF(OR($F30=3,$F30=4),VLOOKUP($G$8,Congés_auto!$R$5:$BR$5,2+O$3),IF(OR($F30=5,$F30=6),VLOOKUP($G$8,Congés_auto!$R$5:$BR$5,2+O$2),IF(OR($F30=7,$F30=8),VLOOKUP($G$8,Congés_auto!$R$5:$BR$5,2+O$1),)))),IF($G30=\"Jeudi\",IF(OR($F30=1,$F30=2),VLOOKUP($G$8,Congés_auto!$R$7:$BR$7,2+O$4),IF(OR($F30=3,$F30=4),VLOOKUP($G$8,Congés_auto!$R$7:$BR$7,2+O$3),IF(OR($F30=5,$F30=6),VLOOKUP($G$8,Congés_auto!$R$7:$BR$7,2+O$2),IF(OR($F30=7,$F30=8),VLOOKUP($G$8,Congés_auto!$R$7:$BR$7,2+O$1),)))),0))","v":"2019-05-21"},{"$f":"IF($G30=\"Mardi\",IF(OR($F30=1,$F30=2),VLOOKUP($G$8,Congés_auto!$R$5:$BR$5,2+P$4),IF(OR($F30=3,$F30=4),VLOOKUP($G$8,Congés_auto!$R$5:$BR$5,2+P$3),IF(OR($F30=5,$F30=6),VLOOKUP($G$8,Congés_auto!$R$5:$BR$5,2+P$2),IF(OR($F30=7,$F30=8),VLOOKUP($G$8,Congés_auto!$R$5:$BR$5,2+P$1),)))),IF($G30=\"Jeudi\",IF(OR($F30=1,$F30=2),VLOOKUP($G$8,Congés_auto!$R$7:$BR$7,2+P$4),IF(OR($F30=3,$F30=4),VLOOKUP($G$8,Congés_auto!$R$7:$BR$7,2+P$3),IF(OR($F30=5,$F30=6),VLOOKUP($G$8,Congés_auto!$R$7:$BR$7,2+P$2),IF(OR($F30=7,$F30=8),VLOOKUP($G$8,Congés_auto!$R$7:$BR$7,2+P$1),)))),0))","v":"2019-06-18"},{"$f":"IF($G30=\"Mardi\",IF(OR($F30=1,$F30=2),VLOOKUP($G$8,Congés_auto!$R$5:$BR$5,2+Q$4),IF(OR($F30=3,$F30=4),VLOOKUP($G$8,Congés_auto!$R$5:$BR$5,2+Q$3),IF(OR($F30=5,$F30=6),VLOOKUP($G$8,Congés_auto!$R$5:$BR$5,2+Q$2),IF(OR($F30=7,$F30=8),VLOOKUP($G$8,Congés_auto!$R$5:$BR$5,2+Q$1),)))),IF($G30=\"Jeudi\",IF(OR($F30=1,$F30=2),VLOOKUP($G$8,Congés_auto!$R$7:$BR$7,2+Q$4),IF(OR($F30=3,$F30=4),VLOOKUP($G$8,Congés_auto!$R$7:$BR$7,2+Q$3),IF(OR($F30=5,$F30=6),VLOOKUP($G$8,Congés_auto!$R$7:$BR$7,2+Q$2),IF(OR($F30=7,$F30=8),VLOOKUP($G$8,Congés_auto!$R$7:$BR$7,2+Q$1),)))),0))","v":""}]
[{"$nulls":3},"2001-07-11",301,7,"Mardi",30173,{"$f":"IF($G31=\"Mardi\",IF(OR($F31=1,$F31=2),VLOOKUP($G$8,Congés_auto!$R$5:$BR$5,2+I$4),IF(OR($F31=3,$F31=4),VLOOKUP($G$8,Congés_auto!$R$5:$BR$5,2+I$3),IF(OR($F31=5,$F31=6),VLOOKUP($G$8,Congés_auto!$R$5:$BR$5,2+I$2),IF(OR($F31=7,$F31=8),VLOOKUP($G$8,Congés_auto!$R$5:$BR$5,2+I$1),)))),IF($G31=\"Jeudi\",IF(OR($F31=1,$F31=2),VLOOKUP($G$8,Congés_auto!$R$7:$BR$7,2+I$4),IF(OR($F31=3,$F31=4),VLOOKUP($G$8,Congés_auto!$R$7:$BR$7,2+I$3),IF(OR($F31=5,$F31=6),VLOOKUP($G$8,Congés_auto!$R$7:$BR$7,2+I$2),IF(OR($F31=7,$F31=8),VLOOKUP($G$8,Congés_auto!$R$7:$BR$7,2+I$1),)))),0))","v":"2018-09-18"},{"$f":"IF($G31=\"Mardi\",IF(OR($F31=1,$F31=2),VLOOKUP($G$8,Congés_auto!$R$5:$BR$5,2+J$4),IF(OR($F31=3,$F31=4),VLOOKUP($G$8,Congés_auto!$R$5:$BR$5,2+J$3),IF(OR($F31=5,$F31=6),VLOOKUP($G$8,Congés_auto!$R$5:$BR$5,2+J$2),IF(OR($F31=7,$F31=8),VLOOKUP($G$8,Congés_auto!$R$5:$BR$5,2+J$1),)))),IF($G31=\"Jeudi\",IF(OR($F31=1,$F31=2),VLOOKUP($G$8,Congés_auto!$R$7:$BR$7,2+J$4),IF(OR($F31=3,$F31=4),VLOOKUP($G$8,Congés_auto!$R$7:$BR$7,2+J$3),IF(OR($F31=5,$F31=6),VLOOKUP($G$8,Congés_auto!$R$7:$BR$7,2+J$2),IF(OR($F31=7,$F31=8),VLOOKUP($G$8,Congés_auto!$R$7:$BR$7,2+J$1),)))),0))","v":"2018-10-30"},{"$f":"IF($G31=\"Mardi\",IF(OR($F31=1,$F31=2),VLOOKUP($G$8,Congés_auto!$R$5:$BR$5,2+K$4),IF(OR($F31=3,$F31=4),VLOOKUP($G$8,Congés_auto!$R$5:$BR$5,2+K$3),IF(OR($F31=5,$F31=6),VLOOKUP($G$8,Congés_auto!$R$5:$BR$5,2+K$2),IF(OR($F31=7,$F31=8),VLOOKUP($G$8,Congés_auto!$R$5:$BR$5,2+K$1),)))),IF($G31=\"Jeudi\",IF(OR($F31=1,$F31=2),VLOOKUP($G$8,Congés_auto!$R$7:$BR$7,2+K$4),IF(OR($F31=3,$F31=4),VLOOKUP($G$8,Congés_auto!$R$7:$BR$7,2+K$3),IF(OR($F31=5,$F31=6),VLOOKUP($G$8,Congés_auto!$R$7:$BR$7,2+K$2),IF(OR($F31=7,$F31=8),VLOOKUP($G$8,Congés_auto!$R$7:$BR$7,2+K$1),)))),0))","v":"2018-11-27"},{"$f":"IF($G31=\"Mardi\",IF(OR($F31=1,$F31=2),VLOOKUP($G$8,Congés_auto!$R$5:$BR$5,2+L$4),IF(OR($F31=3,$F31=4),VLOOKUP($G$8,Congés_auto!$R$5:$BR$5,2+L$3),IF(OR($F31=5,$F31=6),VLOOKUP($G$8,Congés_auto!$R$5:$BR$5,2+L$2),IF(OR($F31=7,$F31=8),VLOOKUP($G$8,Congés_auto!$R$5:$BR$5,2+L$1),)))),IF($G31=\"Jeudi\",IF(OR($F31=1,$F31=2),VLOOKUP($G$8,Congés_auto!$R$7:$BR$7,2+L$4),IF(OR($F31=3,$F31=4),VLOOKUP($G$8,Congés_auto!$R$7:$BR$7,2+L$3),IF(OR($F31=5,$F31=6),VLOOKUP($G$8,Congés_auto!$R$7:$BR$7,2+L$2),IF(OR($F31=7,$F31=8),VLOOKUP($G$8,Congés_auto!$R$7:$BR$7,2+L$1),)))),0))","v":"2019-01-29"},{"$f":"IF($G31=\"Mardi\",IF(OR($F31=1,$F31=2),VLOOKUP($G$8,Congés_auto!$R$5:$BR$5,2+M$4),IF(OR($F31=3,$F31=4),VLOOKUP($G$8,Congés_auto!$R$5:$BR$5,2+M$3),IF(OR($F31=5,$F31=6),VLOOKUP($G$8,Congés_auto!$R$5:$BR$5,2+M$2),IF(OR($F31=7,$F31=8),VLOOKUP($G$8,Congés_auto!$R$5:$BR$5,2+M$1),)))),IF($G31=\"Jeudi\",IF(OR($F31=1,$F31=2),VLOOKUP($G$8,Congés_auto!$R$7:$BR$7,2+M$4),IF(OR($F31=3,$F31=4),VLOOKUP($G$8,Congés_auto!$R$7:$BR$7,2+M$3),IF(OR($F31=5,$F31=6),VLOOKUP($G$8,Congés_auto!$R$7:$BR$7,2+M$2),IF(OR($F31=7,$F31=8),VLOOKUP($G$8,Congés_auto!$R$7:$BR$7,2+M$1),)))),0))","v":"2019-02-26"},{"$f":"IF($G31=\"Mardi\",IF(OR($F31=1,$F31=2),VLOOKUP($G$8,Congés_auto!$R$5:$BR$5,2+N$4),IF(OR($F31=3,$F31=4),VLOOKUP($G$8,Congés_auto!$R$5:$BR$5,2+N$3),IF(OR($F31=5,$F31=6),VLOOKUP($G$8,Congés_auto!$R$5:$BR$5,2+N$2),IF(OR($F31=7,$F31=8),VLOOKUP($G$8,Congés_auto!$R$5:$BR$5,2+N$1),)))),IF($G31=\"Jeudi\",IF(OR($F31=1,$F31=2),VLOOKUP($G$8,Congés_auto!$R$7:$BR$7,2+N$4),IF(OR($F31=3,$F31=4),VLOOKUP($G$8,Congés_auto!$R$7:$BR$7,2+N$3),IF(OR($F31=5,$F31=6),VLOOKUP($G$8,Congés_auto!$R$7:$BR$7,2+N$2),IF(OR($F31=7,$F31=8),VLOOKUP($G$8,Congés_auto!$R$7:$BR$7,2+N$1),)))),0))","v":"2019-04-09"},{"$f":"IF($G31=\"Mardi\",IF(OR($F31=1,$F31=2),VLOOKUP($G$8,Congés_auto!$R$5:$BR$5,2+O$4),IF(OR($F31=3,$F31=4),VLOOKUP($G$8,Congés_auto!$R$5:$BR$5,2+O$3),IF(OR($F31=5,$F31=6),VLOOKUP($G$8,Congés_auto!$R$5:$BR$5,2+O$2),IF(OR($F31=7,$F31=8),VLOOKUP($G$8,Congés_auto!$R$5:$BR$5,2+O$1),)))),IF($G31=\"Jeudi\",IF(OR($F31=1,$F31=2),VLOOKUP($G$8,Congés_auto!$R$7:$BR$7,2+O$4),IF(OR($F31=3,$F31=4),VLOOKUP($G$8,Congés_auto!$R$7:$BR$7,2+O$3),IF(OR($F31=5,$F31=6),VLOOKUP($G$8,Congés_auto!$R$7:$BR$7,2+O$2),IF(OR($F31=7,$F31=8),VLOOKUP($G$8,Congés_auto!$R$7:$BR$7,2+O$1),)))),0))","v":"2019-05-21"},{"$f":"IF($G31=\"Mardi\",IF(OR($F31=1,$F31=2),VLOOKUP($G$8,Congés_auto!$R$5:$BR$5,2+P$4),IF(OR($F31=3,$F31=4),VLOOKUP($G$8,Congés_auto!$R$5:$BR$5,2+P$3),IF(OR($F31=5,$F31=6),VLOOKUP($G$8,Congés_auto!$R$5:$BR$5,2+P$2),IF(OR($F31=7,$F31=8),VLOOKUP($G$8,Congés_auto!$R$5:$BR$5,2+P$1),)))),IF($G31=\"Jeudi\",IF(OR($F31=1,$F31=2),VLOOKUP($G$8,Congés_auto!$R$7:$BR$7,2+P$4),IF(OR($F31=3,$F31=4),VLOOKUP($G$8,Congés_auto!$R$7:$BR$7,2+P$3),IF(OR($F31=5,$F31=6),VLOOKUP($G$8,Congés_auto!$R$7:$BR$7,2+P$2),IF(OR($F31=7,$F31=8),VLOOKUP($G$8,Congés_auto!$R$7:$BR$7,2+P$1),)))),0))","v":"2019-06-18"},{"$f":"IF($G31=\"Mardi\",IF(OR($F31=1,$F31=2),VLOOKUP($G$8,Congés_auto!$R$5:$BR$5,2+Q$4),IF(OR($F31=3,$F31=4),VLOOKUP($G$8,Congés_auto!$R$5:$BR$5,2+Q$3),IF(OR($F31=5,$F31=6),VLOOKUP($G$8,Congés_auto!$R$5:$BR$5,2+Q$2),IF(OR($F31=7,$F31=8),VLOOKUP($G$8,Congés_auto!$R$5:$BR$5,2+Q$1),)))),IF($G31=\"Jeudi\",IF(OR($F31=1,$F31=2),VLOOKUP($G$8,Congés_auto!$R$7:$BR$7,2+Q$4),IF(OR($F31=3,$F31=4),VLOOKUP($G$8,Congés_auto!$R$7:$BR$7,2+Q$3),IF(OR($F31=5,$F31=6),VLOOKUP($G$8,Congés_auto!$R$7:$BR$7,2+Q$2),IF(OR($F31=7,$F31=8),VLOOKUP($G$8,Congés_auto!$R$7:$BR$7,2+Q$1),)))),0))","v":""}]
[{"$nulls":3},"2000-07-28",301,8,"Mardi","30180",{"$f":"IF($G32=\"Mardi\",IF(OR($F32=1,$F32=2),VLOOKUP($G$8,Congés_auto!$R$5:$BR$5,2+I$4),IF(OR($F32=3,$F32=4),VLOOKUP($G$8,Congés_auto!$R$5:$BR$5,2+I$3),IF(OR($F32=5,$F32=6),VLOOKUP($G$8,Congés_auto!$R$5:$BR$5,2+I$2),IF(OR($F32=7,$F32=8),VLOOKUP($G$8,Congés_auto!$R$5:$BR$5,2+I$1),)))),IF($G32=\"Jeudi\",IF(OR($F32=1,$F32=2),VLOOKUP($G$8,Congés_auto!$R$7:$BR$7,2+I$4),IF(OR($F32=3,$F32=4),VLOOKUP($G$8,Congés_auto!$R$7:$BR$7,2+I$3),IF(OR($F32=5,$F32=6),VLOOKUP($G$8,Congés_auto!$R$7:$BR$7,2+I$2),IF(OR($F32=7,$F32=8),VLOOKUP($G$8,Congés_auto!$R$7:$BR$7,2+I$1),)))),0))","v":"2018-09-18"},{"$f":"IF($G32=\"Mardi\",IF(OR($F32=1,$F32=2),VLOOKUP($G$8,Congés_auto!$R$5:$BR$5,2+J$4),IF(OR($F32=3,$F32=4),VLOOKUP($G$8,Congés_auto!$R$5:$BR$5,2+J$3),IF(OR($F32=5,$F32=6),VLOOKUP($G$8,Congés_auto!$R$5:$BR$5,2+J$2),IF(OR($F32=7,$F32=8),VLOOKUP($G$8,Congés_auto!$R$5:$BR$5,2+J$1),)))),IF($G32=\"Jeudi\",IF(OR($F32=1,$F32=2),VLOOKUP($G$8,Congés_auto!$R$7:$BR$7,2+J$4),IF(OR($F32=3,$F32=4),VLOOKUP($G$8,Congés_auto!$R$7:$BR$7,2+J$3),IF(OR($F32=5,$F32=6),VLOOKUP($G$8,Congés_auto!$R$7:$BR$7,2+J$2),IF(OR($F32=7,$F32=8),VLOOKUP($G$8,Congés_auto!$R$7:$BR$7,2+J$1),)))),0))","v":"2018-10-30"},{"$f":"IF($G32=\"Mardi\",IF(OR($F32=1,$F32=2),VLOOKUP($G$8,Congés_auto!$R$5:$BR$5,2+K$4),IF(OR($F32=3,$F32=4),VLOOKUP($G$8,Congés_auto!$R$5:$BR$5,2+K$3),IF(OR($F32=5,$F32=6),VLOOKUP($G$8,Congés_auto!$R$5:$BR$5,2+K$2),IF(OR($F32=7,$F32=8),VLOOKUP($G$8,Congés_auto!$R$5:$BR$5,2+K$1),)))),IF($G32=\"Jeudi\",IF(OR($F32=1,$F32=2),VLOOKUP($G$8,Congés_auto!$R$7:$BR$7,2+K$4),IF(OR($F32=3,$F32=4),VLOOKUP($G$8,Congés_auto!$R$7:$BR$7,2+K$3),IF(OR($F32=5,$F32=6),VLOOKUP($G$8,Congés_auto!$R$7:$BR$7,2+K$2),IF(OR($F32=7,$F32=8),VLOOKUP($G$8,Congés_auto!$R$7:$BR$7,2+K$1),)))),0))","v":"2018-11-27"},{"$f":"IF($G32=\"Mardi\",IF(OR($F32=1,$F32=2),VLOOKUP($G$8,Congés_auto!$R$5:$BR$5,2+L$4),IF(OR($F32=3,$F32=4),VLOOKUP($G$8,Congés_auto!$R$5:$BR$5,2+L$3),IF(OR($F32=5,$F32=6),VLOOKUP($G$8,Congés_auto!$R$5:$BR$5,2+L$2),IF(OR($F32=7,$F32=8),VLOOKUP($G$8,Congés_auto!$R$5:$BR$5,2+L$1),)))),IF($G32=\"Jeudi\",IF(OR($F32=1,$F32=2),VLOOKUP($G$8,Congés_auto!$R$7:$BR$7,2+L$4),IF(OR($F32=3,$F32=4),VLOOKUP($G$8,Congés_auto!$R$7:$BR$7,2+L$3),IF(OR($F32=5,$F32=6),VLOOKUP($G$8,Congés_auto!$R$7:$BR$7,2+L$2),IF(OR($F32=7,$F32=8),VLOOKUP($G$8,Congés_auto!$R$7:$BR$7,2+L$1),)))),0))","v":"2019-01-29"},{"$f":"IF($G32=\"Mardi\",IF(OR($F32=1,$F32=2),VLOOKUP($G$8,Congés_auto!$R$5:$BR$5,2+M$4),IF(OR($F32=3,$F32=4),VLOOKUP($G$8,Congés_auto!$R$5:$BR$5,2+M$3),IF(OR($F32=5,$F32=6),VLOOKUP($G$8,Congés_auto!$R$5:$BR$5,2+M$2),IF(OR($F32=7,$F32=8),VLOOKUP($G$8,Congés_auto!$R$5:$BR$5,2+M$1),)))),IF($G32=\"Jeudi\",IF(OR($F32=1,$F32=2),VLOOKUP($G$8,Congés_auto!$R$7:$BR$7,2+M$4),IF(OR($F32=3,$F32=4),VLOOKUP($G$8,Congés_auto!$R$7:$BR$7,2+M$3),IF(OR($F32=5,$F32=6),VLOOKUP($G$8,Congés_auto!$R$7:$BR$7,2+M$2),IF(OR($F32=7,$F32=8),VLOOKUP($G$8,Congés_auto!$R$7:$BR$7,2+M$1),)))),0))","v":"2019-02-26"},{"$f":"IF($G32=\"Mardi\",IF(OR($F32=1,$F32=2),VLOOKUP($G$8,Congés_auto!$R$5:$BR$5,2+N$4),IF(OR($F32=3,$F32=4),VLOOKUP($G$8,Congés_auto!$R$5:$BR$5,2+N$3),IF(OR($F32=5,$F32=6),VLOOKUP($G$8,Congés_auto!$R$5:$BR$5,2+N$2),IF(OR($F32=7,$F32=8),VLOOKUP($G$8,Congés_auto!$R$5:$BR$5,2+N$1),)))),IF($G32=\"Jeudi\",IF(OR($F32=1,$F32=2),VLOOKUP($G$8,Congés_auto!$R$7:$BR$7,2+N$4),IF(OR($F32=3,$F32=4),VLOOKUP($G$8,Congés_auto!$R$7:$BR$7,2+N$3),IF(OR($F32=5,$F32=6),VLOOKUP($G$8,Congés_auto!$R$7:$BR$7,2+N$2),IF(OR($F32=7,$F32=8),VLOOKUP($G$8,Congés_auto!$R$7:$BR$7,2+N$1),)))),0))","v":"2019-04-09"},{"$f":"IF($G32=\"Mardi\",IF(OR($F32=1,$F32=2),VLOOKUP($G$8,Congés_auto!$R$5:$BR$5,2+O$4),IF(OR($F32=3,$F32=4),VLOOKUP($G$8,Congés_auto!$R$5:$BR$5,2+O$3),IF(OR($F32=5,$F32=6),VLOOKUP($G$8,Congés_auto!$R$5:$BR$5,2+O$2),IF(OR($F32=7,$F32=8),VLOOKUP($G$8,Congés_auto!$R$5:$BR$5,2+O$1),)))),IF($G32=\"Jeudi\",IF(OR($F32=1,$F32=2),VLOOKUP($G$8,Congés_auto!$R$7:$BR$7,2+O$4),IF(OR($F32=3,$F32=4),VLOOKUP($G$8,Congés_auto!$R$7:$BR$7,2+O$3),IF(OR($F32=5,$F32=6),VLOOKUP($G$8,Congés_auto!$R$7:$BR$7,2+O$2),IF(OR($F32=7,$F32=8),VLOOKUP($G$8,Congés_auto!$R$7:$BR$7,2+O$1),)))),0))","v":"2019-05-21"},{"$f":"IF($G32=\"Mardi\",IF(OR($F32=1,$F32=2),VLOOKUP($G$8,Congés_auto!$R$5:$BR$5,2+P$4),IF(OR($F32=3,$F32=4),VLOOKUP($G$8,Congés_auto!$R$5:$BR$5,2+P$3),IF(OR($F32=5,$F32=6),VLOOKUP($G$8,Congés_auto!$R$5:$BR$5,2+P$2),IF(OR($F32=7,$F32=8),VLOOKUP($G$8,Congés_auto!$R$5:$BR$5,2+P$1),)))),IF($G32=\"Jeudi\",IF(OR($F32=1,$F32=2),VLOOKUP($G$8,Congés_auto!$R$7:$BR$7,2+P$4),IF(OR($F32=3,$F32=4),VLOOKUP($G$8,Congés_auto!$R$7:$BR$7,2+P$3),IF(OR($F32=5,$F32=6),VLOOKUP($G$8,Congés_auto!$R$7:$BR$7,2+P$2),IF(OR($F32=7,$F32=8),VLOOKUP($G$8,Congés_auto!$R$7:$BR$7,2+P$1),)))),0))","v":"2019-06-18"},{"$f":"IF($G32=\"Mardi\",IF(OR($F32=1,$F32=2),VLOOKUP($G$8,Congés_auto!$R$5:$BR$5,2+Q$4),IF(OR($F32=3,$F32=4),VLOOKUP($G$8,Congés_auto!$R$5:$BR$5,2+Q$3),IF(OR($F32=5,$F32=6),VLOOKUP($G$8,Congés_auto!$R$5:$BR$5,2+Q$2),IF(OR($F32=7,$F32=8),VLOOKUP($G$8,Congés_auto!$R$5:$BR$5,2+Q$1),)))),IF($G32=\"Jeudi\",IF(OR($F32=1,$F32=2),VLOOKUP($G$8,Congés_auto!$R$7:$BR$7,2+Q$4),IF(OR($F32=3,$F32=4),VLOOKUP($G$8,Congés_auto!$R$7:$BR$7,2+Q$3),IF(OR($F32=5,$F32=6),VLOOKUP($G$8,Congés_auto!$R$7:$BR$7,2+Q$2),IF(OR($F32=7,$F32=8),VLOOKUP($G$8,Congés_auto!$R$7:$BR$7,2+Q$1),)))),0))","v":""}]
[{"$nulls":3},"2001-10-15",301,8,"Mardi",30181,{"$f":"IF($G33=\"Mardi\",IF(OR($F33=1,$F33=2),VLOOKUP($G$8,Congés_auto!$R$5:$BR$5,2+I$4),IF(OR($F33=3,$F33=4),VLOOKUP($G$8,Congés_auto!$R$5:$BR$5,2+I$3),IF(OR($F33=5,$F33=6),VLOOKUP($G$8,Congés_auto!$R$5:$BR$5,2+I$2),IF(OR($F33=7,$F33=8),VLOOKUP($G$8,Congés_auto!$R$5:$BR$5,2+I$1),)))),IF($G33=\"Jeudi\",IF(OR($F33=1,$F33=2),VLOOKUP($G$8,Congés_auto!$R$7:$BR$7,2+I$4),IF(OR($F33=3,$F33=4),VLOOKUP($G$8,Congés_auto!$R$7:$BR$7,2+I$3),IF(OR($F33=5,$F33=6),VLOOKUP($G$8,Congés_auto!$R$7:$BR$7,2+I$2),IF(OR($F33=7,$F33=8),VLOOKUP($G$8,Congés_auto!$R$7:$BR$7,2+I$1),)))),0))","v":"2018-09-18"},{"$f":"IF($G33=\"Mardi\",IF(OR($F33=1,$F33=2),VLOOKUP($G$8,Congés_auto!$R$5:$BR$5,2+J$4),IF(OR($F33=3,$F33=4),VLOOKUP($G$8,Congés_auto!$R$5:$BR$5,2+J$3),IF(OR($F33=5,$F33=6),VLOOKUP($G$8,Congés_auto!$R$5:$BR$5,2+J$2),IF(OR($F33=7,$F33=8),VLOOKUP($G$8,Congés_auto!$R$5:$BR$5,2+J$1),)))),IF($G33=\"Jeudi\",IF(OR($F33=1,$F33=2),VLOOKUP($G$8,Congés_auto!$R$7:$BR$7,2+J$4),IF(OR($F33=3,$F33=4),VLOOKUP($G$8,Congés_auto!$R$7:$BR$7,2+J$3),IF(OR($F33=5,$F33=6),VLOOKUP($G$8,Congés_auto!$R$7:$BR$7,2+J$2),IF(OR($F33=7,$F33=8),VLOOKUP($G$8,Congés_auto!$R$7:$BR$7,2+J$1),)))),0))","v":"2018-10-30"},{"$f":"IF($G33=\"Mardi\",IF(OR($F33=1,$F33=2),VLOOKUP($G$8,Congés_auto!$R$5:$BR$5,2+K$4),IF(OR($F33=3,$F33=4),VLOOKUP($G$8,Congés_auto!$R$5:$BR$5,2+K$3),IF(OR($F33=5,$F33=6),VLOOKUP($G$8,Congés_auto!$R$5:$BR$5,2+K$2),IF(OR($F33=7,$F33=8),VLOOKUP($G$8,Congés_auto!$R$5:$BR$5,2+K$1),)))),IF($G33=\"Jeudi\",IF(OR($F33=1,$F33=2),VLOOKUP($G$8,Congés_auto!$R$7:$BR$7,2+K$4),IF(OR($F33=3,$F33=4),VLOOKUP($G$8,Congés_auto!$R$7:$BR$7,2+K$3),IF(OR($F33=5,$F33=6),VLOOKUP($G$8,Congés_auto!$R$7:$BR$7,2+K$2),IF(OR($F33=7,$F33=8),VLOOKUP($G$8,Congés_auto!$R$7:$BR$7,2+K$1),)))),0))","v":"2018-11-27"},{"$f":"IF($G33=\"Mardi\",IF(OR($F33=1,$F33=2),VLOOKUP($G$8,Congés_auto!$R$5:$BR$5,2+L$4),IF(OR($F33=3,$F33=4),VLOOKUP($G$8,Congés_auto!$R$5:$BR$5,2+L$3),IF(OR($F33=5,$F33=6),VLOOKUP($G$8,Congés_auto!$R$5:$BR$5,2+L$2),IF(OR($F33=7,$F33=8),VLOOKUP($G$8,Congés_auto!$R$5:$BR$5,2+L$1),)))),IF($G33=\"Jeudi\",IF(OR($F33=1,$F33=2),VLOOKUP($G$8,Congés_auto!$R$7:$BR$7,2+L$4),IF(OR($F33=3,$F33=4),VLOOKUP($G$8,Congés_auto!$R$7:$BR$7,2+L$3),IF(OR($F33=5,$F33=6),VLOOKUP($G$8,Congés_auto!$R$7:$BR$7,2+L$2),IF(OR($F33=7,$F33=8),VLOOKUP($G$8,Congés_auto!$R$7:$BR$7,2+L$1),)))),0))","v":"2019-01-29"},{"$f":"IF($G33=\"Mardi\",IF(OR($F33=1,$F33=2),VLOOKUP($G$8,Congés_auto!$R$5:$BR$5,2+M$4),IF(OR($F33=3,$F33=4),VLOOKUP($G$8,Congés_auto!$R$5:$BR$5,2+M$3),IF(OR($F33=5,$F33=6),VLOOKUP($G$8,Congés_auto!$R$5:$BR$5,2+M$2),IF(OR($F33=7,$F33=8),VLOOKUP($G$8,Congés_auto!$R$5:$BR$5,2+M$1),)))),IF($G33=\"Jeudi\",IF(OR($F33=1,$F33=2),VLOOKUP($G$8,Congés_auto!$R$7:$BR$7,2+M$4),IF(OR($F33=3,$F33=4),VLOOKUP($G$8,Congés_auto!$R$7:$BR$7,2+M$3),IF(OR($F33=5,$F33=6),VLOOKUP($G$8,Congés_auto!$R$7:$BR$7,2+M$2),IF(OR($F33=7,$F33=8),VLOOKUP($G$8,Congés_auto!$R$7:$BR$7,2+M$1),)))),0))","v":"2019-02-26"},{"$f":"IF($G33=\"Mardi\",IF(OR($F33=1,$F33=2),VLOOKUP($G$8,Congés_auto!$R$5:$BR$5,2+N$4),IF(OR($F33=3,$F33=4),VLOOKUP($G$8,Congés_auto!$R$5:$BR$5,2+N$3),IF(OR($F33=5,$F33=6),VLOOKUP($G$8,Congés_auto!$R$5:$BR$5,2+N$2),IF(OR($F33=7,$F33=8),VLOOKUP($G$8,Congés_auto!$R$5:$BR$5,2+N$1),)))),IF($G33=\"Jeudi\",IF(OR($F33=1,$F33=2),VLOOKUP($G$8,Congés_auto!$R$7:$BR$7,2+N$4),IF(OR($F33=3,$F33=4),VLOOKUP($G$8,Congés_auto!$R$7:$BR$7,2+N$3),IF(OR($F33=5,$F33=6),VLOOKUP($G$8,Congés_auto!$R$7:$BR$7,2+N$2),IF(OR($F33=7,$F33=8),VLOOKUP($G$8,Congés_auto!$R$7:$BR$7,2+N$1),)))),0))","v":"2019-04-09"},{"$f":"IF($G33=\"Mardi\",IF(OR($F33=1,$F33=2),VLOOKUP($G$8,Congés_auto!$R$5:$BR$5,2+O$4),IF(OR($F33=3,$F33=4),VLOOKUP($G$8,Congés_auto!$R$5:$BR$5,2+O$3),IF(OR($F33=5,$F33=6),VLOOKUP($G$8,Congés_auto!$R$5:$BR$5,2+O$2),IF(OR($F33=7,$F33=8),VLOOKUP($G$8,Congés_auto!$R$5:$BR$5,2+O$1),)))),IF($G33=\"Jeudi\",IF(OR($F33=1,$F33=2),VLOOKUP($G$8,Congés_auto!$R$7:$BR$7,2+O$4),IF(OR($F33=3,$F33=4),VLOOKUP($G$8,Congés_auto!$R$7:$BR$7,2+O$3),IF(OR($F33=5,$F33=6),VLOOKUP($G$8,Congés_auto!$R$7:$BR$7,2+O$2),IF(OR($F33=7,$F33=8),VLOOKUP($G$8,Congés_auto!$R$7:$BR$7,2+O$1),)))),0))","v":"2019-05-21"},{"$f":"IF($G33=\"Mardi\",IF(OR($F33=1,$F33=2),VLOOKUP($G$8,Congés_auto!$R$5:$BR$5,2+P$4),IF(OR($F33=3,$F33=4),VLOOKUP($G$8,Congés_auto!$R$5:$BR$5,2+P$3),IF(OR($F33=5,$F33=6),VLOOKUP($G$8,Congés_auto!$R$5:$BR$5,2+P$2),IF(OR($F33=7,$F33=8),VLOOKUP($G$8,Congés_auto!$R$5:$BR$5,2+P$1),)))),IF($G33=\"Jeudi\",IF(OR($F33=1,$F33=2),VLOOKUP($G$8,Congés_auto!$R$7:$BR$7,2+P$4),IF(OR($F33=3,$F33=4),VLOOKUP($G$8,Congés_auto!$R$7:$BR$7,2+P$3),IF(OR($F33=5,$F33=6),VLOOKUP($G$8,Congés_auto!$R$7:$BR$7,2+P$2),IF(OR($F33=7,$F33=8),VLOOKUP($G$8,Congés_auto!$R$7:$BR$7,2+P$1),)))),0))","v":"2019-06-18"},{"$f":"IF($G33=\"Mardi\",IF(OR($F33=1,$F33=2),VLOOKUP($G$8,Congés_auto!$R$5:$BR$5,2+Q$4),IF(OR($F33=3,$F33=4),VLOOKUP($G$8,Congés_auto!$R$5:$BR$5,2+Q$3),IF(OR($F33=5,$F33=6),VLOOKUP($G$8,Congés_auto!$R$5:$BR$5,2+Q$2),IF(OR($F33=7,$F33=8),VLOOKUP($G$8,Congés_auto!$R$5:$BR$5,2+Q$1),)))),IF($G33=\"Jeudi\",IF(OR($F33=1,$F33=2),VLOOKUP($G$8,Congés_auto!$R$7:$BR$7,2+Q$4),IF(OR($F33=3,$F33=4),VLOOKUP($G$8,Congés_auto!$R$7:$BR$7,2+Q$3),IF(OR($F33=5,$F33=6),VLOOKUP($G$8,Congés_auto!$R$7:$BR$7,2+Q$2),IF(OR($F33=7,$F33=8),VLOOKUP($G$8,Congés_auto!$R$7:$BR$7,2+Q$1),)))),0))","v":""}]
[null,null,"Yogana","2001-07-04",301,8,"Mardi",30182,{"$f":"IF($G34=\"Mardi\",IF(OR($F34=1,$F34=2),VLOOKUP($G$8,Congés_auto!$R$5:$BR$5,2+I$4),IF(OR($F34=3,$F34=4),VLOOKUP($G$8,Congés_auto!$R$5:$BR$5,2+I$3),IF(OR($F34=5,$F34=6),VLOOKUP($G$8,Congés_auto!$R$5:$BR$5,2+I$2),IF(OR($F34=7,$F34=8),VLOOKUP($G$8,Congés_auto!$R$5:$BR$5,2+I$1),)))),IF($G34=\"Jeudi\",IF(OR($F34=1,$F34=2),VLOOKUP($G$8,Congés_auto!$R$7:$BR$7,2+I$4),IF(OR($F34=3,$F34=4),VLOOKUP($G$8,Congés_auto!$R$7:$BR$7,2+I$3),IF(OR($F34=5,$F34=6),VLOOKUP($G$8,Congés_auto!$R$7:$BR$7,2+I$2),IF(OR($F34=7,$F34=8),VLOOKUP($G$8,Congés_auto!$R$7:$BR$7,2+I$1),)))),0))","v":"2018-09-18"},{"$f":"IF($G34=\"Mardi\",IF(OR($F34=1,$F34=2),VLOOKUP($G$8,Congés_auto!$R$5:$BR$5,2+J$4),IF(OR($F34=3,$F34=4),VLOOKUP($G$8,Congés_auto!$R$5:$BR$5,2+J$3),IF(OR($F34=5,$F34=6),VLOOKUP($G$8,Congés_auto!$R$5:$BR$5,2+J$2),IF(OR($F34=7,$F34=8),VLOOKUP($G$8,Congés_auto!$R$5:$BR$5,2+J$1),)))),IF($G34=\"Jeudi\",IF(OR($F34=1,$F34=2),VLOOKUP($G$8,Congés_auto!$R$7:$BR$7,2+J$4),IF(OR($F34=3,$F34=4),VLOOKUP($G$8,Congés_auto!$R$7:$BR$7,2+J$3),IF(OR($F34=5,$F34=6),VLOOKUP($G$8,Congés_auto!$R$7:$BR$7,2+J$2),IF(OR($F34=7,$F34=8),VLOOKUP($G$8,Congés_auto!$R$7:$BR$7,2+J$1),)))),0))","v":"2018-10-30"},{"$f":"IF($G34=\"Mardi\",IF(OR($F34=1,$F34=2),VLOOKUP($G$8,Congés_auto!$R$5:$BR$5,2+K$4),IF(OR($F34=3,$F34=4),VLOOKUP($G$8,Congés_auto!$R$5:$BR$5,2+K$3),IF(OR($F34=5,$F34=6),VLOOKUP($G$8,Congés_auto!$R$5:$BR$5,2+K$2),IF(OR($F34=7,$F34=8),VLOOKUP($G$8,Congés_auto!$R$5:$BR$5,2+K$1),)))),IF($G34=\"Jeudi\",IF(OR($F34=1,$F34=2),VLOOKUP($G$8,Congés_auto!$R$7:$BR$7,2+K$4),IF(OR($F34=3,$F34=4),VLOOKUP($G$8,Congés_auto!$R$7:$BR$7,2+K$3),IF(OR($F34=5,$F34=6),VLOOKUP($G$8,Congés_auto!$R$7:$BR$7,2+K$2),IF(OR($F34=7,$F34=8),VLOOKUP($G$8,Congés_auto!$R$7:$BR$7,2+K$1),)))),0))","v":"2018-11-27"},{"$f":"IF($G34=\"Mardi\",IF(OR($F34=1,$F34=2),VLOOKUP($G$8,Congés_auto!$R$5:$BR$5,2+L$4),IF(OR($F34=3,$F34=4),VLOOKUP($G$8,Congés_auto!$R$5:$BR$5,2+L$3),IF(OR($F34=5,$F34=6),VLOOKUP($G$8,Congés_auto!$R$5:$BR$5,2+L$2),IF(OR($F34=7,$F34=8),VLOOKUP($G$8,Congés_auto!$R$5:$BR$5,2+L$1),)))),IF($G34=\"Jeudi\",IF(OR($F34=1,$F34=2),VLOOKUP($G$8,Congés_auto!$R$7:$BR$7,2+L$4),IF(OR($F34=3,$F34=4),VLOOKUP($G$8,Congés_auto!$R$7:$BR$7,2+L$3),IF(OR($F34=5,$F34=6),VLOOKUP($G$8,Congés_auto!$R$7:$BR$7,2+L$2),IF(OR($F34=7,$F34=8),VLOOKUP($G$8,Congés_auto!$R$7:$BR$7,2+L$1),)))),0))","v":"2019-01-29"},{"$f":"IF($G34=\"Mardi\",IF(OR($F34=1,$F34=2),VLOOKUP($G$8,Congés_auto!$R$5:$BR$5,2+M$4),IF(OR($F34=3,$F34=4),VLOOKUP($G$8,Congés_auto!$R$5:$BR$5,2+M$3),IF(OR($F34=5,$F34=6),VLOOKUP($G$8,Congés_auto!$R$5:$BR$5,2+M$2),IF(OR($F34=7,$F34=8),VLOOKUP($G$8,Congés_auto!$R$5:$BR$5,2+M$1),)))),IF($G34=\"Jeudi\",IF(OR($F34=1,$F34=2),VLOOKUP($G$8,Congés_auto!$R$7:$BR$7,2+M$4),IF(OR($F34=3,$F34=4),VLOOKUP($G$8,Congés_auto!$R$7:$BR$7,2+M$3),IF(OR($F34=5,$F34=6),VLOOKUP($G$8,Congés_auto!$R$7:$BR$7,2+M$2),IF(OR($F34=7,$F34=8),VLOOKUP($G$8,Congés_auto!$R$7:$BR$7,2+M$1),)))),0))","v":"2019-02-26"},{"$f":"IF($G34=\"Mardi\",IF(OR($F34=1,$F34=2),VLOOKUP($G$8,Congés_auto!$R$5:$BR$5,2+N$4),IF(OR($F34=3,$F34=4),VLOOKUP($G$8,Congés_auto!$R$5:$BR$5,2+N$3),IF(OR($F34=5,$F34=6),VLOOKUP($G$8,Congés_auto!$R$5:$BR$5,2+N$2),IF(OR($F34=7,$F34=8),VLOOKUP($G$8,Congés_auto!$R$5:$BR$5,2+N$1),)))),IF($G34=\"Jeudi\",IF(OR($F34=1,$F34=2),VLOOKUP($G$8,Congés_auto!$R$7:$BR$7,2+N$4),IF(OR($F34=3,$F34=4),VLOOKUP($G$8,Congés_auto!$R$7:$BR$7,2+N$3),IF(OR($F34=5,$F34=6),VLOOKUP($G$8,Congés_auto!$R$7:$BR$7,2+N$2),IF(OR($F34=7,$F34=8),VLOOKUP($G$8,Congés_auto!$R$7:$BR$7,2+N$1),)))),0))","v":"2019-04-09"},{"$f":"IF($G34=\"Mardi\",IF(OR($F34=1,$F34=2),VLOOKUP($G$8,Congés_auto!$R$5:$BR$5,2+O$4),IF(OR($F34=3,$F34=4),VLOOKUP($G$8,Congés_auto!$R$5:$BR$5,2+O$3),IF(OR($F34=5,$F34=6),VLOOKUP($G$8,Congés_auto!$R$5:$BR$5,2+O$2),IF(OR($F34=7,$F34=8),VLOOKUP($G$8,Congés_auto!$R$5:$BR$5,2+O$1),)))),IF($G34=\"Jeudi\",IF(OR($F34=1,$F34=2),VLOOKUP($G$8,Congés_auto!$R$7:$BR$7,2+O$4),IF(OR($F34=3,$F34=4),VLOOKUP($G$8,Congés_auto!$R$7:$BR$7,2+O$3),IF(OR($F34=5,$F34=6),VLOOKUP($G$8,Congés_auto!$R$7:$BR$7,2+O$2),IF(OR($F34=7,$F34=8),VLOOKUP($G$8,Congés_auto!$R$7:$BR$7,2+O$1),)))),0))","v":"2019-05-21"},{"$f":"IF($G34=\"Mardi\",IF(OR($F34=1,$F34=2),VLOOKUP($G$8,Congés_auto!$R$5:$BR$5,2+P$4),IF(OR($F34=3,$F34=4),VLOOKUP($G$8,Congés_auto!$R$5:$BR$5,2+P$3),IF(OR($F34=5,$F34=6),VLOOKUP($G$8,Congés_auto!$R$5:$BR$5,2+P$2),IF(OR($F34=7,$F34=8),VLOOKUP($G$8,Congés_auto!$R$5:$BR$5,2+P$1),)))),IF($G34=\"Jeudi\",IF(OR($F34=1,$F34=2),VLOOKUP($G$8,Congés_auto!$R$7:$BR$7,2+P$4),IF(OR($F34=3,$F34=4),VLOOKUP($G$8,Congés_auto!$R$7:$BR$7,2+P$3),IF(OR($F34=5,$F34=6),VLOOKUP($G$8,Congés_auto!$R$7:$BR$7,2+P$2),IF(OR($F34=7,$F34=8),VLOOKUP($G$8,Congés_auto!$R$7:$BR$7,2+P$1),)))),0))","v":"2019-06-18"},{"$f":"IF($G34=\"Mardi\",IF(OR($F34=1,$F34=2),VLOOKUP($G$8,Congés_auto!$R$5:$BR$5,2+Q$4),IF(OR($F34=3,$F34=4),VLOOKUP($G$8,Congés_auto!$R$5:$BR$5,2+Q$3),IF(OR($F34=5,$F34=6),VLOOKUP($G$8,Congés_auto!$R$5:$BR$5,2+Q$2),IF(OR($F34=7,$F34=8),VLOOKUP($G$8,Congés_auto!$R$5:$BR$5,2+Q$1),)))),IF($G34=\"Jeudi\",IF(OR($F34=1,$F34=2),VLOOKUP($G$8,Congés_auto!$R$7:$BR$7,2+Q$4),IF(OR($F34=3,$F34=4),VLOOKUP($G$8,Congés_auto!$R$7:$BR$7,2+Q$3),IF(OR($F34=5,$F34=6),VLOOKUP($G$8,Congés_auto!$R$7:$BR$7,2+Q$2),IF(OR($F34=7,$F34=8),VLOOKUP($G$8,Congés_auto!$R$7:$BR$7,2+Q$1),)))),0))","v":""}]
[null,null,"Ardhan","2001-09-05",301,8,"Mardi",30183,{"$f":"IF($G35=\"Mardi\",IF(OR($F35=1,$F35=2),VLOOKUP($G$8,Congés_auto!$R$5:$BR$5,2+I$4),IF(OR($F35=3,$F35=4),VLOOKUP($G$8,Congés_auto!$R$5:$BR$5,2+I$3),IF(OR($F35=5,$F35=6),VLOOKUP($G$8,Congés_auto!$R$5:$BR$5,2+I$2),IF(OR($F35=7,$F35=8),VLOOKUP($G$8,Congés_auto!$R$5:$BR$5,2+I$1),)))),IF($G35=\"Jeudi\",IF(OR($F35=1,$F35=2),VLOOKUP($G$8,Congés_auto!$R$7:$BR$7,2+I$4),IF(OR($F35=3,$F35=4),VLOOKUP($G$8,Congés_auto!$R$7:$BR$7,2+I$3),IF(OR($F35=5,$F35=6),VLOOKUP($G$8,Congés_auto!$R$7:$BR$7,2+I$2),IF(OR($F35=7,$F35=8),VLOOKUP($G$8,Congés_auto!$R$7:$BR$7,2+I$1),)))),0))","v":"2018-09-18"},{"$f":"IF($G35=\"Mardi\",IF(OR($F35=1,$F35=2),VLOOKUP($G$8,Congés_auto!$R$5:$BR$5,2+J$4),IF(OR($F35=3,$F35=4),VLOOKUP($G$8,Congés_auto!$R$5:$BR$5,2+J$3),IF(OR($F35=5,$F35=6),VLOOKUP($G$8,Congés_auto!$R$5:$BR$5,2+J$2),IF(OR($F35=7,$F35=8),VLOOKUP($G$8,Congés_auto!$R$5:$BR$5,2+J$1),)))),IF($G35=\"Jeudi\",IF(OR($F35=1,$F35=2),VLOOKUP($G$8,Congés_auto!$R$7:$BR$7,2+J$4),IF(OR($F35=3,$F35=4),VLOOKUP($G$8,Congés_auto!$R$7:$BR$7,2+J$3),IF(OR($F35=5,$F35=6),VLOOKUP($G$8,Congés_auto!$R$7:$BR$7,2+J$2),IF(OR($F35=7,$F35=8),VLOOKUP($G$8,Congés_auto!$R$7:$BR$7,2+J$1),)))),0))","v":"2018-10-30"},{"$f":"IF($G35=\"Mardi\",IF(OR($F35=1,$F35=2),VLOOKUP($G$8,Congés_auto!$R$5:$BR$5,2+K$4),IF(OR($F35=3,$F35=4),VLOOKUP($G$8,Congés_auto!$R$5:$BR$5,2+K$3),IF(OR($F35=5,$F35=6),VLOOKUP($G$8,Congés_auto!$R$5:$BR$5,2+K$2),IF(OR($F35=7,$F35=8),VLOOKUP($G$8,Congés_auto!$R$5:$BR$5,2+K$1),)))),IF($G35=\"Jeudi\",IF(OR($F35=1,$F35=2),VLOOKUP($G$8,Congés_auto!$R$7:$BR$7,2+K$4),IF(OR($F35=3,$F35=4),VLOOKUP($G$8,Congés_auto!$R$7:$BR$7,2+K$3),IF(OR($F35=5,$F35=6),VLOOKUP($G$8,Congés_auto!$R$7:$BR$7,2+K$2),IF(OR($F35=7,$F35=8),VLOOKUP($G$8,Congés_auto!$R$7:$BR$7,2+K$1),)))),0))","v":"2018-11-27"},{"$f":"IF($G35=\"Mardi\",IF(OR($F35=1,$F35=2),VLOOKUP($G$8,Congés_auto!$R$5:$BR$5,2+L$4),IF(OR($F35=3,$F35=4),VLOOKUP($G$8,Congés_auto!$R$5:$BR$5,2+L$3),IF(OR($F35=5,$F35=6),VLOOKUP($G$8,Congés_auto!$R$5:$BR$5,2+L$2),IF(OR($F35=7,$F35=8),VLOOKUP($G$8,Congés_auto!$R$5:$BR$5,2+L$1),)))),IF($G35=\"Jeudi\",IF(OR($F35=1,$F35=2),VLOOKUP($G$8,Congés_auto!$R$7:$BR$7,2+L$4),IF(OR($F35=3,$F35=4),VLOOKUP($G$8,Congés_auto!$R$7:$BR$7,2+L$3),IF(OR($F35=5,$F35=6),VLOOKUP($G$8,Congés_auto!$R$7:$BR$7,2+L$2),IF(OR($F35=7,$F35=8),VLOOKUP($G$8,Congés_auto!$R$7:$BR$7,2+L$1),)))),0))","v":"2019-01-29"},{"$f":"IF($G35=\"Mardi\",IF(OR($F35=1,$F35=2),VLOOKUP($G$8,Congés_auto!$R$5:$BR$5,2+M$4),IF(OR($F35=3,$F35=4),VLOOKUP($G$8,Congés_auto!$R$5:$BR$5,2+M$3),IF(OR($F35=5,$F35=6),VLOOKUP($G$8,Congés_auto!$R$5:$BR$5,2+M$2),IF(OR($F35=7,$F35=8),VLOOKUP($G$8,Congés_auto!$R$5:$BR$5,2+M$1),)))),IF($G35=\"Jeudi\",IF(OR($F35=1,$F35=2),VLOOKUP($G$8,Congés_auto!$R$7:$BR$7,2+M$4),IF(OR($F35=3,$F35=4),VLOOKUP($G$8,Congés_auto!$R$7:$BR$7,2+M$3),IF(OR($F35=5,$F35=6),VLOOKUP($G$8,Congés_auto!$R$7:$BR$7,2+M$2),IF(OR($F35=7,$F35=8),VLOOKUP($G$8,Congés_auto!$R$7:$BR$7,2+M$1),)))),0))","v":"2019-02-26"},{"$f":"IF($G35=\"Mardi\",IF(OR($F35=1,$F35=2),VLOOKUP($G$8,Congés_auto!$R$5:$BR$5,2+N$4),IF(OR($F35=3,$F35=4),VLOOKUP($G$8,Congés_auto!$R$5:$BR$5,2+N$3),IF(OR($F35=5,$F35=6),VLOOKUP($G$8,Congés_auto!$R$5:$BR$5,2+N$2),IF(OR($F35=7,$F35=8),VLOOKUP($G$8,Congés_auto!$R$5:$BR$5,2+N$1),)))),IF($G35=\"Jeudi\",IF(OR($F35=1,$F35=2),VLOOKUP($G$8,Congés_auto!$R$7:$BR$7,2+N$4),IF(OR($F35=3,$F35=4),VLOOKUP($G$8,Congés_auto!$R$7:$BR$7,2+N$3),IF(OR($F35=5,$F35=6),VLOOKUP($G$8,Congés_auto!$R$7:$BR$7,2+N$2),IF(OR($F35=7,$F35=8),VLOOKUP($G$8,Congés_auto!$R$7:$BR$7,2+N$1),)))),0))","v":"2019-04-09"},{"$f":"IF($G35=\"Mardi\",IF(OR($F35=1,$F35=2),VLOOKUP($G$8,Congés_auto!$R$5:$BR$5,2+O$4),IF(OR($F35=3,$F35=4),VLOOKUP($G$8,Congés_auto!$R$5:$BR$5,2+O$3),IF(OR($F35=5,$F35=6),VLOOKUP($G$8,Congés_auto!$R$5:$BR$5,2+O$2),IF(OR($F35=7,$F35=8),VLOOKUP($G$8,Congés_auto!$R$5:$BR$5,2+O$1),)))),IF($G35=\"Jeudi\",IF(OR($F35=1,$F35=2),VLOOKUP($G$8,Congés_auto!$R$7:$BR$7,2+O$4),IF(OR($F35=3,$F35=4),VLOOKUP($G$8,Congés_auto!$R$7:$BR$7,2+O$3),IF(OR($F35=5,$F35=6),VLOOKUP($G$8,Congés_auto!$R$7:$BR$7,2+O$2),IF(OR($F35=7,$F35=8),VLOOKUP($G$8,Congés_auto!$R$7:$BR$7,2+O$1),)))),0))","v":"2019-05-21"},{"$f":"IF($G35=\"Mardi\",IF(OR($F35=1,$F35=2),VLOOKUP($G$8,Congés_auto!$R$5:$BR$5,2+P$4),IF(OR($F35=3,$F35=4),VLOOKUP($G$8,Congés_auto!$R$5:$BR$5,2+P$3),IF(OR($F35=5,$F35=6),VLOOKUP($G$8,Congés_auto!$R$5:$BR$5,2+P$2),IF(OR($F35=7,$F35=8),VLOOKUP($G$8,Congés_auto!$R$5:$BR$5,2+P$1),)))),IF($G35=\"Jeudi\",IF(OR($F35=1,$F35=2),VLOOKUP($G$8,Congés_auto!$R$7:$BR$7,2+P$4),IF(OR($F35=3,$F35=4),VLOOKUP($G$8,Congés_auto!$R$7:$BR$7,2+P$3),IF(OR($F35=5,$F35=6),VLOOKUP($G$8,Congés_auto!$R$7:$BR$7,2+P$2),IF(OR($F35=7,$F35=8),VLOOKUP($G$8,Congés_auto!$R$7:$BR$7,2+P$1),)))),0))","v":"2019-06-18"},{"$f":"IF($G35=\"Mardi\",IF(OR($F35=1,$F35=2),VLOOKUP($G$8,Congés_auto!$R$5:$BR$5,2+Q$4),IF(OR($F35=3,$F35=4),VLOOKUP($G$8,Congés_auto!$R$5:$BR$5,2+Q$3),IF(OR($F35=5,$F35=6),VLOOKUP($G$8,Congés_auto!$R$5:$BR$5,2+Q$2),IF(OR($F35=7,$F35=8),VLOOKUP($G$8,Congés_auto!$R$5:$BR$5,2+Q$1),)))),IF($G35=\"Jeudi\",IF(OR($F35=1,$F35=2),VLOOKUP($G$8,Congés_auto!$R$7:$BR$7,2+Q$4),IF(OR($F35=3,$F35=4),VLOOKUP($G$8,Congés_auto!$R$7:$BR$7,2+Q$3),IF(OR($F35=5,$F35=6),VLOOKUP($G$8,Congés_auto!$R$7:$BR$7,2+Q$2),IF(OR($F35=7,$F35=8),VLOOKUP($G$8,Congés_auto!$R$7:$BR$7,2+Q$1),)))),0))","v":""}]
[null,null,"France","2001-05-25",302,1,"Mardi",{"$f":"IF(E36=E35,IF(F36=F35,H35+1,E36&F36&0),E36&F36&0)","v":"30210"},{"$f":"IF($G36=\"Mardi\",IF(OR($F36=1,$F36=2),VLOOKUP($G$8,Congés_auto!$R$5:$BR$5,2+I$4),IF(OR($F36=3,$F36=4),VLOOKUP($G$8,Congés_auto!$R$5:$BR$5,2+I$3),IF(OR($F36=5,$F36=6),VLOOKUP($G$8,Congés_auto!$R$5:$BR$5,2+I$2),IF(OR($F36=7,$F36=8),VLOOKUP($G$8,Congés_auto!$R$5:$BR$5,2+I$1),)))),IF($G36=\"Jeudi\",IF(OR($F36=1,$F36=2),VLOOKUP($G$8,Congés_auto!$R$7:$BR$7,2+I$4),IF(OR($F36=3,$F36=4),VLOOKUP($G$8,Congés_auto!$R$7:$BR$7,2+I$3),IF(OR($F36=5,$F36=6),VLOOKUP($G$8,Congés_auto!$R$7:$BR$7,2+I$2),IF(OR($F36=7,$F36=8),VLOOKUP($G$8,Congés_auto!$R$7:$BR$7,2+I$1),)))),0))","v":"2018-08-28"},{"$f":"IF($G36=\"Mardi\",IF(OR($F36=1,$F36=2),VLOOKUP($G$8,Congés_auto!$R$5:$BR$5,2+J$4),IF(OR($F36=3,$F36=4),VLOOKUP($G$8,Congés_auto!$R$5:$BR$5,2+J$3),IF(OR($F36=5,$F36=6),VLOOKUP($G$8,Congés_auto!$R$5:$BR$5,2+J$2),IF(OR($F36=7,$F36=8),VLOOKUP($G$8,Congés_auto!$R$5:$BR$5,2+J$1),)))),IF($G36=\"Jeudi\",IF(OR($F36=1,$F36=2),VLOOKUP($G$8,Congés_auto!$R$7:$BR$7,2+J$4),IF(OR($F36=3,$F36=4),VLOOKUP($G$8,Congés_auto!$R$7:$BR$7,2+J$3),IF(OR($F36=5,$F36=6),VLOOKUP($G$8,Congés_auto!$R$7:$BR$7,2+J$2),IF(OR($F36=7,$F36=8),VLOOKUP($G$8,Congés_auto!$R$7:$BR$7,2+J$1),)))),0))","v":"2018-09-25"},{"$f":"IF($G36=\"Mardi\",IF(OR($F36=1,$F36=2),VLOOKUP($G$8,Congés_auto!$R$5:$BR$5,2+K$4),IF(OR($F36=3,$F36=4),VLOOKUP($G$8,Congés_auto!$R$5:$BR$5,2+K$3),IF(OR($F36=5,$F36=6),VLOOKUP($G$8,Congés_auto!$R$5:$BR$5,2+K$2),IF(OR($F36=7,$F36=8),VLOOKUP($G$8,Congés_auto!$R$5:$BR$5,2+K$1),)))),IF($G36=\"Jeudi\",IF(OR($F36=1,$F36=2),VLOOKUP($G$8,Congés_auto!$R$7:$BR$7,2+K$4),IF(OR($F36=3,$F36=4),VLOOKUP($G$8,Congés_auto!$R$7:$BR$7,2+K$3),IF(OR($F36=5,$F36=6),VLOOKUP($G$8,Congés_auto!$R$7:$BR$7,2+K$2),IF(OR($F36=7,$F36=8),VLOOKUP($G$8,Congés_auto!$R$7:$BR$7,2+K$1),)))),0))","v":"2018-11-06"},{"$f":"IF($G36=\"Mardi\",IF(OR($F36=1,$F36=2),VLOOKUP($G$8,Congés_auto!$R$5:$BR$5,2+L$4),IF(OR($F36=3,$F36=4),VLOOKUP($G$8,Congés_auto!$R$5:$BR$5,2+L$3),IF(OR($F36=5,$F36=6),VLOOKUP($G$8,Congés_auto!$R$5:$BR$5,2+L$2),IF(OR($F36=7,$F36=8),VLOOKUP($G$8,Congés_auto!$R$5:$BR$5,2+L$1),)))),IF($G36=\"Jeudi\",IF(OR($F36=1,$F36=2),VLOOKUP($G$8,Congés_auto!$R$7:$BR$7,2+L$4),IF(OR($F36=3,$F36=4),VLOOKUP($G$8,Congés_auto!$R$7:$BR$7,2+L$3),IF(OR($F36=5,$F36=6),VLOOKUP($G$8,Congés_auto!$R$7:$BR$7,2+L$2),IF(OR($F36=7,$F36=8),VLOOKUP($G$8,Congés_auto!$R$7:$BR$7,2+L$1),)))),0))","v":"2018-12-04"},{"$f":"IF($G36=\"Mardi\",IF(OR($F36=1,$F36=2),VLOOKUP($G$8,Congés_auto!$R$5:$BR$5,2+M$4),IF(OR($F36=3,$F36=4),VLOOKUP($G$8,Congés_auto!$R$5:$BR$5,2+M$3),IF(OR($F36=5,$F36=6),VLOOKUP($G$8,Congés_auto!$R$5:$BR$5,2+M$2),IF(OR($F36=7,$F36=8),VLOOKUP($G$8,Congés_auto!$R$5:$BR$5,2+M$1),)))),IF($G36=\"Jeudi\",IF(OR($F36=1,$F36=2),VLOOKUP($G$8,Congés_auto!$R$7:$BR$7,2+M$4),IF(OR($F36=3,$F36=4),VLOOKUP($G$8,Congés_auto!$R$7:$BR$7,2+M$3),IF(OR($F36=5,$F36=6),VLOOKUP($G$8,Congés_auto!$R$7:$BR$7,2+M$2),IF(OR($F36=7,$F36=8),VLOOKUP($G$8,Congés_auto!$R$7:$BR$7,2+M$1),)))),0))","v":"2019-02-05"},{"$f":"IF($G36=\"Mardi\",IF(OR($F36=1,$F36=2),VLOOKUP($G$8,Congés_auto!$R$5:$BR$5,2+N$4),IF(OR($F36=3,$F36=4),VLOOKUP($G$8,Congés_auto!$R$5:$BR$5,2+N$3),IF(OR($F36=5,$F36=6),VLOOKUP($G$8,Congés_auto!$R$5:$BR$5,2+N$2),IF(OR($F36=7,$F36=8),VLOOKUP($G$8,Congés_auto!$R$5:$BR$5,2+N$1),)))),IF($G36=\"Jeudi\",IF(OR($F36=1,$F36=2),VLOOKUP($G$8,Congés_auto!$R$7:$BR$7,2+N$4),IF(OR($F36=3,$F36=4),VLOOKUP($G$8,Congés_auto!$R$7:$BR$7,2+N$3),IF(OR($F36=5,$F36=6),VLOOKUP($G$8,Congés_auto!$R$7:$BR$7,2+N$2),IF(OR($F36=7,$F36=8),VLOOKUP($G$8,Congés_auto!$R$7:$BR$7,2+N$1),)))),0))","v":"2019-03-05"},{"$f":"IF($G36=\"Mardi\",IF(OR($F36=1,$F36=2),VLOOKUP($G$8,Congés_auto!$R$5:$BR$5,2+O$4),IF(OR($F36=3,$F36=4),VLOOKUP($G$8,Congés_auto!$R$5:$BR$5,2+O$3),IF(OR($F36=5,$F36=6),VLOOKUP($G$8,Congés_auto!$R$5:$BR$5,2+O$2),IF(OR($F36=7,$F36=8),VLOOKUP($G$8,Congés_auto!$R$5:$BR$5,2+O$1),)))),IF($G36=\"Jeudi\",IF(OR($F36=1,$F36=2),VLOOKUP($G$8,Congés_auto!$R$7:$BR$7,2+O$4),IF(OR($F36=3,$F36=4),VLOOKUP($G$8,Congés_auto!$R$7:$BR$7,2+O$3),IF(OR($F36=5,$F36=6),VLOOKUP($G$8,Congés_auto!$R$7:$BR$7,2+O$2),IF(OR($F36=7,$F36=8),VLOOKUP($G$8,Congés_auto!$R$7:$BR$7,2+O$1),)))),0))","v":"2019-04-16"},{"$f":"IF($G36=\"Mardi\",IF(OR($F36=1,$F36=2),VLOOKUP($G$8,Congés_auto!$R$5:$BR$5,2+P$4),IF(OR($F36=3,$F36=4),VLOOKUP($G$8,Congés_auto!$R$5:$BR$5,2+P$3),IF(OR($F36=5,$F36=6),VLOOKUP($G$8,Congés_auto!$R$5:$BR$5,2+P$2),IF(OR($F36=7,$F36=8),VLOOKUP($G$8,Congés_auto!$R$5:$BR$5,2+P$1),)))),IF($G36=\"Jeudi\",IF(OR($F36=1,$F36=2),VLOOKUP($G$8,Congés_auto!$R$7:$BR$7,2+P$4),IF(OR($F36=3,$F36=4),VLOOKUP($G$8,Congés_auto!$R$7:$BR$7,2+P$3),IF(OR($F36=5,$F36=6),VLOOKUP($G$8,Congés_auto!$R$7:$BR$7,2+P$2),IF(OR($F36=7,$F36=8),VLOOKUP($G$8,Congés_auto!$R$7:$BR$7,2+P$1),)))),0))","v":"2019-05-28"},{"$f":"IF($G36=\"Mardi\",IF(OR($F36=1,$F36=2),VLOOKUP($G$8,Congés_auto!$R$5:$BR$5,2+Q$4),IF(OR($F36=3,$F36=4),VLOOKUP($G$8,Congés_auto!$R$5:$BR$5,2+Q$3),IF(OR($F36=5,$F36=6),VLOOKUP($G$8,Congés_auto!$R$5:$BR$5,2+Q$2),IF(OR($F36=7,$F36=8),VLOOKUP($G$8,Congés_auto!$R$5:$BR$5,2+Q$1),)))),IF($G36=\"Jeudi\",IF(OR($F36=1,$F36=2),VLOOKUP($G$8,Congés_auto!$R$7:$BR$7,2+Q$4),IF(OR($F36=3,$F36=4),VLOOKUP($G$8,Congés_auto!$R$7:$BR$7,2+Q$3),IF(OR($F36=5,$F36=6),VLOOKUP($G$8,Congés_auto!$R$7:$BR$7,2+Q$2),IF(OR($F36=7,$F36=8),VLOOKUP($G$8,Congés_auto!$R$7:$BR$7,2+Q$1),)))),0))","v":"2019-06-25"}]
[null,null,"Jean-René","2001-03-07",302,1,"Mardi",{"$f":"IF(E37=E36,IF(F37=F36,H36+1,E37&F37&0),E37&F37&0)","v":30211},{"$f":"IF($G37=\"Mardi\",IF(OR($F37=1,$F37=2),VLOOKUP($G$8,Congés_auto!$R$5:$BR$5,2+I$4),IF(OR($F37=3,$F37=4),VLOOKUP($G$8,Congés_auto!$R$5:$BR$5,2+I$3),IF(OR($F37=5,$F37=6),VLOOKUP($G$8,Congés_auto!$R$5:$BR$5,2+I$2),IF(OR($F37=7,$F37=8),VLOOKUP($G$8,Congés_auto!$R$5:$BR$5,2+I$1),)))),IF($G37=\"Jeudi\",IF(OR($F37=1,$F37=2),VLOOKUP($G$8,Congés_auto!$R$7:$BR$7,2+I$4),IF(OR($F37=3,$F37=4),VLOOKUP($G$8,Congés_auto!$R$7:$BR$7,2+I$3),IF(OR($F37=5,$F37=6),VLOOKUP($G$8,Congés_auto!$R$7:$BR$7,2+I$2),IF(OR($F37=7,$F37=8),VLOOKUP($G$8,Congés_auto!$R$7:$BR$7,2+I$1),)))),0))","v":"2018-08-28"},{"$f":"IF($G37=\"Mardi\",IF(OR($F37=1,$F37=2),VLOOKUP($G$8,Congés_auto!$R$5:$BR$5,2+J$4),IF(OR($F37=3,$F37=4),VLOOKUP($G$8,Congés_auto!$R$5:$BR$5,2+J$3),IF(OR($F37=5,$F37=6),VLOOKUP($G$8,Congés_auto!$R$5:$BR$5,2+J$2),IF(OR($F37=7,$F37=8),VLOOKUP($G$8,Congés_auto!$R$5:$BR$5,2+J$1),)))),IF($G37=\"Jeudi\",IF(OR($F37=1,$F37=2),VLOOKUP($G$8,Congés_auto!$R$7:$BR$7,2+J$4),IF(OR($F37=3,$F37=4),VLOOKUP($G$8,Congés_auto!$R$7:$BR$7,2+J$3),IF(OR($F37=5,$F37=6),VLOOKUP($G$8,Congés_auto!$R$7:$BR$7,2+J$2),IF(OR($F37=7,$F37=8),VLOOKUP($G$8,Congés_auto!$R$7:$BR$7,2+J$1),)))),0))","v":"2018-09-25"},{"$f":"IF($G37=\"Mardi\",IF(OR($F37=1,$F37=2),VLOOKUP($G$8,Congés_auto!$R$5:$BR$5,2+K$4),IF(OR($F37=3,$F37=4),VLOOKUP($G$8,Congés_auto!$R$5:$BR$5,2+K$3),IF(OR($F37=5,$F37=6),VLOOKUP($G$8,Congés_auto!$R$5:$BR$5,2+K$2),IF(OR($F37=7,$F37=8),VLOOKUP($G$8,Congés_auto!$R$5:$BR$5,2+K$1),)))),IF($G37=\"Jeudi\",IF(OR($F37=1,$F37=2),VLOOKUP($G$8,Congés_auto!$R$7:$BR$7,2+K$4),IF(OR($F37=3,$F37=4),VLOOKUP($G$8,Congés_auto!$R$7:$BR$7,2+K$3),IF(OR($F37=5,$F37=6),VLOOKUP($G$8,Congés_auto!$R$7:$BR$7,2+K$2),IF(OR($F37=7,$F37=8),VLOOKUP($G$8,Congés_auto!$R$7:$BR$7,2+K$1),)))),0))","v":"2018-11-06"},{"$f":"IF($G37=\"Mardi\",IF(OR($F37=1,$F37=2),VLOOKUP($G$8,Congés_auto!$R$5:$BR$5,2+L$4),IF(OR($F37=3,$F37=4),VLOOKUP($G$8,Congés_auto!$R$5:$BR$5,2+L$3),IF(OR($F37=5,$F37=6),VLOOKUP($G$8,Congés_auto!$R$5:$BR$5,2+L$2),IF(OR($F37=7,$F37=8),VLOOKUP($G$8,Congés_auto!$R$5:$BR$5,2+L$1),)))),IF($G37=\"Jeudi\",IF(OR($F37=1,$F37=2),VLOOKUP($G$8,Congés_auto!$R$7:$BR$7,2+L$4),IF(OR($F37=3,$F37=4),VLOOKUP($G$8,Congés_auto!$R$7:$BR$7,2+L$3),IF(OR($F37=5,$F37=6),VLOOKUP($G$8,Congés_auto!$R$7:$BR$7,2+L$2),IF(OR($F37=7,$F37=8),VLOOKUP($G$8,Congés_auto!$R$7:$BR$7,2+L$1),)))),0))","v":"2018-12-04"},{"$f":"IF($G37=\"Mardi\",IF(OR($F37=1,$F37=2),VLOOKUP($G$8,Congés_auto!$R$5:$BR$5,2+M$4),IF(OR($F37=3,$F37=4),VLOOKUP($G$8,Congés_auto!$R$5:$BR$5,2+M$3),IF(OR($F37=5,$F37=6),VLOOKUP($G$8,Congés_auto!$R$5:$BR$5,2+M$2),IF(OR($F37=7,$F37=8),VLOOKUP($G$8,Congés_auto!$R$5:$BR$5,2+M$1),)))),IF($G37=\"Jeudi\",IF(OR($F37=1,$F37=2),VLOOKUP($G$8,Congés_auto!$R$7:$BR$7,2+M$4),IF(OR($F37=3,$F37=4),VLOOKUP($G$8,Congés_auto!$R$7:$BR$7,2+M$3),IF(OR($F37=5,$F37=6),VLOOKUP($G$8,Congés_auto!$R$7:$BR$7,2+M$2),IF(OR($F37=7,$F37=8),VLOOKUP($G$8,Congés_auto!$R$7:$BR$7,2+M$1),)))),0))","v":"2019-02-05"},{"$f":"IF($G37=\"Mardi\",IF(OR($F37=1,$F37=2),VLOOKUP($G$8,Congés_auto!$R$5:$BR$5,2+N$4),IF(OR($F37=3,$F37=4),VLOOKUP($G$8,Congés_auto!$R$5:$BR$5,2+N$3),IF(OR($F37=5,$F37=6),VLOOKUP($G$8,Congés_auto!$R$5:$BR$5,2+N$2),IF(OR($F37=7,$F37=8),VLOOKUP($G$8,Congés_auto!$R$5:$BR$5,2+N$1),)))),IF($G37=\"Jeudi\",IF(OR($F37=1,$F37=2),VLOOKUP($G$8,Congés_auto!$R$7:$BR$7,2+N$4),IF(OR($F37=3,$F37=4),VLOOKUP($G$8,Congés_auto!$R$7:$BR$7,2+N$3),IF(OR($F37=5,$F37=6),VLOOKUP($G$8,Congés_auto!$R$7:$BR$7,2+N$2),IF(OR($F37=7,$F37=8),VLOOKUP($G$8,Congés_auto!$R$7:$BR$7,2+N$1),)))),0))","v":"2019-03-05"},{"$f":"IF($G37=\"Mardi\",IF(OR($F37=1,$F37=2),VLOOKUP($G$8,Congés_auto!$R$5:$BR$5,2+O$4),IF(OR($F37=3,$F37=4),VLOOKUP($G$8,Congés_auto!$R$5:$BR$5,2+O$3),IF(OR($F37=5,$F37=6),VLOOKUP($G$8,Congés_auto!$R$5:$BR$5,2+O$2),IF(OR($F37=7,$F37=8),VLOOKUP($G$8,Congés_auto!$R$5:$BR$5,2+O$1),)))),IF($G37=\"Jeudi\",IF(OR($F37=1,$F37=2),VLOOKUP($G$8,Congés_auto!$R$7:$BR$7,2+O$4),IF(OR($F37=3,$F37=4),VLOOKUP($G$8,Congés_auto!$R$7:$BR$7,2+O$3),IF(OR($F37=5,$F37=6),VLOOKUP($G$8,Congés_auto!$R$7:$BR$7,2+O$2),IF(OR($F37=7,$F37=8),VLOOKUP($G$8,Congés_auto!$R$7:$BR$7,2+O$1),)))),0))","v":"2019-04-16"},{"$f":"IF($G37=\"Mardi\",IF(OR($F37=1,$F37=2),VLOOKUP($G$8,Congés_auto!$R$5:$BR$5,2+P$4),IF(OR($F37=3,$F37=4),VLOOKUP($G$8,Congés_auto!$R$5:$BR$5,2+P$3),IF(OR($F37=5,$F37=6),VLOOKUP($G$8,Congés_auto!$R$5:$BR$5,2+P$2),IF(OR($F37=7,$F37=8),VLOOKUP($G$8,Congés_auto!$R$5:$BR$5,2+P$1),)))),IF($G37=\"Jeudi\",IF(OR($F37=1,$F37=2),VLOOKUP($G$8,Congés_auto!$R$7:$BR$7,2+P$4),IF(OR($F37=3,$F37=4),VLOOKUP($G$8,Congés_auto!$R$7:$BR$7,2+P$3),IF(OR($F37=5,$F37=6),VLOOKUP($G$8,Congés_auto!$R$7:$BR$7,2+P$2),IF(OR($F37=7,$F37=8),VLOOKUP($G$8,Congés_auto!$R$7:$BR$7,2+P$1),)))),0))","v":"2019-05-28"},{"$f":"IF($G37=\"Mardi\",IF(OR($F37=1,$F37=2),VLOOKUP($G$8,Congés_auto!$R$5:$BR$5,2+Q$4),IF(OR($F37=3,$F37=4),VLOOKUP($G$8,Congés_auto!$R$5:$BR$5,2+Q$3),IF(OR($F37=5,$F37=6),VLOOKUP($G$8,Congés_auto!$R$5:$BR$5,2+Q$2),IF(OR($F37=7,$F37=8),VLOOKUP($G$8,Congés_auto!$R$5:$BR$5,2+Q$1),)))),IF($G37=\"Jeudi\",IF(OR($F37=1,$F37=2),VLOOKUP($G$8,Congés_auto!$R$7:$BR$7,2+Q$4),IF(OR($F37=3,$F37=4),VLOOKUP($G$8,Congés_auto!$R$7:$BR$7,2+Q$3),IF(OR($F37=5,$F37=6),VLOOKUP($G$8,Congés_auto!$R$7:$BR$7,2+Q$2),IF(OR($F37=7,$F37=8),VLOOKUP($G$8,Congés_auto!$R$7:$BR$7,2+Q$1),)))),0))","v":"2019-06-25"}]
[null,null,"Julio","2001-08-01",302,1,"Mardi",{"$f":"IF(F38=F37,H37+1,E38&F38&0)","v":30212},{"$f":"IF($G38=\"Mardi\",IF(OR($F38=1,$F38=2),VLOOKUP($G$8,Congés_auto!$R$5:$BR$5,2+I$4),IF(OR($F38=3,$F38=4),VLOOKUP($G$8,Congés_auto!$R$5:$BR$5,2+I$3),IF(OR($F38=5,$F38=6),VLOOKUP($G$8,Congés_auto!$R$5:$BR$5,2+I$2),IF(OR($F38=7,$F38=8),VLOOKUP($G$8,Congés_auto!$R$5:$BR$5,2+I$1),)))),IF($G38=\"Jeudi\",IF(OR($F38=1,$F38=2),VLOOKUP($G$8,Congés_auto!$R$7:$BR$7,2+I$4),IF(OR($F38=3,$F38=4),VLOOKUP($G$8,Congés_auto!$R$7:$BR$7,2+I$3),IF(OR($F38=5,$F38=6),VLOOKUP($G$8,Congés_auto!$R$7:$BR$7,2+I$2),IF(OR($F38=7,$F38=8),VLOOKUP($G$8,Congés_auto!$R$7:$BR$7,2+I$1),)))),0))","v":"2018-08-28"},{"$f":"IF($G38=\"Mardi\",IF(OR($F38=1,$F38=2),VLOOKUP($G$8,Congés_auto!$R$5:$BR$5,2+J$4),IF(OR($F38=3,$F38=4),VLOOKUP($G$8,Congés_auto!$R$5:$BR$5,2+J$3),IF(OR($F38=5,$F38=6),VLOOKUP($G$8,Congés_auto!$R$5:$BR$5,2+J$2),IF(OR($F38=7,$F38=8),VLOOKUP($G$8,Congés_auto!$R$5:$BR$5,2+J$1),)))),IF($G38=\"Jeudi\",IF(OR($F38=1,$F38=2),VLOOKUP($G$8,Congés_auto!$R$7:$BR$7,2+J$4),IF(OR($F38=3,$F38=4),VLOOKUP($G$8,Congés_auto!$R$7:$BR$7,2+J$3),IF(OR($F38=5,$F38=6),VLOOKUP($G$8,Congés_auto!$R$7:$BR$7,2+J$2),IF(OR($F38=7,$F38=8),VLOOKUP($G$8,Congés_auto!$R$7:$BR$7,2+J$1),)))),0))","v":"2018-09-25"},{"$f":"IF($G38=\"Mardi\",IF(OR($F38=1,$F38=2),VLOOKUP($G$8,Congés_auto!$R$5:$BR$5,2+K$4),IF(OR($F38=3,$F38=4),VLOOKUP($G$8,Congés_auto!$R$5:$BR$5,2+K$3),IF(OR($F38=5,$F38=6),VLOOKUP($G$8,Congés_auto!$R$5:$BR$5,2+K$2),IF(OR($F38=7,$F38=8),VLOOKUP($G$8,Congés_auto!$R$5:$BR$5,2+K$1),)))),IF($G38=\"Jeudi\",IF(OR($F38=1,$F38=2),VLOOKUP($G$8,Congés_auto!$R$7:$BR$7,2+K$4),IF(OR($F38=3,$F38=4),VLOOKUP($G$8,Congés_auto!$R$7:$BR$7,2+K$3),IF(OR($F38=5,$F38=6),VLOOKUP($G$8,Congés_auto!$R$7:$BR$7,2+K$2),IF(OR($F38=7,$F38=8),VLOOKUP($G$8,Congés_auto!$R$7:$BR$7,2+K$1),)))),0))","v":"2018-11-06"},{"$f":"IF($G38=\"Mardi\",IF(OR($F38=1,$F38=2),VLOOKUP($G$8,Congés_auto!$R$5:$BR$5,2+L$4),IF(OR($F38=3,$F38=4),VLOOKUP($G$8,Congés_auto!$R$5:$BR$5,2+L$3),IF(OR($F38=5,$F38=6),VLOOKUP($G$8,Congés_auto!$R$5:$BR$5,2+L$2),IF(OR($F38=7,$F38=8),VLOOKUP($G$8,Congés_auto!$R$5:$BR$5,2+L$1),)))),IF($G38=\"Jeudi\",IF(OR($F38=1,$F38=2),VLOOKUP($G$8,Congés_auto!$R$7:$BR$7,2+L$4),IF(OR($F38=3,$F38=4),VLOOKUP($G$8,Congés_auto!$R$7:$BR$7,2+L$3),IF(OR($F38=5,$F38=6),VLOOKUP($G$8,Congés_auto!$R$7:$BR$7,2+L$2),IF(OR($F38=7,$F38=8),VLOOKUP($G$8,Congés_auto!$R$7:$BR$7,2+L$1),)))),0))","v":"2018-12-04"},{"$f":"IF($G38=\"Mardi\",IF(OR($F38=1,$F38=2),VLOOKUP($G$8,Congés_auto!$R$5:$BR$5,2+M$4),IF(OR($F38=3,$F38=4),VLOOKUP($G$8,Congés_auto!$R$5:$BR$5,2+M$3),IF(OR($F38=5,$F38=6),VLOOKUP($G$8,Congés_auto!$R$5:$BR$5,2+M$2),IF(OR($F38=7,$F38=8),VLOOKUP($G$8,Congés_auto!$R$5:$BR$5,2+M$1),)))),IF($G38=\"Jeudi\",IF(OR($F38=1,$F38=2),VLOOKUP($G$8,Congés_auto!$R$7:$BR$7,2+M$4),IF(OR($F38=3,$F38=4),VLOOKUP($G$8,Congés_auto!$R$7:$BR$7,2+M$3),IF(OR($F38=5,$F38=6),VLOOKUP($G$8,Congés_auto!$R$7:$BR$7,2+M$2),IF(OR($F38=7,$F38=8),VLOOKUP($G$8,Congés_auto!$R$7:$BR$7,2+M$1),)))),0))","v":"2019-02-05"},{"$f":"IF($G38=\"Mardi\",IF(OR($F38=1,$F38=2),VLOOKUP($G$8,Congés_auto!$R$5:$BR$5,2+N$4),IF(OR($F38=3,$F38=4),VLOOKUP($G$8,Congés_auto!$R$5:$BR$5,2+N$3),IF(OR($F38=5,$F38=6),VLOOKUP($G$8,Congés_auto!$R$5:$BR$5,2+N$2),IF(OR($F38=7,$F38=8),VLOOKUP($G$8,Congés_auto!$R$5:$BR$5,2+N$1),)))),IF($G38=\"Jeudi\",IF(OR($F38=1,$F38=2),VLOOKUP($G$8,Congés_auto!$R$7:$BR$7,2+N$4),IF(OR($F38=3,$F38=4),VLOOKUP($G$8,Congés_auto!$R$7:$BR$7,2+N$3),IF(OR($F38=5,$F38=6),VLOOKUP($G$8,Congés_auto!$R$7:$BR$7,2+N$2),IF(OR($F38=7,$F38=8),VLOOKUP($G$8,Congés_auto!$R$7:$BR$7,2+N$1),)))),0))","v":"2019-03-05"},{"$f":"IF($G38=\"Mardi\",IF(OR($F38=1,$F38=2),VLOOKUP($G$8,Congés_auto!$R$5:$BR$5,2+O$4),IF(OR($F38=3,$F38=4),VLOOKUP($G$8,Congés_auto!$R$5:$BR$5,2+O$3),IF(OR($F38=5,$F38=6),VLOOKUP($G$8,Congés_auto!$R$5:$BR$5,2+O$2),IF(OR($F38=7,$F38=8),VLOOKUP($G$8,Congés_auto!$R$5:$BR$5,2+O$1),)))),IF($G38=\"Jeudi\",IF(OR($F38=1,$F38=2),VLOOKUP($G$8,Congés_auto!$R$7:$BR$7,2+O$4),IF(OR($F38=3,$F38=4),VLOOKUP($G$8,Congés_auto!$R$7:$BR$7,2+O$3),IF(OR($F38=5,$F38=6),VLOOKUP($G$8,Congés_auto!$R$7:$BR$7,2+O$2),IF(OR($F38=7,$F38=8),VLOOKUP($G$8,Congés_auto!$R$7:$BR$7,2+O$1),)))),0))","v":"2019-04-16"},{"$f":"IF($G38=\"Mardi\",IF(OR($F38=1,$F38=2),VLOOKUP($G$8,Congés_auto!$R$5:$BR$5,2+P$4),IF(OR($F38=3,$F38=4),VLOOKUP($G$8,Congés_auto!$R$5:$BR$5,2+P$3),IF(OR($F38=5,$F38=6),VLOOKUP($G$8,Congés_auto!$R$5:$BR$5,2+P$2),IF(OR($F38=7,$F38=8),VLOOKUP($G$8,Congés_auto!$R$5:$BR$5,2+P$1),)))),IF($G38=\"Jeudi\",IF(OR($F38=1,$F38=2),VLOOKUP($G$8,Congés_auto!$R$7:$BR$7,2+P$4),IF(OR($F38=3,$F38=4),VLOOKUP($G$8,Congés_auto!$R$7:$BR$7,2+P$3),IF(OR($F38=5,$F38=6),VLOOKUP($G$8,Congés_auto!$R$7:$BR$7,2+P$2),IF(OR($F38=7,$F38=8),VLOOKUP($G$8,Congés_auto!$R$7:$BR$7,2+P$1),)))),0))","v":"2019-05-28"},{"$f":"IF($G38=\"Mardi\",IF(OR($F38=1,$F38=2),VLOOKUP($G$8,Congés_auto!$R$5:$BR$5,2+Q$4),IF(OR($F38=3,$F38=4),VLOOKUP($G$8,Congés_auto!$R$5:$BR$5,2+Q$3),IF(OR($F38=5,$F38=6),VLOOKUP($G$8,Congés_auto!$R$5:$BR$5,2+Q$2),IF(OR($F38=7,$F38=8),VLOOKUP($G$8,Congés_auto!$R$5:$BR$5,2+Q$1),)))),IF($G38=\"Jeudi\",IF(OR($F38=1,$F38=2),VLOOKUP($G$8,Congés_auto!$R$7:$BR$7,2+Q$4),IF(OR($F38=3,$F38=4),VLOOKUP($G$8,Congés_auto!$R$7:$BR$7,2+Q$3),IF(OR($F38=5,$F38=6),VLOOKUP($G$8,Congés_auto!$R$7:$BR$7,2+Q$2),IF(OR($F38=7,$F38=8),VLOOKUP($G$8,Congés_auto!$R$7:$BR$7,2+Q$1),)))),0))","v":"2019-06-25"}]
[null,null,"Marie","2001-07-18",302,2,"Mardi",{"$f":"IF(E39=E38,IF(F39=F38,H38+1,E39&F39&0),E39&F39&0)","v":"30220"},{"$f":"IF($G39=\"Mardi\",IF(OR($F39=1,$F39=2),VLOOKUP($G$8,Congés_auto!$R$5:$BR$5,2+I$4),IF(OR($F39=3,$F39=4),VLOOKUP($G$8,Congés_auto!$R$5:$BR$5,2+I$3),IF(OR($F39=5,$F39=6),VLOOKUP($G$8,Congés_auto!$R$5:$BR$5,2+I$2),IF(OR($F39=7,$F39=8),VLOOKUP($G$8,Congés_auto!$R$5:$BR$5,2+I$1),)))),IF($G39=\"Jeudi\",IF(OR($F39=1,$F39=2),VLOOKUP($G$8,Congés_auto!$R$7:$BR$7,2+I$4),IF(OR($F39=3,$F39=4),VLOOKUP($G$8,Congés_auto!$R$7:$BR$7,2+I$3),IF(OR($F39=5,$F39=6),VLOOKUP($G$8,Congés_auto!$R$7:$BR$7,2+I$2),IF(OR($F39=7,$F39=8),VLOOKUP($G$8,Congés_auto!$R$7:$BR$7,2+I$1),)))),0))","v":"2018-08-28"},{"$f":"IF($G39=\"Mardi\",IF(OR($F39=1,$F39=2),VLOOKUP($G$8,Congés_auto!$R$5:$BR$5,2+J$4),IF(OR($F39=3,$F39=4),VLOOKUP($G$8,Congés_auto!$R$5:$BR$5,2+J$3),IF(OR($F39=5,$F39=6),VLOOKUP($G$8,Congés_auto!$R$5:$BR$5,2+J$2),IF(OR($F39=7,$F39=8),VLOOKUP($G$8,Congés_auto!$R$5:$BR$5,2+J$1),)))),IF($G39=\"Jeudi\",IF(OR($F39=1,$F39=2),VLOOKUP($G$8,Congés_auto!$R$7:$BR$7,2+J$4),IF(OR($F39=3,$F39=4),VLOOKUP($G$8,Congés_auto!$R$7:$BR$7,2+J$3),IF(OR($F39=5,$F39=6),VLOOKUP($G$8,Congés_auto!$R$7:$BR$7,2+J$2),IF(OR($F39=7,$F39=8),VLOOKUP($G$8,Congés_auto!$R$7:$BR$7,2+J$1),)))),0))","v":"2018-09-25"},{"$f":"IF($G39=\"Mardi\",IF(OR($F39=1,$F39=2),VLOOKUP($G$8,Congés_auto!$R$5:$BR$5,2+K$4),IF(OR($F39=3,$F39=4),VLOOKUP($G$8,Congés_auto!$R$5:$BR$5,2+K$3),IF(OR($F39=5,$F39=6),VLOOKUP($G$8,Congés_auto!$R$5:$BR$5,2+K$2),IF(OR($F39=7,$F39=8),VLOOKUP($G$8,Congés_auto!$R$5:$BR$5,2+K$1),)))),IF($G39=\"Jeudi\",IF(OR($F39=1,$F39=2),VLOOKUP($G$8,Congés_auto!$R$7:$BR$7,2+K$4),IF(OR($F39=3,$F39=4),VLOOKUP($G$8,Congés_auto!$R$7:$BR$7,2+K$3),IF(OR($F39=5,$F39=6),VLOOKUP($G$8,Congés_auto!$R$7:$BR$7,2+K$2),IF(OR($F39=7,$F39=8),VLOOKUP($G$8,Congés_auto!$R$7:$BR$7,2+K$1),)))),0))","v":"2018-11-06"},{"$f":"IF($G39=\"Mardi\",IF(OR($F39=1,$F39=2),VLOOKUP($G$8,Congés_auto!$R$5:$BR$5,2+L$4),IF(OR($F39=3,$F39=4),VLOOKUP($G$8,Congés_auto!$R$5:$BR$5,2+L$3),IF(OR($F39=5,$F39=6),VLOOKUP($G$8,Congés_auto!$R$5:$BR$5,2+L$2),IF(OR($F39=7,$F39=8),VLOOKUP($G$8,Congés_auto!$R$5:$BR$5,2+L$1),)))),IF($G39=\"Jeudi\",IF(OR($F39=1,$F39=2),VLOOKUP($G$8,Congés_auto!$R$7:$BR$7,2+L$4),IF(OR($F39=3,$F39=4),VLOOKUP($G$8,Congés_auto!$R$7:$BR$7,2+L$3),IF(OR($F39=5,$F39=6),VLOOKUP($G$8,Congés_auto!$R$7:$BR$7,2+L$2),IF(OR($F39=7,$F39=8),VLOOKUP($G$8,Congés_auto!$R$7:$BR$7,2+L$1),)))),0))","v":"2018-12-04"},{"$f":"IF($G39=\"Mardi\",IF(OR($F39=1,$F39=2),VLOOKUP($G$8,Congés_auto!$R$5:$BR$5,2+M$4),IF(OR($F39=3,$F39=4),VLOOKUP($G$8,Congés_auto!$R$5:$BR$5,2+M$3),IF(OR($F39=5,$F39=6),VLOOKUP($G$8,Congés_auto!$R$5:$BR$5,2+M$2),IF(OR($F39=7,$F39=8),VLOOKUP($G$8,Congés_auto!$R$5:$BR$5,2+M$1),)))),IF($G39=\"Jeudi\",IF(OR($F39=1,$F39=2),VLOOKUP($G$8,Congés_auto!$R$7:$BR$7,2+M$4),IF(OR($F39=3,$F39=4),VLOOKUP($G$8,Congés_auto!$R$7:$BR$7,2+M$3),IF(OR($F39=5,$F39=6),VLOOKUP($G$8,Congés_auto!$R$7:$BR$7,2+M$2),IF(OR($F39=7,$F39=8),VLOOKUP($G$8,Congés_auto!$R$7:$BR$7,2+M$1),)))),0))","v":"2019-02-05"},{"$f":"IF($G39=\"Mardi\",IF(OR($F39=1,$F39=2),VLOOKUP($G$8,Congés_auto!$R$5:$BR$5,2+N$4),IF(OR($F39=3,$F39=4),VLOOKUP($G$8,Congés_auto!$R$5:$BR$5,2+N$3),IF(OR($F39=5,$F39=6),VLOOKUP($G$8,Congés_auto!$R$5:$BR$5,2+N$2),IF(OR($F39=7,$F39=8),VLOOKUP($G$8,Congés_auto!$R$5:$BR$5,2+N$1),)))),IF($G39=\"Jeudi\",IF(OR($F39=1,$F39=2),VLOOKUP($G$8,Congés_auto!$R$7:$BR$7,2+N$4),IF(OR($F39=3,$F39=4),VLOOKUP($G$8,Congés_auto!$R$7:$BR$7,2+N$3),IF(OR($F39=5,$F39=6),VLOOKUP($G$8,Congés_auto!$R$7:$BR$7,2+N$2),IF(OR($F39=7,$F39=8),VLOOKUP($G$8,Congés_auto!$R$7:$BR$7,2+N$1),)))),0))","v":"2019-03-05"},{"$f":"IF($G39=\"Mardi\",IF(OR($F39=1,$F39=2),VLOOKUP($G$8,Congés_auto!$R$5:$BR$5,2+O$4),IF(OR($F39=3,$F39=4),VLOOKUP($G$8,Congés_auto!$R$5:$BR$5,2+O$3),IF(OR($F39=5,$F39=6),VLOOKUP($G$8,Congés_auto!$R$5:$BR$5,2+O$2),IF(OR($F39=7,$F39=8),VLOOKUP($G$8,Congés_auto!$R$5:$BR$5,2+O$1),)))),IF($G39=\"Jeudi\",IF(OR($F39=1,$F39=2),VLOOKUP($G$8,Congés_auto!$R$7:$BR$7,2+O$4),IF(OR($F39=3,$F39=4),VLOOKUP($G$8,Congés_auto!$R$7:$BR$7,2+O$3),IF(OR($F39=5,$F39=6),VLOOKUP($G$8,Congés_auto!$R$7:$BR$7,2+O$2),IF(OR($F39=7,$F39=8),VLOOKUP($G$8,Congés_auto!$R$7:$BR$7,2+O$1),)))),0))","v":"2019-04-16"},{"$f":"IF($G39=\"Mardi\",IF(OR($F39=1,$F39=2),VLOOKUP($G$8,Congés_auto!$R$5:$BR$5,2+P$4),IF(OR($F39=3,$F39=4),VLOOKUP($G$8,Congés_auto!$R$5:$BR$5,2+P$3),IF(OR($F39=5,$F39=6),VLOOKUP($G$8,Congés_auto!$R$5:$BR$5,2+P$2),IF(OR($F39=7,$F39=8),VLOOKUP($G$8,Congés_auto!$R$5:$BR$5,2+P$1),)))),IF($G39=\"Jeudi\",IF(OR($F39=1,$F39=2),VLOOKUP($G$8,Congés_auto!$R$7:$BR$7,2+P$4),IF(OR($F39=3,$F39=4),VLOOKUP($G$8,Congés_auto!$R$7:$BR$7,2+P$3),IF(OR($F39=5,$F39=6),VLOOKUP($G$8,Congés_auto!$R$7:$BR$7,2+P$2),IF(OR($F39=7,$F39=8),VLOOKUP($G$8,Congés_auto!$R$7:$BR$7,2+P$1),)))),0))","v":"2019-05-28"},{"$f":"IF($G39=\"Mardi\",IF(OR($F39=1,$F39=2),VLOOKUP($G$8,Congés_auto!$R$5:$BR$5,2+Q$4),IF(OR($F39=3,$F39=4),VLOOKUP($G$8,Congés_auto!$R$5:$BR$5,2+Q$3),IF(OR($F39=5,$F39=6),VLOOKUP($G$8,Congés_auto!$R$5:$BR$5,2+Q$2),IF(OR($F39=7,$F39=8),VLOOKUP($G$8,Congés_auto!$R$5:$BR$5,2+Q$1),)))),IF($G39=\"Jeudi\",IF(OR($F39=1,$F39=2),VLOOKUP($G$8,Congés_auto!$R$7:$BR$7,2+Q$4),IF(OR($F39=3,$F39=4),VLOOKUP($G$8,Congés_auto!$R$7:$BR$7,2+Q$3),IF(OR($F39=5,$F39=6),VLOOKUP($G$8,Congés_auto!$R$7:$BR$7,2+Q$2),IF(OR($F39=7,$F39=8),VLOOKUP($G$8,Congés_auto!$R$7:$BR$7,2+Q$1),)))),0))","v":"2019-06-25"}]
[null,null,"Alexis","2001-05-14",302,2,"Mardi",{"$f":"IF(F40=F39,H39+1,E40&F40&0)","v":30221},{"$f":"IF($G40=\"Mardi\",IF(OR($F40=1,$F40=2),VLOOKUP($G$8,Congés_auto!$R$5:$BR$5,2+I$4),IF(OR($F40=3,$F40=4),VLOOKUP($G$8,Congés_auto!$R$5:$BR$5,2+I$3),IF(OR($F40=5,$F40=6),VLOOKUP($G$8,Congés_auto!$R$5:$BR$5,2+I$2),IF(OR($F40=7,$F40=8),VLOOKUP($G$8,Congés_auto!$R$5:$BR$5,2+I$1),)))),IF($G40=\"Jeudi\",IF(OR($F40=1,$F40=2),VLOOKUP($G$8,Congés_auto!$R$7:$BR$7,2+I$4),IF(OR($F40=3,$F40=4),VLOOKUP($G$8,Congés_auto!$R$7:$BR$7,2+I$3),IF(OR($F40=5,$F40=6),VLOOKUP($G$8,Congés_auto!$R$7:$BR$7,2+I$2),IF(OR($F40=7,$F40=8),VLOOKUP($G$8,Congés_auto!$R$7:$BR$7,2+I$1),)))),0))","v":"2018-08-28"},{"$f":"IF($G40=\"Mardi\",IF(OR($F40=1,$F40=2),VLOOKUP($G$8,Congés_auto!$R$5:$BR$5,2+J$4),IF(OR($F40=3,$F40=4),VLOOKUP($G$8,Congés_auto!$R$5:$BR$5,2+J$3),IF(OR($F40=5,$F40=6),VLOOKUP($G$8,Congés_auto!$R$5:$BR$5,2+J$2),IF(OR($F40=7,$F40=8),VLOOKUP($G$8,Congés_auto!$R$5:$BR$5,2+J$1),)))),IF($G40=\"Jeudi\",IF(OR($F40=1,$F40=2),VLOOKUP($G$8,Congés_auto!$R$7:$BR$7,2+J$4),IF(OR($F40=3,$F40=4),VLOOKUP($G$8,Congés_auto!$R$7:$BR$7,2+J$3),IF(OR($F40=5,$F40=6),VLOOKUP($G$8,Congés_auto!$R$7:$BR$7,2+J$2),IF(OR($F40=7,$F40=8),VLOOKUP($G$8,Congés_auto!$R$7:$BR$7,2+J$1),)))),0))","v":"2018-09-25"},{"$f":"IF($G40=\"Mardi\",IF(OR($F40=1,$F40=2),VLOOKUP($G$8,Congés_auto!$R$5:$BR$5,2+K$4),IF(OR($F40=3,$F40=4),VLOOKUP($G$8,Congés_auto!$R$5:$BR$5,2+K$3),IF(OR($F40=5,$F40=6),VLOOKUP($G$8,Congés_auto!$R$5:$BR$5,2+K$2),IF(OR($F40=7,$F40=8),VLOOKUP($G$8,Congés_auto!$R$5:$BR$5,2+K$1),)))),IF($G40=\"Jeudi\",IF(OR($F40=1,$F40=2),VLOOKUP($G$8,Congés_auto!$R$7:$BR$7,2+K$4),IF(OR($F40=3,$F40=4),VLOOKUP($G$8,Congés_auto!$R$7:$BR$7,2+K$3),IF(OR($F40=5,$F40=6),VLOOKUP($G$8,Congés_auto!$R$7:$BR$7,2+K$2),IF(OR($F40=7,$F40=8),VLOOKUP($G$8,Congés_auto!$R$7:$BR$7,2+K$1),)))),0))","v":"2018-11-06"},{"$f":"IF($G40=\"Mardi\",IF(OR($F40=1,$F40=2),VLOOKUP($G$8,Congés_auto!$R$5:$BR$5,2+L$4),IF(OR($F40=3,$F40=4),VLOOKUP($G$8,Congés_auto!$R$5:$BR$5,2+L$3),IF(OR($F40=5,$F40=6),VLOOKUP($G$8,Congés_auto!$R$5:$BR$5,2+L$2),IF(OR($F40=7,$F40=8),VLOOKUP($G$8,Congés_auto!$R$5:$BR$5,2+L$1),)))),IF($G40=\"Jeudi\",IF(OR($F40=1,$F40=2),VLOOKUP($G$8,Congés_auto!$R$7:$BR$7,2+L$4),IF(OR($F40=3,$F40=4),VLOOKUP($G$8,Congés_auto!$R$7:$BR$7,2+L$3),IF(OR($F40=5,$F40=6),VLOOKUP($G$8,Congés_auto!$R$7:$BR$7,2+L$2),IF(OR($F40=7,$F40=8),VLOOKUP($G$8,Congés_auto!$R$7:$BR$7,2+L$1),)))),0))","v":"2018-12-04"},{"$f":"IF($G40=\"Mardi\",IF(OR($F40=1,$F40=2),VLOOKUP($G$8,Congés_auto!$R$5:$BR$5,2+M$4),IF(OR($F40=3,$F40=4),VLOOKUP($G$8,Congés_auto!$R$5:$BR$5,2+M$3),IF(OR($F40=5,$F40=6),VLOOKUP($G$8,Congés_auto!$R$5:$BR$5,2+M$2),IF(OR($F40=7,$F40=8),VLOOKUP($G$8,Congés_auto!$R$5:$BR$5,2+M$1),)))),IF($G40=\"Jeudi\",IF(OR($F40=1,$F40=2),VLOOKUP($G$8,Congés_auto!$R$7:$BR$7,2+M$4),IF(OR($F40=3,$F40=4),VLOOKUP($G$8,Congés_auto!$R$7:$BR$7,2+M$3),IF(OR($F40=5,$F40=6),VLOOKUP($G$8,Congés_auto!$R$7:$BR$7,2+M$2),IF(OR($F40=7,$F40=8),VLOOKUP($G$8,Congés_auto!$R$7:$BR$7,2+M$1),)))),0))","v":"2019-02-05"},{"$f":"IF($G40=\"Mardi\",IF(OR($F40=1,$F40=2),VLOOKUP($G$8,Congés_auto!$R$5:$BR$5,2+N$4),IF(OR($F40=3,$F40=4),VLOOKUP($G$8,Congés_auto!$R$5:$BR$5,2+N$3),IF(OR($F40=5,$F40=6),VLOOKUP($G$8,Congés_auto!$R$5:$BR$5,2+N$2),IF(OR($F40=7,$F40=8),VLOOKUP($G$8,Congés_auto!$R$5:$BR$5,2+N$1),)))),IF($G40=\"Jeudi\",IF(OR($F40=1,$F40=2),VLOOKUP($G$8,Congés_auto!$R$7:$BR$7,2+N$4),IF(OR($F40=3,$F40=4),VLOOKUP($G$8,Congés_auto!$R$7:$BR$7,2+N$3),IF(OR($F40=5,$F40=6),VLOOKUP($G$8,Congés_auto!$R$7:$BR$7,2+N$2),IF(OR($F40=7,$F40=8),VLOOKUP($G$8,Congés_auto!$R$7:$BR$7,2+N$1),)))),0))","v":"2019-03-05"},{"$f":"IF($G40=\"Mardi\",IF(OR($F40=1,$F40=2),VLOOKUP($G$8,Congés_auto!$R$5:$BR$5,2+O$4),IF(OR($F40=3,$F40=4),VLOOKUP($G$8,Congés_auto!$R$5:$BR$5,2+O$3),IF(OR($F40=5,$F40=6),VLOOKUP($G$8,Congés_auto!$R$5:$BR$5,2+O$2),IF(OR($F40=7,$F40=8),VLOOKUP($G$8,Congés_auto!$R$5:$BR$5,2+O$1),)))),IF($G40=\"Jeudi\",IF(OR($F40=1,$F40=2),VLOOKUP($G$8,Congés_auto!$R$7:$BR$7,2+O$4),IF(OR($F40=3,$F40=4),VLOOKUP($G$8,Congés_auto!$R$7:$BR$7,2+O$3),IF(OR($F40=5,$F40=6),VLOOKUP($G$8,Congés_auto!$R$7:$BR$7,2+O$2),IF(OR($F40=7,$F40=8),VLOOKUP($G$8,Congés_auto!$R$7:$BR$7,2+O$1),)))),0))","v":"2019-04-16"},{"$f":"IF($G40=\"Mardi\",IF(OR($F40=1,$F40=2),VLOOKUP($G$8,Congés_auto!$R$5:$BR$5,2+P$4),IF(OR($F40=3,$F40=4),VLOOKUP($G$8,Congés_auto!$R$5:$BR$5,2+P$3),IF(OR($F40=5,$F40=6),VLOOKUP($G$8,Congés_auto!$R$5:$BR$5,2+P$2),IF(OR($F40=7,$F40=8),VLOOKUP($G$8,Congés_auto!$R$5:$BR$5,2+P$1),)))),IF($G40=\"Jeudi\",IF(OR($F40=1,$F40=2),VLOOKUP($G$8,Congés_auto!$R$7:$BR$7,2+P$4),IF(OR($F40=3,$F40=4),VLOOKUP($G$8,Congés_auto!$R$7:$BR$7,2+P$3),IF(OR($F40=5,$F40=6),VLOOKUP($G$8,Congés_auto!$R$7:$BR$7,2+P$2),IF(OR($F40=7,$F40=8),VLOOKUP($G$8,Congés_auto!$R$7:$BR$7,2+P$1),)))),0))","v":"2019-05-28"},{"$f":"IF($G40=\"Mardi\",IF(OR($F40=1,$F40=2),VLOOKUP($G$8,Congés_auto!$R$5:$BR$5,2+Q$4),IF(OR($F40=3,$F40=4),VLOOKUP($G$8,Congés_auto!$R$5:$BR$5,2+Q$3),IF(OR($F40=5,$F40=6),VLOOKUP($G$8,Congés_auto!$R$5:$BR$5,2+Q$2),IF(OR($F40=7,$F40=8),VLOOKUP($G$8,Congés_auto!$R$5:$BR$5,2+Q$1),)))),IF($G40=\"Jeudi\",IF(OR($F40=1,$F40=2),VLOOKUP($G$8,Congés_auto!$R$7:$BR$7,2+Q$4),IF(OR($F40=3,$F40=4),VLOOKUP($G$8,Congés_auto!$R$7:$BR$7,2+Q$3),IF(OR($F40=5,$F40=6),VLOOKUP($G$8,Congés_auto!$R$7:$BR$7,2+Q$2),IF(OR($F40=7,$F40=8),VLOOKUP($G$8,Congés_auto!$R$7:$BR$7,2+Q$1),)))),0))","v":"2019-06-25"}]
[null,null,"Naomie","2001-07-27",302,2,"Mardi",{"$f":"IF(F41=F40,H40+1,E41&F41&0)","v":30222},{"$f":"IF($G41=\"Mardi\",IF(OR($F41=1,$F41=2),VLOOKUP($G$8,Congés_auto!$R$5:$BR$5,2+I$4),IF(OR($F41=3,$F41=4),VLOOKUP($G$8,Congés_auto!$R$5:$BR$5,2+I$3),IF(OR($F41=5,$F41=6),VLOOKUP($G$8,Congés_auto!$R$5:$BR$5,2+I$2),IF(OR($F41=7,$F41=8),VLOOKUP($G$8,Congés_auto!$R$5:$BR$5,2+I$1),)))),IF($G41=\"Jeudi\",IF(OR($F41=1,$F41=2),VLOOKUP($G$8,Congés_auto!$R$7:$BR$7,2+I$4),IF(OR($F41=3,$F41=4),VLOOKUP($G$8,Congés_auto!$R$7:$BR$7,2+I$3),IF(OR($F41=5,$F41=6),VLOOKUP($G$8,Congés_auto!$R$7:$BR$7,2+I$2),IF(OR($F41=7,$F41=8),VLOOKUP($G$8,Congés_auto!$R$7:$BR$7,2+I$1),)))),0))","v":"2018-08-28"},{"$f":"IF($G41=\"Mardi\",IF(OR($F41=1,$F41=2),VLOOKUP($G$8,Congés_auto!$R$5:$BR$5,2+J$4),IF(OR($F41=3,$F41=4),VLOOKUP($G$8,Congés_auto!$R$5:$BR$5,2+J$3),IF(OR($F41=5,$F41=6),VLOOKUP($G$8,Congés_auto!$R$5:$BR$5,2+J$2),IF(OR($F41=7,$F41=8),VLOOKUP($G$8,Congés_auto!$R$5:$BR$5,2+J$1),)))),IF($G41=\"Jeudi\",IF(OR($F41=1,$F41=2),VLOOKUP($G$8,Congés_auto!$R$7:$BR$7,2+J$4),IF(OR($F41=3,$F41=4),VLOOKUP($G$8,Congés_auto!$R$7:$BR$7,2+J$3),IF(OR($F41=5,$F41=6),VLOOKUP($G$8,Congés_auto!$R$7:$BR$7,2+J$2),IF(OR($F41=7,$F41=8),VLOOKUP($G$8,Congés_auto!$R$7:$BR$7,2+J$1),)))),0))","v":"2018-09-25"},{"$f":"IF($G41=\"Mardi\",IF(OR($F41=1,$F41=2),VLOOKUP($G$8,Congés_auto!$R$5:$BR$5,2+K$4),IF(OR($F41=3,$F41=4),VLOOKUP($G$8,Congés_auto!$R$5:$BR$5,2+K$3),IF(OR($F41=5,$F41=6),VLOOKUP($G$8,Congés_auto!$R$5:$BR$5,2+K$2),IF(OR($F41=7,$F41=8),VLOOKUP($G$8,Congés_auto!$R$5:$BR$5,2+K$1),)))),IF($G41=\"Jeudi\",IF(OR($F41=1,$F41=2),VLOOKUP($G$8,Congés_auto!$R$7:$BR$7,2+K$4),IF(OR($F41=3,$F41=4),VLOOKUP($G$8,Congés_auto!$R$7:$BR$7,2+K$3),IF(OR($F41=5,$F41=6),VLOOKUP($G$8,Congés_auto!$R$7:$BR$7,2+K$2),IF(OR($F41=7,$F41=8),VLOOKUP($G$8,Congés_auto!$R$7:$BR$7,2+K$1),)))),0))","v":"2018-11-06"},{"$f":"IF($G41=\"Mardi\",IF(OR($F41=1,$F41=2),VLOOKUP($G$8,Congés_auto!$R$5:$BR$5,2+L$4),IF(OR($F41=3,$F41=4),VLOOKUP($G$8,Congés_auto!$R$5:$BR$5,2+L$3),IF(OR($F41=5,$F41=6),VLOOKUP($G$8,Congés_auto!$R$5:$BR$5,2+L$2),IF(OR($F41=7,$F41=8),VLOOKUP($G$8,Congés_auto!$R$5:$BR$5,2+L$1),)))),IF($G41=\"Jeudi\",IF(OR($F41=1,$F41=2),VLOOKUP($G$8,Congés_auto!$R$7:$BR$7,2+L$4),IF(OR($F41=3,$F41=4),VLOOKUP($G$8,Congés_auto!$R$7:$BR$7,2+L$3),IF(OR($F41=5,$F41=6),VLOOKUP($G$8,Congés_auto!$R$7:$BR$7,2+L$2),IF(OR($F41=7,$F41=8),VLOOKUP($G$8,Congés_auto!$R$7:$BR$7,2+L$1),)))),0))","v":"2018-12-04"},{"$f":"IF($G41=\"Mardi\",IF(OR($F41=1,$F41=2),VLOOKUP($G$8,Congés_auto!$R$5:$BR$5,2+M$4),IF(OR($F41=3,$F41=4),VLOOKUP($G$8,Congés_auto!$R$5:$BR$5,2+M$3),IF(OR($F41=5,$F41=6),VLOOKUP($G$8,Congés_auto!$R$5:$BR$5,2+M$2),IF(OR($F41=7,$F41=8),VLOOKUP($G$8,Congés_auto!$R$5:$BR$5,2+M$1),)))),IF($G41=\"Jeudi\",IF(OR($F41=1,$F41=2),VLOOKUP($G$8,Congés_auto!$R$7:$BR$7,2+M$4),IF(OR($F41=3,$F41=4),VLOOKUP($G$8,Congés_auto!$R$7:$BR$7,2+M$3),IF(OR($F41=5,$F41=6),VLOOKUP($G$8,Congés_auto!$R$7:$BR$7,2+M$2),IF(OR($F41=7,$F41=8),VLOOKUP($G$8,Congés_auto!$R$7:$BR$7,2+M$1),)))),0))","v":"2019-02-05"},{"$f":"IF($G41=\"Mardi\",IF(OR($F41=1,$F41=2),VLOOKUP($G$8,Congés_auto!$R$5:$BR$5,2+N$4),IF(OR($F41=3,$F41=4),VLOOKUP($G$8,Congés_auto!$R$5:$BR$5,2+N$3),IF(OR($F41=5,$F41=6),VLOOKUP($G$8,Congés_auto!$R$5:$BR$5,2+N$2),IF(OR($F41=7,$F41=8),VLOOKUP($G$8,Congés_auto!$R$5:$BR$5,2+N$1),)))),IF($G41=\"Jeudi\",IF(OR($F41=1,$F41=2),VLOOKUP($G$8,Congés_auto!$R$7:$BR$7,2+N$4),IF(OR($F41=3,$F41=4),VLOOKUP($G$8,Congés_auto!$R$7:$BR$7,2+N$3),IF(OR($F41=5,$F41=6),VLOOKUP($G$8,Congés_auto!$R$7:$BR$7,2+N$2),IF(OR($F41=7,$F41=8),VLOOKUP($G$8,Congés_auto!$R$7:$BR$7,2+N$1),)))),0))","v":"2019-03-05"},{"$f":"IF($G41=\"Mardi\",IF(OR($F41=1,$F41=2),VLOOKUP($G$8,Congés_auto!$R$5:$BR$5,2+O$4),IF(OR($F41=3,$F41=4),VLOOKUP($G$8,Congés_auto!$R$5:$BR$5,2+O$3),IF(OR($F41=5,$F41=6),VLOOKUP($G$8,Congés_auto!$R$5:$BR$5,2+O$2),IF(OR($F41=7,$F41=8),VLOOKUP($G$8,Congés_auto!$R$5:$BR$5,2+O$1),)))),IF($G41=\"Jeudi\",IF(OR($F41=1,$F41=2),VLOOKUP($G$8,Congés_auto!$R$7:$BR$7,2+O$4),IF(OR($F41=3,$F41=4),VLOOKUP($G$8,Congés_auto!$R$7:$BR$7,2+O$3),IF(OR($F41=5,$F41=6),VLOOKUP($G$8,Congés_auto!$R$7:$BR$7,2+O$2),IF(OR($F41=7,$F41=8),VLOOKUP($G$8,Congés_auto!$R$7:$BR$7,2+O$1),)))),0))","v":"2019-04-16"},{"$f":"IF($G41=\"Mardi\",IF(OR($F41=1,$F41=2),VLOOKUP($G$8,Congés_auto!$R$5:$BR$5,2+P$4),IF(OR($F41=3,$F41=4),VLOOKUP($G$8,Congés_auto!$R$5:$BR$5,2+P$3),IF(OR($F41=5,$F41=6),VLOOKUP($G$8,Congés_auto!$R$5:$BR$5,2+P$2),IF(OR($F41=7,$F41=8),VLOOKUP($G$8,Congés_auto!$R$5:$BR$5,2+P$1),)))),IF($G41=\"Jeudi\",IF(OR($F41=1,$F41=2),VLOOKUP($G$8,Congés_auto!$R$7:$BR$7,2+P$4),IF(OR($F41=3,$F41=4),VLOOKUP($G$8,Congés_auto!$R$7:$BR$7,2+P$3),IF(OR($F41=5,$F41=6),VLOOKUP($G$8,Congés_auto!$R$7:$BR$7,2+P$2),IF(OR($F41=7,$F41=8),VLOOKUP($G$8,Congés_auto!$R$7:$BR$7,2+P$1),)))),0))","v":"2019-05-28"},{"$f":"IF($G41=\"Mardi\",IF(OR($F41=1,$F41=2),VLOOKUP($G$8,Congés_auto!$R$5:$BR$5,2+Q$4),IF(OR($F41=3,$F41=4),VLOOKUP($G$8,Congés_auto!$R$5:$BR$5,2+Q$3),IF(OR($F41=5,$F41=6),VLOOKUP($G$8,Congés_auto!$R$5:$BR$5,2+Q$2),IF(OR($F41=7,$F41=8),VLOOKUP($G$8,Congés_auto!$R$5:$BR$5,2+Q$1),)))),IF($G41=\"Jeudi\",IF(OR($F41=1,$F41=2),VLOOKUP($G$8,Congés_auto!$R$7:$BR$7,2+Q$4),IF(OR($F41=3,$F41=4),VLOOKUP($G$8,Congés_auto!$R$7:$BR$7,2+Q$3),IF(OR($F41=5,$F41=6),VLOOKUP($G$8,Congés_auto!$R$7:$BR$7,2+Q$2),IF(OR($F41=7,$F41=8),VLOOKUP($G$8,Congés_auto!$R$7:$BR$7,2+Q$1),)))),0))","v":"2019-06-25"}]
[{"$nulls":3},"2001-07-12",302,3,"Mardi",{"$f":"IF(E42=E41,IF(F42=F41,H41+1,E42&F42&0),E42&F42&0)","v":"30230"},{"$f":"IF($G42=\"Mardi\",IF(OR($F42=1,$F42=2),VLOOKUP($G$8,Congés_auto!$R$5:$BR$5,2+I$4),IF(OR($F42=3,$F42=4),VLOOKUP($G$8,Congés_auto!$R$5:$BR$5,2+I$3),IF(OR($F42=5,$F42=6),VLOOKUP($G$8,Congés_auto!$R$5:$BR$5,2+I$2),IF(OR($F42=7,$F42=8),VLOOKUP($G$8,Congés_auto!$R$5:$BR$5,2+I$1),)))),IF($G42=\"Jeudi\",IF(OR($F42=1,$F42=2),VLOOKUP($G$8,Congés_auto!$R$7:$BR$7,2+I$4),IF(OR($F42=3,$F42=4),VLOOKUP($G$8,Congés_auto!$R$7:$BR$7,2+I$3),IF(OR($F42=5,$F42=6),VLOOKUP($G$8,Congés_auto!$R$7:$BR$7,2+I$2),IF(OR($F42=7,$F42=8),VLOOKUP($G$8,Congés_auto!$R$7:$BR$7,2+I$1),)))),0))","v":"2018-09-04"},{"$f":"IF($G42=\"Mardi\",IF(OR($F42=1,$F42=2),VLOOKUP($G$8,Congés_auto!$R$5:$BR$5,2+J$4),IF(OR($F42=3,$F42=4),VLOOKUP($G$8,Congés_auto!$R$5:$BR$5,2+J$3),IF(OR($F42=5,$F42=6),VLOOKUP($G$8,Congés_auto!$R$5:$BR$5,2+J$2),IF(OR($F42=7,$F42=8),VLOOKUP($G$8,Congés_auto!$R$5:$BR$5,2+J$1),)))),IF($G42=\"Jeudi\",IF(OR($F42=1,$F42=2),VLOOKUP($G$8,Congés_auto!$R$7:$BR$7,2+J$4),IF(OR($F42=3,$F42=4),VLOOKUP($G$8,Congés_auto!$R$7:$BR$7,2+J$3),IF(OR($F42=5,$F42=6),VLOOKUP($G$8,Congés_auto!$R$7:$BR$7,2+J$2),IF(OR($F42=7,$F42=8),VLOOKUP($G$8,Congés_auto!$R$7:$BR$7,2+J$1),)))),0))","v":"2018-10-02"},{"$f":"IF($G42=\"Mardi\",IF(OR($F42=1,$F42=2),VLOOKUP($G$8,Congés_auto!$R$5:$BR$5,2+K$4),IF(OR($F42=3,$F42=4),VLOOKUP($G$8,Congés_auto!$R$5:$BR$5,2+K$3),IF(OR($F42=5,$F42=6),VLOOKUP($G$8,Congés_auto!$R$5:$BR$5,2+K$2),IF(OR($F42=7,$F42=8),VLOOKUP($G$8,Congés_auto!$R$5:$BR$5,2+K$1),)))),IF($G42=\"Jeudi\",IF(OR($F42=1,$F42=2),VLOOKUP($G$8,Congés_auto!$R$7:$BR$7,2+K$4),IF(OR($F42=3,$F42=4),VLOOKUP($G$8,Congés_auto!$R$7:$BR$7,2+K$3),IF(OR($F42=5,$F42=6),VLOOKUP($G$8,Congés_auto!$R$7:$BR$7,2+K$2),IF(OR($F42=7,$F42=8),VLOOKUP($G$8,Congés_auto!$R$7:$BR$7,2+K$1),)))),0))","v":"2018-11-13"},{"$f":"IF($G42=\"Mardi\",IF(OR($F42=1,$F42=2),VLOOKUP($G$8,Congés_auto!$R$5:$BR$5,2+L$4),IF(OR($F42=3,$F42=4),VLOOKUP($G$8,Congés_auto!$R$5:$BR$5,2+L$3),IF(OR($F42=5,$F42=6),VLOOKUP($G$8,Congés_auto!$R$5:$BR$5,2+L$2),IF(OR($F42=7,$F42=8),VLOOKUP($G$8,Congés_auto!$R$5:$BR$5,2+L$1),)))),IF($G42=\"Jeudi\",IF(OR($F42=1,$F42=2),VLOOKUP($G$8,Congés_auto!$R$7:$BR$7,2+L$4),IF(OR($F42=3,$F42=4),VLOOKUP($G$8,Congés_auto!$R$7:$BR$7,2+L$3),IF(OR($F42=5,$F42=6),VLOOKUP($G$8,Congés_auto!$R$7:$BR$7,2+L$2),IF(OR($F42=7,$F42=8),VLOOKUP($G$8,Congés_auto!$R$7:$BR$7,2+L$1),)))),0))","v":"2018-12-11"},{"$f":"IF($G42=\"Mardi\",IF(OR($F42=1,$F42=2),VLOOKUP($G$8,Congés_auto!$R$5:$BR$5,2+M$4),IF(OR($F42=3,$F42=4),VLOOKUP($G$8,Congés_auto!$R$5:$BR$5,2+M$3),IF(OR($F42=5,$F42=6),VLOOKUP($G$8,Congés_auto!$R$5:$BR$5,2+M$2),IF(OR($F42=7,$F42=8),VLOOKUP($G$8,Congés_auto!$R$5:$BR$5,2+M$1),)))),IF($G42=\"Jeudi\",IF(OR($F42=1,$F42=2),VLOOKUP($G$8,Congés_auto!$R$7:$BR$7,2+M$4),IF(OR($F42=3,$F42=4),VLOOKUP($G$8,Congés_auto!$R$7:$BR$7,2+M$3),IF(OR($F42=5,$F42=6),VLOOKUP($G$8,Congés_auto!$R$7:$BR$7,2+M$2),IF(OR($F42=7,$F42=8),VLOOKUP($G$8,Congés_auto!$R$7:$BR$7,2+M$1),)))),0))","v":"2019-02-12"},{"$f":"IF($G42=\"Mardi\",IF(OR($F42=1,$F42=2),VLOOKUP($G$8,Congés_auto!$R$5:$BR$5,2+N$4),IF(OR($F42=3,$F42=4),VLOOKUP($G$8,Congés_auto!$R$5:$BR$5,2+N$3),IF(OR($F42=5,$F42=6),VLOOKUP($G$8,Congés_auto!$R$5:$BR$5,2+N$2),IF(OR($F42=7,$F42=8),VLOOKUP($G$8,Congés_auto!$R$5:$BR$5,2+N$1),)))),IF($G42=\"Jeudi\",IF(OR($F42=1,$F42=2),VLOOKUP($G$8,Congés_auto!$R$7:$BR$7,2+N$4),IF(OR($F42=3,$F42=4),VLOOKUP($G$8,Congés_auto!$R$7:$BR$7,2+N$3),IF(OR($F42=5,$F42=6),VLOOKUP($G$8,Congés_auto!$R$7:$BR$7,2+N$2),IF(OR($F42=7,$F42=8),VLOOKUP($G$8,Congés_auto!$R$7:$BR$7,2+N$1),)))),0))","v":"2019-03-26"},{"$f":"IF($G42=\"Mardi\",IF(OR($F42=1,$F42=2),VLOOKUP($G$8,Congés_auto!$R$5:$BR$5,2+O$4),IF(OR($F42=3,$F42=4),VLOOKUP($G$8,Congés_auto!$R$5:$BR$5,2+O$3),IF(OR($F42=5,$F42=6),VLOOKUP($G$8,Congés_auto!$R$5:$BR$5,2+O$2),IF(OR($F42=7,$F42=8),VLOOKUP($G$8,Congés_auto!$R$5:$BR$5,2+O$1),)))),IF($G42=\"Jeudi\",IF(OR($F42=1,$F42=2),VLOOKUP($G$8,Congés_auto!$R$7:$BR$7,2+O$4),IF(OR($F42=3,$F42=4),VLOOKUP($G$8,Congés_auto!$R$7:$BR$7,2+O$3),IF(OR($F42=5,$F42=6),VLOOKUP($G$8,Congés_auto!$R$7:$BR$7,2+O$2),IF(OR($F42=7,$F42=8),VLOOKUP($G$8,Congés_auto!$R$7:$BR$7,2+O$1),)))),0))","v":"2019-04-23"},{"$f":"IF($G42=\"Mardi\",IF(OR($F42=1,$F42=2),VLOOKUP($G$8,Congés_auto!$R$5:$BR$5,2+P$4),IF(OR($F42=3,$F42=4),VLOOKUP($G$8,Congés_auto!$R$5:$BR$5,2+P$3),IF(OR($F42=5,$F42=6),VLOOKUP($G$8,Congés_auto!$R$5:$BR$5,2+P$2),IF(OR($F42=7,$F42=8),VLOOKUP($G$8,Congés_auto!$R$5:$BR$5,2+P$1),)))),IF($G42=\"Jeudi\",IF(OR($F42=1,$F42=2),VLOOKUP($G$8,Congés_auto!$R$7:$BR$7,2+P$4),IF(OR($F42=3,$F42=4),VLOOKUP($G$8,Congés_auto!$R$7:$BR$7,2+P$3),IF(OR($F42=5,$F42=6),VLOOKUP($G$8,Congés_auto!$R$7:$BR$7,2+P$2),IF(OR($F42=7,$F42=8),VLOOKUP($G$8,Congés_auto!$R$7:$BR$7,2+P$1),)))),0))","v":"2019-06-04"},{"$f":"IF($G42=\"Mardi\",IF(OR($F42=1,$F42=2),VLOOKUP($G$8,Congés_auto!$R$5:$BR$5,2+Q$4),IF(OR($F42=3,$F42=4),VLOOKUP($G$8,Congés_auto!$R$5:$BR$5,2+Q$3),IF(OR($F42=5,$F42=6),VLOOKUP($G$8,Congés_auto!$R$5:$BR$5,2+Q$2),IF(OR($F42=7,$F42=8),VLOOKUP($G$8,Congés_auto!$R$5:$BR$5,2+Q$1),)))),IF($G42=\"Jeudi\",IF(OR($F42=1,$F42=2),VLOOKUP($G$8,Congés_auto!$R$7:$BR$7,2+Q$4),IF(OR($F42=3,$F42=4),VLOOKUP($G$8,Congés_auto!$R$7:$BR$7,2+Q$3),IF(OR($F42=5,$F42=6),VLOOKUP($G$8,Congés_auto!$R$7:$BR$7,2+Q$2),IF(OR($F42=7,$F42=8),VLOOKUP($G$8,Congés_auto!$R$7:$BR$7,2+Q$1),)))),0))","v":"2019-07-02"}]
[{"$nulls":3},"2000-10-16",302,3,"Mardi",{"$f":"IF(F43=F42,H42+1,E43&F43&0)","v":30231},{"$f":"IF($G43=\"Mardi\",IF(OR($F43=1,$F43=2),VLOOKUP($G$8,Congés_auto!$R$5:$BR$5,2+I$4),IF(OR($F43=3,$F43=4),VLOOKUP($G$8,Congés_auto!$R$5:$BR$5,2+I$3),IF(OR($F43=5,$F43=6),VLOOKUP($G$8,Congés_auto!$R$5:$BR$5,2+I$2),IF(OR($F43=7,$F43=8),VLOOKUP($G$8,Congés_auto!$R$5:$BR$5,2+I$1),)))),IF($G43=\"Jeudi\",IF(OR($F43=1,$F43=2),VLOOKUP($G$8,Congés_auto!$R$7:$BR$7,2+I$4),IF(OR($F43=3,$F43=4),VLOOKUP($G$8,Congés_auto!$R$7:$BR$7,2+I$3),IF(OR($F43=5,$F43=6),VLOOKUP($G$8,Congés_auto!$R$7:$BR$7,2+I$2),IF(OR($F43=7,$F43=8),VLOOKUP($G$8,Congés_auto!$R$7:$BR$7,2+I$1),)))),0))","v":"2018-09-04"},{"$f":"IF($G43=\"Mardi\",IF(OR($F43=1,$F43=2),VLOOKUP($G$8,Congés_auto!$R$5:$BR$5,2+J$4),IF(OR($F43=3,$F43=4),VLOOKUP($G$8,Congés_auto!$R$5:$BR$5,2+J$3),IF(OR($F43=5,$F43=6),VLOOKUP($G$8,Congés_auto!$R$5:$BR$5,2+J$2),IF(OR($F43=7,$F43=8),VLOOKUP($G$8,Congés_auto!$R$5:$BR$5,2+J$1),)))),IF($G43=\"Jeudi\",IF(OR($F43=1,$F43=2),VLOOKUP($G$8,Congés_auto!$R$7:$BR$7,2+J$4),IF(OR($F43=3,$F43=4),VLOOKUP($G$8,Congés_auto!$R$7:$BR$7,2+J$3),IF(OR($F43=5,$F43=6),VLOOKUP($G$8,Congés_auto!$R$7:$BR$7,2+J$2),IF(OR($F43=7,$F43=8),VLOOKUP($G$8,Congés_auto!$R$7:$BR$7,2+J$1),)))),0))","v":"2018-10-02"},{"$f":"IF($G43=\"Mardi\",IF(OR($F43=1,$F43=2),VLOOKUP($G$8,Congés_auto!$R$5:$BR$5,2+K$4),IF(OR($F43=3,$F43=4),VLOOKUP($G$8,Congés_auto!$R$5:$BR$5,2+K$3),IF(OR($F43=5,$F43=6),VLOOKUP($G$8,Congés_auto!$R$5:$BR$5,2+K$2),IF(OR($F43=7,$F43=8),VLOOKUP($G$8,Congés_auto!$R$5:$BR$5,2+K$1),)))),IF($G43=\"Jeudi\",IF(OR($F43=1,$F43=2),VLOOKUP($G$8,Congés_auto!$R$7:$BR$7,2+K$4),IF(OR($F43=3,$F43=4),VLOOKUP($G$8,Congés_auto!$R$7:$BR$7,2+K$3),IF(OR($F43=5,$F43=6),VLOOKUP($G$8,Congés_auto!$R$7:$BR$7,2+K$2),IF(OR($F43=7,$F43=8),VLOOKUP($G$8,Congés_auto!$R$7:$BR$7,2+K$1),)))),0))","v":"2018-11-13"},{"$f":"IF($G43=\"Mardi\",IF(OR($F43=1,$F43=2),VLOOKUP($G$8,Congés_auto!$R$5:$BR$5,2+L$4),IF(OR($F43=3,$F43=4),VLOOKUP($G$8,Congés_auto!$R$5:$BR$5,2+L$3),IF(OR($F43=5,$F43=6),VLOOKUP($G$8,Congés_auto!$R$5:$BR$5,2+L$2),IF(OR($F43=7,$F43=8),VLOOKUP($G$8,Congés_auto!$R$5:$BR$5,2+L$1),)))),IF($G43=\"Jeudi\",IF(OR($F43=1,$F43=2),VLOOKUP($G$8,Congés_auto!$R$7:$BR$7,2+L$4),IF(OR($F43=3,$F43=4),VLOOKUP($G$8,Congés_auto!$R$7:$BR$7,2+L$3),IF(OR($F43=5,$F43=6),VLOOKUP($G$8,Congés_auto!$R$7:$BR$7,2+L$2),IF(OR($F43=7,$F43=8),VLOOKUP($G$8,Congés_auto!$R$7:$BR$7,2+L$1),)))),0))","v":"2018-12-11"},{"$f":"IF($G43=\"Mardi\",IF(OR($F43=1,$F43=2),VLOOKUP($G$8,Congés_auto!$R$5:$BR$5,2+M$4),IF(OR($F43=3,$F43=4),VLOOKUP($G$8,Congés_auto!$R$5:$BR$5,2+M$3),IF(OR($F43=5,$F43=6),VLOOKUP($G$8,Congés_auto!$R$5:$BR$5,2+M$2),IF(OR($F43=7,$F43=8),VLOOKUP($G$8,Congés_auto!$R$5:$BR$5,2+M$1),)))),IF($G43=\"Jeudi\",IF(OR($F43=1,$F43=2),VLOOKUP($G$8,Congés_auto!$R$7:$BR$7,2+M$4),IF(OR($F43=3,$F43=4),VLOOKUP($G$8,Congés_auto!$R$7:$BR$7,2+M$3),IF(OR($F43=5,$F43=6),VLOOKUP($G$8,Congés_auto!$R$7:$BR$7,2+M$2),IF(OR($F43=7,$F43=8),VLOOKUP($G$8,Congés_auto!$R$7:$BR$7,2+M$1),)))),0))","v":"2019-02-12"},{"$f":"IF($G43=\"Mardi\",IF(OR($F43=1,$F43=2),VLOOKUP($G$8,Congés_auto!$R$5:$BR$5,2+N$4),IF(OR($F43=3,$F43=4),VLOOKUP($G$8,Congés_auto!$R$5:$BR$5,2+N$3),IF(OR($F43=5,$F43=6),VLOOKUP($G$8,Congés_auto!$R$5:$BR$5,2+N$2),IF(OR($F43=7,$F43=8),VLOOKUP($G$8,Congés_auto!$R$5:$BR$5,2+N$1),)))),IF($G43=\"Jeudi\",IF(OR($F43=1,$F43=2),VLOOKUP($G$8,Congés_auto!$R$7:$BR$7,2+N$4),IF(OR($F43=3,$F43=4),VLOOKUP($G$8,Congés_auto!$R$7:$BR$7,2+N$3),IF(OR($F43=5,$F43=6),VLOOKUP($G$8,Congés_auto!$R$7:$BR$7,2+N$2),IF(OR($F43=7,$F43=8),VLOOKUP($G$8,Congés_auto!$R$7:$BR$7,2+N$1),)))),0))","v":"2019-03-26"},{"$f":"IF($G43=\"Mardi\",IF(OR($F43=1,$F43=2),VLOOKUP($G$8,Congés_auto!$R$5:$BR$5,2+O$4),IF(OR($F43=3,$F43=4),VLOOKUP($G$8,Congés_auto!$R$5:$BR$5,2+O$3),IF(OR($F43=5,$F43=6),VLOOKUP($G$8,Congés_auto!$R$5:$BR$5,2+O$2),IF(OR($F43=7,$F43=8),VLOOKUP($G$8,Congés_auto!$R$5:$BR$5,2+O$1),)))),IF($G43=\"Jeudi\",IF(OR($F43=1,$F43=2),VLOOKUP($G$8,Congés_auto!$R$7:$BR$7,2+O$4),IF(OR($F43=3,$F43=4),VLOOKUP($G$8,Congés_auto!$R$7:$BR$7,2+O$3),IF(OR($F43=5,$F43=6),VLOOKUP($G$8,Congés_auto!$R$7:$BR$7,2+O$2),IF(OR($F43=7,$F43=8),VLOOKUP($G$8,Congés_auto!$R$7:$BR$7,2+O$1),)))),0))","v":"2019-04-23"},{"$f":"IF($G43=\"Mardi\",IF(OR($F43=1,$F43=2),VLOOKUP($G$8,Congés_auto!$R$5:$BR$5,2+P$4),IF(OR($F43=3,$F43=4),VLOOKUP($G$8,Congés_auto!$R$5:$BR$5,2+P$3),IF(OR($F43=5,$F43=6),VLOOKUP($G$8,Congés_auto!$R$5:$BR$5,2+P$2),IF(OR($F43=7,$F43=8),VLOOKUP($G$8,Congés_auto!$R$5:$BR$5,2+P$1),)))),IF($G43=\"Jeudi\",IF(OR($F43=1,$F43=2),VLOOKUP($G$8,Congés_auto!$R$7:$BR$7,2+P$4),IF(OR($F43=3,$F43=4),VLOOKUP($G$8,Congés_auto!$R$7:$BR$7,2+P$3),IF(OR($F43=5,$F43=6),VLOOKUP($G$8,Congés_auto!$R$7:$BR$7,2+P$2),IF(OR($F43=7,$F43=8),VLOOKUP($G$8,Congés_auto!$R$7:$BR$7,2+P$1),)))),0))","v":"2019-06-04"},{"$f":"IF($G43=\"Mardi\",IF(OR($F43=1,$F43=2),VLOOKUP($G$8,Congés_auto!$R$5:$BR$5,2+Q$4),IF(OR($F43=3,$F43=4),VLOOKUP($G$8,Congés_auto!$R$5:$BR$5,2+Q$3),IF(OR($F43=5,$F43=6),VLOOKUP($G$8,Congés_auto!$R$5:$BR$5,2+Q$2),IF(OR($F43=7,$F43=8),VLOOKUP($G$8,Congés_auto!$R$5:$BR$5,2+Q$1),)))),IF($G43=\"Jeudi\",IF(OR($F43=1,$F43=2),VLOOKUP($G$8,Congés_auto!$R$7:$BR$7,2+Q$4),IF(OR($F43=3,$F43=4),VLOOKUP($G$8,Congés_auto!$R$7:$BR$7,2+Q$3),IF(OR($F43=5,$F43=6),VLOOKUP($G$8,Congés_auto!$R$7:$BR$7,2+Q$2),IF(OR($F43=7,$F43=8),VLOOKUP($G$8,Congés_auto!$R$7:$BR$7,2+Q$1),)))),0))","v":"2019-07-02"}]
[{"$nulls":3},"2001-01-31",302,3,"Mardi",{"$f":"IF(F44=F43,H43+1,E44&F44&0)","v":30232},{"$f":"IF($G44=\"Mardi\",IF(OR($F44=1,$F44=2),VLOOKUP($G$8,Congés_auto!$R$5:$BR$5,2+I$4),IF(OR($F44=3,$F44=4),VLOOKUP($G$8,Congés_auto!$R$5:$BR$5,2+I$3),IF(OR($F44=5,$F44=6),VLOOKUP($G$8,Congés_auto!$R$5:$BR$5,2+I$2),IF(OR($F44=7,$F44=8),VLOOKUP($G$8,Congés_auto!$R$5:$BR$5,2+I$1),)))),IF($G44=\"Jeudi\",IF(OR($F44=1,$F44=2),VLOOKUP($G$8,Congés_auto!$R$7:$BR$7,2+I$4),IF(OR($F44=3,$F44=4),VLOOKUP($G$8,Congés_auto!$R$7:$BR$7,2+I$3),IF(OR($F44=5,$F44=6),VLOOKUP($G$8,Congés_auto!$R$7:$BR$7,2+I$2),IF(OR($F44=7,$F44=8),VLOOKUP($G$8,Congés_auto!$R$7:$BR$7,2+I$1),)))),0))","v":"2018-09-04"},{"$f":"IF($G44=\"Mardi\",IF(OR($F44=1,$F44=2),VLOOKUP($G$8,Congés_auto!$R$5:$BR$5,2+J$4),IF(OR($F44=3,$F44=4),VLOOKUP($G$8,Congés_auto!$R$5:$BR$5,2+J$3),IF(OR($F44=5,$F44=6),VLOOKUP($G$8,Congés_auto!$R$5:$BR$5,2+J$2),IF(OR($F44=7,$F44=8),VLOOKUP($G$8,Congés_auto!$R$5:$BR$5,2+J$1),)))),IF($G44=\"Jeudi\",IF(OR($F44=1,$F44=2),VLOOKUP($G$8,Congés_auto!$R$7:$BR$7,2+J$4),IF(OR($F44=3,$F44=4),VLOOKUP($G$8,Congés_auto!$R$7:$BR$7,2+J$3),IF(OR($F44=5,$F44=6),VLOOKUP($G$8,Congés_auto!$R$7:$BR$7,2+J$2),IF(OR($F44=7,$F44=8),VLOOKUP($G$8,Congés_auto!$R$7:$BR$7,2+J$1),)))),0))","v":"2018-10-02"},{"$f":"IF($G44=\"Mardi\",IF(OR($F44=1,$F44=2),VLOOKUP($G$8,Congés_auto!$R$5:$BR$5,2+K$4),IF(OR($F44=3,$F44=4),VLOOKUP($G$8,Congés_auto!$R$5:$BR$5,2+K$3),IF(OR($F44=5,$F44=6),VLOOKUP($G$8,Congés_auto!$R$5:$BR$5,2+K$2),IF(OR($F44=7,$F44=8),VLOOKUP($G$8,Congés_auto!$R$5:$BR$5,2+K$1),)))),IF($G44=\"Jeudi\",IF(OR($F44=1,$F44=2),VLOOKUP($G$8,Congés_auto!$R$7:$BR$7,2+K$4),IF(OR($F44=3,$F44=4),VLOOKUP($G$8,Congés_auto!$R$7:$BR$7,2+K$3),IF(OR($F44=5,$F44=6),VLOOKUP($G$8,Congés_auto!$R$7:$BR$7,2+K$2),IF(OR($F44=7,$F44=8),VLOOKUP($G$8,Congés_auto!$R$7:$BR$7,2+K$1),)))),0))","v":"2018-11-13"},{"$f":"IF($G44=\"Mardi\",IF(OR($F44=1,$F44=2),VLOOKUP($G$8,Congés_auto!$R$5:$BR$5,2+L$4),IF(OR($F44=3,$F44=4),VLOOKUP($G$8,Congés_auto!$R$5:$BR$5,2+L$3),IF(OR($F44=5,$F44=6),VLOOKUP($G$8,Congés_auto!$R$5:$BR$5,2+L$2),IF(OR($F44=7,$F44=8),VLOOKUP($G$8,Congés_auto!$R$5:$BR$5,2+L$1),)))),IF($G44=\"Jeudi\",IF(OR($F44=1,$F44=2),VLOOKUP($G$8,Congés_auto!$R$7:$BR$7,2+L$4),IF(OR($F44=3,$F44=4),VLOOKUP($G$8,Congés_auto!$R$7:$BR$7,2+L$3),IF(OR($F44=5,$F44=6),VLOOKUP($G$8,Congés_auto!$R$7:$BR$7,2+L$2),IF(OR($F44=7,$F44=8),VLOOKUP($G$8,Congés_auto!$R$7:$BR$7,2+L$1),)))),0))","v":"2018-12-11"},{"$f":"IF($G44=\"Mardi\",IF(OR($F44=1,$F44=2),VLOOKUP($G$8,Congés_auto!$R$5:$BR$5,2+M$4),IF(OR($F44=3,$F44=4),VLOOKUP($G$8,Congés_auto!$R$5:$BR$5,2+M$3),IF(OR($F44=5,$F44=6),VLOOKUP($G$8,Congés_auto!$R$5:$BR$5,2+M$2),IF(OR($F44=7,$F44=8),VLOOKUP($G$8,Congés_auto!$R$5:$BR$5,2+M$1),)))),IF($G44=\"Jeudi\",IF(OR($F44=1,$F44=2),VLOOKUP($G$8,Congés_auto!$R$7:$BR$7,2+M$4),IF(OR($F44=3,$F44=4),VLOOKUP($G$8,Congés_auto!$R$7:$BR$7,2+M$3),IF(OR($F44=5,$F44=6),VLOOKUP($G$8,Congés_auto!$R$7:$BR$7,2+M$2),IF(OR($F44=7,$F44=8),VLOOKUP($G$8,Congés_auto!$R$7:$BR$7,2+M$1),)))),0))","v":"2019-02-12"},{"$f":"IF($G44=\"Mardi\",IF(OR($F44=1,$F44=2),VLOOKUP($G$8,Congés_auto!$R$5:$BR$5,2+N$4),IF(OR($F44=3,$F44=4),VLOOKUP($G$8,Congés_auto!$R$5:$BR$5,2+N$3),IF(OR($F44=5,$F44=6),VLOOKUP($G$8,Congés_auto!$R$5:$BR$5,2+N$2),IF(OR($F44=7,$F44=8),VLOOKUP($G$8,Congés_auto!$R$5:$BR$5,2+N$1),)))),IF($G44=\"Jeudi\",IF(OR($F44=1,$F44=2),VLOOKUP($G$8,Congés_auto!$R$7:$BR$7,2+N$4),IF(OR($F44=3,$F44=4),VLOOKUP($G$8,Congés_auto!$R$7:$BR$7,2+N$3),IF(OR($F44=5,$F44=6),VLOOKUP($G$8,Congés_auto!$R$7:$BR$7,2+N$2),IF(OR($F44=7,$F44=8),VLOOKUP($G$8,Congés_auto!$R$7:$BR$7,2+N$1),)))),0))","v":"2019-03-26"},{"$f":"IF($G44=\"Mardi\",IF(OR($F44=1,$F44=2),VLOOKUP($G$8,Congés_auto!$R$5:$BR$5,2+O$4),IF(OR($F44=3,$F44=4),VLOOKUP($G$8,Congés_auto!$R$5:$BR$5,2+O$3),IF(OR($F44=5,$F44=6),VLOOKUP($G$8,Congés_auto!$R$5:$BR$5,2+O$2),IF(OR($F44=7,$F44=8),VLOOKUP($G$8,Congés_auto!$R$5:$BR$5,2+O$1),)))),IF($G44=\"Jeudi\",IF(OR($F44=1,$F44=2),VLOOKUP($G$8,Congés_auto!$R$7:$BR$7,2+O$4),IF(OR($F44=3,$F44=4),VLOOKUP($G$8,Congés_auto!$R$7:$BR$7,2+O$3),IF(OR($F44=5,$F44=6),VLOOKUP($G$8,Congés_auto!$R$7:$BR$7,2+O$2),IF(OR($F44=7,$F44=8),VLOOKUP($G$8,Congés_auto!$R$7:$BR$7,2+O$1),)))),0))","v":"2019-04-23"},{"$f":"IF($G44=\"Mardi\",IF(OR($F44=1,$F44=2),VLOOKUP($G$8,Congés_auto!$R$5:$BR$5,2+P$4),IF(OR($F44=3,$F44=4),VLOOKUP($G$8,Congés_auto!$R$5:$BR$5,2+P$3),IF(OR($F44=5,$F44=6),VLOOKUP($G$8,Congés_auto!$R$5:$BR$5,2+P$2),IF(OR($F44=7,$F44=8),VLOOKUP($G$8,Congés_auto!$R$5:$BR$5,2+P$1),)))),IF($G44=\"Jeudi\",IF(OR($F44=1,$F44=2),VLOOKUP($G$8,Congés_auto!$R$7:$BR$7,2+P$4),IF(OR($F44=3,$F44=4),VLOOKUP($G$8,Congés_auto!$R$7:$BR$7,2+P$3),IF(OR($F44=5,$F44=6),VLOOKUP($G$8,Congés_auto!$R$7:$BR$7,2+P$2),IF(OR($F44=7,$F44=8),VLOOKUP($G$8,Congés_auto!$R$7:$BR$7,2+P$1),)))),0))","v":"2019-06-04"},{"$f":"IF($G44=\"Mardi\",IF(OR($F44=1,$F44=2),VLOOKUP($G$8,Congés_auto!$R$5:$BR$5,2+Q$4),IF(OR($F44=3,$F44=4),VLOOKUP($G$8,Congés_auto!$R$5:$BR$5,2+Q$3),IF(OR($F44=5,$F44=6),VLOOKUP($G$8,Congés_auto!$R$5:$BR$5,2+Q$2),IF(OR($F44=7,$F44=8),VLOOKUP($G$8,Congés_auto!$R$5:$BR$5,2+Q$1),)))),IF($G44=\"Jeudi\",IF(OR($F44=1,$F44=2),VLOOKUP($G$8,Congés_auto!$R$7:$BR$7,2+Q$4),IF(OR($F44=3,$F44=4),VLOOKUP($G$8,Congés_auto!$R$7:$BR$7,2+Q$3),IF(OR($F44=5,$F44=6),VLOOKUP($G$8,Congés_auto!$R$7:$BR$7,2+Q$2),IF(OR($F44=7,$F44=8),VLOOKUP($G$8,Congés_auto!$R$7:$BR$7,2+Q$1),)))),0))","v":"2019-07-02"}]
[null,null,"Hélène","2001-08-06",302,4,"Mardi",{"$f":"IF(E45=E44,IF(F45=F44,H44+1,E45&F45&0),E45&F45&0)","v":"30240"},{"$f":"IF($G45=\"Mardi\",IF(OR($F45=1,$F45=2),VLOOKUP($G$8,Congés_auto!$R$5:$BR$5,2+I$4),IF(OR($F45=3,$F45=4),VLOOKUP($G$8,Congés_auto!$R$5:$BR$5,2+I$3),IF(OR($F45=5,$F45=6),VLOOKUP($G$8,Congés_auto!$R$5:$BR$5,2+I$2),IF(OR($F45=7,$F45=8),VLOOKUP($G$8,Congés_auto!$R$5:$BR$5,2+I$1),)))),IF($G45=\"Jeudi\",IF(OR($F45=1,$F45=2),VLOOKUP($G$8,Congés_auto!$R$7:$BR$7,2+I$4),IF(OR($F45=3,$F45=4),VLOOKUP($G$8,Congés_auto!$R$7:$BR$7,2+I$3),IF(OR($F45=5,$F45=6),VLOOKUP($G$8,Congés_auto!$R$7:$BR$7,2+I$2),IF(OR($F45=7,$F45=8),VLOOKUP($G$8,Congés_auto!$R$7:$BR$7,2+I$1),)))),0))","v":"2018-09-04"},{"$f":"IF($G45=\"Mardi\",IF(OR($F45=1,$F45=2),VLOOKUP($G$8,Congés_auto!$R$5:$BR$5,2+J$4),IF(OR($F45=3,$F45=4),VLOOKUP($G$8,Congés_auto!$R$5:$BR$5,2+J$3),IF(OR($F45=5,$F45=6),VLOOKUP($G$8,Congés_auto!$R$5:$BR$5,2+J$2),IF(OR($F45=7,$F45=8),VLOOKUP($G$8,Congés_auto!$R$5:$BR$5,2+J$1),)))),IF($G45=\"Jeudi\",IF(OR($F45=1,$F45=2),VLOOKUP($G$8,Congés_auto!$R$7:$BR$7,2+J$4),IF(OR($F45=3,$F45=4),VLOOKUP($G$8,Congés_auto!$R$7:$BR$7,2+J$3),IF(OR($F45=5,$F45=6),VLOOKUP($G$8,Congés_auto!$R$7:$BR$7,2+J$2),IF(OR($F45=7,$F45=8),VLOOKUP($G$8,Congés_auto!$R$7:$BR$7,2+J$1),)))),0))","v":"2018-10-02"},{"$f":"IF($G45=\"Mardi\",IF(OR($F45=1,$F45=2),VLOOKUP($G$8,Congés_auto!$R$5:$BR$5,2+K$4),IF(OR($F45=3,$F45=4),VLOOKUP($G$8,Congés_auto!$R$5:$BR$5,2+K$3),IF(OR($F45=5,$F45=6),VLOOKUP($G$8,Congés_auto!$R$5:$BR$5,2+K$2),IF(OR($F45=7,$F45=8),VLOOKUP($G$8,Congés_auto!$R$5:$BR$5,2+K$1),)))),IF($G45=\"Jeudi\",IF(OR($F45=1,$F45=2),VLOOKUP($G$8,Congés_auto!$R$7:$BR$7,2+K$4),IF(OR($F45=3,$F45=4),VLOOKUP($G$8,Congés_auto!$R$7:$BR$7,2+K$3),IF(OR($F45=5,$F45=6),VLOOKUP($G$8,Congés_auto!$R$7:$BR$7,2+K$2),IF(OR($F45=7,$F45=8),VLOOKUP($G$8,Congés_auto!$R$7:$BR$7,2+K$1),)))),0))","v":"2018-11-13"},{"$f":"IF($G45=\"Mardi\",IF(OR($F45=1,$F45=2),VLOOKUP($G$8,Congés_auto!$R$5:$BR$5,2+L$4),IF(OR($F45=3,$F45=4),VLOOKUP($G$8,Congés_auto!$R$5:$BR$5,2+L$3),IF(OR($F45=5,$F45=6),VLOOKUP($G$8,Congés_auto!$R$5:$BR$5,2+L$2),IF(OR($F45=7,$F45=8),VLOOKUP($G$8,Congés_auto!$R$5:$BR$5,2+L$1),)))),IF($G45=\"Jeudi\",IF(OR($F45=1,$F45=2),VLOOKUP($G$8,Congés_auto!$R$7:$BR$7,2+L$4),IF(OR($F45=3,$F45=4),VLOOKUP($G$8,Congés_auto!$R$7:$BR$7,2+L$3),IF(OR($F45=5,$F45=6),VLOOKUP($G$8,Congés_auto!$R$7:$BR$7,2+L$2),IF(OR($F45=7,$F45=8),VLOOKUP($G$8,Congés_auto!$R$7:$BR$7,2+L$1),)))),0))","v":"2018-12-11"},{"$f":"IF($G45=\"Mardi\",IF(OR($F45=1,$F45=2),VLOOKUP($G$8,Congés_auto!$R$5:$BR$5,2+M$4),IF(OR($F45=3,$F45=4),VLOOKUP($G$8,Congés_auto!$R$5:$BR$5,2+M$3),IF(OR($F45=5,$F45=6),VLOOKUP($G$8,Congés_auto!$R$5:$BR$5,2+M$2),IF(OR($F45=7,$F45=8),VLOOKUP($G$8,Congés_auto!$R$5:$BR$5,2+M$1),)))),IF($G45=\"Jeudi\",IF(OR($F45=1,$F45=2),VLOOKUP($G$8,Congés_auto!$R$7:$BR$7,2+M$4),IF(OR($F45=3,$F45=4),VLOOKUP($G$8,Congés_auto!$R$7:$BR$7,2+M$3),IF(OR($F45=5,$F45=6),VLOOKUP($G$8,Congés_auto!$R$7:$BR$7,2+M$2),IF(OR($F45=7,$F45=8),VLOOKUP($G$8,Congés_auto!$R$7:$BR$7,2+M$1),)))),0))","v":"2019-02-12"},{"$f":"IF($G45=\"Mardi\",IF(OR($F45=1,$F45=2),VLOOKUP($G$8,Congés_auto!$R$5:$BR$5,2+N$4),IF(OR($F45=3,$F45=4),VLOOKUP($G$8,Congés_auto!$R$5:$BR$5,2+N$3),IF(OR($F45=5,$F45=6),VLOOKUP($G$8,Congés_auto!$R$5:$BR$5,2+N$2),IF(OR($F45=7,$F45=8),VLOOKUP($G$8,Congés_auto!$R$5:$BR$5,2+N$1),)))),IF($G45=\"Jeudi\",IF(OR($F45=1,$F45=2),VLOOKUP($G$8,Congés_auto!$R$7:$BR$7,2+N$4),IF(OR($F45=3,$F45=4),VLOOKUP($G$8,Congés_auto!$R$7:$BR$7,2+N$3),IF(OR($F45=5,$F45=6),VLOOKUP($G$8,Congés_auto!$R$7:$BR$7,2+N$2),IF(OR($F45=7,$F45=8),VLOOKUP($G$8,Congés_auto!$R$7:$BR$7,2+N$1),)))),0))","v":"2019-03-26"},{"$f":"IF($G45=\"Mardi\",IF(OR($F45=1,$F45=2),VLOOKUP($G$8,Congés_auto!$R$5:$BR$5,2+O$4),IF(OR($F45=3,$F45=4),VLOOKUP($G$8,Congés_auto!$R$5:$BR$5,2+O$3),IF(OR($F45=5,$F45=6),VLOOKUP($G$8,Congés_auto!$R$5:$BR$5,2+O$2),IF(OR($F45=7,$F45=8),VLOOKUP($G$8,Congés_auto!$R$5:$BR$5,2+O$1),)))),IF($G45=\"Jeudi\",IF(OR($F45=1,$F45=2),VLOOKUP($G$8,Congés_auto!$R$7:$BR$7,2+O$4),IF(OR($F45=3,$F45=4),VLOOKUP($G$8,Congés_auto!$R$7:$BR$7,2+O$3),IF(OR($F45=5,$F45=6),VLOOKUP($G$8,Congés_auto!$R$7:$BR$7,2+O$2),IF(OR($F45=7,$F45=8),VLOOKUP($G$8,Congés_auto!$R$7:$BR$7,2+O$1),)))),0))","v":"2019-04-23"},{"$f":"IF($G45=\"Mardi\",IF(OR($F45=1,$F45=2),VLOOKUP($G$8,Congés_auto!$R$5:$BR$5,2+P$4),IF(OR($F45=3,$F45=4),VLOOKUP($G$8,Congés_auto!$R$5:$BR$5,2+P$3),IF(OR($F45=5,$F45=6),VLOOKUP($G$8,Congés_auto!$R$5:$BR$5,2+P$2),IF(OR($F45=7,$F45=8),VLOOKUP($G$8,Congés_auto!$R$5:$BR$5,2+P$1),)))),IF($G45=\"Jeudi\",IF(OR($F45=1,$F45=2),VLOOKUP($G$8,Congés_auto!$R$7:$BR$7,2+P$4),IF(OR($F45=3,$F45=4),VLOOKUP($G$8,Congés_auto!$R$7:$BR$7,2+P$3),IF(OR($F45=5,$F45=6),VLOOKUP($G$8,Congés_auto!$R$7:$BR$7,2+P$2),IF(OR($F45=7,$F45=8),VLOOKUP($G$8,Congés_auto!$R$7:$BR$7,2+P$1),)))),0))","v":"2019-06-04"},{"$f":"IF($G45=\"Mardi\",IF(OR($F45=1,$F45=2),VLOOKUP($G$8,Congés_auto!$R$5:$BR$5,2+Q$4),IF(OR($F45=3,$F45=4),VLOOKUP($G$8,Congés_auto!$R$5:$BR$5,2+Q$3),IF(OR($F45=5,$F45=6),VLOOKUP($G$8,Congés_auto!$R$5:$BR$5,2+Q$2),IF(OR($F45=7,$F45=8),VLOOKUP($G$8,Congés_auto!$R$5:$BR$5,2+Q$1),)))),IF($G45=\"Jeudi\",IF(OR($F45=1,$F45=2),VLOOKUP($G$8,Congés_auto!$R$7:$BR$7,2+Q$4),IF(OR($F45=3,$F45=4),VLOOKUP($G$8,Congés_auto!$R$7:$BR$7,2+Q$3),IF(OR($F45=5,$F45=6),VLOOKUP($G$8,Congés_auto!$R$7:$BR$7,2+Q$2),IF(OR($F45=7,$F45=8),VLOOKUP($G$8,Congés_auto!$R$7:$BR$7,2+Q$1),)))),0))","v":"2019-07-02"}]
[null,null,"Aline","2001-08-06",302,4,"Mardi",{"$f":"IF(E46=E45,IF(F46=F45,H45+1,E46&F46&0),E46&F46&0)","v":30241},{"$f":"IF($G46=\"Mardi\",IF(OR($F46=1,$F46=2),VLOOKUP($G$8,Congés_auto!$R$5:$BR$5,2+I$4),IF(OR($F46=3,$F46=4),VLOOKUP($G$8,Congés_auto!$R$5:$BR$5,2+I$3),IF(OR($F46=5,$F46=6),VLOOKUP($G$8,Congés_auto!$R$5:$BR$5,2+I$2),IF(OR($F46=7,$F46=8),VLOOKUP($G$8,Congés_auto!$R$5:$BR$5,2+I$1),)))),IF($G46=\"Jeudi\",IF(OR($F46=1,$F46=2),VLOOKUP($G$8,Congés_auto!$R$7:$BR$7,2+I$4),IF(OR($F46=3,$F46=4),VLOOKUP($G$8,Congés_auto!$R$7:$BR$7,2+I$3),IF(OR($F46=5,$F46=6),VLOOKUP($G$8,Congés_auto!$R$7:$BR$7,2+I$2),IF(OR($F46=7,$F46=8),VLOOKUP($G$8,Congés_auto!$R$7:$BR$7,2+I$1),)))),0))","v":"2018-09-04"},{"$f":"IF($G46=\"Mardi\",IF(OR($F46=1,$F46=2),VLOOKUP($G$8,Congés_auto!$R$5:$BR$5,2+J$4),IF(OR($F46=3,$F46=4),VLOOKUP($G$8,Congés_auto!$R$5:$BR$5,2+J$3),IF(OR($F46=5,$F46=6),VLOOKUP($G$8,Congés_auto!$R$5:$BR$5,2+J$2),IF(OR($F46=7,$F46=8),VLOOKUP($G$8,Congés_auto!$R$5:$BR$5,2+J$1),)))),IF($G46=\"Jeudi\",IF(OR($F46=1,$F46=2),VLOOKUP($G$8,Congés_auto!$R$7:$BR$7,2+J$4),IF(OR($F46=3,$F46=4),VLOOKUP($G$8,Congés_auto!$R$7:$BR$7,2+J$3),IF(OR($F46=5,$F46=6),VLOOKUP($G$8,Congés_auto!$R$7:$BR$7,2+J$2),IF(OR($F46=7,$F46=8),VLOOKUP($G$8,Congés_auto!$R$7:$BR$7,2+J$1),)))),0))","v":"2018-10-02"},{"$f":"IF($G46=\"Mardi\",IF(OR($F46=1,$F46=2),VLOOKUP($G$8,Congés_auto!$R$5:$BR$5,2+K$4),IF(OR($F46=3,$F46=4),VLOOKUP($G$8,Congés_auto!$R$5:$BR$5,2+K$3),IF(OR($F46=5,$F46=6),VLOOKUP($G$8,Congés_auto!$R$5:$BR$5,2+K$2),IF(OR($F46=7,$F46=8),VLOOKUP($G$8,Congés_auto!$R$5:$BR$5,2+K$1),)))),IF($G46=\"Jeudi\",IF(OR($F46=1,$F46=2),VLOOKUP($G$8,Congés_auto!$R$7:$BR$7,2+K$4),IF(OR($F46=3,$F46=4),VLOOKUP($G$8,Congés_auto!$R$7:$BR$7,2+K$3),IF(OR($F46=5,$F46=6),VLOOKUP($G$8,Congés_auto!$R$7:$BR$7,2+K$2),IF(OR($F46=7,$F46=8),VLOOKUP($G$8,Congés_auto!$R$7:$BR$7,2+K$1),)))),0))","v":"2018-11-13"},{"$f":"IF($G46=\"Mardi\",IF(OR($F46=1,$F46=2),VLOOKUP($G$8,Congés_auto!$R$5:$BR$5,2+L$4),IF(OR($F46=3,$F46=4),VLOOKUP($G$8,Congés_auto!$R$5:$BR$5,2+L$3),IF(OR($F46=5,$F46=6),VLOOKUP($G$8,Congés_auto!$R$5:$BR$5,2+L$2),IF(OR($F46=7,$F46=8),VLOOKUP($G$8,Congés_auto!$R$5:$BR$5,2+L$1),)))),IF($G46=\"Jeudi\",IF(OR($F46=1,$F46=2),VLOOKUP($G$8,Congés_auto!$R$7:$BR$7,2+L$4),IF(OR($F46=3,$F46=4),VLOOKUP($G$8,Congés_auto!$R$7:$BR$7,2+L$3),IF(OR($F46=5,$F46=6),VLOOKUP($G$8,Congés_auto!$R$7:$BR$7,2+L$2),IF(OR($F46=7,$F46=8),VLOOKUP($G$8,Congés_auto!$R$7:$BR$7,2+L$1),)))),0))","v":"2018-12-11"},{"$f":"IF($G46=\"Mardi\",IF(OR($F46=1,$F46=2),VLOOKUP($G$8,Congés_auto!$R$5:$BR$5,2+M$4),IF(OR($F46=3,$F46=4),VLOOKUP($G$8,Congés_auto!$R$5:$BR$5,2+M$3),IF(OR($F46=5,$F46=6),VLOOKUP($G$8,Congés_auto!$R$5:$BR$5,2+M$2),IF(OR($F46=7,$F46=8),VLOOKUP($G$8,Congés_auto!$R$5:$BR$5,2+M$1),)))),IF($G46=\"Jeudi\",IF(OR($F46=1,$F46=2),VLOOKUP($G$8,Congés_auto!$R$7:$BR$7,2+M$4),IF(OR($F46=3,$F46=4),VLOOKUP($G$8,Congés_auto!$R$7:$BR$7,2+M$3),IF(OR($F46=5,$F46=6),VLOOKUP($G$8,Congés_auto!$R$7:$BR$7,2+M$2),IF(OR($F46=7,$F46=8),VLOOKUP($G$8,Congés_auto!$R$7:$BR$7,2+M$1),)))),0))","v":"2019-02-12"},{"$f":"IF($G46=\"Mardi\",IF(OR($F46=1,$F46=2),VLOOKUP($G$8,Congés_auto!$R$5:$BR$5,2+N$4),IF(OR($F46=3,$F46=4),VLOOKUP($G$8,Congés_auto!$R$5:$BR$5,2+N$3),IF(OR($F46=5,$F46=6),VLOOKUP($G$8,Congés_auto!$R$5:$BR$5,2+N$2),IF(OR($F46=7,$F46=8),VLOOKUP($G$8,Congés_auto!$R$5:$BR$5,2+N$1),)))),IF($G46=\"Jeudi\",IF(OR($F46=1,$F46=2),VLOOKUP($G$8,Congés_auto!$R$7:$BR$7,2+N$4),IF(OR($F46=3,$F46=4),VLOOKUP($G$8,Congés_auto!$R$7:$BR$7,2+N$3),IF(OR($F46=5,$F46=6),VLOOKUP($G$8,Congés_auto!$R$7:$BR$7,2+N$2),IF(OR($F46=7,$F46=8),VLOOKUP($G$8,Congés_auto!$R$7:$BR$7,2+N$1),)))),0))","v":"2019-03-26"},{"$f":"IF($G46=\"Mardi\",IF(OR($F46=1,$F46=2),VLOOKUP($G$8,Congés_auto!$R$5:$BR$5,2+O$4),IF(OR($F46=3,$F46=4),VLOOKUP($G$8,Congés_auto!$R$5:$BR$5,2+O$3),IF(OR($F46=5,$F46=6),VLOOKUP($G$8,Congés_auto!$R$5:$BR$5,2+O$2),IF(OR($F46=7,$F46=8),VLOOKUP($G$8,Congés_auto!$R$5:$BR$5,2+O$1),)))),IF($G46=\"Jeudi\",IF(OR($F46=1,$F46=2),VLOOKUP($G$8,Congés_auto!$R$7:$BR$7,2+O$4),IF(OR($F46=3,$F46=4),VLOOKUP($G$8,Congés_auto!$R$7:$BR$7,2+O$3),IF(OR($F46=5,$F46=6),VLOOKUP($G$8,Congés_auto!$R$7:$BR$7,2+O$2),IF(OR($F46=7,$F46=8),VLOOKUP($G$8,Congés_auto!$R$7:$BR$7,2+O$1),)))),0))","v":"2019-04-23"},{"$f":"IF($G46=\"Mardi\",IF(OR($F46=1,$F46=2),VLOOKUP($G$8,Congés_auto!$R$5:$BR$5,2+P$4),IF(OR($F46=3,$F46=4),VLOOKUP($G$8,Congés_auto!$R$5:$BR$5,2+P$3),IF(OR($F46=5,$F46=6),VLOOKUP($G$8,Congés_auto!$R$5:$BR$5,2+P$2),IF(OR($F46=7,$F46=8),VLOOKUP($G$8,Congés_auto!$R$5:$BR$5,2+P$1),)))),IF($G46=\"Jeudi\",IF(OR($F46=1,$F46=2),VLOOKUP($G$8,Congés_auto!$R$7:$BR$7,2+P$4),IF(OR($F46=3,$F46=4),VLOOKUP($G$8,Congés_auto!$R$7:$BR$7,2+P$3),IF(OR($F46=5,$F46=6),VLOOKUP($G$8,Congés_auto!$R$7:$BR$7,2+P$2),IF(OR($F46=7,$F46=8),VLOOKUP($G$8,Congés_auto!$R$7:$BR$7,2+P$1),)))),0))","v":"2019-06-04"},{"$f":"IF($G46=\"Mardi\",IF(OR($F46=1,$F46=2),VLOOKUP($G$8,Congés_auto!$R$5:$BR$5,2+Q$4),IF(OR($F46=3,$F46=4),VLOOKUP($G$8,Congés_auto!$R$5:$BR$5,2+Q$3),IF(OR($F46=5,$F46=6),VLOOKUP($G$8,Congés_auto!$R$5:$BR$5,2+Q$2),IF(OR($F46=7,$F46=8),VLOOKUP($G$8,Congés_auto!$R$5:$BR$5,2+Q$1),)))),IF($G46=\"Jeudi\",IF(OR($F46=1,$F46=2),VLOOKUP($G$8,Congés_auto!$R$7:$BR$7,2+Q$4),IF(OR($F46=3,$F46=4),VLOOKUP($G$8,Congés_auto!$R$7:$BR$7,2+Q$3),IF(OR($F46=5,$F46=6),VLOOKUP($G$8,Congés_auto!$R$7:$BR$7,2+Q$2),IF(OR($F46=7,$F46=8),VLOOKUP($G$8,Congés_auto!$R$7:$BR$7,2+Q$1),)))),0))","v":"2019-07-02"}]
[{"$nulls":3},"2001-09-28",302,4,"Mardi",{"$f":"IF(F47=F46,H46+1,E47&F47&0)","v":30242},{"$f":"IF($G47=\"Mardi\",IF(OR($F47=1,$F47=2),VLOOKUP($G$8,Congés_auto!$R$5:$BR$5,2+I$4),IF(OR($F47=3,$F47=4),VLOOKUP($G$8,Congés_auto!$R$5:$BR$5,2+I$3),IF(OR($F47=5,$F47=6),VLOOKUP($G$8,Congés_auto!$R$5:$BR$5,2+I$2),IF(OR($F47=7,$F47=8),VLOOKUP($G$8,Congés_auto!$R$5:$BR$5,2+I$1),)))),IF($G47=\"Jeudi\",IF(OR($F47=1,$F47=2),VLOOKUP($G$8,Congés_auto!$R$7:$BR$7,2+I$4),IF(OR($F47=3,$F47=4),VLOOKUP($G$8,Congés_auto!$R$7:$BR$7,2+I$3),IF(OR($F47=5,$F47=6),VLOOKUP($G$8,Congés_auto!$R$7:$BR$7,2+I$2),IF(OR($F47=7,$F47=8),VLOOKUP($G$8,Congés_auto!$R$7:$BR$7,2+I$1),)))),0))","v":"2018-09-04"},{"$f":"IF($G47=\"Mardi\",IF(OR($F47=1,$F47=2),VLOOKUP($G$8,Congés_auto!$R$5:$BR$5,2+J$4),IF(OR($F47=3,$F47=4),VLOOKUP($G$8,Congés_auto!$R$5:$BR$5,2+J$3),IF(OR($F47=5,$F47=6),VLOOKUP($G$8,Congés_auto!$R$5:$BR$5,2+J$2),IF(OR($F47=7,$F47=8),VLOOKUP($G$8,Congés_auto!$R$5:$BR$5,2+J$1),)))),IF($G47=\"Jeudi\",IF(OR($F47=1,$F47=2),VLOOKUP($G$8,Congés_auto!$R$7:$BR$7,2+J$4),IF(OR($F47=3,$F47=4),VLOOKUP($G$8,Congés_auto!$R$7:$BR$7,2+J$3),IF(OR($F47=5,$F47=6),VLOOKUP($G$8,Congés_auto!$R$7:$BR$7,2+J$2),IF(OR($F47=7,$F47=8),VLOOKUP($G$8,Congés_auto!$R$7:$BR$7,2+J$1),)))),0))","v":"2018-10-02"},{"$f":"IF($G47=\"Mardi\",IF(OR($F47=1,$F47=2),VLOOKUP($G$8,Congés_auto!$R$5:$BR$5,2+K$4),IF(OR($F47=3,$F47=4),VLOOKUP($G$8,Congés_auto!$R$5:$BR$5,2+K$3),IF(OR($F47=5,$F47=6),VLOOKUP($G$8,Congés_auto!$R$5:$BR$5,2+K$2),IF(OR($F47=7,$F47=8),VLOOKUP($G$8,Congés_auto!$R$5:$BR$5,2+K$1),)))),IF($G47=\"Jeudi\",IF(OR($F47=1,$F47=2),VLOOKUP($G$8,Congés_auto!$R$7:$BR$7,2+K$4),IF(OR($F47=3,$F47=4),VLOOKUP($G$8,Congés_auto!$R$7:$BR$7,2+K$3),IF(OR($F47=5,$F47=6),VLOOKUP($G$8,Congés_auto!$R$7:$BR$7,2+K$2),IF(OR($F47=7,$F47=8),VLOOKUP($G$8,Congés_auto!$R$7:$BR$7,2+K$1),)))),0))","v":"2018-11-13"},{"$f":"IF($G47=\"Mardi\",IF(OR($F47=1,$F47=2),VLOOKUP($G$8,Congés_auto!$R$5:$BR$5,2+L$4),IF(OR($F47=3,$F47=4),VLOOKUP($G$8,Congés_auto!$R$5:$BR$5,2+L$3),IF(OR($F47=5,$F47=6),VLOOKUP($G$8,Congés_auto!$R$5:$BR$5,2+L$2),IF(OR($F47=7,$F47=8),VLOOKUP($G$8,Congés_auto!$R$5:$BR$5,2+L$1),)))),IF($G47=\"Jeudi\",IF(OR($F47=1,$F47=2),VLOOKUP($G$8,Congés_auto!$R$7:$BR$7,2+L$4),IF(OR($F47=3,$F47=4),VLOOKUP($G$8,Congés_auto!$R$7:$BR$7,2+L$3),IF(OR($F47=5,$F47=6),VLOOKUP($G$8,Congés_auto!$R$7:$BR$7,2+L$2),IF(OR($F47=7,$F47=8),VLOOKUP($G$8,Congés_auto!$R$7:$BR$7,2+L$1),)))),0))","v":"2018-12-11"},{"$f":"IF($G47=\"Mardi\",IF(OR($F47=1,$F47=2),VLOOKUP($G$8,Congés_auto!$R$5:$BR$5,2+M$4),IF(OR($F47=3,$F47=4),VLOOKUP($G$8,Congés_auto!$R$5:$BR$5,2+M$3),IF(OR($F47=5,$F47=6),VLOOKUP($G$8,Congés_auto!$R$5:$BR$5,2+M$2),IF(OR($F47=7,$F47=8),VLOOKUP($G$8,Congés_auto!$R$5:$BR$5,2+M$1),)))),IF($G47=\"Jeudi\",IF(OR($F47=1,$F47=2),VLOOKUP($G$8,Congés_auto!$R$7:$BR$7,2+M$4),IF(OR($F47=3,$F47=4),VLOOKUP($G$8,Congés_auto!$R$7:$BR$7,2+M$3),IF(OR($F47=5,$F47=6),VLOOKUP($G$8,Congés_auto!$R$7:$BR$7,2+M$2),IF(OR($F47=7,$F47=8),VLOOKUP($G$8,Congés_auto!$R$7:$BR$7,2+M$1),)))),0))","v":"2019-02-12"},{"$f":"IF($G47=\"Mardi\",IF(OR($F47=1,$F47=2),VLOOKUP($G$8,Congés_auto!$R$5:$BR$5,2+N$4),IF(OR($F47=3,$F47=4),VLOOKUP($G$8,Congés_auto!$R$5:$BR$5,2+N$3),IF(OR($F47=5,$F47=6),VLOOKUP($G$8,Congés_auto!$R$5:$BR$5,2+N$2),IF(OR($F47=7,$F47=8),VLOOKUP($G$8,Congés_auto!$R$5:$BR$5,2+N$1),)))),IF($G47=\"Jeudi\",IF(OR($F47=1,$F47=2),VLOOKUP($G$8,Congés_auto!$R$7:$BR$7,2+N$4),IF(OR($F47=3,$F47=4),VLOOKUP($G$8,Congés_auto!$R$7:$BR$7,2+N$3),IF(OR($F47=5,$F47=6),VLOOKUP($G$8,Congés_auto!$R$7:$BR$7,2+N$2),IF(OR($F47=7,$F47=8),VLOOKUP($G$8,Congés_auto!$R$7:$BR$7,2+N$1),)))),0))","v":"2019-03-26"},{"$f":"IF($G47=\"Mardi\",IF(OR($F47=1,$F47=2),VLOOKUP($G$8,Congés_auto!$R$5:$BR$5,2+O$4),IF(OR($F47=3,$F47=4),VLOOKUP($G$8,Congés_auto!$R$5:$BR$5,2+O$3),IF(OR($F47=5,$F47=6),VLOOKUP($G$8,Congés_auto!$R$5:$BR$5,2+O$2),IF(OR($F47=7,$F47=8),VLOOKUP($G$8,Congés_auto!$R$5:$BR$5,2+O$1),)))),IF($G47=\"Jeudi\",IF(OR($F47=1,$F47=2),VLOOKUP($G$8,Congés_auto!$R$7:$BR$7,2+O$4),IF(OR($F47=3,$F47=4),VLOOKUP($G$8,Congés_auto!$R$7:$BR$7,2+O$3),IF(OR($F47=5,$F47=6),VLOOKUP($G$8,Congés_auto!$R$7:$BR$7,2+O$2),IF(OR($F47=7,$F47=8),VLOOKUP($G$8,Congés_auto!$R$7:$BR$7,2+O$1),)))),0))","v":"2019-04-23"},{"$f":"IF($G47=\"Mardi\",IF(OR($F47=1,$F47=2),VLOOKUP($G$8,Congés_auto!$R$5:$BR$5,2+P$4),IF(OR($F47=3,$F47=4),VLOOKUP($G$8,Congés_auto!$R$5:$BR$5,2+P$3),IF(OR($F47=5,$F47=6),VLOOKUP($G$8,Congés_auto!$R$5:$BR$5,2+P$2),IF(OR($F47=7,$F47=8),VLOOKUP($G$8,Congés_auto!$R$5:$BR$5,2+P$1),)))),IF($G47=\"Jeudi\",IF(OR($F47=1,$F47=2),VLOOKUP($G$8,Congés_auto!$R$7:$BR$7,2+P$4),IF(OR($F47=3,$F47=4),VLOOKUP($G$8,Congés_auto!$R$7:$BR$7,2+P$3),IF(OR($F47=5,$F47=6),VLOOKUP($G$8,Congés_auto!$R$7:$BR$7,2+P$2),IF(OR($F47=7,$F47=8),VLOOKUP($G$8,Congés_auto!$R$7:$BR$7,2+P$1),)))),0))","v":"2019-06-04"},{"$f":"IF($G47=\"Mardi\",IF(OR($F47=1,$F47=2),VLOOKUP($G$8,Congés_auto!$R$5:$BR$5,2+Q$4),IF(OR($F47=3,$F47=4),VLOOKUP($G$8,Congés_auto!$R$5:$BR$5,2+Q$3),IF(OR($F47=5,$F47=6),VLOOKUP($G$8,Congés_auto!$R$5:$BR$5,2+Q$2),IF(OR($F47=7,$F47=8),VLOOKUP($G$8,Congés_auto!$R$5:$BR$5,2+Q$1),)))),IF($G47=\"Jeudi\",IF(OR($F47=1,$F47=2),VLOOKUP($G$8,Congés_auto!$R$7:$BR$7,2+Q$4),IF(OR($F47=3,$F47=4),VLOOKUP($G$8,Congés_auto!$R$7:$BR$7,2+Q$3),IF(OR($F47=5,$F47=6),VLOOKUP($G$8,Congés_auto!$R$7:$BR$7,2+Q$2),IF(OR($F47=7,$F47=8),VLOOKUP($G$8,Congés_auto!$R$7:$BR$7,2+Q$1),)))),0))","v":"2019-07-02"}]
[null,null,"Marie","2001-09-11",302,5,"Mardi",{"$f":"IF(E48=E47,IF(F48=F47,H47+1,E48&F48&0),E48&F48&0)","v":"30250"},{"$f":"IF($G48=\"Mardi\",IF(OR($F48=1,$F48=2),VLOOKUP($G$8,Congés_auto!$R$5:$BR$5,2+I$4),IF(OR($F48=3,$F48=4),VLOOKUP($G$8,Congés_auto!$R$5:$BR$5,2+I$3),IF(OR($F48=5,$F48=6),VLOOKUP($G$8,Congés_auto!$R$5:$BR$5,2+I$2),IF(OR($F48=7,$F48=8),VLOOKUP($G$8,Congés_auto!$R$5:$BR$5,2+I$1),)))),IF($G48=\"Jeudi\",IF(OR($F48=1,$F48=2),VLOOKUP($G$8,Congés_auto!$R$7:$BR$7,2+I$4),IF(OR($F48=3,$F48=4),VLOOKUP($G$8,Congés_auto!$R$7:$BR$7,2+I$3),IF(OR($F48=5,$F48=6),VLOOKUP($G$8,Congés_auto!$R$7:$BR$7,2+I$2),IF(OR($F48=7,$F48=8),VLOOKUP($G$8,Congés_auto!$R$7:$BR$7,2+I$1),)))),0))","v":"2018-09-11"},{"$f":"IF($G48=\"Mardi\",IF(OR($F48=1,$F48=2),VLOOKUP($G$8,Congés_auto!$R$5:$BR$5,2+J$4),IF(OR($F48=3,$F48=4),VLOOKUP($G$8,Congés_auto!$R$5:$BR$5,2+J$3),IF(OR($F48=5,$F48=6),VLOOKUP($G$8,Congés_auto!$R$5:$BR$5,2+J$2),IF(OR($F48=7,$F48=8),VLOOKUP($G$8,Congés_auto!$R$5:$BR$5,2+J$1),)))),IF($G48=\"Jeudi\",IF(OR($F48=1,$F48=2),VLOOKUP($G$8,Congés_auto!$R$7:$BR$7,2+J$4),IF(OR($F48=3,$F48=4),VLOOKUP($G$8,Congés_auto!$R$7:$BR$7,2+J$3),IF(OR($F48=5,$F48=6),VLOOKUP($G$8,Congés_auto!$R$7:$BR$7,2+J$2),IF(OR($F48=7,$F48=8),VLOOKUP($G$8,Congés_auto!$R$7:$BR$7,2+J$1),)))),0))","v":"2018-10-09"},{"$f":"IF($G48=\"Mardi\",IF(OR($F48=1,$F48=2),VLOOKUP($G$8,Congés_auto!$R$5:$BR$5,2+K$4),IF(OR($F48=3,$F48=4),VLOOKUP($G$8,Congés_auto!$R$5:$BR$5,2+K$3),IF(OR($F48=5,$F48=6),VLOOKUP($G$8,Congés_auto!$R$5:$BR$5,2+K$2),IF(OR($F48=7,$F48=8),VLOOKUP($G$8,Congés_auto!$R$5:$BR$5,2+K$1),)))),IF($G48=\"Jeudi\",IF(OR($F48=1,$F48=2),VLOOKUP($G$8,Congés_auto!$R$7:$BR$7,2+K$4),IF(OR($F48=3,$F48=4),VLOOKUP($G$8,Congés_auto!$R$7:$BR$7,2+K$3),IF(OR($F48=5,$F48=6),VLOOKUP($G$8,Congés_auto!$R$7:$BR$7,2+K$2),IF(OR($F48=7,$F48=8),VLOOKUP($G$8,Congés_auto!$R$7:$BR$7,2+K$1),)))),0))","v":"2018-11-20"},{"$f":"IF($G48=\"Mardi\",IF(OR($F48=1,$F48=2),VLOOKUP($G$8,Congés_auto!$R$5:$BR$5,2+L$4),IF(OR($F48=3,$F48=4),VLOOKUP($G$8,Congés_auto!$R$5:$BR$5,2+L$3),IF(OR($F48=5,$F48=6),VLOOKUP($G$8,Congés_auto!$R$5:$BR$5,2+L$2),IF(OR($F48=7,$F48=8),VLOOKUP($G$8,Congés_auto!$R$5:$BR$5,2+L$1),)))),IF($G48=\"Jeudi\",IF(OR($F48=1,$F48=2),VLOOKUP($G$8,Congés_auto!$R$7:$BR$7,2+L$4),IF(OR($F48=3,$F48=4),VLOOKUP($G$8,Congés_auto!$R$7:$BR$7,2+L$3),IF(OR($F48=5,$F48=6),VLOOKUP($G$8,Congés_auto!$R$7:$BR$7,2+L$2),IF(OR($F48=7,$F48=8),VLOOKUP($G$8,Congés_auto!$R$7:$BR$7,2+L$1),)))),0))","v":"2018-12-18"},{"$f":"IF($G48=\"Mardi\",IF(OR($F48=1,$F48=2),VLOOKUP($G$8,Congés_auto!$R$5:$BR$5,2+M$4),IF(OR($F48=3,$F48=4),VLOOKUP($G$8,Congés_auto!$R$5:$BR$5,2+M$3),IF(OR($F48=5,$F48=6),VLOOKUP($G$8,Congés_auto!$R$5:$BR$5,2+M$2),IF(OR($F48=7,$F48=8),VLOOKUP($G$8,Congés_auto!$R$5:$BR$5,2+M$1),)))),IF($G48=\"Jeudi\",IF(OR($F48=1,$F48=2),VLOOKUP($G$8,Congés_auto!$R$7:$BR$7,2+M$4),IF(OR($F48=3,$F48=4),VLOOKUP($G$8,Congés_auto!$R$7:$BR$7,2+M$3),IF(OR($F48=5,$F48=6),VLOOKUP($G$8,Congés_auto!$R$7:$BR$7,2+M$2),IF(OR($F48=7,$F48=8),VLOOKUP($G$8,Congés_auto!$R$7:$BR$7,2+M$1),)))),0))","v":"2019-02-19"},{"$f":"IF($G48=\"Mardi\",IF(OR($F48=1,$F48=2),VLOOKUP($G$8,Congés_auto!$R$5:$BR$5,2+N$4),IF(OR($F48=3,$F48=4),VLOOKUP($G$8,Congés_auto!$R$5:$BR$5,2+N$3),IF(OR($F48=5,$F48=6),VLOOKUP($G$8,Congés_auto!$R$5:$BR$5,2+N$2),IF(OR($F48=7,$F48=8),VLOOKUP($G$8,Congés_auto!$R$5:$BR$5,2+N$1),)))),IF($G48=\"Jeudi\",IF(OR($F48=1,$F48=2),VLOOKUP($G$8,Congés_auto!$R$7:$BR$7,2+N$4),IF(OR($F48=3,$F48=4),VLOOKUP($G$8,Congés_auto!$R$7:$BR$7,2+N$3),IF(OR($F48=5,$F48=6),VLOOKUP($G$8,Congés_auto!$R$7:$BR$7,2+N$2),IF(OR($F48=7,$F48=8),VLOOKUP($G$8,Congés_auto!$R$7:$BR$7,2+N$1),)))),0))","v":"2019-04-02"},{"$f":"IF($G48=\"Mardi\",IF(OR($F48=1,$F48=2),VLOOKUP($G$8,Congés_auto!$R$5:$BR$5,2+O$4),IF(OR($F48=3,$F48=4),VLOOKUP($G$8,Congés_auto!$R$5:$BR$5,2+O$3),IF(OR($F48=5,$F48=6),VLOOKUP($G$8,Congés_auto!$R$5:$BR$5,2+O$2),IF(OR($F48=7,$F48=8),VLOOKUP($G$8,Congés_auto!$R$5:$BR$5,2+O$1),)))),IF($G48=\"Jeudi\",IF(OR($F48=1,$F48=2),VLOOKUP($G$8,Congés_auto!$R$7:$BR$7,2+O$4),IF(OR($F48=3,$F48=4),VLOOKUP($G$8,Congés_auto!$R$7:$BR$7,2+O$3),IF(OR($F48=5,$F48=6),VLOOKUP($G$8,Congés_auto!$R$7:$BR$7,2+O$2),IF(OR($F48=7,$F48=8),VLOOKUP($G$8,Congés_auto!$R$7:$BR$7,2+O$1),)))),0))","v":"2019-04-30"},{"$f":"IF($G48=\"Mardi\",IF(OR($F48=1,$F48=2),VLOOKUP($G$8,Congés_auto!$R$5:$BR$5,2+P$4),IF(OR($F48=3,$F48=4),VLOOKUP($G$8,Congés_auto!$R$5:$BR$5,2+P$3),IF(OR($F48=5,$F48=6),VLOOKUP($G$8,Congés_auto!$R$5:$BR$5,2+P$2),IF(OR($F48=7,$F48=8),VLOOKUP($G$8,Congés_auto!$R$5:$BR$5,2+P$1),)))),IF($G48=\"Jeudi\",IF(OR($F48=1,$F48=2),VLOOKUP($G$8,Congés_auto!$R$7:$BR$7,2+P$4),IF(OR($F48=3,$F48=4),VLOOKUP($G$8,Congés_auto!$R$7:$BR$7,2+P$3),IF(OR($F48=5,$F48=6),VLOOKUP($G$8,Congés_auto!$R$7:$BR$7,2+P$2),IF(OR($F48=7,$F48=8),VLOOKUP($G$8,Congés_auto!$R$7:$BR$7,2+P$1),)))),0))","v":"2019-06-11"},{"$f":"IF($G48=\"Mardi\",IF(OR($F48=1,$F48=2),VLOOKUP($G$8,Congés_auto!$R$5:$BR$5,2+Q$4),IF(OR($F48=3,$F48=4),VLOOKUP($G$8,Congés_auto!$R$5:$BR$5,2+Q$3),IF(OR($F48=5,$F48=6),VLOOKUP($G$8,Congés_auto!$R$5:$BR$5,2+Q$2),IF(OR($F48=7,$F48=8),VLOOKUP($G$8,Congés_auto!$R$5:$BR$5,2+Q$1),)))),IF($G48=\"Jeudi\",IF(OR($F48=1,$F48=2),VLOOKUP($G$8,Congés_auto!$R$7:$BR$7,2+Q$4),IF(OR($F48=3,$F48=4),VLOOKUP($G$8,Congés_auto!$R$7:$BR$7,2+Q$3),IF(OR($F48=5,$F48=6),VLOOKUP($G$8,Congés_auto!$R$7:$BR$7,2+Q$2),IF(OR($F48=7,$F48=8),VLOOKUP($G$8,Congés_auto!$R$7:$BR$7,2+Q$1),)))),0))","v":"2019-08-20"}]
[{"$nulls":3},"2000-06-25",302,5,"Mardi",{"$f":"IF(E49=E48,IF(F49=F48,H48+1,E49&F49&0),E49&F49&0)","v":30251},{"$f":"IF($G49=\"Mardi\",IF(OR($F49=1,$F49=2),VLOOKUP($G$8,Congés_auto!$R$5:$BR$5,2+I$4),IF(OR($F49=3,$F49=4),VLOOKUP($G$8,Congés_auto!$R$5:$BR$5,2+I$3),IF(OR($F49=5,$F49=6),VLOOKUP($G$8,Congés_auto!$R$5:$BR$5,2+I$2),IF(OR($F49=7,$F49=8),VLOOKUP($G$8,Congés_auto!$R$5:$BR$5,2+I$1),)))),IF($G49=\"Jeudi\",IF(OR($F49=1,$F49=2),VLOOKUP($G$8,Congés_auto!$R$7:$BR$7,2+I$4),IF(OR($F49=3,$F49=4),VLOOKUP($G$8,Congés_auto!$R$7:$BR$7,2+I$3),IF(OR($F49=5,$F49=6),VLOOKUP($G$8,Congés_auto!$R$7:$BR$7,2+I$2),IF(OR($F49=7,$F49=8),VLOOKUP($G$8,Congés_auto!$R$7:$BR$7,2+I$1),)))),0))","v":"2018-09-11"},{"$f":"IF($G49=\"Mardi\",IF(OR($F49=1,$F49=2),VLOOKUP($G$8,Congés_auto!$R$5:$BR$5,2+J$4),IF(OR($F49=3,$F49=4),VLOOKUP($G$8,Congés_auto!$R$5:$BR$5,2+J$3),IF(OR($F49=5,$F49=6),VLOOKUP($G$8,Congés_auto!$R$5:$BR$5,2+J$2),IF(OR($F49=7,$F49=8),VLOOKUP($G$8,Congés_auto!$R$5:$BR$5,2+J$1),)))),IF($G49=\"Jeudi\",IF(OR($F49=1,$F49=2),VLOOKUP($G$8,Congés_auto!$R$7:$BR$7,2+J$4),IF(OR($F49=3,$F49=4),VLOOKUP($G$8,Congés_auto!$R$7:$BR$7,2+J$3),IF(OR($F49=5,$F49=6),VLOOKUP($G$8,Congés_auto!$R$7:$BR$7,2+J$2),IF(OR($F49=7,$F49=8),VLOOKUP($G$8,Congés_auto!$R$7:$BR$7,2+J$1),)))),0))","v":"2018-10-09"},{"$f":"IF($G49=\"Mardi\",IF(OR($F49=1,$F49=2),VLOOKUP($G$8,Congés_auto!$R$5:$BR$5,2+K$4),IF(OR($F49=3,$F49=4),VLOOKUP($G$8,Congés_auto!$R$5:$BR$5,2+K$3),IF(OR($F49=5,$F49=6),VLOOKUP($G$8,Congés_auto!$R$5:$BR$5,2+K$2),IF(OR($F49=7,$F49=8),VLOOKUP($G$8,Congés_auto!$R$5:$BR$5,2+K$1),)))),IF($G49=\"Jeudi\",IF(OR($F49=1,$F49=2),VLOOKUP($G$8,Congés_auto!$R$7:$BR$7,2+K$4),IF(OR($F49=3,$F49=4),VLOOKUP($G$8,Congés_auto!$R$7:$BR$7,2+K$3),IF(OR($F49=5,$F49=6),VLOOKUP($G$8,Congés_auto!$R$7:$BR$7,2+K$2),IF(OR($F49=7,$F49=8),VLOOKUP($G$8,Congés_auto!$R$7:$BR$7,2+K$1),)))),0))","v":"2018-11-20"},{"$f":"IF($G49=\"Mardi\",IF(OR($F49=1,$F49=2),VLOOKUP($G$8,Congés_auto!$R$5:$BR$5,2+L$4),IF(OR($F49=3,$F49=4),VLOOKUP($G$8,Congés_auto!$R$5:$BR$5,2+L$3),IF(OR($F49=5,$F49=6),VLOOKUP($G$8,Congés_auto!$R$5:$BR$5,2+L$2),IF(OR($F49=7,$F49=8),VLOOKUP($G$8,Congés_auto!$R$5:$BR$5,2+L$1),)))),IF($G49=\"Jeudi\",IF(OR($F49=1,$F49=2),VLOOKUP($G$8,Congés_auto!$R$7:$BR$7,2+L$4),IF(OR($F49=3,$F49=4),VLOOKUP($G$8,Congés_auto!$R$7:$BR$7,2+L$3),IF(OR($F49=5,$F49=6),VLOOKUP($G$8,Congés_auto!$R$7:$BR$7,2+L$2),IF(OR($F49=7,$F49=8),VLOOKUP($G$8,Congés_auto!$R$7:$BR$7,2+L$1),)))),0))","v":"2018-12-18"},{"$f":"IF($G49=\"Mardi\",IF(OR($F49=1,$F49=2),VLOOKUP($G$8,Congés_auto!$R$5:$BR$5,2+M$4),IF(OR($F49=3,$F49=4),VLOOKUP($G$8,Congés_auto!$R$5:$BR$5,2+M$3),IF(OR($F49=5,$F49=6),VLOOKUP($G$8,Congés_auto!$R$5:$BR$5,2+M$2),IF(OR($F49=7,$F49=8),VLOOKUP($G$8,Congés_auto!$R$5:$BR$5,2+M$1),)))),IF($G49=\"Jeudi\",IF(OR($F49=1,$F49=2),VLOOKUP($G$8,Congés_auto!$R$7:$BR$7,2+M$4),IF(OR($F49=3,$F49=4),VLOOKUP($G$8,Congés_auto!$R$7:$BR$7,2+M$3),IF(OR($F49=5,$F49=6),VLOOKUP($G$8,Congés_auto!$R$7:$BR$7,2+M$2),IF(OR($F49=7,$F49=8),VLOOKUP($G$8,Congés_auto!$R$7:$BR$7,2+M$1),)))),0))","v":"2019-02-19"},{"$f":"IF($G49=\"Mardi\",IF(OR($F49=1,$F49=2),VLOOKUP($G$8,Congés_auto!$R$5:$BR$5,2+N$4),IF(OR($F49=3,$F49=4),VLOOKUP($G$8,Congés_auto!$R$5:$BR$5,2+N$3),IF(OR($F49=5,$F49=6),VLOOKUP($G$8,Congés_auto!$R$5:$BR$5,2+N$2),IF(OR($F49=7,$F49=8),VLOOKUP($G$8,Congés_auto!$R$5:$BR$5,2+N$1),)))),IF($G49=\"Jeudi\",IF(OR($F49=1,$F49=2),VLOOKUP($G$8,Congés_auto!$R$7:$BR$7,2+N$4),IF(OR($F49=3,$F49=4),VLOOKUP($G$8,Congés_auto!$R$7:$BR$7,2+N$3),IF(OR($F49=5,$F49=6),VLOOKUP($G$8,Congés_auto!$R$7:$BR$7,2+N$2),IF(OR($F49=7,$F49=8),VLOOKUP($G$8,Congés_auto!$R$7:$BR$7,2+N$1),)))),0))","v":"2019-04-02"},{"$f":"IF($G49=\"Mardi\",IF(OR($F49=1,$F49=2),VLOOKUP($G$8,Congés_auto!$R$5:$BR$5,2+O$4),IF(OR($F49=3,$F49=4),VLOOKUP($G$8,Congés_auto!$R$5:$BR$5,2+O$3),IF(OR($F49=5,$F49=6),VLOOKUP($G$8,Congés_auto!$R$5:$BR$5,2+O$2),IF(OR($F49=7,$F49=8),VLOOKUP($G$8,Congés_auto!$R$5:$BR$5,2+O$1),)))),IF($G49=\"Jeudi\",IF(OR($F49=1,$F49=2),VLOOKUP($G$8,Congés_auto!$R$7:$BR$7,2+O$4),IF(OR($F49=3,$F49=4),VLOOKUP($G$8,Congés_auto!$R$7:$BR$7,2+O$3),IF(OR($F49=5,$F49=6),VLOOKUP($G$8,Congés_auto!$R$7:$BR$7,2+O$2),IF(OR($F49=7,$F49=8),VLOOKUP($G$8,Congés_auto!$R$7:$BR$7,2+O$1),)))),0))","v":"2019-04-30"},{"$f":"IF($G49=\"Mardi\",IF(OR($F49=1,$F49=2),VLOOKUP($G$8,Congés_auto!$R$5:$BR$5,2+P$4),IF(OR($F49=3,$F49=4),VLOOKUP($G$8,Congés_auto!$R$5:$BR$5,2+P$3),IF(OR($F49=5,$F49=6),VLOOKUP($G$8,Congés_auto!$R$5:$BR$5,2+P$2),IF(OR($F49=7,$F49=8),VLOOKUP($G$8,Congés_auto!$R$5:$BR$5,2+P$1),)))),IF($G49=\"Jeudi\",IF(OR($F49=1,$F49=2),VLOOKUP($G$8,Congés_auto!$R$7:$BR$7,2+P$4),IF(OR($F49=3,$F49=4),VLOOKUP($G$8,Congés_auto!$R$7:$BR$7,2+P$3),IF(OR($F49=5,$F49=6),VLOOKUP($G$8,Congés_auto!$R$7:$BR$7,2+P$2),IF(OR($F49=7,$F49=8),VLOOKUP($G$8,Congés_auto!$R$7:$BR$7,2+P$1),)))),0))","v":"2019-06-11"},{"$f":"IF($G49=\"Mardi\",IF(OR($F49=1,$F49=2),VLOOKUP($G$8,Congés_auto!$R$5:$BR$5,2+Q$4),IF(OR($F49=3,$F49=4),VLOOKUP($G$8,Congés_auto!$R$5:$BR$5,2+Q$3),IF(OR($F49=5,$F49=6),VLOOKUP($G$8,Congés_auto!$R$5:$BR$5,2+Q$2),IF(OR($F49=7,$F49=8),VLOOKUP($G$8,Congés_auto!$R$5:$BR$5,2+Q$1),)))),IF($G49=\"Jeudi\",IF(OR($F49=1,$F49=2),VLOOKUP($G$8,Congés_auto!$R$7:$BR$7,2+Q$4),IF(OR($F49=3,$F49=4),VLOOKUP($G$8,Congés_auto!$R$7:$BR$7,2+Q$3),IF(OR($F49=5,$F49=6),VLOOKUP($G$8,Congés_auto!$R$7:$BR$7,2+Q$2),IF(OR($F49=7,$F49=8),VLOOKUP($G$8,Congés_auto!$R$7:$BR$7,2+Q$1),)))),0))","v":"2019-08-20"}]
[null,null,"Erick","2001-02-23",302,5,"Mardi",{"$f":"IF(F50=F49,H49+1,E50&F50&0)","v":30252},{"$f":"IF($G50=\"Mardi\",IF(OR($F50=1,$F50=2),VLOOKUP($G$8,Congés_auto!$R$5:$BR$5,2+I$4),IF(OR($F50=3,$F50=4),VLOOKUP($G$8,Congés_auto!$R$5:$BR$5,2+I$3),IF(OR($F50=5,$F50=6),VLOOKUP($G$8,Congés_auto!$R$5:$BR$5,2+I$2),IF(OR($F50=7,$F50=8),VLOOKUP($G$8,Congés_auto!$R$5:$BR$5,2+I$1),)))),IF($G50=\"Jeudi\",IF(OR($F50=1,$F50=2),VLOOKUP($G$8,Congés_auto!$R$7:$BR$7,2+I$4),IF(OR($F50=3,$F50=4),VLOOKUP($G$8,Congés_auto!$R$7:$BR$7,2+I$3),IF(OR($F50=5,$F50=6),VLOOKUP($G$8,Congés_auto!$R$7:$BR$7,2+I$2),IF(OR($F50=7,$F50=8),VLOOKUP($G$8,Congés_auto!$R$7:$BR$7,2+I$1),)))),0))","v":"2018-09-11"},{"$f":"IF($G50=\"Mardi\",IF(OR($F50=1,$F50=2),VLOOKUP($G$8,Congés_auto!$R$5:$BR$5,2+J$4),IF(OR($F50=3,$F50=4),VLOOKUP($G$8,Congés_auto!$R$5:$BR$5,2+J$3),IF(OR($F50=5,$F50=6),VLOOKUP($G$8,Congés_auto!$R$5:$BR$5,2+J$2),IF(OR($F50=7,$F50=8),VLOOKUP($G$8,Congés_auto!$R$5:$BR$5,2+J$1),)))),IF($G50=\"Jeudi\",IF(OR($F50=1,$F50=2),VLOOKUP($G$8,Congés_auto!$R$7:$BR$7,2+J$4),IF(OR($F50=3,$F50=4),VLOOKUP($G$8,Congés_auto!$R$7:$BR$7,2+J$3),IF(OR($F50=5,$F50=6),VLOOKUP($G$8,Congés_auto!$R$7:$BR$7,2+J$2),IF(OR($F50=7,$F50=8),VLOOKUP($G$8,Congés_auto!$R$7:$BR$7,2+J$1),)))),0))","v":"2018-10-09"},{"$f":"IF($G50=\"Mardi\",IF(OR($F50=1,$F50=2),VLOOKUP($G$8,Congés_auto!$R$5:$BR$5,2+K$4),IF(OR($F50=3,$F50=4),VLOOKUP($G$8,Congés_auto!$R$5:$BR$5,2+K$3),IF(OR($F50=5,$F50=6),VLOOKUP($G$8,Congés_auto!$R$5:$BR$5,2+K$2),IF(OR($F50=7,$F50=8),VLOOKUP($G$8,Congés_auto!$R$5:$BR$5,2+K$1),)))),IF($G50=\"Jeudi\",IF(OR($F50=1,$F50=2),VLOOKUP($G$8,Congés_auto!$R$7:$BR$7,2+K$4),IF(OR($F50=3,$F50=4),VLOOKUP($G$8,Congés_auto!$R$7:$BR$7,2+K$3),IF(OR($F50=5,$F50=6),VLOOKUP($G$8,Congés_auto!$R$7:$BR$7,2+K$2),IF(OR($F50=7,$F50=8),VLOOKUP($G$8,Congés_auto!$R$7:$BR$7,2+K$1),)))),0))","v":"2018-11-20"},{"$f":"IF($G50=\"Mardi\",IF(OR($F50=1,$F50=2),VLOOKUP($G$8,Congés_auto!$R$5:$BR$5,2+L$4),IF(OR($F50=3,$F50=4),VLOOKUP($G$8,Congés_auto!$R$5:$BR$5,2+L$3),IF(OR($F50=5,$F50=6),VLOOKUP($G$8,Congés_auto!$R$5:$BR$5,2+L$2),IF(OR($F50=7,$F50=8),VLOOKUP($G$8,Congés_auto!$R$5:$BR$5,2+L$1),)))),IF($G50=\"Jeudi\",IF(OR($F50=1,$F50=2),VLOOKUP($G$8,Congés_auto!$R$7:$BR$7,2+L$4),IF(OR($F50=3,$F50=4),VLOOKUP($G$8,Congés_auto!$R$7:$BR$7,2+L$3),IF(OR($F50=5,$F50=6),VLOOKUP($G$8,Congés_auto!$R$7:$BR$7,2+L$2),IF(OR($F50=7,$F50=8),VLOOKUP($G$8,Congés_auto!$R$7:$BR$7,2+L$1),)))),0))","v":"2018-12-18"},{"$f":"IF($G50=\"Mardi\",IF(OR($F50=1,$F50=2),VLOOKUP($G$8,Congés_auto!$R$5:$BR$5,2+M$4),IF(OR($F50=3,$F50=4),VLOOKUP($G$8,Congés_auto!$R$5:$BR$5,2+M$3),IF(OR($F50=5,$F50=6),VLOOKUP($G$8,Congés_auto!$R$5:$BR$5,2+M$2),IF(OR($F50=7,$F50=8),VLOOKUP($G$8,Congés_auto!$R$5:$BR$5,2+M$1),)))),IF($G50=\"Jeudi\",IF(OR($F50=1,$F50=2),VLOOKUP($G$8,Congés_auto!$R$7:$BR$7,2+M$4),IF(OR($F50=3,$F50=4),VLOOKUP($G$8,Congés_auto!$R$7:$BR$7,2+M$3),IF(OR($F50=5,$F50=6),VLOOKUP($G$8,Congés_auto!$R$7:$BR$7,2+M$2),IF(OR($F50=7,$F50=8),VLOOKUP($G$8,Congés_auto!$R$7:$BR$7,2+M$1),)))),0))","v":"2019-02-19"},{"$f":"IF($G50=\"Mardi\",IF(OR($F50=1,$F50=2),VLOOKUP($G$8,Congés_auto!$R$5:$BR$5,2+N$4),IF(OR($F50=3,$F50=4),VLOOKUP($G$8,Congés_auto!$R$5:$BR$5,2+N$3),IF(OR($F50=5,$F50=6),VLOOKUP($G$8,Congés_auto!$R$5:$BR$5,2+N$2),IF(OR($F50=7,$F50=8),VLOOKUP($G$8,Congés_auto!$R$5:$BR$5,2+N$1),)))),IF($G50=\"Jeudi\",IF(OR($F50=1,$F50=2),VLOOKUP($G$8,Congés_auto!$R$7:$BR$7,2+N$4),IF(OR($F50=3,$F50=4),VLOOKUP($G$8,Congés_auto!$R$7:$BR$7,2+N$3),IF(OR($F50=5,$F50=6),VLOOKUP($G$8,Congés_auto!$R$7:$BR$7,2+N$2),IF(OR($F50=7,$F50=8),VLOOKUP($G$8,Congés_auto!$R$7:$BR$7,2+N$1),)))),0))","v":"2019-04-02"},{"$f":"IF($G50=\"Mardi\",IF(OR($F50=1,$F50=2),VLOOKUP($G$8,Congés_auto!$R$5:$BR$5,2+O$4),IF(OR($F50=3,$F50=4),VLOOKUP($G$8,Congés_auto!$R$5:$BR$5,2+O$3),IF(OR($F50=5,$F50=6),VLOOKUP($G$8,Congés_auto!$R$5:$BR$5,2+O$2),IF(OR($F50=7,$F50=8),VLOOKUP($G$8,Congés_auto!$R$5:$BR$5,2+O$1),)))),IF($G50=\"Jeudi\",IF(OR($F50=1,$F50=2),VLOOKUP($G$8,Congés_auto!$R$7:$BR$7,2+O$4),IF(OR($F50=3,$F50=4),VLOOKUP($G$8,Congés_auto!$R$7:$BR$7,2+O$3),IF(OR($F50=5,$F50=6),VLOOKUP($G$8,Congés_auto!$R$7:$BR$7,2+O$2),IF(OR($F50=7,$F50=8),VLOOKUP($G$8,Congés_auto!$R$7:$BR$7,2+O$1),)))),0))","v":"2019-04-30"},{"$f":"IF($G50=\"Mardi\",IF(OR($F50=1,$F50=2),VLOOKUP($G$8,Congés_auto!$R$5:$BR$5,2+P$4),IF(OR($F50=3,$F50=4),VLOOKUP($G$8,Congés_auto!$R$5:$BR$5,2+P$3),IF(OR($F50=5,$F50=6),VLOOKUP($G$8,Congés_auto!$R$5:$BR$5,2+P$2),IF(OR($F50=7,$F50=8),VLOOKUP($G$8,Congés_auto!$R$5:$BR$5,2+P$1),)))),IF($G50=\"Jeudi\",IF(OR($F50=1,$F50=2),VLOOKUP($G$8,Congés_auto!$R$7:$BR$7,2+P$4),IF(OR($F50=3,$F50=4),VLOOKUP($G$8,Congés_auto!$R$7:$BR$7,2+P$3),IF(OR($F50=5,$F50=6),VLOOKUP($G$8,Congés_auto!$R$7:$BR$7,2+P$2),IF(OR($F50=7,$F50=8),VLOOKUP($G$8,Congés_auto!$R$7:$BR$7,2+P$1),)))),0))","v":"2019-06-11"},{"$f":"IF($G50=\"Mardi\",IF(OR($F50=1,$F50=2),VLOOKUP($G$8,Congés_auto!$R$5:$BR$5,2+Q$4),IF(OR($F50=3,$F50=4),VLOOKUP($G$8,Congés_auto!$R$5:$BR$5,2+Q$3),IF(OR($F50=5,$F50=6),VLOOKUP($G$8,Congés_auto!$R$5:$BR$5,2+Q$2),IF(OR($F50=7,$F50=8),VLOOKUP($G$8,Congés_auto!$R$5:$BR$5,2+Q$1),)))),IF($G50=\"Jeudi\",IF(OR($F50=1,$F50=2),VLOOKUP($G$8,Congés_auto!$R$7:$BR$7,2+Q$4),IF(OR($F50=3,$F50=4),VLOOKUP($G$8,Congés_auto!$R$7:$BR$7,2+Q$3),IF(OR($F50=5,$F50=6),VLOOKUP($G$8,Congés_auto!$R$7:$BR$7,2+Q$2),IF(OR($F50=7,$F50=8),VLOOKUP($G$8,Congés_auto!$R$7:$BR$7,2+Q$1),)))),0))","v":"2019-08-20"}]
[{"$nulls":3},"2001-08-16",302,6,"Mardi",{"$f":"IF(E51=E50,IF(F51=F50,H50+1,E51&F51&0),E51&F51&0)","v":"30260"},{"$f":"IF($G51=\"Mardi\",IF(OR($F51=1,$F51=2),VLOOKUP($G$8,Congés_auto!$R$5:$BR$5,2+I$4),IF(OR($F51=3,$F51=4),VLOOKUP($G$8,Congés_auto!$R$5:$BR$5,2+I$3),IF(OR($F51=5,$F51=6),VLOOKUP($G$8,Congés_auto!$R$5:$BR$5,2+I$2),IF(OR($F51=7,$F51=8),VLOOKUP($G$8,Congés_auto!$R$5:$BR$5,2+I$1),)))),IF($G51=\"Jeudi\",IF(OR($F51=1,$F51=2),VLOOKUP($G$8,Congés_auto!$R$7:$BR$7,2+I$4),IF(OR($F51=3,$F51=4),VLOOKUP($G$8,Congés_auto!$R$7:$BR$7,2+I$3),IF(OR($F51=5,$F51=6),VLOOKUP($G$8,Congés_auto!$R$7:$BR$7,2+I$2),IF(OR($F51=7,$F51=8),VLOOKUP($G$8,Congés_auto!$R$7:$BR$7,2+I$1),)))),0))","v":"2018-09-11"},{"$f":"IF($G51=\"Mardi\",IF(OR($F51=1,$F51=2),VLOOKUP($G$8,Congés_auto!$R$5:$BR$5,2+J$4),IF(OR($F51=3,$F51=4),VLOOKUP($G$8,Congés_auto!$R$5:$BR$5,2+J$3),IF(OR($F51=5,$F51=6),VLOOKUP($G$8,Congés_auto!$R$5:$BR$5,2+J$2),IF(OR($F51=7,$F51=8),VLOOKUP($G$8,Congés_auto!$R$5:$BR$5,2+J$1),)))),IF($G51=\"Jeudi\",IF(OR($F51=1,$F51=2),VLOOKUP($G$8,Congés_auto!$R$7:$BR$7,2+J$4),IF(OR($F51=3,$F51=4),VLOOKUP($G$8,Congés_auto!$R$7:$BR$7,2+J$3),IF(OR($F51=5,$F51=6),VLOOKUP($G$8,Congés_auto!$R$7:$BR$7,2+J$2),IF(OR($F51=7,$F51=8),VLOOKUP($G$8,Congés_auto!$R$7:$BR$7,2+J$1),)))),0))","v":"2018-10-09"},{"$f":"IF($G51=\"Mardi\",IF(OR($F51=1,$F51=2),VLOOKUP($G$8,Congés_auto!$R$5:$BR$5,2+K$4),IF(OR($F51=3,$F51=4),VLOOKUP($G$8,Congés_auto!$R$5:$BR$5,2+K$3),IF(OR($F51=5,$F51=6),VLOOKUP($G$8,Congés_auto!$R$5:$BR$5,2+K$2),IF(OR($F51=7,$F51=8),VLOOKUP($G$8,Congés_auto!$R$5:$BR$5,2+K$1),)))),IF($G51=\"Jeudi\",IF(OR($F51=1,$F51=2),VLOOKUP($G$8,Congés_auto!$R$7:$BR$7,2+K$4),IF(OR($F51=3,$F51=4),VLOOKUP($G$8,Congés_auto!$R$7:$BR$7,2+K$3),IF(OR($F51=5,$F51=6),VLOOKUP($G$8,Congés_auto!$R$7:$BR$7,2+K$2),IF(OR($F51=7,$F51=8),VLOOKUP($G$8,Congés_auto!$R$7:$BR$7,2+K$1),)))),0))","v":"2018-11-20"},{"$f":"IF($G51=\"Mardi\",IF(OR($F51=1,$F51=2),VLOOKUP($G$8,Congés_auto!$R$5:$BR$5,2+L$4),IF(OR($F51=3,$F51=4),VLOOKUP($G$8,Congés_auto!$R$5:$BR$5,2+L$3),IF(OR($F51=5,$F51=6),VLOOKUP($G$8,Congés_auto!$R$5:$BR$5,2+L$2),IF(OR($F51=7,$F51=8),VLOOKUP($G$8,Congés_auto!$R$5:$BR$5,2+L$1),)))),IF($G51=\"Jeudi\",IF(OR($F51=1,$F51=2),VLOOKUP($G$8,Congés_auto!$R$7:$BR$7,2+L$4),IF(OR($F51=3,$F51=4),VLOOKUP($G$8,Congés_auto!$R$7:$BR$7,2+L$3),IF(OR($F51=5,$F51=6),VLOOKUP($G$8,Congés_auto!$R$7:$BR$7,2+L$2),IF(OR($F51=7,$F51=8),VLOOKUP($G$8,Congés_auto!$R$7:$BR$7,2+L$1),)))),0))","v":"2018-12-18"},{"$f":"IF($G51=\"Mardi\",IF(OR($F51=1,$F51=2),VLOOKUP($G$8,Congés_auto!$R$5:$BR$5,2+M$4),IF(OR($F51=3,$F51=4),VLOOKUP($G$8,Congés_auto!$R$5:$BR$5,2+M$3),IF(OR($F51=5,$F51=6),VLOOKUP($G$8,Congés_auto!$R$5:$BR$5,2+M$2),IF(OR($F51=7,$F51=8),VLOOKUP($G$8,Congés_auto!$R$5:$BR$5,2+M$1),)))),IF($G51=\"Jeudi\",IF(OR($F51=1,$F51=2),VLOOKUP($G$8,Congés_auto!$R$7:$BR$7,2+M$4),IF(OR($F51=3,$F51=4),VLOOKUP($G$8,Congés_auto!$R$7:$BR$7,2+M$3),IF(OR($F51=5,$F51=6),VLOOKUP($G$8,Congés_auto!$R$7:$BR$7,2+M$2),IF(OR($F51=7,$F51=8),VLOOKUP($G$8,Congés_auto!$R$7:$BR$7,2+M$1),)))),0))","v":"2019-02-19"},{"$f":"IF($G51=\"Mardi\",IF(OR($F51=1,$F51=2),VLOOKUP($G$8,Congés_auto!$R$5:$BR$5,2+N$4),IF(OR($F51=3,$F51=4),VLOOKUP($G$8,Congés_auto!$R$5:$BR$5,2+N$3),IF(OR($F51=5,$F51=6),VLOOKUP($G$8,Congés_auto!$R$5:$BR$5,2+N$2),IF(OR($F51=7,$F51=8),VLOOKUP($G$8,Congés_auto!$R$5:$BR$5,2+N$1),)))),IF($G51=\"Jeudi\",IF(OR($F51=1,$F51=2),VLOOKUP($G$8,Congés_auto!$R$7:$BR$7,2+N$4),IF(OR($F51=3,$F51=4),VLOOKUP($G$8,Congés_auto!$R$7:$BR$7,2+N$3),IF(OR($F51=5,$F51=6),VLOOKUP($G$8,Congés_auto!$R$7:$BR$7,2+N$2),IF(OR($F51=7,$F51=8),VLOOKUP($G$8,Congés_auto!$R$7:$BR$7,2+N$1),)))),0))","v":"2019-04-02"},{"$f":"IF($G51=\"Mardi\",IF(OR($F51=1,$F51=2),VLOOKUP($G$8,Congés_auto!$R$5:$BR$5,2+O$4),IF(OR($F51=3,$F51=4),VLOOKUP($G$8,Congés_auto!$R$5:$BR$5,2+O$3),IF(OR($F51=5,$F51=6),VLOOKUP($G$8,Congés_auto!$R$5:$BR$5,2+O$2),IF(OR($F51=7,$F51=8),VLOOKUP($G$8,Congés_auto!$R$5:$BR$5,2+O$1),)))),IF($G51=\"Jeudi\",IF(OR($F51=1,$F51=2),VLOOKUP($G$8,Congés_auto!$R$7:$BR$7,2+O$4),IF(OR($F51=3,$F51=4),VLOOKUP($G$8,Congés_auto!$R$7:$BR$7,2+O$3),IF(OR($F51=5,$F51=6),VLOOKUP($G$8,Congés_auto!$R$7:$BR$7,2+O$2),IF(OR($F51=7,$F51=8),VLOOKUP($G$8,Congés_auto!$R$7:$BR$7,2+O$1),)))),0))","v":"2019-04-30"},{"$f":"IF($G51=\"Mardi\",IF(OR($F51=1,$F51=2),VLOOKUP($G$8,Congés_auto!$R$5:$BR$5,2+P$4),IF(OR($F51=3,$F51=4),VLOOKUP($G$8,Congés_auto!$R$5:$BR$5,2+P$3),IF(OR($F51=5,$F51=6),VLOOKUP($G$8,Congés_auto!$R$5:$BR$5,2+P$2),IF(OR($F51=7,$F51=8),VLOOKUP($G$8,Congés_auto!$R$5:$BR$5,2+P$1),)))),IF($G51=\"Jeudi\",IF(OR($F51=1,$F51=2),VLOOKUP($G$8,Congés_auto!$R$7:$BR$7,2+P$4),IF(OR($F51=3,$F51=4),VLOOKUP($G$8,Congés_auto!$R$7:$BR$7,2+P$3),IF(OR($F51=5,$F51=6),VLOOKUP($G$8,Congés_auto!$R$7:$BR$7,2+P$2),IF(OR($F51=7,$F51=8),VLOOKUP($G$8,Congés_auto!$R$7:$BR$7,2+P$1),)))),0))","v":"2019-06-11"},{"$f":"IF($G51=\"Mardi\",IF(OR($F51=1,$F51=2),VLOOKUP($G$8,Congés_auto!$R$5:$BR$5,2+Q$4),IF(OR($F51=3,$F51=4),VLOOKUP($G$8,Congés_auto!$R$5:$BR$5,2+Q$3),IF(OR($F51=5,$F51=6),VLOOKUP($G$8,Congés_auto!$R$5:$BR$5,2+Q$2),IF(OR($F51=7,$F51=8),VLOOKUP($G$8,Congés_auto!$R$5:$BR$5,2+Q$1),)))),IF($G51=\"Jeudi\",IF(OR($F51=1,$F51=2),VLOOKUP($G$8,Congés_auto!$R$7:$BR$7,2+Q$4),IF(OR($F51=3,$F51=4),VLOOKUP($G$8,Congés_auto!$R$7:$BR$7,2+Q$3),IF(OR($F51=5,$F51=6),VLOOKUP($G$8,Congés_auto!$R$7:$BR$7,2+Q$2),IF(OR($F51=7,$F51=8),VLOOKUP($G$8,Congés_auto!$R$7:$BR$7,2+Q$1),)))),0))","v":"2019-08-20"}]
[null,null,"Mathilde","2001-05-25",302,6,"Mardi",{"$f":"IF(E52=E51,IF(F52=F51,H51+1,E52&F52&0),E52&F52&0)","v":30261},{"$f":"IF($G52=\"Mardi\",IF(OR($F52=1,$F52=2),VLOOKUP($G$8,Congés_auto!$R$5:$BR$5,2+I$4),IF(OR($F52=3,$F52=4),VLOOKUP($G$8,Congés_auto!$R$5:$BR$5,2+I$3),IF(OR($F52=5,$F52=6),VLOOKUP($G$8,Congés_auto!$R$5:$BR$5,2+I$2),IF(OR($F52=7,$F52=8),VLOOKUP($G$8,Congés_auto!$R$5:$BR$5,2+I$1),)))),IF($G52=\"Jeudi\",IF(OR($F52=1,$F52=2),VLOOKUP($G$8,Congés_auto!$R$7:$BR$7,2+I$4),IF(OR($F52=3,$F52=4),VLOOKUP($G$8,Congés_auto!$R$7:$BR$7,2+I$3),IF(OR($F52=5,$F52=6),VLOOKUP($G$8,Congés_auto!$R$7:$BR$7,2+I$2),IF(OR($F52=7,$F52=8),VLOOKUP($G$8,Congés_auto!$R$7:$BR$7,2+I$1),)))),0))","v":"2018-09-11"},{"$f":"IF($G52=\"Mardi\",IF(OR($F52=1,$F52=2),VLOOKUP($G$8,Congés_auto!$R$5:$BR$5,2+J$4),IF(OR($F52=3,$F52=4),VLOOKUP($G$8,Congés_auto!$R$5:$BR$5,2+J$3),IF(OR($F52=5,$F52=6),VLOOKUP($G$8,Congés_auto!$R$5:$BR$5,2+J$2),IF(OR($F52=7,$F52=8),VLOOKUP($G$8,Congés_auto!$R$5:$BR$5,2+J$1),)))),IF($G52=\"Jeudi\",IF(OR($F52=1,$F52=2),VLOOKUP($G$8,Congés_auto!$R$7:$BR$7,2+J$4),IF(OR($F52=3,$F52=4),VLOOKUP($G$8,Congés_auto!$R$7:$BR$7,2+J$3),IF(OR($F52=5,$F52=6),VLOOKUP($G$8,Congés_auto!$R$7:$BR$7,2+J$2),IF(OR($F52=7,$F52=8),VLOOKUP($G$8,Congés_auto!$R$7:$BR$7,2+J$1),)))),0))","v":"2018-10-09"},{"$f":"IF($G52=\"Mardi\",IF(OR($F52=1,$F52=2),VLOOKUP($G$8,Congés_auto!$R$5:$BR$5,2+K$4),IF(OR($F52=3,$F52=4),VLOOKUP($G$8,Congés_auto!$R$5:$BR$5,2+K$3),IF(OR($F52=5,$F52=6),VLOOKUP($G$8,Congés_auto!$R$5:$BR$5,2+K$2),IF(OR($F52=7,$F52=8),VLOOKUP($G$8,Congés_auto!$R$5:$BR$5,2+K$1),)))),IF($G52=\"Jeudi\",IF(OR($F52=1,$F52=2),VLOOKUP($G$8,Congés_auto!$R$7:$BR$7,2+K$4),IF(OR($F52=3,$F52=4),VLOOKUP($G$8,Congés_auto!$R$7:$BR$7,2+K$3),IF(OR($F52=5,$F52=6),VLOOKUP($G$8,Congés_auto!$R$7:$BR$7,2+K$2),IF(OR($F52=7,$F52=8),VLOOKUP($G$8,Congés_auto!$R$7:$BR$7,2+K$1),)))),0))","v":"2018-11-20"},{"$f":"IF($G52=\"Mardi\",IF(OR($F52=1,$F52=2),VLOOKUP($G$8,Congés_auto!$R$5:$BR$5,2+L$4),IF(OR($F52=3,$F52=4),VLOOKUP($G$8,Congés_auto!$R$5:$BR$5,2+L$3),IF(OR($F52=5,$F52=6),VLOOKUP($G$8,Congés_auto!$R$5:$BR$5,2+L$2),IF(OR($F52=7,$F52=8),VLOOKUP($G$8,Congés_auto!$R$5:$BR$5,2+L$1),)))),IF($G52=\"Jeudi\",IF(OR($F52=1,$F52=2),VLOOKUP($G$8,Congés_auto!$R$7:$BR$7,2+L$4),IF(OR($F52=3,$F52=4),VLOOKUP($G$8,Congés_auto!$R$7:$BR$7,2+L$3),IF(OR($F52=5,$F52=6),VLOOKUP($G$8,Congés_auto!$R$7:$BR$7,2+L$2),IF(OR($F52=7,$F52=8),VLOOKUP($G$8,Congés_auto!$R$7:$BR$7,2+L$1),)))),0))","v":"2018-12-18"},{"$f":"IF($G52=\"Mardi\",IF(OR($F52=1,$F52=2),VLOOKUP($G$8,Congés_auto!$R$5:$BR$5,2+M$4),IF(OR($F52=3,$F52=4),VLOOKUP($G$8,Congés_auto!$R$5:$BR$5,2+M$3),IF(OR($F52=5,$F52=6),VLOOKUP($G$8,Congés_auto!$R$5:$BR$5,2+M$2),IF(OR($F52=7,$F52=8),VLOOKUP($G$8,Congés_auto!$R$5:$BR$5,2+M$1),)))),IF($G52=\"Jeudi\",IF(OR($F52=1,$F52=2),VLOOKUP($G$8,Congés_auto!$R$7:$BR$7,2+M$4),IF(OR($F52=3,$F52=4),VLOOKUP($G$8,Congés_auto!$R$7:$BR$7,2+M$3),IF(OR($F52=5,$F52=6),VLOOKUP($G$8,Congés_auto!$R$7:$BR$7,2+M$2),IF(OR($F52=7,$F52=8),VLOOKUP($G$8,Congés_auto!$R$7:$BR$7,2+M$1),)))),0))","v":"2019-02-19"},{"$f":"IF($G52=\"Mardi\",IF(OR($F52=1,$F52=2),VLOOKUP($G$8,Congés_auto!$R$5:$BR$5,2+N$4),IF(OR($F52=3,$F52=4),VLOOKUP($G$8,Congés_auto!$R$5:$BR$5,2+N$3),IF(OR($F52=5,$F52=6),VLOOKUP($G$8,Congés_auto!$R$5:$BR$5,2+N$2),IF(OR($F52=7,$F52=8),VLOOKUP($G$8,Congés_auto!$R$5:$BR$5,2+N$1),)))),IF($G52=\"Jeudi\",IF(OR($F52=1,$F52=2),VLOOKUP($G$8,Congés_auto!$R$7:$BR$7,2+N$4),IF(OR($F52=3,$F52=4),VLOOKUP($G$8,Congés_auto!$R$7:$BR$7,2+N$3),IF(OR($F52=5,$F52=6),VLOOKUP($G$8,Congés_auto!$R$7:$BR$7,2+N$2),IF(OR($F52=7,$F52=8),VLOOKUP($G$8,Congés_auto!$R$7:$BR$7,2+N$1),)))),0))","v":"2019-04-02"},{"$f":"IF($G52=\"Mardi\",IF(OR($F52=1,$F52=2),VLOOKUP($G$8,Congés_auto!$R$5:$BR$5,2+O$4),IF(OR($F52=3,$F52=4),VLOOKUP($G$8,Congés_auto!$R$5:$BR$5,2+O$3),IF(OR($F52=5,$F52=6),VLOOKUP($G$8,Congés_auto!$R$5:$BR$5,2+O$2),IF(OR($F52=7,$F52=8),VLOOKUP($G$8,Congés_auto!$R$5:$BR$5,2+O$1),)))),IF($G52=\"Jeudi\",IF(OR($F52=1,$F52=2),VLOOKUP($G$8,Congés_auto!$R$7:$BR$7,2+O$4),IF(OR($F52=3,$F52=4),VLOOKUP($G$8,Congés_auto!$R$7:$BR$7,2+O$3),IF(OR($F52=5,$F52=6),VLOOKUP($G$8,Congés_auto!$R$7:$BR$7,2+O$2),IF(OR($F52=7,$F52=8),VLOOKUP($G$8,Congés_auto!$R$7:$BR$7,2+O$1),)))),0))","v":"2019-04-30"},{"$f":"IF($G52=\"Mardi\",IF(OR($F52=1,$F52=2),VLOOKUP($G$8,Congés_auto!$R$5:$BR$5,2+P$4),IF(OR($F52=3,$F52=4),VLOOKUP($G$8,Congés_auto!$R$5:$BR$5,2+P$3),IF(OR($F52=5,$F52=6),VLOOKUP($G$8,Congés_auto!$R$5:$BR$5,2+P$2),IF(OR($F52=7,$F52=8),VLOOKUP($G$8,Congés_auto!$R$5:$BR$5,2+P$1),)))),IF($G52=\"Jeudi\",IF(OR($F52=1,$F52=2),VLOOKUP($G$8,Congés_auto!$R$7:$BR$7,2+P$4),IF(OR($F52=3,$F52=4),VLOOKUP($G$8,Congés_auto!$R$7:$BR$7,2+P$3),IF(OR($F52=5,$F52=6),VLOOKUP($G$8,Congés_auto!$R$7:$BR$7,2+P$2),IF(OR($F52=7,$F52=8),VLOOKUP($G$8,Congés_auto!$R$7:$BR$7,2+P$1),)))),0))","v":"2019-06-11"},{"$f":"IF($G52=\"Mardi\",IF(OR($F52=1,$F52=2),VLOOKUP($G$8,Congés_auto!$R$5:$BR$5,2+Q$4),IF(OR($F52=3,$F52=4),VLOOKUP($G$8,Congés_auto!$R$5:$BR$5,2+Q$3),IF(OR($F52=5,$F52=6),VLOOKUP($G$8,Congés_auto!$R$5:$BR$5,2+Q$2),IF(OR($F52=7,$F52=8),VLOOKUP($G$8,Congés_auto!$R$5:$BR$5,2+Q$1),)))),IF($G52=\"Jeudi\",IF(OR($F52=1,$F52=2),VLOOKUP($G$8,Congés_auto!$R$7:$BR$7,2+Q$4),IF(OR($F52=3,$F52=4),VLOOKUP($G$8,Congés_auto!$R$7:$BR$7,2+Q$3),IF(OR($F52=5,$F52=6),VLOOKUP($G$8,Congés_auto!$R$7:$BR$7,2+Q$2),IF(OR($F52=7,$F52=8),VLOOKUP($G$8,Congés_auto!$R$7:$BR$7,2+Q$1),)))),0))","v":"2019-08-20"}]
[null,null,"Celine","2001-07-22",302,6,"Mardi",{"$f":"IF(E53=E52,IF(F53=F52,H52+1,E53&F53&0),E53&F53&0)","v":30262},{"$f":"IF($G53=\"Mardi\",IF(OR($F53=1,$F53=2),VLOOKUP($G$8,Congés_auto!$R$5:$BR$5,2+I$4),IF(OR($F53=3,$F53=4),VLOOKUP($G$8,Congés_auto!$R$5:$BR$5,2+I$3),IF(OR($F53=5,$F53=6),VLOOKUP($G$8,Congés_auto!$R$5:$BR$5,2+I$2),IF(OR($F53=7,$F53=8),VLOOKUP($G$8,Congés_auto!$R$5:$BR$5,2+I$1),)))),IF($G53=\"Jeudi\",IF(OR($F53=1,$F53=2),VLOOKUP($G$8,Congés_auto!$R$7:$BR$7,2+I$4),IF(OR($F53=3,$F53=4),VLOOKUP($G$8,Congés_auto!$R$7:$BR$7,2+I$3),IF(OR($F53=5,$F53=6),VLOOKUP($G$8,Congés_auto!$R$7:$BR$7,2+I$2),IF(OR($F53=7,$F53=8),VLOOKUP($G$8,Congés_auto!$R$7:$BR$7,2+I$1),)))),0))","v":"2018-09-11"},{"$f":"IF($G53=\"Mardi\",IF(OR($F53=1,$F53=2),VLOOKUP($G$8,Congés_auto!$R$5:$BR$5,2+J$4),IF(OR($F53=3,$F53=4),VLOOKUP($G$8,Congés_auto!$R$5:$BR$5,2+J$3),IF(OR($F53=5,$F53=6),VLOOKUP($G$8,Congés_auto!$R$5:$BR$5,2+J$2),IF(OR($F53=7,$F53=8),VLOOKUP($G$8,Congés_auto!$R$5:$BR$5,2+J$1),)))),IF($G53=\"Jeudi\",IF(OR($F53=1,$F53=2),VLOOKUP($G$8,Congés_auto!$R$7:$BR$7,2+J$4),IF(OR($F53=3,$F53=4),VLOOKUP($G$8,Congés_auto!$R$7:$BR$7,2+J$3),IF(OR($F53=5,$F53=6),VLOOKUP($G$8,Congés_auto!$R$7:$BR$7,2+J$2),IF(OR($F53=7,$F53=8),VLOOKUP($G$8,Congés_auto!$R$7:$BR$7,2+J$1),)))),0))","v":"2018-10-09"},{"$f":"IF($G53=\"Mardi\",IF(OR($F53=1,$F53=2),VLOOKUP($G$8,Congés_auto!$R$5:$BR$5,2+K$4),IF(OR($F53=3,$F53=4),VLOOKUP($G$8,Congés_auto!$R$5:$BR$5,2+K$3),IF(OR($F53=5,$F53=6),VLOOKUP($G$8,Congés_auto!$R$5:$BR$5,2+K$2),IF(OR($F53=7,$F53=8),VLOOKUP($G$8,Congés_auto!$R$5:$BR$5,2+K$1),)))),IF($G53=\"Jeudi\",IF(OR($F53=1,$F53=2),VLOOKUP($G$8,Congés_auto!$R$7:$BR$7,2+K$4),IF(OR($F53=3,$F53=4),VLOOKUP($G$8,Congés_auto!$R$7:$BR$7,2+K$3),IF(OR($F53=5,$F53=6),VLOOKUP($G$8,Congés_auto!$R$7:$BR$7,2+K$2),IF(OR($F53=7,$F53=8),VLOOKUP($G$8,Congés_auto!$R$7:$BR$7,2+K$1),)))),0))","v":"2018-11-20"},{"$f":"IF($G53=\"Mardi\",IF(OR($F53=1,$F53=2),VLOOKUP($G$8,Congés_auto!$R$5:$BR$5,2+L$4),IF(OR($F53=3,$F53=4),VLOOKUP($G$8,Congés_auto!$R$5:$BR$5,2+L$3),IF(OR($F53=5,$F53=6),VLOOKUP($G$8,Congés_auto!$R$5:$BR$5,2+L$2),IF(OR($F53=7,$F53=8),VLOOKUP($G$8,Congés_auto!$R$5:$BR$5,2+L$1),)))),IF($G53=\"Jeudi\",IF(OR($F53=1,$F53=2),VLOOKUP($G$8,Congés_auto!$R$7:$BR$7,2+L$4),IF(OR($F53=3,$F53=4),VLOOKUP($G$8,Congés_auto!$R$7:$BR$7,2+L$3),IF(OR($F53=5,$F53=6),VLOOKUP($G$8,Congés_auto!$R$7:$BR$7,2+L$2),IF(OR($F53=7,$F53=8),VLOOKUP($G$8,Congés_auto!$R$7:$BR$7,2+L$1),)))),0))","v":"2018-12-18"},{"$f":"IF($G53=\"Mardi\",IF(OR($F53=1,$F53=2),VLOOKUP($G$8,Congés_auto!$R$5:$BR$5,2+M$4),IF(OR($F53=3,$F53=4),VLOOKUP($G$8,Congés_auto!$R$5:$BR$5,2+M$3),IF(OR($F53=5,$F53=6),VLOOKUP($G$8,Congés_auto!$R$5:$BR$5,2+M$2),IF(OR($F53=7,$F53=8),VLOOKUP($G$8,Congés_auto!$R$5:$BR$5,2+M$1),)))),IF($G53=\"Jeudi\",IF(OR($F53=1,$F53=2),VLOOKUP($G$8,Congés_auto!$R$7:$BR$7,2+M$4),IF(OR($F53=3,$F53=4),VLOOKUP($G$8,Congés_auto!$R$7:$BR$7,2+M$3),IF(OR($F53=5,$F53=6),VLOOKUP($G$8,Congés_auto!$R$7:$BR$7,2+M$2),IF(OR($F53=7,$F53=8),VLOOKUP($G$8,Congés_auto!$R$7:$BR$7,2+M$1),)))),0))","v":"2019-02-19"},{"$f":"IF($G53=\"Mardi\",IF(OR($F53=1,$F53=2),VLOOKUP($G$8,Congés_auto!$R$5:$BR$5,2+N$4),IF(OR($F53=3,$F53=4),VLOOKUP($G$8,Congés_auto!$R$5:$BR$5,2+N$3),IF(OR($F53=5,$F53=6),VLOOKUP($G$8,Congés_auto!$R$5:$BR$5,2+N$2),IF(OR($F53=7,$F53=8),VLOOKUP($G$8,Congés_auto!$R$5:$BR$5,2+N$1),)))),IF($G53=\"Jeudi\",IF(OR($F53=1,$F53=2),VLOOKUP($G$8,Congés_auto!$R$7:$BR$7,2+N$4),IF(OR($F53=3,$F53=4),VLOOKUP($G$8,Congés_auto!$R$7:$BR$7,2+N$3),IF(OR($F53=5,$F53=6),VLOOKUP($G$8,Congés_auto!$R$7:$BR$7,2+N$2),IF(OR($F53=7,$F53=8),VLOOKUP($G$8,Congés_auto!$R$7:$BR$7,2+N$1),)))),0))","v":"2019-04-02"},{"$f":"IF($G53=\"Mardi\",IF(OR($F53=1,$F53=2),VLOOKUP($G$8,Congés_auto!$R$5:$BR$5,2+O$4),IF(OR($F53=3,$F53=4),VLOOKUP($G$8,Congés_auto!$R$5:$BR$5,2+O$3),IF(OR($F53=5,$F53=6),VLOOKUP($G$8,Congés_auto!$R$5:$BR$5,2+O$2),IF(OR($F53=7,$F53=8),VLOOKUP($G$8,Congés_auto!$R$5:$BR$5,2+O$1),)))),IF($G53=\"Jeudi\",IF(OR($F53=1,$F53=2),VLOOKUP($G$8,Congés_auto!$R$7:$BR$7,2+O$4),IF(OR($F53=3,$F53=4),VLOOKUP($G$8,Congés_auto!$R$7:$BR$7,2+O$3),IF(OR($F53=5,$F53=6),VLOOKUP($G$8,Congés_auto!$R$7:$BR$7,2+O$2),IF(OR($F53=7,$F53=8),VLOOKUP($G$8,Congés_auto!$R$7:$BR$7,2+O$1),)))),0))","v":"2019-04-30"},{"$f":"IF($G53=\"Mardi\",IF(OR($F53=1,$F53=2),VLOOKUP($G$8,Congés_auto!$R$5:$BR$5,2+P$4),IF(OR($F53=3,$F53=4),VLOOKUP($G$8,Congés_auto!$R$5:$BR$5,2+P$3),IF(OR($F53=5,$F53=6),VLOOKUP($G$8,Congés_auto!$R$5:$BR$5,2+P$2),IF(OR($F53=7,$F53=8),VLOOKUP($G$8,Congés_auto!$R$5:$BR$5,2+P$1),)))),IF($G53=\"Jeudi\",IF(OR($F53=1,$F53=2),VLOOKUP($G$8,Congés_auto!$R$7:$BR$7,2+P$4),IF(OR($F53=3,$F53=4),VLOOKUP($G$8,Congés_auto!$R$7:$BR$7,2+P$3),IF(OR($F53=5,$F53=6),VLOOKUP($G$8,Congés_auto!$R$7:$BR$7,2+P$2),IF(OR($F53=7,$F53=8),VLOOKUP($G$8,Congés_auto!$R$7:$BR$7,2+P$1),)))),0))","v":"2019-06-11"},{"$f":"IF($G53=\"Mardi\",IF(OR($F53=1,$F53=2),VLOOKUP($G$8,Congés_auto!$R$5:$BR$5,2+Q$4),IF(OR($F53=3,$F53=4),VLOOKUP($G$8,Congés_auto!$R$5:$BR$5,2+Q$3),IF(OR($F53=5,$F53=6),VLOOKUP($G$8,Congés_auto!$R$5:$BR$5,2+Q$2),IF(OR($F53=7,$F53=8),VLOOKUP($G$8,Congés_auto!$R$5:$BR$5,2+Q$1),)))),IF($G53=\"Jeudi\",IF(OR($F53=1,$F53=2),VLOOKUP($G$8,Congés_auto!$R$7:$BR$7,2+Q$4),IF(OR($F53=3,$F53=4),VLOOKUP($G$8,Congés_auto!$R$7:$BR$7,2+Q$3),IF(OR($F53=5,$F53=6),VLOOKUP($G$8,Congés_auto!$R$7:$BR$7,2+Q$2),IF(OR($F53=7,$F53=8),VLOOKUP($G$8,Congés_auto!$R$7:$BR$7,2+Q$1),)))),0))","v":"2019-08-20"}]
[{"$nulls":3},"2000-02-16",302,6,"Mardi",{"$f":"IF(F54=F53,H53+1,E54&F54&0)","v":30263},{"$f":"IF($G54=\"Mardi\",IF(OR($F54=1,$F54=2),VLOOKUP($G$8,Congés_auto!$R$5:$BR$5,2+I$4),IF(OR($F54=3,$F54=4),VLOOKUP($G$8,Congés_auto!$R$5:$BR$5,2+I$3),IF(OR($F54=5,$F54=6),VLOOKUP($G$8,Congés_auto!$R$5:$BR$5,2+I$2),IF(OR($F54=7,$F54=8),VLOOKUP($G$8,Congés_auto!$R$5:$BR$5,2+I$1),)))),IF($G54=\"Jeudi\",IF(OR($F54=1,$F54=2),VLOOKUP($G$8,Congés_auto!$R$7:$BR$7,2+I$4),IF(OR($F54=3,$F54=4),VLOOKUP($G$8,Congés_auto!$R$7:$BR$7,2+I$3),IF(OR($F54=5,$F54=6),VLOOKUP($G$8,Congés_auto!$R$7:$BR$7,2+I$2),IF(OR($F54=7,$F54=8),VLOOKUP($G$8,Congés_auto!$R$7:$BR$7,2+I$1),)))),0))","v":"2018-09-11"},{"$f":"IF($G54=\"Mardi\",IF(OR($F54=1,$F54=2),VLOOKUP($G$8,Congés_auto!$R$5:$BR$5,2+J$4),IF(OR($F54=3,$F54=4),VLOOKUP($G$8,Congés_auto!$R$5:$BR$5,2+J$3),IF(OR($F54=5,$F54=6),VLOOKUP($G$8,Congés_auto!$R$5:$BR$5,2+J$2),IF(OR($F54=7,$F54=8),VLOOKUP($G$8,Congés_auto!$R$5:$BR$5,2+J$1),)))),IF($G54=\"Jeudi\",IF(OR($F54=1,$F54=2),VLOOKUP($G$8,Congés_auto!$R$7:$BR$7,2+J$4),IF(OR($F54=3,$F54=4),VLOOKUP($G$8,Congés_auto!$R$7:$BR$7,2+J$3),IF(OR($F54=5,$F54=6),VLOOKUP($G$8,Congés_auto!$R$7:$BR$7,2+J$2),IF(OR($F54=7,$F54=8),VLOOKUP($G$8,Congés_auto!$R$7:$BR$7,2+J$1),)))),0))","v":"2018-10-09"},{"$f":"IF($G54=\"Mardi\",IF(OR($F54=1,$F54=2),VLOOKUP($G$8,Congés_auto!$R$5:$BR$5,2+K$4),IF(OR($F54=3,$F54=4),VLOOKUP($G$8,Congés_auto!$R$5:$BR$5,2+K$3),IF(OR($F54=5,$F54=6),VLOOKUP($G$8,Congés_auto!$R$5:$BR$5,2+K$2),IF(OR($F54=7,$F54=8),VLOOKUP($G$8,Congés_auto!$R$5:$BR$5,2+K$1),)))),IF($G54=\"Jeudi\",IF(OR($F54=1,$F54=2),VLOOKUP($G$8,Congés_auto!$R$7:$BR$7,2+K$4),IF(OR($F54=3,$F54=4),VLOOKUP($G$8,Congés_auto!$R$7:$BR$7,2+K$3),IF(OR($F54=5,$F54=6),VLOOKUP($G$8,Congés_auto!$R$7:$BR$7,2+K$2),IF(OR($F54=7,$F54=8),VLOOKUP($G$8,Congés_auto!$R$7:$BR$7,2+K$1),)))),0))","v":"2018-11-20"},{"$f":"IF($G54=\"Mardi\",IF(OR($F54=1,$F54=2),VLOOKUP($G$8,Congés_auto!$R$5:$BR$5,2+L$4),IF(OR($F54=3,$F54=4),VLOOKUP($G$8,Congés_auto!$R$5:$BR$5,2+L$3),IF(OR($F54=5,$F54=6),VLOOKUP($G$8,Congés_auto!$R$5:$BR$5,2+L$2),IF(OR($F54=7,$F54=8),VLOOKUP($G$8,Congés_auto!$R$5:$BR$5,2+L$1),)))),IF($G54=\"Jeudi\",IF(OR($F54=1,$F54=2),VLOOKUP($G$8,Congés_auto!$R$7:$BR$7,2+L$4),IF(OR($F54=3,$F54=4),VLOOKUP($G$8,Congés_auto!$R$7:$BR$7,2+L$3),IF(OR($F54=5,$F54=6),VLOOKUP($G$8,Congés_auto!$R$7:$BR$7,2+L$2),IF(OR($F54=7,$F54=8),VLOOKUP($G$8,Congés_auto!$R$7:$BR$7,2+L$1),)))),0))","v":"2018-12-18"},{"$f":"IF($G54=\"Mardi\",IF(OR($F54=1,$F54=2),VLOOKUP($G$8,Congés_auto!$R$5:$BR$5,2+M$4),IF(OR($F54=3,$F54=4),VLOOKUP($G$8,Congés_auto!$R$5:$BR$5,2+M$3),IF(OR($F54=5,$F54=6),VLOOKUP($G$8,Congés_auto!$R$5:$BR$5,2+M$2),IF(OR($F54=7,$F54=8),VLOOKUP($G$8,Congés_auto!$R$5:$BR$5,2+M$1),)))),IF($G54=\"Jeudi\",IF(OR($F54=1,$F54=2),VLOOKUP($G$8,Congés_auto!$R$7:$BR$7,2+M$4),IF(OR($F54=3,$F54=4),VLOOKUP($G$8,Congés_auto!$R$7:$BR$7,2+M$3),IF(OR($F54=5,$F54=6),VLOOKUP($G$8,Congés_auto!$R$7:$BR$7,2+M$2),IF(OR($F54=7,$F54=8),VLOOKUP($G$8,Congés_auto!$R$7:$BR$7,2+M$1),)))),0))","v":"2019-02-19"},{"$f":"IF($G54=\"Mardi\",IF(OR($F54=1,$F54=2),VLOOKUP($G$8,Congés_auto!$R$5:$BR$5,2+N$4),IF(OR($F54=3,$F54=4),VLOOKUP($G$8,Congés_auto!$R$5:$BR$5,2+N$3),IF(OR($F54=5,$F54=6),VLOOKUP($G$8,Congés_auto!$R$5:$BR$5,2+N$2),IF(OR($F54=7,$F54=8),VLOOKUP($G$8,Congés_auto!$R$5:$BR$5,2+N$1),)))),IF($G54=\"Jeudi\",IF(OR($F54=1,$F54=2),VLOOKUP($G$8,Congés_auto!$R$7:$BR$7,2+N$4),IF(OR($F54=3,$F54=4),VLOOKUP($G$8,Congés_auto!$R$7:$BR$7,2+N$3),IF(OR($F54=5,$F54=6),VLOOKUP($G$8,Congés_auto!$R$7:$BR$7,2+N$2),IF(OR($F54=7,$F54=8),VLOOKUP($G$8,Congés_auto!$R$7:$BR$7,2+N$1),)))),0))","v":"2019-04-02"},{"$f":"IF($G54=\"Mardi\",IF(OR($F54=1,$F54=2),VLOOKUP($G$8,Congés_auto!$R$5:$BR$5,2+O$4),IF(OR($F54=3,$F54=4),VLOOKUP($G$8,Congés_auto!$R$5:$BR$5,2+O$3),IF(OR($F54=5,$F54=6),VLOOKUP($G$8,Congés_auto!$R$5:$BR$5,2+O$2),IF(OR($F54=7,$F54=8),VLOOKUP($G$8,Congés_auto!$R$5:$BR$5,2+O$1),)))),IF($G54=\"Jeudi\",IF(OR($F54=1,$F54=2),VLOOKUP($G$8,Congés_auto!$R$7:$BR$7,2+O$4),IF(OR($F54=3,$F54=4),VLOOKUP($G$8,Congés_auto!$R$7:$BR$7,2+O$3),IF(OR($F54=5,$F54=6),VLOOKUP($G$8,Congés_auto!$R$7:$BR$7,2+O$2),IF(OR($F54=7,$F54=8),VLOOKUP($G$8,Congés_auto!$R$7:$BR$7,2+O$1),)))),0))","v":"2019-04-30"},{"$f":"IF($G54=\"Mardi\",IF(OR($F54=1,$F54=2),VLOOKUP($G$8,Congés_auto!$R$5:$BR$5,2+P$4),IF(OR($F54=3,$F54=4),VLOOKUP($G$8,Congés_auto!$R$5:$BR$5,2+P$3),IF(OR($F54=5,$F54=6),VLOOKUP($G$8,Congés_auto!$R$5:$BR$5,2+P$2),IF(OR($F54=7,$F54=8),VLOOKUP($G$8,Congés_auto!$R$5:$BR$5,2+P$1),)))),IF($G54=\"Jeudi\",IF(OR($F54=1,$F54=2),VLOOKUP($G$8,Congés_auto!$R$7:$BR$7,2+P$4),IF(OR($F54=3,$F54=4),VLOOKUP($G$8,Congés_auto!$R$7:$BR$7,2+P$3),IF(OR($F54=5,$F54=6),VLOOKUP($G$8,Congés_auto!$R$7:$BR$7,2+P$2),IF(OR($F54=7,$F54=8),VLOOKUP($G$8,Congés_auto!$R$7:$BR$7,2+P$1),)))),0))","v":"2019-06-11"},{"$f":"IF($G54=\"Mardi\",IF(OR($F54=1,$F54=2),VLOOKUP($G$8,Congés_auto!$R$5:$BR$5,2+Q$4),IF(OR($F54=3,$F54=4),VLOOKUP($G$8,Congés_auto!$R$5:$BR$5,2+Q$3),IF(OR($F54=5,$F54=6),VLOOKUP($G$8,Congés_auto!$R$5:$BR$5,2+Q$2),IF(OR($F54=7,$F54=8),VLOOKUP($G$8,Congés_auto!$R$5:$BR$5,2+Q$1),)))),IF($G54=\"Jeudi\",IF(OR($F54=1,$F54=2),VLOOKUP($G$8,Congés_auto!$R$7:$BR$7,2+Q$4),IF(OR($F54=3,$F54=4),VLOOKUP($G$8,Congés_auto!$R$7:$BR$7,2+Q$3),IF(OR($F54=5,$F54=6),VLOOKUP($G$8,Congés_auto!$R$7:$BR$7,2+Q$2),IF(OR($F54=7,$F54=8),VLOOKUP($G$8,Congés_auto!$R$7:$BR$7,2+Q$1),)))),0))","v":"2019-08-20"}]
[{"$nulls":3},"2001-01-27",302,7,"Mardi",{"$f":"IF(E55=E54,IF(F55=F54,H54+1,E55&F55&0),E55&F55&0)","v":"30270"},{"$f":"IF($G55=\"Mardi\",IF(OR($F55=1,$F55=2),VLOOKUP($G$8,Congés_auto!$R$5:$BR$5,2+I$4),IF(OR($F55=3,$F55=4),VLOOKUP($G$8,Congés_auto!$R$5:$BR$5,2+I$3),IF(OR($F55=5,$F55=6),VLOOKUP($G$8,Congés_auto!$R$5:$BR$5,2+I$2),IF(OR($F55=7,$F55=8),VLOOKUP($G$8,Congés_auto!$R$5:$BR$5,2+I$1),)))),IF($G55=\"Jeudi\",IF(OR($F55=1,$F55=2),VLOOKUP($G$8,Congés_auto!$R$7:$BR$7,2+I$4),IF(OR($F55=3,$F55=4),VLOOKUP($G$8,Congés_auto!$R$7:$BR$7,2+I$3),IF(OR($F55=5,$F55=6),VLOOKUP($G$8,Congés_auto!$R$7:$BR$7,2+I$2),IF(OR($F55=7,$F55=8),VLOOKUP($G$8,Congés_auto!$R$7:$BR$7,2+I$1),)))),0))","v":"2018-09-18"},{"$f":"IF($G55=\"Mardi\",IF(OR($F55=1,$F55=2),VLOOKUP($G$8,Congés_auto!$R$5:$BR$5,2+J$4),IF(OR($F55=3,$F55=4),VLOOKUP($G$8,Congés_auto!$R$5:$BR$5,2+J$3),IF(OR($F55=5,$F55=6),VLOOKUP($G$8,Congés_auto!$R$5:$BR$5,2+J$2),IF(OR($F55=7,$F55=8),VLOOKUP($G$8,Congés_auto!$R$5:$BR$5,2+J$1),)))),IF($G55=\"Jeudi\",IF(OR($F55=1,$F55=2),VLOOKUP($G$8,Congés_auto!$R$7:$BR$7,2+J$4),IF(OR($F55=3,$F55=4),VLOOKUP($G$8,Congés_auto!$R$7:$BR$7,2+J$3),IF(OR($F55=5,$F55=6),VLOOKUP($G$8,Congés_auto!$R$7:$BR$7,2+J$2),IF(OR($F55=7,$F55=8),VLOOKUP($G$8,Congés_auto!$R$7:$BR$7,2+J$1),)))),0))","v":"2018-10-30"},{"$f":"IF($G55=\"Mardi\",IF(OR($F55=1,$F55=2),VLOOKUP($G$8,Congés_auto!$R$5:$BR$5,2+K$4),IF(OR($F55=3,$F55=4),VLOOKUP($G$8,Congés_auto!$R$5:$BR$5,2+K$3),IF(OR($F55=5,$F55=6),VLOOKUP($G$8,Congés_auto!$R$5:$BR$5,2+K$2),IF(OR($F55=7,$F55=8),VLOOKUP($G$8,Congés_auto!$R$5:$BR$5,2+K$1),)))),IF($G55=\"Jeudi\",IF(OR($F55=1,$F55=2),VLOOKUP($G$8,Congés_auto!$R$7:$BR$7,2+K$4),IF(OR($F55=3,$F55=4),VLOOKUP($G$8,Congés_auto!$R$7:$BR$7,2+K$3),IF(OR($F55=5,$F55=6),VLOOKUP($G$8,Congés_auto!$R$7:$BR$7,2+K$2),IF(OR($F55=7,$F55=8),VLOOKUP($G$8,Congés_auto!$R$7:$BR$7,2+K$1),)))),0))","v":"2018-11-27"},{"$f":"IF($G55=\"Mardi\",IF(OR($F55=1,$F55=2),VLOOKUP($G$8,Congés_auto!$R$5:$BR$5,2+L$4),IF(OR($F55=3,$F55=4),VLOOKUP($G$8,Congés_auto!$R$5:$BR$5,2+L$3),IF(OR($F55=5,$F55=6),VLOOKUP($G$8,Congés_auto!$R$5:$BR$5,2+L$2),IF(OR($F55=7,$F55=8),VLOOKUP($G$8,Congés_auto!$R$5:$BR$5,2+L$1),)))),IF($G55=\"Jeudi\",IF(OR($F55=1,$F55=2),VLOOKUP($G$8,Congés_auto!$R$7:$BR$7,2+L$4),IF(OR($F55=3,$F55=4),VLOOKUP($G$8,Congés_auto!$R$7:$BR$7,2+L$3),IF(OR($F55=5,$F55=6),VLOOKUP($G$8,Congés_auto!$R$7:$BR$7,2+L$2),IF(OR($F55=7,$F55=8),VLOOKUP($G$8,Congés_auto!$R$7:$BR$7,2+L$1),)))),0))","v":"2019-01-29"},{"$f":"IF($G55=\"Mardi\",IF(OR($F55=1,$F55=2),VLOOKUP($G$8,Congés_auto!$R$5:$BR$5,2+M$4),IF(OR($F55=3,$F55=4),VLOOKUP($G$8,Congés_auto!$R$5:$BR$5,2+M$3),IF(OR($F55=5,$F55=6),VLOOKUP($G$8,Congés_auto!$R$5:$BR$5,2+M$2),IF(OR($F55=7,$F55=8),VLOOKUP($G$8,Congés_auto!$R$5:$BR$5,2+M$1),)))),IF($G55=\"Jeudi\",IF(OR($F55=1,$F55=2),VLOOKUP($G$8,Congés_auto!$R$7:$BR$7,2+M$4),IF(OR($F55=3,$F55=4),VLOOKUP($G$8,Congés_auto!$R$7:$BR$7,2+M$3),IF(OR($F55=5,$F55=6),VLOOKUP($G$8,Congés_auto!$R$7:$BR$7,2+M$2),IF(OR($F55=7,$F55=8),VLOOKUP($G$8,Congés_auto!$R$7:$BR$7,2+M$1),)))),0))","v":"2019-02-26"},{"$f":"IF($G55=\"Mardi\",IF(OR($F55=1,$F55=2),VLOOKUP($G$8,Congés_auto!$R$5:$BR$5,2+N$4),IF(OR($F55=3,$F55=4),VLOOKUP($G$8,Congés_auto!$R$5:$BR$5,2+N$3),IF(OR($F55=5,$F55=6),VLOOKUP($G$8,Congés_auto!$R$5:$BR$5,2+N$2),IF(OR($F55=7,$F55=8),VLOOKUP($G$8,Congés_auto!$R$5:$BR$5,2+N$1),)))),IF($G55=\"Jeudi\",IF(OR($F55=1,$F55=2),VLOOKUP($G$8,Congés_auto!$R$7:$BR$7,2+N$4),IF(OR($F55=3,$F55=4),VLOOKUP($G$8,Congés_auto!$R$7:$BR$7,2+N$3),IF(OR($F55=5,$F55=6),VLOOKUP($G$8,Congés_auto!$R$7:$BR$7,2+N$2),IF(OR($F55=7,$F55=8),VLOOKUP($G$8,Congés_auto!$R$7:$BR$7,2+N$1),)))),0))","v":"2019-04-09"},{"$f":"IF($G55=\"Mardi\",IF(OR($F55=1,$F55=2),VLOOKUP($G$8,Congés_auto!$R$5:$BR$5,2+O$4),IF(OR($F55=3,$F55=4),VLOOKUP($G$8,Congés_auto!$R$5:$BR$5,2+O$3),IF(OR($F55=5,$F55=6),VLOOKUP($G$8,Congés_auto!$R$5:$BR$5,2+O$2),IF(OR($F55=7,$F55=8),VLOOKUP($G$8,Congés_auto!$R$5:$BR$5,2+O$1),)))),IF($G55=\"Jeudi\",IF(OR($F55=1,$F55=2),VLOOKUP($G$8,Congés_auto!$R$7:$BR$7,2+O$4),IF(OR($F55=3,$F55=4),VLOOKUP($G$8,Congés_auto!$R$7:$BR$7,2+O$3),IF(OR($F55=5,$F55=6),VLOOKUP($G$8,Congés_auto!$R$7:$BR$7,2+O$2),IF(OR($F55=7,$F55=8),VLOOKUP($G$8,Congés_auto!$R$7:$BR$7,2+O$1),)))),0))","v":"2019-05-21"},{"$f":"IF($G55=\"Mardi\",IF(OR($F55=1,$F55=2),VLOOKUP($G$8,Congés_auto!$R$5:$BR$5,2+P$4),IF(OR($F55=3,$F55=4),VLOOKUP($G$8,Congés_auto!$R$5:$BR$5,2+P$3),IF(OR($F55=5,$F55=6),VLOOKUP($G$8,Congés_auto!$R$5:$BR$5,2+P$2),IF(OR($F55=7,$F55=8),VLOOKUP($G$8,Congés_auto!$R$5:$BR$5,2+P$1),)))),IF($G55=\"Jeudi\",IF(OR($F55=1,$F55=2),VLOOKUP($G$8,Congés_auto!$R$7:$BR$7,2+P$4),IF(OR($F55=3,$F55=4),VLOOKUP($G$8,Congés_auto!$R$7:$BR$7,2+P$3),IF(OR($F55=5,$F55=6),VLOOKUP($G$8,Congés_auto!$R$7:$BR$7,2+P$2),IF(OR($F55=7,$F55=8),VLOOKUP($G$8,Congés_auto!$R$7:$BR$7,2+P$1),)))),0))","v":"2019-06-18"},{"$f":"IF($G55=\"Mardi\",IF(OR($F55=1,$F55=2),VLOOKUP($G$8,Congés_auto!$R$5:$BR$5,2+Q$4),IF(OR($F55=3,$F55=4),VLOOKUP($G$8,Congés_auto!$R$5:$BR$5,2+Q$3),IF(OR($F55=5,$F55=6),VLOOKUP($G$8,Congés_auto!$R$5:$BR$5,2+Q$2),IF(OR($F55=7,$F55=8),VLOOKUP($G$8,Congés_auto!$R$5:$BR$5,2+Q$1),)))),IF($G55=\"Jeudi\",IF(OR($F55=1,$F55=2),VLOOKUP($G$8,Congés_auto!$R$7:$BR$7,2+Q$4),IF(OR($F55=3,$F55=4),VLOOKUP($G$8,Congés_auto!$R$7:$BR$7,2+Q$3),IF(OR($F55=5,$F55=6),VLOOKUP($G$8,Congés_auto!$R$7:$BR$7,2+Q$2),IF(OR($F55=7,$F55=8),VLOOKUP($G$8,Congés_auto!$R$7:$BR$7,2+Q$1),)))),0))","v":""}]
[{"$nulls":3},"2001-07-28",302,7,"Mardi",{"$f":"IF(F56=F55,H55+1,E56&F56&0)","v":30271},{"$f":"IF($G56=\"Mardi\",IF(OR($F56=1,$F56=2),VLOOKUP($G$8,Congés_auto!$R$5:$BR$5,2+I$4),IF(OR($F56=3,$F56=4),VLOOKUP($G$8,Congés_auto!$R$5:$BR$5,2+I$3),IF(OR($F56=5,$F56=6),VLOOKUP($G$8,Congés_auto!$R$5:$BR$5,2+I$2),IF(OR($F56=7,$F56=8),VLOOKUP($G$8,Congés_auto!$R$5:$BR$5,2+I$1),)))),IF($G56=\"Jeudi\",IF(OR($F56=1,$F56=2),VLOOKUP($G$8,Congés_auto!$R$7:$BR$7,2+I$4),IF(OR($F56=3,$F56=4),VLOOKUP($G$8,Congés_auto!$R$7:$BR$7,2+I$3),IF(OR($F56=5,$F56=6),VLOOKUP($G$8,Congés_auto!$R$7:$BR$7,2+I$2),IF(OR($F56=7,$F56=8),VLOOKUP($G$8,Congés_auto!$R$7:$BR$7,2+I$1),)))),0))","v":"2018-09-18"},{"$f":"IF($G56=\"Mardi\",IF(OR($F56=1,$F56=2),VLOOKUP($G$8,Congés_auto!$R$5:$BR$5,2+J$4),IF(OR($F56=3,$F56=4),VLOOKUP($G$8,Congés_auto!$R$5:$BR$5,2+J$3),IF(OR($F56=5,$F56=6),VLOOKUP($G$8,Congés_auto!$R$5:$BR$5,2+J$2),IF(OR($F56=7,$F56=8),VLOOKUP($G$8,Congés_auto!$R$5:$BR$5,2+J$1),)))),IF($G56=\"Jeudi\",IF(OR($F56=1,$F56=2),VLOOKUP($G$8,Congés_auto!$R$7:$BR$7,2+J$4),IF(OR($F56=3,$F56=4),VLOOKUP($G$8,Congés_auto!$R$7:$BR$7,2+J$3),IF(OR($F56=5,$F56=6),VLOOKUP($G$8,Congés_auto!$R$7:$BR$7,2+J$2),IF(OR($F56=7,$F56=8),VLOOKUP($G$8,Congés_auto!$R$7:$BR$7,2+J$1),)))),0))","v":"2018-10-30"},{"$f":"IF($G56=\"Mardi\",IF(OR($F56=1,$F56=2),VLOOKUP($G$8,Congés_auto!$R$5:$BR$5,2+K$4),IF(OR($F56=3,$F56=4),VLOOKUP($G$8,Congés_auto!$R$5:$BR$5,2+K$3),IF(OR($F56=5,$F56=6),VLOOKUP($G$8,Congés_auto!$R$5:$BR$5,2+K$2),IF(OR($F56=7,$F56=8),VLOOKUP($G$8,Congés_auto!$R$5:$BR$5,2+K$1),)))),IF($G56=\"Jeudi\",IF(OR($F56=1,$F56=2),VLOOKUP($G$8,Congés_auto!$R$7:$BR$7,2+K$4),IF(OR($F56=3,$F56=4),VLOOKUP($G$8,Congés_auto!$R$7:$BR$7,2+K$3),IF(OR($F56=5,$F56=6),VLOOKUP($G$8,Congés_auto!$R$7:$BR$7,2+K$2),IF(OR($F56=7,$F56=8),VLOOKUP($G$8,Congés_auto!$R$7:$BR$7,2+K$1),)))),0))","v":"2018-11-27"},{"$f":"IF($G56=\"Mardi\",IF(OR($F56=1,$F56=2),VLOOKUP($G$8,Congés_auto!$R$5:$BR$5,2+L$4),IF(OR($F56=3,$F56=4),VLOOKUP($G$8,Congés_auto!$R$5:$BR$5,2+L$3),IF(OR($F56=5,$F56=6),VLOOKUP($G$8,Congés_auto!$R$5:$BR$5,2+L$2),IF(OR($F56=7,$F56=8),VLOOKUP($G$8,Congés_auto!$R$5:$BR$5,2+L$1),)))),IF($G56=\"Jeudi\",IF(OR($F56=1,$F56=2),VLOOKUP($G$8,Congés_auto!$R$7:$BR$7,2+L$4),IF(OR($F56=3,$F56=4),VLOOKUP($G$8,Congés_auto!$R$7:$BR$7,2+L$3),IF(OR($F56=5,$F56=6),VLOOKUP($G$8,Congés_auto!$R$7:$BR$7,2+L$2),IF(OR($F56=7,$F56=8),VLOOKUP($G$8,Congés_auto!$R$7:$BR$7,2+L$1),)))),0))","v":"2019-01-29"},{"$f":"IF($G56=\"Mardi\",IF(OR($F56=1,$F56=2),VLOOKUP($G$8,Congés_auto!$R$5:$BR$5,2+M$4),IF(OR($F56=3,$F56=4),VLOOKUP($G$8,Congés_auto!$R$5:$BR$5,2+M$3),IF(OR($F56=5,$F56=6),VLOOKUP($G$8,Congés_auto!$R$5:$BR$5,2+M$2),IF(OR($F56=7,$F56=8),VLOOKUP($G$8,Congés_auto!$R$5:$BR$5,2+M$1),)))),IF($G56=\"Jeudi\",IF(OR($F56=1,$F56=2),VLOOKUP($G$8,Congés_auto!$R$7:$BR$7,2+M$4),IF(OR($F56=3,$F56=4),VLOOKUP($G$8,Congés_auto!$R$7:$BR$7,2+M$3),IF(OR($F56=5,$F56=6),VLOOKUP($G$8,Congés_auto!$R$7:$BR$7,2+M$2),IF(OR($F56=7,$F56=8),VLOOKUP($G$8,Congés_auto!$R$7:$BR$7,2+M$1),)))),0))","v":"2019-02-26"},{"$f":"IF($G56=\"Mardi\",IF(OR($F56=1,$F56=2),VLOOKUP($G$8,Congés_auto!$R$5:$BR$5,2+N$4),IF(OR($F56=3,$F56=4),VLOOKUP($G$8,Congés_auto!$R$5:$BR$5,2+N$3),IF(OR($F56=5,$F56=6),VLOOKUP($G$8,Congés_auto!$R$5:$BR$5,2+N$2),IF(OR($F56=7,$F56=8),VLOOKUP($G$8,Congés_auto!$R$5:$BR$5,2+N$1),)))),IF($G56=\"Jeudi\",IF(OR($F56=1,$F56=2),VLOOKUP($G$8,Congés_auto!$R$7:$BR$7,2+N$4),IF(OR($F56=3,$F56=4),VLOOKUP($G$8,Congés_auto!$R$7:$BR$7,2+N$3),IF(OR($F56=5,$F56=6),VLOOKUP($G$8,Congés_auto!$R$7:$BR$7,2+N$2),IF(OR($F56=7,$F56=8),VLOOKUP($G$8,Congés_auto!$R$7:$BR$7,2+N$1),)))),0))","v":"2019-04-09"},{"$f":"IF($G56=\"Mardi\",IF(OR($F56=1,$F56=2),VLOOKUP($G$8,Congés_auto!$R$5:$BR$5,2+O$4),IF(OR($F56=3,$F56=4),VLOOKUP($G$8,Congés_auto!$R$5:$BR$5,2+O$3),IF(OR($F56=5,$F56=6),VLOOKUP($G$8,Congés_auto!$R$5:$BR$5,2+O$2),IF(OR($F56=7,$F56=8),VLOOKUP($G$8,Congés_auto!$R$5:$BR$5,2+O$1),)))),IF($G56=\"Jeudi\",IF(OR($F56=1,$F56=2),VLOOKUP($G$8,Congés_auto!$R$7:$BR$7,2+O$4),IF(OR($F56=3,$F56=4),VLOOKUP($G$8,Congés_auto!$R$7:$BR$7,2+O$3),IF(OR($F56=5,$F56=6),VLOOKUP($G$8,Congés_auto!$R$7:$BR$7,2+O$2),IF(OR($F56=7,$F56=8),VLOOKUP($G$8,Congés_auto!$R$7:$BR$7,2+O$1),)))),0))","v":"2019-05-21"},{"$f":"IF($G56=\"Mardi\",IF(OR($F56=1,$F56=2),VLOOKUP($G$8,Congés_auto!$R$5:$BR$5,2+P$4),IF(OR($F56=3,$F56=4),VLOOKUP($G$8,Congés_auto!$R$5:$BR$5,2+P$3),IF(OR($F56=5,$F56=6),VLOOKUP($G$8,Congés_auto!$R$5:$BR$5,2+P$2),IF(OR($F56=7,$F56=8),VLOOKUP($G$8,Congés_auto!$R$5:$BR$5,2+P$1),)))),IF($G56=\"Jeudi\",IF(OR($F56=1,$F56=2),VLOOKUP($G$8,Congés_auto!$R$7:$BR$7,2+P$4),IF(OR($F56=3,$F56=4),VLOOKUP($G$8,Congés_auto!$R$7:$BR$7,2+P$3),IF(OR($F56=5,$F56=6),VLOOKUP($G$8,Congés_auto!$R$7:$BR$7,2+P$2),IF(OR($F56=7,$F56=8),VLOOKUP($G$8,Congés_auto!$R$7:$BR$7,2+P$1),)))),0))","v":"2019-06-18"},{"$f":"IF($G56=\"Mardi\",IF(OR($F56=1,$F56=2),VLOOKUP($G$8,Congés_auto!$R$5:$BR$5,2+Q$4),IF(OR($F56=3,$F56=4),VLOOKUP($G$8,Congés_auto!$R$5:$BR$5,2+Q$3),IF(OR($F56=5,$F56=6),VLOOKUP($G$8,Congés_auto!$R$5:$BR$5,2+Q$2),IF(OR($F56=7,$F56=8),VLOOKUP($G$8,Congés_auto!$R$5:$BR$5,2+Q$1),)))),IF($G56=\"Jeudi\",IF(OR($F56=1,$F56=2),VLOOKUP($G$8,Congés_auto!$R$7:$BR$7,2+Q$4),IF(OR($F56=3,$F56=4),VLOOKUP($G$8,Congés_auto!$R$7:$BR$7,2+Q$3),IF(OR($F56=5,$F56=6),VLOOKUP($G$8,Congés_auto!$R$7:$BR$7,2+Q$2),IF(OR($F56=7,$F56=8),VLOOKUP($G$8,Congés_auto!$R$7:$BR$7,2+Q$1),)))),0))","v":""}]
[{"$nulls":3},"2001-03-01",302,7,"Mardi",{"$f":"IF(F57=F56,H56+1,E57&F57&0)","v":30272},{"$f":"IF($G57=\"Mardi\",IF(OR($F57=1,$F57=2),VLOOKUP($G$8,Congés_auto!$R$5:$BR$5,2+I$4),IF(OR($F57=3,$F57=4),VLOOKUP($G$8,Congés_auto!$R$5:$BR$5,2+I$3),IF(OR($F57=5,$F57=6),VLOOKUP($G$8,Congés_auto!$R$5:$BR$5,2+I$2),IF(OR($F57=7,$F57=8),VLOOKUP($G$8,Congés_auto!$R$5:$BR$5,2+I$1),)))),IF($G57=\"Jeudi\",IF(OR($F57=1,$F57=2),VLOOKUP($G$8,Congés_auto!$R$7:$BR$7,2+I$4),IF(OR($F57=3,$F57=4),VLOOKUP($G$8,Congés_auto!$R$7:$BR$7,2+I$3),IF(OR($F57=5,$F57=6),VLOOKUP($G$8,Congés_auto!$R$7:$BR$7,2+I$2),IF(OR($F57=7,$F57=8),VLOOKUP($G$8,Congés_auto!$R$7:$BR$7,2+I$1),)))),0))","v":"2018-09-18"},{"$f":"IF($G57=\"Mardi\",IF(OR($F57=1,$F57=2),VLOOKUP($G$8,Congés_auto!$R$5:$BR$5,2+J$4),IF(OR($F57=3,$F57=4),VLOOKUP($G$8,Congés_auto!$R$5:$BR$5,2+J$3),IF(OR($F57=5,$F57=6),VLOOKUP($G$8,Congés_auto!$R$5:$BR$5,2+J$2),IF(OR($F57=7,$F57=8),VLOOKUP($G$8,Congés_auto!$R$5:$BR$5,2+J$1),)))),IF($G57=\"Jeudi\",IF(OR($F57=1,$F57=2),VLOOKUP($G$8,Congés_auto!$R$7:$BR$7,2+J$4),IF(OR($F57=3,$F57=4),VLOOKUP($G$8,Congés_auto!$R$7:$BR$7,2+J$3),IF(OR($F57=5,$F57=6),VLOOKUP($G$8,Congés_auto!$R$7:$BR$7,2+J$2),IF(OR($F57=7,$F57=8),VLOOKUP($G$8,Congés_auto!$R$7:$BR$7,2+J$1),)))),0))","v":"2018-10-30"},{"$f":"IF($G57=\"Mardi\",IF(OR($F57=1,$F57=2),VLOOKUP($G$8,Congés_auto!$R$5:$BR$5,2+K$4),IF(OR($F57=3,$F57=4),VLOOKUP($G$8,Congés_auto!$R$5:$BR$5,2+K$3),IF(OR($F57=5,$F57=6),VLOOKUP($G$8,Congés_auto!$R$5:$BR$5,2+K$2),IF(OR($F57=7,$F57=8),VLOOKUP($G$8,Congés_auto!$R$5:$BR$5,2+K$1),)))),IF($G57=\"Jeudi\",IF(OR($F57=1,$F57=2),VLOOKUP($G$8,Congés_auto!$R$7:$BR$7,2+K$4),IF(OR($F57=3,$F57=4),VLOOKUP($G$8,Congés_auto!$R$7:$BR$7,2+K$3),IF(OR($F57=5,$F57=6),VLOOKUP($G$8,Congés_auto!$R$7:$BR$7,2+K$2),IF(OR($F57=7,$F57=8),VLOOKUP($G$8,Congés_auto!$R$7:$BR$7,2+K$1),)))),0))","v":"2018-11-27"},{"$f":"IF($G57=\"Mardi\",IF(OR($F57=1,$F57=2),VLOOKUP($G$8,Congés_auto!$R$5:$BR$5,2+L$4),IF(OR($F57=3,$F57=4),VLOOKUP($G$8,Congés_auto!$R$5:$BR$5,2+L$3),IF(OR($F57=5,$F57=6),VLOOKUP($G$8,Congés_auto!$R$5:$BR$5,2+L$2),IF(OR($F57=7,$F57=8),VLOOKUP($G$8,Congés_auto!$R$5:$BR$5,2+L$1),)))),IF($G57=\"Jeudi\",IF(OR($F57=1,$F57=2),VLOOKUP($G$8,Congés_auto!$R$7:$BR$7,2+L$4),IF(OR($F57=3,$F57=4),VLOOKUP($G$8,Congés_auto!$R$7:$BR$7,2+L$3),IF(OR($F57=5,$F57=6),VLOOKUP($G$8,Congés_auto!$R$7:$BR$7,2+L$2),IF(OR($F57=7,$F57=8),VLOOKUP($G$8,Congés_auto!$R$7:$BR$7,2+L$1),)))),0))","v":"2019-01-29"},{"$f":"IF($G57=\"Mardi\",IF(OR($F57=1,$F57=2),VLOOKUP($G$8,Congés_auto!$R$5:$BR$5,2+M$4),IF(OR($F57=3,$F57=4),VLOOKUP($G$8,Congés_auto!$R$5:$BR$5,2+M$3),IF(OR($F57=5,$F57=6),VLOOKUP($G$8,Congés_auto!$R$5:$BR$5,2+M$2),IF(OR($F57=7,$F57=8),VLOOKUP($G$8,Congés_auto!$R$5:$BR$5,2+M$1),)))),IF($G57=\"Jeudi\",IF(OR($F57=1,$F57=2),VLOOKUP($G$8,Congés_auto!$R$7:$BR$7,2+M$4),IF(OR($F57=3,$F57=4),VLOOKUP($G$8,Congés_auto!$R$7:$BR$7,2+M$3),IF(OR($F57=5,$F57=6),VLOOKUP($G$8,Congés_auto!$R$7:$BR$7,2+M$2),IF(OR($F57=7,$F57=8),VLOOKUP($G$8,Congés_auto!$R$7:$BR$7,2+M$1),)))),0))","v":"2019-02-26"},{"$f":"IF($G57=\"Mardi\",IF(OR($F57=1,$F57=2),VLOOKUP($G$8,Congés_auto!$R$5:$BR$5,2+N$4),IF(OR($F57=3,$F57=4),VLOOKUP($G$8,Congés_auto!$R$5:$BR$5,2+N$3),IF(OR($F57=5,$F57=6),VLOOKUP($G$8,Congés_auto!$R$5:$BR$5,2+N$2),IF(OR($F57=7,$F57=8),VLOOKUP($G$8,Congés_auto!$R$5:$BR$5,2+N$1),)))),IF($G57=\"Jeudi\",IF(OR($F57=1,$F57=2),VLOOKUP($G$8,Congés_auto!$R$7:$BR$7,2+N$4),IF(OR($F57=3,$F57=4),VLOOKUP($G$8,Congés_auto!$R$7:$BR$7,2+N$3),IF(OR($F57=5,$F57=6),VLOOKUP($G$8,Congés_auto!$R$7:$BR$7,2+N$2),IF(OR($F57=7,$F57=8),VLOOKUP($G$8,Congés_auto!$R$7:$BR$7,2+N$1),)))),0))","v":"2019-04-09"},{"$f":"IF($G57=\"Mardi\",IF(OR($F57=1,$F57=2),VLOOKUP($G$8,Congés_auto!$R$5:$BR$5,2+O$4),IF(OR($F57=3,$F57=4),VLOOKUP($G$8,Congés_auto!$R$5:$BR$5,2+O$3),IF(OR($F57=5,$F57=6),VLOOKUP($G$8,Congés_auto!$R$5:$BR$5,2+O$2),IF(OR($F57=7,$F57=8),VLOOKUP($G$8,Congés_auto!$R$5:$BR$5,2+O$1),)))),IF($G57=\"Jeudi\",IF(OR($F57=1,$F57=2),VLOOKUP($G$8,Congés_auto!$R$7:$BR$7,2+O$4),IF(OR($F57=3,$F57=4),VLOOKUP($G$8,Congés_auto!$R$7:$BR$7,2+O$3),IF(OR($F57=5,$F57=6),VLOOKUP($G$8,Congés_auto!$R$7:$BR$7,2+O$2),IF(OR($F57=7,$F57=8),VLOOKUP($G$8,Congés_auto!$R$7:$BR$7,2+O$1),)))),0))","v":"2019-05-21"},{"$f":"IF($G57=\"Mardi\",IF(OR($F57=1,$F57=2),VLOOKUP($G$8,Congés_auto!$R$5:$BR$5,2+P$4),IF(OR($F57=3,$F57=4),VLOOKUP($G$8,Congés_auto!$R$5:$BR$5,2+P$3),IF(OR($F57=5,$F57=6),VLOOKUP($G$8,Congés_auto!$R$5:$BR$5,2+P$2),IF(OR($F57=7,$F57=8),VLOOKUP($G$8,Congés_auto!$R$5:$BR$5,2+P$1),)))),IF($G57=\"Jeudi\",IF(OR($F57=1,$F57=2),VLOOKUP($G$8,Congés_auto!$R$7:$BR$7,2+P$4),IF(OR($F57=3,$F57=4),VLOOKUP($G$8,Congés_auto!$R$7:$BR$7,2+P$3),IF(OR($F57=5,$F57=6),VLOOKUP($G$8,Congés_auto!$R$7:$BR$7,2+P$2),IF(OR($F57=7,$F57=8),VLOOKUP($G$8,Congés_auto!$R$7:$BR$7,2+P$1),)))),0))","v":"2019-06-18"},{"$f":"IF($G57=\"Mardi\",IF(OR($F57=1,$F57=2),VLOOKUP($G$8,Congés_auto!$R$5:$BR$5,2+Q$4),IF(OR($F57=3,$F57=4),VLOOKUP($G$8,Congés_auto!$R$5:$BR$5,2+Q$3),IF(OR($F57=5,$F57=6),VLOOKUP($G$8,Congés_auto!$R$5:$BR$5,2+Q$2),IF(OR($F57=7,$F57=8),VLOOKUP($G$8,Congés_auto!$R$5:$BR$5,2+Q$1),)))),IF($G57=\"Jeudi\",IF(OR($F57=1,$F57=2),VLOOKUP($G$8,Congés_auto!$R$7:$BR$7,2+Q$4),IF(OR($F57=3,$F57=4),VLOOKUP($G$8,Congés_auto!$R$7:$BR$7,2+Q$3),IF(OR($F57=5,$F57=6),VLOOKUP($G$8,Congés_auto!$R$7:$BR$7,2+Q$2),IF(OR($F57=7,$F57=8),VLOOKUP($G$8,Congés_auto!$R$7:$BR$7,2+Q$1),)))),0))","v":""}]
[{"$nulls":3},"2000-06-21",302,8,"Mardi",{"$f":"IF(E58=E57,IF(F58=F57,H57+1,E58&F58&0),E58&F58&0)","v":"30280"},{"$f":"IF($G58=\"Mardi\",IF(OR($F58=1,$F58=2),VLOOKUP($G$8,Congés_auto!$R$5:$BR$5,2+I$4),IF(OR($F58=3,$F58=4),VLOOKUP($G$8,Congés_auto!$R$5:$BR$5,2+I$3),IF(OR($F58=5,$F58=6),VLOOKUP($G$8,Congés_auto!$R$5:$BR$5,2+I$2),IF(OR($F58=7,$F58=8),VLOOKUP($G$8,Congés_auto!$R$5:$BR$5,2+I$1),)))),IF($G58=\"Jeudi\",IF(OR($F58=1,$F58=2),VLOOKUP($G$8,Congés_auto!$R$7:$BR$7,2+I$4),IF(OR($F58=3,$F58=4),VLOOKUP($G$8,Congés_auto!$R$7:$BR$7,2+I$3),IF(OR($F58=5,$F58=6),VLOOKUP($G$8,Congés_auto!$R$7:$BR$7,2+I$2),IF(OR($F58=7,$F58=8),VLOOKUP($G$8,Congés_auto!$R$7:$BR$7,2+I$1),)))),0))","v":"2018-09-18"},{"$f":"IF($G58=\"Mardi\",IF(OR($F58=1,$F58=2),VLOOKUP($G$8,Congés_auto!$R$5:$BR$5,2+J$4),IF(OR($F58=3,$F58=4),VLOOKUP($G$8,Congés_auto!$R$5:$BR$5,2+J$3),IF(OR($F58=5,$F58=6),VLOOKUP($G$8,Congés_auto!$R$5:$BR$5,2+J$2),IF(OR($F58=7,$F58=8),VLOOKUP($G$8,Congés_auto!$R$5:$BR$5,2+J$1),)))),IF($G58=\"Jeudi\",IF(OR($F58=1,$F58=2),VLOOKUP($G$8,Congés_auto!$R$7:$BR$7,2+J$4),IF(OR($F58=3,$F58=4),VLOOKUP($G$8,Congés_auto!$R$7:$BR$7,2+J$3),IF(OR($F58=5,$F58=6),VLOOKUP($G$8,Congés_auto!$R$7:$BR$7,2+J$2),IF(OR($F58=7,$F58=8),VLOOKUP($G$8,Congés_auto!$R$7:$BR$7,2+J$1),)))),0))","v":"2018-10-30"},{"$f":"IF($G58=\"Mardi\",IF(OR($F58=1,$F58=2),VLOOKUP($G$8,Congés_auto!$R$5:$BR$5,2+K$4),IF(OR($F58=3,$F58=4),VLOOKUP($G$8,Congés_auto!$R$5:$BR$5,2+K$3),IF(OR($F58=5,$F58=6),VLOOKUP($G$8,Congés_auto!$R$5:$BR$5,2+K$2),IF(OR($F58=7,$F58=8),VLOOKUP($G$8,Congés_auto!$R$5:$BR$5,2+K$1),)))),IF($G58=\"Jeudi\",IF(OR($F58=1,$F58=2),VLOOKUP($G$8,Congés_auto!$R$7:$BR$7,2+K$4),IF(OR($F58=3,$F58=4),VLOOKUP($G$8,Congés_auto!$R$7:$BR$7,2+K$3),IF(OR($F58=5,$F58=6),VLOOKUP($G$8,Congés_auto!$R$7:$BR$7,2+K$2),IF(OR($F58=7,$F58=8),VLOOKUP($G$8,Congés_auto!$R$7:$BR$7,2+K$1),)))),0))","v":"2018-11-27"},{"$f":"IF($G58=\"Mardi\",IF(OR($F58=1,$F58=2),VLOOKUP($G$8,Congés_auto!$R$5:$BR$5,2+L$4),IF(OR($F58=3,$F58=4),VLOOKUP($G$8,Congés_auto!$R$5:$BR$5,2+L$3),IF(OR($F58=5,$F58=6),VLOOKUP($G$8,Congés_auto!$R$5:$BR$5,2+L$2),IF(OR($F58=7,$F58=8),VLOOKUP($G$8,Congés_auto!$R$5:$BR$5,2+L$1),)))),IF($G58=\"Jeudi\",IF(OR($F58=1,$F58=2),VLOOKUP($G$8,Congés_auto!$R$7:$BR$7,2+L$4),IF(OR($F58=3,$F58=4),VLOOKUP($G$8,Congés_auto!$R$7:$BR$7,2+L$3),IF(OR($F58=5,$F58=6),VLOOKUP($G$8,Congés_auto!$R$7:$BR$7,2+L$2),IF(OR($F58=7,$F58=8),VLOOKUP($G$8,Congés_auto!$R$7:$BR$7,2+L$1),)))),0))","v":"2019-01-29"},{"$f":"IF($G58=\"Mardi\",IF(OR($F58=1,$F58=2),VLOOKUP($G$8,Congés_auto!$R$5:$BR$5,2+M$4),IF(OR($F58=3,$F58=4),VLOOKUP($G$8,Congés_auto!$R$5:$BR$5,2+M$3),IF(OR($F58=5,$F58=6),VLOOKUP($G$8,Congés_auto!$R$5:$BR$5,2+M$2),IF(OR($F58=7,$F58=8),VLOOKUP($G$8,Congés_auto!$R$5:$BR$5,2+M$1),)))),IF($G58=\"Jeudi\",IF(OR($F58=1,$F58=2),VLOOKUP($G$8,Congés_auto!$R$7:$BR$7,2+M$4),IF(OR($F58=3,$F58=4),VLOOKUP($G$8,Congés_auto!$R$7:$BR$7,2+M$3),IF(OR($F58=5,$F58=6),VLOOKUP($G$8,Congés_auto!$R$7:$BR$7,2+M$2),IF(OR($F58=7,$F58=8),VLOOKUP($G$8,Congés_auto!$R$7:$BR$7,2+M$1),)))),0))","v":"2019-02-26"},{"$f":"IF($G58=\"Mardi\",IF(OR($F58=1,$F58=2),VLOOKUP($G$8,Congés_auto!$R$5:$BR$5,2+N$4),IF(OR($F58=3,$F58=4),VLOOKUP($G$8,Congés_auto!$R$5:$BR$5,2+N$3),IF(OR($F58=5,$F58=6),VLOOKUP($G$8,Congés_auto!$R$5:$BR$5,2+N$2),IF(OR($F58=7,$F58=8),VLOOKUP($G$8,Congés_auto!$R$5:$BR$5,2+N$1),)))),IF($G58=\"Jeudi\",IF(OR($F58=1,$F58=2),VLOOKUP($G$8,Congés_auto!$R$7:$BR$7,2+N$4),IF(OR($F58=3,$F58=4),VLOOKUP($G$8,Congés_auto!$R$7:$BR$7,2+N$3),IF(OR($F58=5,$F58=6),VLOOKUP($G$8,Congés_auto!$R$7:$BR$7,2+N$2),IF(OR($F58=7,$F58=8),VLOOKUP($G$8,Congés_auto!$R$7:$BR$7,2+N$1),)))),0))","v":"2019-04-09"},{"$f":"IF($G58=\"Mardi\",IF(OR($F58=1,$F58=2),VLOOKUP($G$8,Congés_auto!$R$5:$BR$5,2+O$4),IF(OR($F58=3,$F58=4),VLOOKUP($G$8,Congés_auto!$R$5:$BR$5,2+O$3),IF(OR($F58=5,$F58=6),VLOOKUP($G$8,Congés_auto!$R$5:$BR$5,2+O$2),IF(OR($F58=7,$F58=8),VLOOKUP($G$8,Congés_auto!$R$5:$BR$5,2+O$1),)))),IF($G58=\"Jeudi\",IF(OR($F58=1,$F58=2),VLOOKUP($G$8,Congés_auto!$R$7:$BR$7,2+O$4),IF(OR($F58=3,$F58=4),VLOOKUP($G$8,Congés_auto!$R$7:$BR$7,2+O$3),IF(OR($F58=5,$F58=6),VLOOKUP($G$8,Congés_auto!$R$7:$BR$7,2+O$2),IF(OR($F58=7,$F58=8),VLOOKUP($G$8,Congés_auto!$R$7:$BR$7,2+O$1),)))),0))","v":"2019-05-21"},{"$f":"IF($G58=\"Mardi\",IF(OR($F58=1,$F58=2),VLOOKUP($G$8,Congés_auto!$R$5:$BR$5,2+P$4),IF(OR($F58=3,$F58=4),VLOOKUP($G$8,Congés_auto!$R$5:$BR$5,2+P$3),IF(OR($F58=5,$F58=6),VLOOKUP($G$8,Congés_auto!$R$5:$BR$5,2+P$2),IF(OR($F58=7,$F58=8),VLOOKUP($G$8,Congés_auto!$R$5:$BR$5,2+P$1),)))),IF($G58=\"Jeudi\",IF(OR($F58=1,$F58=2),VLOOKUP($G$8,Congés_auto!$R$7:$BR$7,2+P$4),IF(OR($F58=3,$F58=4),VLOOKUP($G$8,Congés_auto!$R$7:$BR$7,2+P$3),IF(OR($F58=5,$F58=6),VLOOKUP($G$8,Congés_auto!$R$7:$BR$7,2+P$2),IF(OR($F58=7,$F58=8),VLOOKUP($G$8,Congés_auto!$R$7:$BR$7,2+P$1),)))),0))","v":"2019-06-18"},{"$f":"IF($G58=\"Mardi\",IF(OR($F58=1,$F58=2),VLOOKUP($G$8,Congés_auto!$R$5:$BR$5,2+Q$4),IF(OR($F58=3,$F58=4),VLOOKUP($G$8,Congés_auto!$R$5:$BR$5,2+Q$3),IF(OR($F58=5,$F58=6),VLOOKUP($G$8,Congés_auto!$R$5:$BR$5,2+Q$2),IF(OR($F58=7,$F58=8),VLOOKUP($G$8,Congés_auto!$R$5:$BR$5,2+Q$1),)))),IF($G58=\"Jeudi\",IF(OR($F58=1,$F58=2),VLOOKUP($G$8,Congés_auto!$R$7:$BR$7,2+Q$4),IF(OR($F58=3,$F58=4),VLOOKUP($G$8,Congés_auto!$R$7:$BR$7,2+Q$3),IF(OR($F58=5,$F58=6),VLOOKUP($G$8,Congés_auto!$R$7:$BR$7,2+Q$2),IF(OR($F58=7,$F58=8),VLOOKUP($G$8,Congés_auto!$R$7:$BR$7,2+Q$1),)))),0))","v":""}]
[null,null,"Marie","2001-10-09",302,8,"Mardi",30281,{"$f":"IF($G59=\"Mardi\",IF(OR($F59=1,$F59=2),VLOOKUP($G$8,Congés_auto!$R$5:$BR$5,2+I$4),IF(OR($F59=3,$F59=4),VLOOKUP($G$8,Congés_auto!$R$5:$BR$5,2+I$3),IF(OR($F59=5,$F59=6),VLOOKUP($G$8,Congés_auto!$R$5:$BR$5,2+I$2),IF(OR($F59=7,$F59=8),VLOOKUP($G$8,Congés_auto!$R$5:$BR$5,2+I$1),)))),IF($G59=\"Jeudi\",IF(OR($F59=1,$F59=2),VLOOKUP($G$8,Congés_auto!$R$7:$BR$7,2+I$4),IF(OR($F59=3,$F59=4),VLOOKUP($G$8,Congés_auto!$R$7:$BR$7,2+I$3),IF(OR($F59=5,$F59=6),VLOOKUP($G$8,Congés_auto!$R$7:$BR$7,2+I$2),IF(OR($F59=7,$F59=8),VLOOKUP($G$8,Congés_auto!$R$7:$BR$7,2+I$1),)))),0))","v":"2018-09-18"},{"$f":"IF($G59=\"Mardi\",IF(OR($F59=1,$F59=2),VLOOKUP($G$8,Congés_auto!$R$5:$BR$5,2+J$4),IF(OR($F59=3,$F59=4),VLOOKUP($G$8,Congés_auto!$R$5:$BR$5,2+J$3),IF(OR($F59=5,$F59=6),VLOOKUP($G$8,Congés_auto!$R$5:$BR$5,2+J$2),IF(OR($F59=7,$F59=8),VLOOKUP($G$8,Congés_auto!$R$5:$BR$5,2+J$1),)))),IF($G59=\"Jeudi\",IF(OR($F59=1,$F59=2),VLOOKUP($G$8,Congés_auto!$R$7:$BR$7,2+J$4),IF(OR($F59=3,$F59=4),VLOOKUP($G$8,Congés_auto!$R$7:$BR$7,2+J$3),IF(OR($F59=5,$F59=6),VLOOKUP($G$8,Congés_auto!$R$7:$BR$7,2+J$2),IF(OR($F59=7,$F59=8),VLOOKUP($G$8,Congés_auto!$R$7:$BR$7,2+J$1),)))),0))","v":"2018-10-30"},{"$f":"IF($G59=\"Mardi\",IF(OR($F59=1,$F59=2),VLOOKUP($G$8,Congés_auto!$R$5:$BR$5,2+K$4),IF(OR($F59=3,$F59=4),VLOOKUP($G$8,Congés_auto!$R$5:$BR$5,2+K$3),IF(OR($F59=5,$F59=6),VLOOKUP($G$8,Congés_auto!$R$5:$BR$5,2+K$2),IF(OR($F59=7,$F59=8),VLOOKUP($G$8,Congés_auto!$R$5:$BR$5,2+K$1),)))),IF($G59=\"Jeudi\",IF(OR($F59=1,$F59=2),VLOOKUP($G$8,Congés_auto!$R$7:$BR$7,2+K$4),IF(OR($F59=3,$F59=4),VLOOKUP($G$8,Congés_auto!$R$7:$BR$7,2+K$3),IF(OR($F59=5,$F59=6),VLOOKUP($G$8,Congés_auto!$R$7:$BR$7,2+K$2),IF(OR($F59=7,$F59=8),VLOOKUP($G$8,Congés_auto!$R$7:$BR$7,2+K$1),)))),0))","v":"2018-11-27"},{"$f":"IF($G59=\"Mardi\",IF(OR($F59=1,$F59=2),VLOOKUP($G$8,Congés_auto!$R$5:$BR$5,2+L$4),IF(OR($F59=3,$F59=4),VLOOKUP($G$8,Congés_auto!$R$5:$BR$5,2+L$3),IF(OR($F59=5,$F59=6),VLOOKUP($G$8,Congés_auto!$R$5:$BR$5,2+L$2),IF(OR($F59=7,$F59=8),VLOOKUP($G$8,Congés_auto!$R$5:$BR$5,2+L$1),)))),IF($G59=\"Jeudi\",IF(OR($F59=1,$F59=2),VLOOKUP($G$8,Congés_auto!$R$7:$BR$7,2+L$4),IF(OR($F59=3,$F59=4),VLOOKUP($G$8,Congés_auto!$R$7:$BR$7,2+L$3),IF(OR($F59=5,$F59=6),VLOOKUP($G$8,Congés_auto!$R$7:$BR$7,2+L$2),IF(OR($F59=7,$F59=8),VLOOKUP($G$8,Congés_auto!$R$7:$BR$7,2+L$1),)))),0))","v":"2019-01-29"},{"$f":"IF($G59=\"Mardi\",IF(OR($F59=1,$F59=2),VLOOKUP($G$8,Congés_auto!$R$5:$BR$5,2+M$4),IF(OR($F59=3,$F59=4),VLOOKUP($G$8,Congés_auto!$R$5:$BR$5,2+M$3),IF(OR($F59=5,$F59=6),VLOOKUP($G$8,Congés_auto!$R$5:$BR$5,2+M$2),IF(OR($F59=7,$F59=8),VLOOKUP($G$8,Congés_auto!$R$5:$BR$5,2+M$1),)))),IF($G59=\"Jeudi\",IF(OR($F59=1,$F59=2),VLOOKUP($G$8,Congés_auto!$R$7:$BR$7,2+M$4),IF(OR($F59=3,$F59=4),VLOOKUP($G$8,Congés_auto!$R$7:$BR$7,2+M$3),IF(OR($F59=5,$F59=6),VLOOKUP($G$8,Congés_auto!$R$7:$BR$7,2+M$2),IF(OR($F59=7,$F59=8),VLOOKUP($G$8,Congés_auto!$R$7:$BR$7,2+M$1),)))),0))","v":"2019-02-26"},{"$f":"IF($G59=\"Mardi\",IF(OR($F59=1,$F59=2),VLOOKUP($G$8,Congés_auto!$R$5:$BR$5,2+N$4),IF(OR($F59=3,$F59=4),VLOOKUP($G$8,Congés_auto!$R$5:$BR$5,2+N$3),IF(OR($F59=5,$F59=6),VLOOKUP($G$8,Congés_auto!$R$5:$BR$5,2+N$2),IF(OR($F59=7,$F59=8),VLOOKUP($G$8,Congés_auto!$R$5:$BR$5,2+N$1),)))),IF($G59=\"Jeudi\",IF(OR($F59=1,$F59=2),VLOOKUP($G$8,Congés_auto!$R$7:$BR$7,2+N$4),IF(OR($F59=3,$F59=4),VLOOKUP($G$8,Congés_auto!$R$7:$BR$7,2+N$3),IF(OR($F59=5,$F59=6),VLOOKUP($G$8,Congés_auto!$R$7:$BR$7,2+N$2),IF(OR($F59=7,$F59=8),VLOOKUP($G$8,Congés_auto!$R$7:$BR$7,2+N$1),)))),0))","v":"2019-04-09"},{"$f":"IF($G59=\"Mardi\",IF(OR($F59=1,$F59=2),VLOOKUP($G$8,Congés_auto!$R$5:$BR$5,2+O$4),IF(OR($F59=3,$F59=4),VLOOKUP($G$8,Congés_auto!$R$5:$BR$5,2+O$3),IF(OR($F59=5,$F59=6),VLOOKUP($G$8,Congés_auto!$R$5:$BR$5,2+O$2),IF(OR($F59=7,$F59=8),VLOOKUP($G$8,Congés_auto!$R$5:$BR$5,2+O$1),)))),IF($G59=\"Jeudi\",IF(OR($F59=1,$F59=2),VLOOKUP($G$8,Congés_auto!$R$7:$BR$7,2+O$4),IF(OR($F59=3,$F59=4),VLOOKUP($G$8,Congés_auto!$R$7:$BR$7,2+O$3),IF(OR($F59=5,$F59=6),VLOOKUP($G$8,Congés_auto!$R$7:$BR$7,2+O$2),IF(OR($F59=7,$F59=8),VLOOKUP($G$8,Congés_auto!$R$7:$BR$7,2+O$1),)))),0))","v":"2019-05-21"},{"$f":"IF($G59=\"Mardi\",IF(OR($F59=1,$F59=2),VLOOKUP($G$8,Congés_auto!$R$5:$BR$5,2+P$4),IF(OR($F59=3,$F59=4),VLOOKUP($G$8,Congés_auto!$R$5:$BR$5,2+P$3),IF(OR($F59=5,$F59=6),VLOOKUP($G$8,Congés_auto!$R$5:$BR$5,2+P$2),IF(OR($F59=7,$F59=8),VLOOKUP($G$8,Congés_auto!$R$5:$BR$5,2+P$1),)))),IF($G59=\"Jeudi\",IF(OR($F59=1,$F59=2),VLOOKUP($G$8,Congés_auto!$R$7:$BR$7,2+P$4),IF(OR($F59=3,$F59=4),VLOOKUP($G$8,Congés_auto!$R$7:$BR$7,2+P$3),IF(OR($F59=5,$F59=6),VLOOKUP($G$8,Congés_auto!$R$7:$BR$7,2+P$2),IF(OR($F59=7,$F59=8),VLOOKUP($G$8,Congés_auto!$R$7:$BR$7,2+P$1),)))),0))","v":"2019-06-18"},{"$f":"IF($G59=\"Mardi\",IF(OR($F59=1,$F59=2),VLOOKUP($G$8,Congés_auto!$R$5:$BR$5,2+Q$4),IF(OR($F59=3,$F59=4),VLOOKUP($G$8,Congés_auto!$R$5:$BR$5,2+Q$3),IF(OR($F59=5,$F59=6),VLOOKUP($G$8,Congés_auto!$R$5:$BR$5,2+Q$2),IF(OR($F59=7,$F59=8),VLOOKUP($G$8,Congés_auto!$R$5:$BR$5,2+Q$1),)))),IF($G59=\"Jeudi\",IF(OR($F59=1,$F59=2),VLOOKUP($G$8,Congés_auto!$R$7:$BR$7,2+Q$4),IF(OR($F59=3,$F59=4),VLOOKUP($G$8,Congés_auto!$R$7:$BR$7,2+Q$3),IF(OR($F59=5,$F59=6),VLOOKUP($G$8,Congés_auto!$R$7:$BR$7,2+Q$2),IF(OR($F59=7,$F59=8),VLOOKUP($G$8,Congés_auto!$R$7:$BR$7,2+Q$1),)))),0))","v":""}]
[{"$nulls":3},"2001-08-30",302,8,"Mardi",30282,{"$f":"IF($G60=\"Mardi\",IF(OR($F60=1,$F60=2),VLOOKUP($G$8,Congés_auto!$R$5:$BR$5,2+I$4),IF(OR($F60=3,$F60=4),VLOOKUP($G$8,Congés_auto!$R$5:$BR$5,2+I$3),IF(OR($F60=5,$F60=6),VLOOKUP($G$8,Congés_auto!$R$5:$BR$5,2+I$2),IF(OR($F60=7,$F60=8),VLOOKUP($G$8,Congés_auto!$R$5:$BR$5,2+I$1),)))),IF($G60=\"Jeudi\",IF(OR($F60=1,$F60=2),VLOOKUP($G$8,Congés_auto!$R$7:$BR$7,2+I$4),IF(OR($F60=3,$F60=4),VLOOKUP($G$8,Congés_auto!$R$7:$BR$7,2+I$3),IF(OR($F60=5,$F60=6),VLOOKUP($G$8,Congés_auto!$R$7:$BR$7,2+I$2),IF(OR($F60=7,$F60=8),VLOOKUP($G$8,Congés_auto!$R$7:$BR$7,2+I$1),)))),0))","v":"2018-09-18"},{"$f":"IF($G60=\"Mardi\",IF(OR($F60=1,$F60=2),VLOOKUP($G$8,Congés_auto!$R$5:$BR$5,2+J$4),IF(OR($F60=3,$F60=4),VLOOKUP($G$8,Congés_auto!$R$5:$BR$5,2+J$3),IF(OR($F60=5,$F60=6),VLOOKUP($G$8,Congés_auto!$R$5:$BR$5,2+J$2),IF(OR($F60=7,$F60=8),VLOOKUP($G$8,Congés_auto!$R$5:$BR$5,2+J$1),)))),IF($G60=\"Jeudi\",IF(OR($F60=1,$F60=2),VLOOKUP($G$8,Congés_auto!$R$7:$BR$7,2+J$4),IF(OR($F60=3,$F60=4),VLOOKUP($G$8,Congés_auto!$R$7:$BR$7,2+J$3),IF(OR($F60=5,$F60=6),VLOOKUP($G$8,Congés_auto!$R$7:$BR$7,2+J$2),IF(OR($F60=7,$F60=8),VLOOKUP($G$8,Congés_auto!$R$7:$BR$7,2+J$1),)))),0))","v":"2018-10-30"},{"$f":"IF($G60=\"Mardi\",IF(OR($F60=1,$F60=2),VLOOKUP($G$8,Congés_auto!$R$5:$BR$5,2+K$4),IF(OR($F60=3,$F60=4),VLOOKUP($G$8,Congés_auto!$R$5:$BR$5,2+K$3),IF(OR($F60=5,$F60=6),VLOOKUP($G$8,Congés_auto!$R$5:$BR$5,2+K$2),IF(OR($F60=7,$F60=8),VLOOKUP($G$8,Congés_auto!$R$5:$BR$5,2+K$1),)))),IF($G60=\"Jeudi\",IF(OR($F60=1,$F60=2),VLOOKUP($G$8,Congés_auto!$R$7:$BR$7,2+K$4),IF(OR($F60=3,$F60=4),VLOOKUP($G$8,Congés_auto!$R$7:$BR$7,2+K$3),IF(OR($F60=5,$F60=6),VLOOKUP($G$8,Congés_auto!$R$7:$BR$7,2+K$2),IF(OR($F60=7,$F60=8),VLOOKUP($G$8,Congés_auto!$R$7:$BR$7,2+K$1),)))),0))","v":"2018-11-27"},{"$f":"IF($G60=\"Mardi\",IF(OR($F60=1,$F60=2),VLOOKUP($G$8,Congés_auto!$R$5:$BR$5,2+L$4),IF(OR($F60=3,$F60=4),VLOOKUP($G$8,Congés_auto!$R$5:$BR$5,2+L$3),IF(OR($F60=5,$F60=6),VLOOKUP($G$8,Congés_auto!$R$5:$BR$5,2+L$2),IF(OR($F60=7,$F60=8),VLOOKUP($G$8,Congés_auto!$R$5:$BR$5,2+L$1),)))),IF($G60=\"Jeudi\",IF(OR($F60=1,$F60=2),VLOOKUP($G$8,Congés_auto!$R$7:$BR$7,2+L$4),IF(OR($F60=3,$F60=4),VLOOKUP($G$8,Congés_auto!$R$7:$BR$7,2+L$3),IF(OR($F60=5,$F60=6),VLOOKUP($G$8,Congés_auto!$R$7:$BR$7,2+L$2),IF(OR($F60=7,$F60=8),VLOOKUP($G$8,Congés_auto!$R$7:$BR$7,2+L$1),)))),0))","v":"2019-01-29"},{"$f":"IF($G60=\"Mardi\",IF(OR($F60=1,$F60=2),VLOOKUP($G$8,Congés_auto!$R$5:$BR$5,2+M$4),IF(OR($F60=3,$F60=4),VLOOKUP($G$8,Congés_auto!$R$5:$BR$5,2+M$3),IF(OR($F60=5,$F60=6),VLOOKUP($G$8,Congés_auto!$R$5:$BR$5,2+M$2),IF(OR($F60=7,$F60=8),VLOOKUP($G$8,Congés_auto!$R$5:$BR$5,2+M$1),)))),IF($G60=\"Jeudi\",IF(OR($F60=1,$F60=2),VLOOKUP($G$8,Congés_auto!$R$7:$BR$7,2+M$4),IF(OR($F60=3,$F60=4),VLOOKUP($G$8,Congés_auto!$R$7:$BR$7,2+M$3),IF(OR($F60=5,$F60=6),VLOOKUP($G$8,Congés_auto!$R$7:$BR$7,2+M$2),IF(OR($F60=7,$F60=8),VLOOKUP($G$8,Congés_auto!$R$7:$BR$7,2+M$1),)))),0))","v":"2019-02-26"},{"$f":"IF($G60=\"Mardi\",IF(OR($F60=1,$F60=2),VLOOKUP($G$8,Congés_auto!$R$5:$BR$5,2+N$4),IF(OR($F60=3,$F60=4),VLOOKUP($G$8,Congés_auto!$R$5:$BR$5,2+N$3),IF(OR($F60=5,$F60=6),VLOOKUP($G$8,Congés_auto!$R$5:$BR$5,2+N$2),IF(OR($F60=7,$F60=8),VLOOKUP($G$8,Congés_auto!$R$5:$BR$5,2+N$1),)))),IF($G60=\"Jeudi\",IF(OR($F60=1,$F60=2),VLOOKUP($G$8,Congés_auto!$R$7:$BR$7,2+N$4),IF(OR($F60=3,$F60=4),VLOOKUP($G$8,Congés_auto!$R$7:$BR$7,2+N$3),IF(OR($F60=5,$F60=6),VLOOKUP($G$8,Congés_auto!$R$7:$BR$7,2+N$2),IF(OR($F60=7,$F60=8),VLOOKUP($G$8,Congés_auto!$R$7:$BR$7,2+N$1),)))),0))","v":"2019-04-09"},{"$f":"IF($G60=\"Mardi\",IF(OR($F60=1,$F60=2),VLOOKUP($G$8,Congés_auto!$R$5:$BR$5,2+O$4),IF(OR($F60=3,$F60=4),VLOOKUP($G$8,Congés_auto!$R$5:$BR$5,2+O$3),IF(OR($F60=5,$F60=6),VLOOKUP($G$8,Congés_auto!$R$5:$BR$5,2+O$2),IF(OR($F60=7,$F60=8),VLOOKUP($G$8,Congés_auto!$R$5:$BR$5,2+O$1),)))),IF($G60=\"Jeudi\",IF(OR($F60=1,$F60=2),VLOOKUP($G$8,Congés_auto!$R$7:$BR$7,2+O$4),IF(OR($F60=3,$F60=4),VLOOKUP($G$8,Congés_auto!$R$7:$BR$7,2+O$3),IF(OR($F60=5,$F60=6),VLOOKUP($G$8,Congés_auto!$R$7:$BR$7,2+O$2),IF(OR($F60=7,$F60=8),VLOOKUP($G$8,Congés_auto!$R$7:$BR$7,2+O$1),)))),0))","v":"2019-05-21"},{"$f":"IF($G60=\"Mardi\",IF(OR($F60=1,$F60=2),VLOOKUP($G$8,Congés_auto!$R$5:$BR$5,2+P$4),IF(OR($F60=3,$F60=4),VLOOKUP($G$8,Congés_auto!$R$5:$BR$5,2+P$3),IF(OR($F60=5,$F60=6),VLOOKUP($G$8,Congés_auto!$R$5:$BR$5,2+P$2),IF(OR($F60=7,$F60=8),VLOOKUP($G$8,Congés_auto!$R$5:$BR$5,2+P$1),)))),IF($G60=\"Jeudi\",IF(OR($F60=1,$F60=2),VLOOKUP($G$8,Congés_auto!$R$7:$BR$7,2+P$4),IF(OR($F60=3,$F60=4),VLOOKUP($G$8,Congés_auto!$R$7:$BR$7,2+P$3),IF(OR($F60=5,$F60=6),VLOOKUP($G$8,Congés_auto!$R$7:$BR$7,2+P$2),IF(OR($F60=7,$F60=8),VLOOKUP($G$8,Congés_auto!$R$7:$BR$7,2+P$1),)))),0))","v":"2019-06-18"},{"$f":"IF($G60=\"Mardi\",IF(OR($F60=1,$F60=2),VLOOKUP($G$8,Congés_auto!$R$5:$BR$5,2+Q$4),IF(OR($F60=3,$F60=4),VLOOKUP($G$8,Congés_auto!$R$5:$BR$5,2+Q$3),IF(OR($F60=5,$F60=6),VLOOKUP($G$8,Congés_auto!$R$5:$BR$5,2+Q$2),IF(OR($F60=7,$F60=8),VLOOKUP($G$8,Congés_auto!$R$5:$BR$5,2+Q$1),)))),IF($G60=\"Jeudi\",IF(OR($F60=1,$F60=2),VLOOKUP($G$8,Congés_auto!$R$7:$BR$7,2+Q$4),IF(OR($F60=3,$F60=4),VLOOKUP($G$8,Congés_auto!$R$7:$BR$7,2+Q$3),IF(OR($F60=5,$F60=6),VLOOKUP($G$8,Congés_auto!$R$7:$BR$7,2+Q$2),IF(OR($F60=7,$F60=8),VLOOKUP($G$8,Congés_auto!$R$7:$BR$7,2+Q$1),)))),0))","v":""}]
[null,null,"Lucile","2001-10-09",305,1,"Jeudi","30510",{"$f":"IF($G61=\"Mardi\",IF(OR($F61=1,$F61=2),VLOOKUP($G$8,Congés_auto!$R$5:$BR$5,2+I$4),IF(OR($F61=3,$F61=4),VLOOKUP($G$8,Congés_auto!$R$5:$BR$5,2+I$3),IF(OR($F61=5,$F61=6),VLOOKUP($G$8,Congés_auto!$R$5:$BR$5,2+I$2),IF(OR($F61=7,$F61=8),VLOOKUP($G$8,Congés_auto!$R$5:$BR$5,2+I$1),)))),IF($G61=\"Jeudi\",IF(OR($F61=1,$F61=2),VLOOKUP($G$8,Congés_auto!$R$7:$BR$7,2+I$4),IF(OR($F61=3,$F61=4),VLOOKUP($G$8,Congés_auto!$R$7:$BR$7,2+I$3),IF(OR($F61=5,$F61=6),VLOOKUP($G$8,Congés_auto!$R$7:$BR$7,2+I$2),IF(OR($F61=7,$F61=8),VLOOKUP($G$8,Congés_auto!$R$7:$BR$7,2+I$1),)))),0))","v":"2018-08-30"},{"$f":"IF($G61=\"Mardi\",IF(OR($F61=1,$F61=2),VLOOKUP($G$8,Congés_auto!$R$5:$BR$5,2+J$4),IF(OR($F61=3,$F61=4),VLOOKUP($G$8,Congés_auto!$R$5:$BR$5,2+J$3),IF(OR($F61=5,$F61=6),VLOOKUP($G$8,Congés_auto!$R$5:$BR$5,2+J$2),IF(OR($F61=7,$F61=8),VLOOKUP($G$8,Congés_auto!$R$5:$BR$5,2+J$1),)))),IF($G61=\"Jeudi\",IF(OR($F61=1,$F61=2),VLOOKUP($G$8,Congés_auto!$R$7:$BR$7,2+J$4),IF(OR($F61=3,$F61=4),VLOOKUP($G$8,Congés_auto!$R$7:$BR$7,2+J$3),IF(OR($F61=5,$F61=6),VLOOKUP($G$8,Congés_auto!$R$7:$BR$7,2+J$2),IF(OR($F61=7,$F61=8),VLOOKUP($G$8,Congés_auto!$R$7:$BR$7,2+J$1),)))),0))","v":"2018-09-27"},{"$f":"IF($G61=\"Mardi\",IF(OR($F61=1,$F61=2),VLOOKUP($G$8,Congés_auto!$R$5:$BR$5,2+K$4),IF(OR($F61=3,$F61=4),VLOOKUP($G$8,Congés_auto!$R$5:$BR$5,2+K$3),IF(OR($F61=5,$F61=6),VLOOKUP($G$8,Congés_auto!$R$5:$BR$5,2+K$2),IF(OR($F61=7,$F61=8),VLOOKUP($G$8,Congés_auto!$R$5:$BR$5,2+K$1),)))),IF($G61=\"Jeudi\",IF(OR($F61=1,$F61=2),VLOOKUP($G$8,Congés_auto!$R$7:$BR$7,2+K$4),IF(OR($F61=3,$F61=4),VLOOKUP($G$8,Congés_auto!$R$7:$BR$7,2+K$3),IF(OR($F61=5,$F61=6),VLOOKUP($G$8,Congés_auto!$R$7:$BR$7,2+K$2),IF(OR($F61=7,$F61=8),VLOOKUP($G$8,Congés_auto!$R$7:$BR$7,2+K$1),)))),0))","v":"2018-11-15"},{"$f":"IF($G61=\"Mardi\",IF(OR($F61=1,$F61=2),VLOOKUP($G$8,Congés_auto!$R$5:$BR$5,2+L$4),IF(OR($F61=3,$F61=4),VLOOKUP($G$8,Congés_auto!$R$5:$BR$5,2+L$3),IF(OR($F61=5,$F61=6),VLOOKUP($G$8,Congés_auto!$R$5:$BR$5,2+L$2),IF(OR($F61=7,$F61=8),VLOOKUP($G$8,Congés_auto!$R$5:$BR$5,2+L$1),)))),IF($G61=\"Jeudi\",IF(OR($F61=1,$F61=2),VLOOKUP($G$8,Congés_auto!$R$7:$BR$7,2+L$4),IF(OR($F61=3,$F61=4),VLOOKUP($G$8,Congés_auto!$R$7:$BR$7,2+L$3),IF(OR($F61=5,$F61=6),VLOOKUP($G$8,Congés_auto!$R$7:$BR$7,2+L$2),IF(OR($F61=7,$F61=8),VLOOKUP($G$8,Congés_auto!$R$7:$BR$7,2+L$1),)))),0))","v":"2018-12-13"},{"$f":"IF($G61=\"Mardi\",IF(OR($F61=1,$F61=2),VLOOKUP($G$8,Congés_auto!$R$5:$BR$5,2+M$4),IF(OR($F61=3,$F61=4),VLOOKUP($G$8,Congés_auto!$R$5:$BR$5,2+M$3),IF(OR($F61=5,$F61=6),VLOOKUP($G$8,Congés_auto!$R$5:$BR$5,2+M$2),IF(OR($F61=7,$F61=8),VLOOKUP($G$8,Congés_auto!$R$5:$BR$5,2+M$1),)))),IF($G61=\"Jeudi\",IF(OR($F61=1,$F61=2),VLOOKUP($G$8,Congés_auto!$R$7:$BR$7,2+M$4),IF(OR($F61=3,$F61=4),VLOOKUP($G$8,Congés_auto!$R$7:$BR$7,2+M$3),IF(OR($F61=5,$F61=6),VLOOKUP($G$8,Congés_auto!$R$7:$BR$7,2+M$2),IF(OR($F61=7,$F61=8),VLOOKUP($G$8,Congés_auto!$R$7:$BR$7,2+M$1),)))),0))","v":"2019-02-21"},{"$f":"IF($G61=\"Mardi\",IF(OR($F61=1,$F61=2),VLOOKUP($G$8,Congés_auto!$R$5:$BR$5,2+N$4),IF(OR($F61=3,$F61=4),VLOOKUP($G$8,Congés_auto!$R$5:$BR$5,2+N$3),IF(OR($F61=5,$F61=6),VLOOKUP($G$8,Congés_auto!$R$5:$BR$5,2+N$2),IF(OR($F61=7,$F61=8),VLOOKUP($G$8,Congés_auto!$R$5:$BR$5,2+N$1),)))),IF($G61=\"Jeudi\",IF(OR($F61=1,$F61=2),VLOOKUP($G$8,Congés_auto!$R$7:$BR$7,2+N$4),IF(OR($F61=3,$F61=4),VLOOKUP($G$8,Congés_auto!$R$7:$BR$7,2+N$3),IF(OR($F61=5,$F61=6),VLOOKUP($G$8,Congés_auto!$R$7:$BR$7,2+N$2),IF(OR($F61=7,$F61=8),VLOOKUP($G$8,Congés_auto!$R$7:$BR$7,2+N$1),)))),0))","v":"2019-04-04"},{"$f":"IF($G61=\"Mardi\",IF(OR($F61=1,$F61=2),VLOOKUP($G$8,Congés_auto!$R$5:$BR$5,2+O$4),IF(OR($F61=3,$F61=4),VLOOKUP($G$8,Congés_auto!$R$5:$BR$5,2+O$3),IF(OR($F61=5,$F61=6),VLOOKUP($G$8,Congés_auto!$R$5:$BR$5,2+O$2),IF(OR($F61=7,$F61=8),VLOOKUP($G$8,Congés_auto!$R$5:$BR$5,2+O$1),)))),IF($G61=\"Jeudi\",IF(OR($F61=1,$F61=2),VLOOKUP($G$8,Congés_auto!$R$7:$BR$7,2+O$4),IF(OR($F61=3,$F61=4),VLOOKUP($G$8,Congés_auto!$R$7:$BR$7,2+O$3),IF(OR($F61=5,$F61=6),VLOOKUP($G$8,Congés_auto!$R$7:$BR$7,2+O$2),IF(OR($F61=7,$F61=8),VLOOKUP($G$8,Congés_auto!$R$7:$BR$7,2+O$1),)))),0))","v":"2019-05-02"},{"$f":"IF($G61=\"Mardi\",IF(OR($F61=1,$F61=2),VLOOKUP($G$8,Congés_auto!$R$5:$BR$5,2+P$4),IF(OR($F61=3,$F61=4),VLOOKUP($G$8,Congés_auto!$R$5:$BR$5,2+P$3),IF(OR($F61=5,$F61=6),VLOOKUP($G$8,Congés_auto!$R$5:$BR$5,2+P$2),IF(OR($F61=7,$F61=8),VLOOKUP($G$8,Congés_auto!$R$5:$BR$5,2+P$1),)))),IF($G61=\"Jeudi\",IF(OR($F61=1,$F61=2),VLOOKUP($G$8,Congés_auto!$R$7:$BR$7,2+P$4),IF(OR($F61=3,$F61=4),VLOOKUP($G$8,Congés_auto!$R$7:$BR$7,2+P$3),IF(OR($F61=5,$F61=6),VLOOKUP($G$8,Congés_auto!$R$7:$BR$7,2+P$2),IF(OR($F61=7,$F61=8),VLOOKUP($G$8,Congés_auto!$R$7:$BR$7,2+P$1),)))),0))","v":"2019-06-20"},{"$f":"IF($G61=\"Mardi\",IF(OR($F61=1,$F61=2),VLOOKUP($G$8,Congés_auto!$R$5:$BR$5,2+Q$4),IF(OR($F61=3,$F61=4),VLOOKUP($G$8,Congés_auto!$R$5:$BR$5,2+Q$3),IF(OR($F61=5,$F61=6),VLOOKUP($G$8,Congés_auto!$R$5:$BR$5,2+Q$2),IF(OR($F61=7,$F61=8),VLOOKUP($G$8,Congés_auto!$R$5:$BR$5,2+Q$1),)))),IF($G61=\"Jeudi\",IF(OR($F61=1,$F61=2),VLOOKUP($G$8,Congés_auto!$R$7:$BR$7,2+Q$4),IF(OR($F61=3,$F61=4),VLOOKUP($G$8,Congés_auto!$R$7:$BR$7,2+Q$3),IF(OR($F61=5,$F61=6),VLOOKUP($G$8,Congés_auto!$R$7:$BR$7,2+Q$2),IF(OR($F61=7,$F61=8),VLOOKUP($G$8,Congés_auto!$R$7:$BR$7,2+Q$1),)))),0))","v":""}]
[null,null,"Mickael","2001-04-10",305,1,"Jeudi",30511,{"$f":"IF($G62=\"Mardi\",IF(OR($F62=1,$F62=2),VLOOKUP($G$8,Congés_auto!$R$5:$BR$5,2+I$4),IF(OR($F62=3,$F62=4),VLOOKUP($G$8,Congés_auto!$R$5:$BR$5,2+I$3),IF(OR($F62=5,$F62=6),VLOOKUP($G$8,Congés_auto!$R$5:$BR$5,2+I$2),IF(OR($F62=7,$F62=8),VLOOKUP($G$8,Congés_auto!$R$5:$BR$5,2+I$1),)))),IF($G62=\"Jeudi\",IF(OR($F62=1,$F62=2),VLOOKUP($G$8,Congés_auto!$R$7:$BR$7,2+I$4),IF(OR($F62=3,$F62=4),VLOOKUP($G$8,Congés_auto!$R$7:$BR$7,2+I$3),IF(OR($F62=5,$F62=6),VLOOKUP($G$8,Congés_auto!$R$7:$BR$7,2+I$2),IF(OR($F62=7,$F62=8),VLOOKUP($G$8,Congés_auto!$R$7:$BR$7,2+I$1),)))),0))","v":"2018-08-30"},{"$f":"IF($G62=\"Mardi\",IF(OR($F62=1,$F62=2),VLOOKUP($G$8,Congés_auto!$R$5:$BR$5,2+J$4),IF(OR($F62=3,$F62=4),VLOOKUP($G$8,Congés_auto!$R$5:$BR$5,2+J$3),IF(OR($F62=5,$F62=6),VLOOKUP($G$8,Congés_auto!$R$5:$BR$5,2+J$2),IF(OR($F62=7,$F62=8),VLOOKUP($G$8,Congés_auto!$R$5:$BR$5,2+J$1),)))),IF($G62=\"Jeudi\",IF(OR($F62=1,$F62=2),VLOOKUP($G$8,Congés_auto!$R$7:$BR$7,2+J$4),IF(OR($F62=3,$F62=4),VLOOKUP($G$8,Congés_auto!$R$7:$BR$7,2+J$3),IF(OR($F62=5,$F62=6),VLOOKUP($G$8,Congés_auto!$R$7:$BR$7,2+J$2),IF(OR($F62=7,$F62=8),VLOOKUP($G$8,Congés_auto!$R$7:$BR$7,2+J$1),)))),0))","v":"2018-09-27"},{"$f":"IF($G62=\"Mardi\",IF(OR($F62=1,$F62=2),VLOOKUP($G$8,Congés_auto!$R$5:$BR$5,2+K$4),IF(OR($F62=3,$F62=4),VLOOKUP($G$8,Congés_auto!$R$5:$BR$5,2+K$3),IF(OR($F62=5,$F62=6),VLOOKUP($G$8,Congés_auto!$R$5:$BR$5,2+K$2),IF(OR($F62=7,$F62=8),VLOOKUP($G$8,Congés_auto!$R$5:$BR$5,2+K$1),)))),IF($G62=\"Jeudi\",IF(OR($F62=1,$F62=2),VLOOKUP($G$8,Congés_auto!$R$7:$BR$7,2+K$4),IF(OR($F62=3,$F62=4),VLOOKUP($G$8,Congés_auto!$R$7:$BR$7,2+K$3),IF(OR($F62=5,$F62=6),VLOOKUP($G$8,Congés_auto!$R$7:$BR$7,2+K$2),IF(OR($F62=7,$F62=8),VLOOKUP($G$8,Congés_auto!$R$7:$BR$7,2+K$1),)))),0))","v":"2018-11-15"},{"$f":"IF($G62=\"Mardi\",IF(OR($F62=1,$F62=2),VLOOKUP($G$8,Congés_auto!$R$5:$BR$5,2+L$4),IF(OR($F62=3,$F62=4),VLOOKUP($G$8,Congés_auto!$R$5:$BR$5,2+L$3),IF(OR($F62=5,$F62=6),VLOOKUP($G$8,Congés_auto!$R$5:$BR$5,2+L$2),IF(OR($F62=7,$F62=8),VLOOKUP($G$8,Congés_auto!$R$5:$BR$5,2+L$1),)))),IF($G62=\"Jeudi\",IF(OR($F62=1,$F62=2),VLOOKUP($G$8,Congés_auto!$R$7:$BR$7,2+L$4),IF(OR($F62=3,$F62=4),VLOOKUP($G$8,Congés_auto!$R$7:$BR$7,2+L$3),IF(OR($F62=5,$F62=6),VLOOKUP($G$8,Congés_auto!$R$7:$BR$7,2+L$2),IF(OR($F62=7,$F62=8),VLOOKUP($G$8,Congés_auto!$R$7:$BR$7,2+L$1),)))),0))","v":"2018-12-13"},{"$f":"IF($G62=\"Mardi\",IF(OR($F62=1,$F62=2),VLOOKUP($G$8,Congés_auto!$R$5:$BR$5,2+M$4),IF(OR($F62=3,$F62=4),VLOOKUP($G$8,Congés_auto!$R$5:$BR$5,2+M$3),IF(OR($F62=5,$F62=6),VLOOKUP($G$8,Congés_auto!$R$5:$BR$5,2+M$2),IF(OR($F62=7,$F62=8),VLOOKUP($G$8,Congés_auto!$R$5:$BR$5,2+M$1),)))),IF($G62=\"Jeudi\",IF(OR($F62=1,$F62=2),VLOOKUP($G$8,Congés_auto!$R$7:$BR$7,2+M$4),IF(OR($F62=3,$F62=4),VLOOKUP($G$8,Congés_auto!$R$7:$BR$7,2+M$3),IF(OR($F62=5,$F62=6),VLOOKUP($G$8,Congés_auto!$R$7:$BR$7,2+M$2),IF(OR($F62=7,$F62=8),VLOOKUP($G$8,Congés_auto!$R$7:$BR$7,2+M$1),)))),0))","v":"2019-02-21"},{"$f":"IF($G62=\"Mardi\",IF(OR($F62=1,$F62=2),VLOOKUP($G$8,Congés_auto!$R$5:$BR$5,2+N$4),IF(OR($F62=3,$F62=4),VLOOKUP($G$8,Congés_auto!$R$5:$BR$5,2+N$3),IF(OR($F62=5,$F62=6),VLOOKUP($G$8,Congés_auto!$R$5:$BR$5,2+N$2),IF(OR($F62=7,$F62=8),VLOOKUP($G$8,Congés_auto!$R$5:$BR$5,2+N$1),)))),IF($G62=\"Jeudi\",IF(OR($F62=1,$F62=2),VLOOKUP($G$8,Congés_auto!$R$7:$BR$7,2+N$4),IF(OR($F62=3,$F62=4),VLOOKUP($G$8,Congés_auto!$R$7:$BR$7,2+N$3),IF(OR($F62=5,$F62=6),VLOOKUP($G$8,Congés_auto!$R$7:$BR$7,2+N$2),IF(OR($F62=7,$F62=8),VLOOKUP($G$8,Congés_auto!$R$7:$BR$7,2+N$1),)))),0))","v":"2019-04-04"},{"$f":"IF($G62=\"Mardi\",IF(OR($F62=1,$F62=2),VLOOKUP($G$8,Congés_auto!$R$5:$BR$5,2+O$4),IF(OR($F62=3,$F62=4),VLOOKUP($G$8,Congés_auto!$R$5:$BR$5,2+O$3),IF(OR($F62=5,$F62=6),VLOOKUP($G$8,Congés_auto!$R$5:$BR$5,2+O$2),IF(OR($F62=7,$F62=8),VLOOKUP($G$8,Congés_auto!$R$5:$BR$5,2+O$1),)))),IF($G62=\"Jeudi\",IF(OR($F62=1,$F62=2),VLOOKUP($G$8,Congés_auto!$R$7:$BR$7,2+O$4),IF(OR($F62=3,$F62=4),VLOOKUP($G$8,Congés_auto!$R$7:$BR$7,2+O$3),IF(OR($F62=5,$F62=6),VLOOKUP($G$8,Congés_auto!$R$7:$BR$7,2+O$2),IF(OR($F62=7,$F62=8),VLOOKUP($G$8,Congés_auto!$R$7:$BR$7,2+O$1),)))),0))","v":"2019-05-02"},{"$f":"IF($G62=\"Mardi\",IF(OR($F62=1,$F62=2),VLOOKUP($G$8,Congés_auto!$R$5:$BR$5,2+P$4),IF(OR($F62=3,$F62=4),VLOOKUP($G$8,Congés_auto!$R$5:$BR$5,2+P$3),IF(OR($F62=5,$F62=6),VLOOKUP($G$8,Congés_auto!$R$5:$BR$5,2+P$2),IF(OR($F62=7,$F62=8),VLOOKUP($G$8,Congés_auto!$R$5:$BR$5,2+P$1),)))),IF($G62=\"Jeudi\",IF(OR($F62=1,$F62=2),VLOOKUP($G$8,Congés_auto!$R$7:$BR$7,2+P$4),IF(OR($F62=3,$F62=4),VLOOKUP($G$8,Congés_auto!$R$7:$BR$7,2+P$3),IF(OR($F62=5,$F62=6),VLOOKUP($G$8,Congés_auto!$R$7:$BR$7,2+P$2),IF(OR($F62=7,$F62=8),VLOOKUP($G$8,Congés_auto!$R$7:$BR$7,2+P$1),)))),0))","v":"2019-06-20"},{"$f":"IF($G62=\"Mardi\",IF(OR($F62=1,$F62=2),VLOOKUP($G$8,Congés_auto!$R$5:$BR$5,2+Q$4),IF(OR($F62=3,$F62=4),VLOOKUP($G$8,Congés_auto!$R$5:$BR$5,2+Q$3),IF(OR($F62=5,$F62=6),VLOOKUP($G$8,Congés_auto!$R$5:$BR$5,2+Q$2),IF(OR($F62=7,$F62=8),VLOOKUP($G$8,Congés_auto!$R$5:$BR$5,2+Q$1),)))),IF($G62=\"Jeudi\",IF(OR($F62=1,$F62=2),VLOOKUP($G$8,Congés_auto!$R$7:$BR$7,2+Q$4),IF(OR($F62=3,$F62=4),VLOOKUP($G$8,Congés_auto!$R$7:$BR$7,2+Q$3),IF(OR($F62=5,$F62=6),VLOOKUP($G$8,Congés_auto!$R$7:$BR$7,2+Q$2),IF(OR($F62=7,$F62=8),VLOOKUP($G$8,Congés_auto!$R$7:$BR$7,2+Q$1),)))),0))","v":""}]
[{"$nulls":3},"2001-03-29",305,1,"Jeudi",30512,{"$f":"IF($G63=\"Mardi\",IF(OR($F63=1,$F63=2),VLOOKUP($G$8,Congés_auto!$R$5:$BR$5,2+I$4),IF(OR($F63=3,$F63=4),VLOOKUP($G$8,Congés_auto!$R$5:$BR$5,2+I$3),IF(OR($F63=5,$F63=6),VLOOKUP($G$8,Congés_auto!$R$5:$BR$5,2+I$2),IF(OR($F63=7,$F63=8),VLOOKUP($G$8,Congés_auto!$R$5:$BR$5,2+I$1),)))),IF($G63=\"Jeudi\",IF(OR($F63=1,$F63=2),VLOOKUP($G$8,Congés_auto!$R$7:$BR$7,2+I$4),IF(OR($F63=3,$F63=4),VLOOKUP($G$8,Congés_auto!$R$7:$BR$7,2+I$3),IF(OR($F63=5,$F63=6),VLOOKUP($G$8,Congés_auto!$R$7:$BR$7,2+I$2),IF(OR($F63=7,$F63=8),VLOOKUP($G$8,Congés_auto!$R$7:$BR$7,2+I$1),)))),0))","v":"2018-08-30"},{"$f":"IF($G63=\"Mardi\",IF(OR($F63=1,$F63=2),VLOOKUP($G$8,Congés_auto!$R$5:$BR$5,2+J$4),IF(OR($F63=3,$F63=4),VLOOKUP($G$8,Congés_auto!$R$5:$BR$5,2+J$3),IF(OR($F63=5,$F63=6),VLOOKUP($G$8,Congés_auto!$R$5:$BR$5,2+J$2),IF(OR($F63=7,$F63=8),VLOOKUP($G$8,Congés_auto!$R$5:$BR$5,2+J$1),)))),IF($G63=\"Jeudi\",IF(OR($F63=1,$F63=2),VLOOKUP($G$8,Congés_auto!$R$7:$BR$7,2+J$4),IF(OR($F63=3,$F63=4),VLOOKUP($G$8,Congés_auto!$R$7:$BR$7,2+J$3),IF(OR($F63=5,$F63=6),VLOOKUP($G$8,Congés_auto!$R$7:$BR$7,2+J$2),IF(OR($F63=7,$F63=8),VLOOKUP($G$8,Congés_auto!$R$7:$BR$7,2+J$1),)))),0))","v":"2018-09-27"},{"$f":"IF($G63=\"Mardi\",IF(OR($F63=1,$F63=2),VLOOKUP($G$8,Congés_auto!$R$5:$BR$5,2+K$4),IF(OR($F63=3,$F63=4),VLOOKUP($G$8,Congés_auto!$R$5:$BR$5,2+K$3),IF(OR($F63=5,$F63=6),VLOOKUP($G$8,Congés_auto!$R$5:$BR$5,2+K$2),IF(OR($F63=7,$F63=8),VLOOKUP($G$8,Congés_auto!$R$5:$BR$5,2+K$1),)))),IF($G63=\"Jeudi\",IF(OR($F63=1,$F63=2),VLOOKUP($G$8,Congés_auto!$R$7:$BR$7,2+K$4),IF(OR($F63=3,$F63=4),VLOOKUP($G$8,Congés_auto!$R$7:$BR$7,2+K$3),IF(OR($F63=5,$F63=6),VLOOKUP($G$8,Congés_auto!$R$7:$BR$7,2+K$2),IF(OR($F63=7,$F63=8),VLOOKUP($G$8,Congés_auto!$R$7:$BR$7,2+K$1),)))),0))","v":"2018-11-15"},{"$f":"IF($G63=\"Mardi\",IF(OR($F63=1,$F63=2),VLOOKUP($G$8,Congés_auto!$R$5:$BR$5,2+L$4),IF(OR($F63=3,$F63=4),VLOOKUP($G$8,Congés_auto!$R$5:$BR$5,2+L$3),IF(OR($F63=5,$F63=6),VLOOKUP($G$8,Congés_auto!$R$5:$BR$5,2+L$2),IF(OR($F63=7,$F63=8),VLOOKUP($G$8,Congés_auto!$R$5:$BR$5,2+L$1),)))),IF($G63=\"Jeudi\",IF(OR($F63=1,$F63=2),VLOOKUP($G$8,Congés_auto!$R$7:$BR$7,2+L$4),IF(OR($F63=3,$F63=4),VLOOKUP($G$8,Congés_auto!$R$7:$BR$7,2+L$3),IF(OR($F63=5,$F63=6),VLOOKUP($G$8,Congés_auto!$R$7:$BR$7,2+L$2),IF(OR($F63=7,$F63=8),VLOOKUP($G$8,Congés_auto!$R$7:$BR$7,2+L$1),)))),0))","v":"2018-12-13"},{"$f":"IF($G63=\"Mardi\",IF(OR($F63=1,$F63=2),VLOOKUP($G$8,Congés_auto!$R$5:$BR$5,2+M$4),IF(OR($F63=3,$F63=4),VLOOKUP($G$8,Congés_auto!$R$5:$BR$5,2+M$3),IF(OR($F63=5,$F63=6),VLOOKUP($G$8,Congés_auto!$R$5:$BR$5,2+M$2),IF(OR($F63=7,$F63=8),VLOOKUP($G$8,Congés_auto!$R$5:$BR$5,2+M$1),)))),IF($G63=\"Jeudi\",IF(OR($F63=1,$F63=2),VLOOKUP($G$8,Congés_auto!$R$7:$BR$7,2+M$4),IF(OR($F63=3,$F63=4),VLOOKUP($G$8,Congés_auto!$R$7:$BR$7,2+M$3),IF(OR($F63=5,$F63=6),VLOOKUP($G$8,Congés_auto!$R$7:$BR$7,2+M$2),IF(OR($F63=7,$F63=8),VLOOKUP($G$8,Congés_auto!$R$7:$BR$7,2+M$1),)))),0))","v":"2019-02-21"},{"$f":"IF($G63=\"Mardi\",IF(OR($F63=1,$F63=2),VLOOKUP($G$8,Congés_auto!$R$5:$BR$5,2+N$4),IF(OR($F63=3,$F63=4),VLOOKUP($G$8,Congés_auto!$R$5:$BR$5,2+N$3),IF(OR($F63=5,$F63=6),VLOOKUP($G$8,Congés_auto!$R$5:$BR$5,2+N$2),IF(OR($F63=7,$F63=8),VLOOKUP($G$8,Congés_auto!$R$5:$BR$5,2+N$1),)))),IF($G63=\"Jeudi\",IF(OR($F63=1,$F63=2),VLOOKUP($G$8,Congés_auto!$R$7:$BR$7,2+N$4),IF(OR($F63=3,$F63=4),VLOOKUP($G$8,Congés_auto!$R$7:$BR$7,2+N$3),IF(OR($F63=5,$F63=6),VLOOKUP($G$8,Congés_auto!$R$7:$BR$7,2+N$2),IF(OR($F63=7,$F63=8),VLOOKUP($G$8,Congés_auto!$R$7:$BR$7,2+N$1),)))),0))","v":"2019-04-04"},{"$f":"IF($G63=\"Mardi\",IF(OR($F63=1,$F63=2),VLOOKUP($G$8,Congés_auto!$R$5:$BR$5,2+O$4),IF(OR($F63=3,$F63=4),VLOOKUP($G$8,Congés_auto!$R$5:$BR$5,2+O$3),IF(OR($F63=5,$F63=6),VLOOKUP($G$8,Congés_auto!$R$5:$BR$5,2+O$2),IF(OR($F63=7,$F63=8),VLOOKUP($G$8,Congés_auto!$R$5:$BR$5,2+O$1),)))),IF($G63=\"Jeudi\",IF(OR($F63=1,$F63=2),VLOOKUP($G$8,Congés_auto!$R$7:$BR$7,2+O$4),IF(OR($F63=3,$F63=4),VLOOKUP($G$8,Congés_auto!$R$7:$BR$7,2+O$3),IF(OR($F63=5,$F63=6),VLOOKUP($G$8,Congés_auto!$R$7:$BR$7,2+O$2),IF(OR($F63=7,$F63=8),VLOOKUP($G$8,Congés_auto!$R$7:$BR$7,2+O$1),)))),0))","v":"2019-05-02"},{"$f":"IF($G63=\"Mardi\",IF(OR($F63=1,$F63=2),VLOOKUP($G$8,Congés_auto!$R$5:$BR$5,2+P$4),IF(OR($F63=3,$F63=4),VLOOKUP($G$8,Congés_auto!$R$5:$BR$5,2+P$3),IF(OR($F63=5,$F63=6),VLOOKUP($G$8,Congés_auto!$R$5:$BR$5,2+P$2),IF(OR($F63=7,$F63=8),VLOOKUP($G$8,Congés_auto!$R$5:$BR$5,2+P$1),)))),IF($G63=\"Jeudi\",IF(OR($F63=1,$F63=2),VLOOKUP($G$8,Congés_auto!$R$7:$BR$7,2+P$4),IF(OR($F63=3,$F63=4),VLOOKUP($G$8,Congés_auto!$R$7:$BR$7,2+P$3),IF(OR($F63=5,$F63=6),VLOOKUP($G$8,Congés_auto!$R$7:$BR$7,2+P$2),IF(OR($F63=7,$F63=8),VLOOKUP($G$8,Congés_auto!$R$7:$BR$7,2+P$1),)))),0))","v":"2019-06-20"},{"$f":"IF($G63=\"Mardi\",IF(OR($F63=1,$F63=2),VLOOKUP($G$8,Congés_auto!$R$5:$BR$5,2+Q$4),IF(OR($F63=3,$F63=4),VLOOKUP($G$8,Congés_auto!$R$5:$BR$5,2+Q$3),IF(OR($F63=5,$F63=6),VLOOKUP($G$8,Congés_auto!$R$5:$BR$5,2+Q$2),IF(OR($F63=7,$F63=8),VLOOKUP($G$8,Congés_auto!$R$5:$BR$5,2+Q$1),)))),IF($G63=\"Jeudi\",IF(OR($F63=1,$F63=2),VLOOKUP($G$8,Congés_auto!$R$7:$BR$7,2+Q$4),IF(OR($F63=3,$F63=4),VLOOKUP($G$8,Congés_auto!$R$7:$BR$7,2+Q$3),IF(OR($F63=5,$F63=6),VLOOKUP($G$8,Congés_auto!$R$7:$BR$7,2+Q$2),IF(OR($F63=7,$F63=8),VLOOKUP($G$8,Congés_auto!$R$7:$BR$7,2+Q$1),)))),0))","v":""}]
[null,null,"Camille","2001-03-21",305,2,"Jeudi","30520",{"$f":"IF($G64=\"Mardi\",IF(OR($F64=1,$F64=2),VLOOKUP($G$8,Congés_auto!$R$5:$BR$5,2+I$4),IF(OR($F64=3,$F64=4),VLOOKUP($G$8,Congés_auto!$R$5:$BR$5,2+I$3),IF(OR($F64=5,$F64=6),VLOOKUP($G$8,Congés_auto!$R$5:$BR$5,2+I$2),IF(OR($F64=7,$F64=8),VLOOKUP($G$8,Congés_auto!$R$5:$BR$5,2+I$1),)))),IF($G64=\"Jeudi\",IF(OR($F64=1,$F64=2),VLOOKUP($G$8,Congés_auto!$R$7:$BR$7,2+I$4),IF(OR($F64=3,$F64=4),VLOOKUP($G$8,Congés_auto!$R$7:$BR$7,2+I$3),IF(OR($F64=5,$F64=6),VLOOKUP($G$8,Congés_auto!$R$7:$BR$7,2+I$2),IF(OR($F64=7,$F64=8),VLOOKUP($G$8,Congés_auto!$R$7:$BR$7,2+I$1),)))),0))","v":"2018-08-30"},{"$f":"IF($G64=\"Mardi\",IF(OR($F64=1,$F64=2),VLOOKUP($G$8,Congés_auto!$R$5:$BR$5,2+J$4),IF(OR($F64=3,$F64=4),VLOOKUP($G$8,Congés_auto!$R$5:$BR$5,2+J$3),IF(OR($F64=5,$F64=6),VLOOKUP($G$8,Congés_auto!$R$5:$BR$5,2+J$2),IF(OR($F64=7,$F64=8),VLOOKUP($G$8,Congés_auto!$R$5:$BR$5,2+J$1),)))),IF($G64=\"Jeudi\",IF(OR($F64=1,$F64=2),VLOOKUP($G$8,Congés_auto!$R$7:$BR$7,2+J$4),IF(OR($F64=3,$F64=4),VLOOKUP($G$8,Congés_auto!$R$7:$BR$7,2+J$3),IF(OR($F64=5,$F64=6),VLOOKUP($G$8,Congés_auto!$R$7:$BR$7,2+J$2),IF(OR($F64=7,$F64=8),VLOOKUP($G$8,Congés_auto!$R$7:$BR$7,2+J$1),)))),0))","v":"2018-09-27"},{"$f":"IF($G64=\"Mardi\",IF(OR($F64=1,$F64=2),VLOOKUP($G$8,Congés_auto!$R$5:$BR$5,2+K$4),IF(OR($F64=3,$F64=4),VLOOKUP($G$8,Congés_auto!$R$5:$BR$5,2+K$3),IF(OR($F64=5,$F64=6),VLOOKUP($G$8,Congés_auto!$R$5:$BR$5,2+K$2),IF(OR($F64=7,$F64=8),VLOOKUP($G$8,Congés_auto!$R$5:$BR$5,2+K$1),)))),IF($G64=\"Jeudi\",IF(OR($F64=1,$F64=2),VLOOKUP($G$8,Congés_auto!$R$7:$BR$7,2+K$4),IF(OR($F64=3,$F64=4),VLOOKUP($G$8,Congés_auto!$R$7:$BR$7,2+K$3),IF(OR($F64=5,$F64=6),VLOOKUP($G$8,Congés_auto!$R$7:$BR$7,2+K$2),IF(OR($F64=7,$F64=8),VLOOKUP($G$8,Congés_auto!$R$7:$BR$7,2+K$1),)))),0))","v":"2018-11-15"},{"$f":"IF($G64=\"Mardi\",IF(OR($F64=1,$F64=2),VLOOKUP($G$8,Congés_auto!$R$5:$BR$5,2+L$4),IF(OR($F64=3,$F64=4),VLOOKUP($G$8,Congés_auto!$R$5:$BR$5,2+L$3),IF(OR($F64=5,$F64=6),VLOOKUP($G$8,Congés_auto!$R$5:$BR$5,2+L$2),IF(OR($F64=7,$F64=8),VLOOKUP($G$8,Congés_auto!$R$5:$BR$5,2+L$1),)))),IF($G64=\"Jeudi\",IF(OR($F64=1,$F64=2),VLOOKUP($G$8,Congés_auto!$R$7:$BR$7,2+L$4),IF(OR($F64=3,$F64=4),VLOOKUP($G$8,Congés_auto!$R$7:$BR$7,2+L$3),IF(OR($F64=5,$F64=6),VLOOKUP($G$8,Congés_auto!$R$7:$BR$7,2+L$2),IF(OR($F64=7,$F64=8),VLOOKUP($G$8,Congés_auto!$R$7:$BR$7,2+L$1),)))),0))","v":"2018-12-13"},{"$f":"IF($G64=\"Mardi\",IF(OR($F64=1,$F64=2),VLOOKUP($G$8,Congés_auto!$R$5:$BR$5,2+M$4),IF(OR($F64=3,$F64=4),VLOOKUP($G$8,Congés_auto!$R$5:$BR$5,2+M$3),IF(OR($F64=5,$F64=6),VLOOKUP($G$8,Congés_auto!$R$5:$BR$5,2+M$2),IF(OR($F64=7,$F64=8),VLOOKUP($G$8,Congés_auto!$R$5:$BR$5,2+M$1),)))),IF($G64=\"Jeudi\",IF(OR($F64=1,$F64=2),VLOOKUP($G$8,Congés_auto!$R$7:$BR$7,2+M$4),IF(OR($F64=3,$F64=4),VLOOKUP($G$8,Congés_auto!$R$7:$BR$7,2+M$3),IF(OR($F64=5,$F64=6),VLOOKUP($G$8,Congés_auto!$R$7:$BR$7,2+M$2),IF(OR($F64=7,$F64=8),VLOOKUP($G$8,Congés_auto!$R$7:$BR$7,2+M$1),)))),0))","v":"2019-02-21"},{"$f":"IF($G64=\"Mardi\",IF(OR($F64=1,$F64=2),VLOOKUP($G$8,Congés_auto!$R$5:$BR$5,2+N$4),IF(OR($F64=3,$F64=4),VLOOKUP($G$8,Congés_auto!$R$5:$BR$5,2+N$3),IF(OR($F64=5,$F64=6),VLOOKUP($G$8,Congés_auto!$R$5:$BR$5,2+N$2),IF(OR($F64=7,$F64=8),VLOOKUP($G$8,Congés_auto!$R$5:$BR$5,2+N$1),)))),IF($G64=\"Jeudi\",IF(OR($F64=1,$F64=2),VLOOKUP($G$8,Congés_auto!$R$7:$BR$7,2+N$4),IF(OR($F64=3,$F64=4),VLOOKUP($G$8,Congés_auto!$R$7:$BR$7,2+N$3),IF(OR($F64=5,$F64=6),VLOOKUP($G$8,Congés_auto!$R$7:$BR$7,2+N$2),IF(OR($F64=7,$F64=8),VLOOKUP($G$8,Congés_auto!$R$7:$BR$7,2+N$1),)))),0))","v":"2019-04-04"},{"$f":"IF($G64=\"Mardi\",IF(OR($F64=1,$F64=2),VLOOKUP($G$8,Congés_auto!$R$5:$BR$5,2+O$4),IF(OR($F64=3,$F64=4),VLOOKUP($G$8,Congés_auto!$R$5:$BR$5,2+O$3),IF(OR($F64=5,$F64=6),VLOOKUP($G$8,Congés_auto!$R$5:$BR$5,2+O$2),IF(OR($F64=7,$F64=8),VLOOKUP($G$8,Congés_auto!$R$5:$BR$5,2+O$1),)))),IF($G64=\"Jeudi\",IF(OR($F64=1,$F64=2),VLOOKUP($G$8,Congés_auto!$R$7:$BR$7,2+O$4),IF(OR($F64=3,$F64=4),VLOOKUP($G$8,Congés_auto!$R$7:$BR$7,2+O$3),IF(OR($F64=5,$F64=6),VLOOKUP($G$8,Congés_auto!$R$7:$BR$7,2+O$2),IF(OR($F64=7,$F64=8),VLOOKUP($G$8,Congés_auto!$R$7:$BR$7,2+O$1),)))),0))","v":"2019-05-02"},{"$f":"IF($G64=\"Mardi\",IF(OR($F64=1,$F64=2),VLOOKUP($G$8,Congés_auto!$R$5:$BR$5,2+P$4),IF(OR($F64=3,$F64=4),VLOOKUP($G$8,Congés_auto!$R$5:$BR$5,2+P$3),IF(OR($F64=5,$F64=6),VLOOKUP($G$8,Congés_auto!$R$5:$BR$5,2+P$2),IF(OR($F64=7,$F64=8),VLOOKUP($G$8,Congés_auto!$R$5:$BR$5,2+P$1),)))),IF($G64=\"Jeudi\",IF(OR($F64=1,$F64=2),VLOOKUP($G$8,Congés_auto!$R$7:$BR$7,2+P$4),IF(OR($F64=3,$F64=4),VLOOKUP($G$8,Congés_auto!$R$7:$BR$7,2+P$3),IF(OR($F64=5,$F64=6),VLOOKUP($G$8,Congés_auto!$R$7:$BR$7,2+P$2),IF(OR($F64=7,$F64=8),VLOOKUP($G$8,Congés_auto!$R$7:$BR$7,2+P$1),)))),0))","v":"2019-06-20"},{"$f":"IF($G64=\"Mardi\",IF(OR($F64=1,$F64=2),VLOOKUP($G$8,Congés_auto!$R$5:$BR$5,2+Q$4),IF(OR($F64=3,$F64=4),VLOOKUP($G$8,Congés_auto!$R$5:$BR$5,2+Q$3),IF(OR($F64=5,$F64=6),VLOOKUP($G$8,Congés_auto!$R$5:$BR$5,2+Q$2),IF(OR($F64=7,$F64=8),VLOOKUP($G$8,Congés_auto!$R$5:$BR$5,2+Q$1),)))),IF($G64=\"Jeudi\",IF(OR($F64=1,$F64=2),VLOOKUP($G$8,Congés_auto!$R$7:$BR$7,2+Q$4),IF(OR($F64=3,$F64=4),VLOOKUP($G$8,Congés_auto!$R$7:$BR$7,2+Q$3),IF(OR($F64=5,$F64=6),VLOOKUP($G$8,Congés_auto!$R$7:$BR$7,2+Q$2),IF(OR($F64=7,$F64=8),VLOOKUP($G$8,Congés_auto!$R$7:$BR$7,2+Q$1),)))),0))","v":""}]
[null,null,"Lou","2001-06-12",305,2,"Jeudi",30521,{"$f":"IF($G65=\"Mardi\",IF(OR($F65=1,$F65=2),VLOOKUP($G$8,Congés_auto!$R$5:$BR$5,2+I$4),IF(OR($F65=3,$F65=4),VLOOKUP($G$8,Congés_auto!$R$5:$BR$5,2+I$3),IF(OR($F65=5,$F65=6),VLOOKUP($G$8,Congés_auto!$R$5:$BR$5,2+I$2),IF(OR($F65=7,$F65=8),VLOOKUP($G$8,Congés_auto!$R$5:$BR$5,2+I$1),)))),IF($G65=\"Jeudi\",IF(OR($F65=1,$F65=2),VLOOKUP($G$8,Congés_auto!$R$7:$BR$7,2+I$4),IF(OR($F65=3,$F65=4),VLOOKUP($G$8,Congés_auto!$R$7:$BR$7,2+I$3),IF(OR($F65=5,$F65=6),VLOOKUP($G$8,Congés_auto!$R$7:$BR$7,2+I$2),IF(OR($F65=7,$F65=8),VLOOKUP($G$8,Congés_auto!$R$7:$BR$7,2+I$1),)))),0))","v":"2018-08-30"},{"$f":"IF($G65=\"Mardi\",IF(OR($F65=1,$F65=2),VLOOKUP($G$8,Congés_auto!$R$5:$BR$5,2+J$4),IF(OR($F65=3,$F65=4),VLOOKUP($G$8,Congés_auto!$R$5:$BR$5,2+J$3),IF(OR($F65=5,$F65=6),VLOOKUP($G$8,Congés_auto!$R$5:$BR$5,2+J$2),IF(OR($F65=7,$F65=8),VLOOKUP($G$8,Congés_auto!$R$5:$BR$5,2+J$1),)))),IF($G65=\"Jeudi\",IF(OR($F65=1,$F65=2),VLOOKUP($G$8,Congés_auto!$R$7:$BR$7,2+J$4),IF(OR($F65=3,$F65=4),VLOOKUP($G$8,Congés_auto!$R$7:$BR$7,2+J$3),IF(OR($F65=5,$F65=6),VLOOKUP($G$8,Congés_auto!$R$7:$BR$7,2+J$2),IF(OR($F65=7,$F65=8),VLOOKUP($G$8,Congés_auto!$R$7:$BR$7,2+J$1),)))),0))","v":"2018-09-27"},{"$f":"IF($G65=\"Mardi\",IF(OR($F65=1,$F65=2),VLOOKUP($G$8,Congés_auto!$R$5:$BR$5,2+K$4),IF(OR($F65=3,$F65=4),VLOOKUP($G$8,Congés_auto!$R$5:$BR$5,2+K$3),IF(OR($F65=5,$F65=6),VLOOKUP($G$8,Congés_auto!$R$5:$BR$5,2+K$2),IF(OR($F65=7,$F65=8),VLOOKUP($G$8,Congés_auto!$R$5:$BR$5,2+K$1),)))),IF($G65=\"Jeudi\",IF(OR($F65=1,$F65=2),VLOOKUP($G$8,Congés_auto!$R$7:$BR$7,2+K$4),IF(OR($F65=3,$F65=4),VLOOKUP($G$8,Congés_auto!$R$7:$BR$7,2+K$3),IF(OR($F65=5,$F65=6),VLOOKUP($G$8,Congés_auto!$R$7:$BR$7,2+K$2),IF(OR($F65=7,$F65=8),VLOOKUP($G$8,Congés_auto!$R$7:$BR$7,2+K$1),)))),0))","v":"2018-11-15"},{"$f":"IF($G65=\"Mardi\",IF(OR($F65=1,$F65=2),VLOOKUP($G$8,Congés_auto!$R$5:$BR$5,2+L$4),IF(OR($F65=3,$F65=4),VLOOKUP($G$8,Congés_auto!$R$5:$BR$5,2+L$3),IF(OR($F65=5,$F65=6),VLOOKUP($G$8,Congés_auto!$R$5:$BR$5,2+L$2),IF(OR($F65=7,$F65=8),VLOOKUP($G$8,Congés_auto!$R$5:$BR$5,2+L$1),)))),IF($G65=\"Jeudi\",IF(OR($F65=1,$F65=2),VLOOKUP($G$8,Congés_auto!$R$7:$BR$7,2+L$4),IF(OR($F65=3,$F65=4),VLOOKUP($G$8,Congés_auto!$R$7:$BR$7,2+L$3),IF(OR($F65=5,$F65=6),VLOOKUP($G$8,Congés_auto!$R$7:$BR$7,2+L$2),IF(OR($F65=7,$F65=8),VLOOKUP($G$8,Congés_auto!$R$7:$BR$7,2+L$1),)))),0))","v":"2018-12-13"},{"$f":"IF($G65=\"Mardi\",IF(OR($F65=1,$F65=2),VLOOKUP($G$8,Congés_auto!$R$5:$BR$5,2+M$4),IF(OR($F65=3,$F65=4),VLOOKUP($G$8,Congés_auto!$R$5:$BR$5,2+M$3),IF(OR($F65=5,$F65=6),VLOOKUP($G$8,Congés_auto!$R$5:$BR$5,2+M$2),IF(OR($F65=7,$F65=8),VLOOKUP($G$8,Congés_auto!$R$5:$BR$5,2+M$1),)))),IF($G65=\"Jeudi\",IF(OR($F65=1,$F65=2),VLOOKUP($G$8,Congés_auto!$R$7:$BR$7,2+M$4),IF(OR($F65=3,$F65=4),VLOOKUP($G$8,Congés_auto!$R$7:$BR$7,2+M$3),IF(OR($F65=5,$F65=6),VLOOKUP($G$8,Congés_auto!$R$7:$BR$7,2+M$2),IF(OR($F65=7,$F65=8),VLOOKUP($G$8,Congés_auto!$R$7:$BR$7,2+M$1),)))),0))","v":"2019-02-21"},{"$f":"IF($G65=\"Mardi\",IF(OR($F65=1,$F65=2),VLOOKUP($G$8,Congés_auto!$R$5:$BR$5,2+N$4),IF(OR($F65=3,$F65=4),VLOOKUP($G$8,Congés_auto!$R$5:$BR$5,2+N$3),IF(OR($F65=5,$F65=6),VLOOKUP($G$8,Congés_auto!$R$5:$BR$5,2+N$2),IF(OR($F65=7,$F65=8),VLOOKUP($G$8,Congés_auto!$R$5:$BR$5,2+N$1),)))),IF($G65=\"Jeudi\",IF(OR($F65=1,$F65=2),VLOOKUP($G$8,Congés_auto!$R$7:$BR$7,2+N$4),IF(OR($F65=3,$F65=4),VLOOKUP($G$8,Congés_auto!$R$7:$BR$7,2+N$3),IF(OR($F65=5,$F65=6),VLOOKUP($G$8,Congés_auto!$R$7:$BR$7,2+N$2),IF(OR($F65=7,$F65=8),VLOOKUP($G$8,Congés_auto!$R$7:$BR$7,2+N$1),)))),0))","v":"2019-04-04"},{"$f":"IF($G65=\"Mardi\",IF(OR($F65=1,$F65=2),VLOOKUP($G$8,Congés_auto!$R$5:$BR$5,2+O$4),IF(OR($F65=3,$F65=4),VLOOKUP($G$8,Congés_auto!$R$5:$BR$5,2+O$3),IF(OR($F65=5,$F65=6),VLOOKUP($G$8,Congés_auto!$R$5:$BR$5,2+O$2),IF(OR($F65=7,$F65=8),VLOOKUP($G$8,Congés_auto!$R$5:$BR$5,2+O$1),)))),IF($G65=\"Jeudi\",IF(OR($F65=1,$F65=2),VLOOKUP($G$8,Congés_auto!$R$7:$BR$7,2+O$4),IF(OR($F65=3,$F65=4),VLOOKUP($G$8,Congés_auto!$R$7:$BR$7,2+O$3),IF(OR($F65=5,$F65=6),VLOOKUP($G$8,Congés_auto!$R$7:$BR$7,2+O$2),IF(OR($F65=7,$F65=8),VLOOKUP($G$8,Congés_auto!$R$7:$BR$7,2+O$1),)))),0))","v":"2019-05-02"},{"$f":"IF($G65=\"Mardi\",IF(OR($F65=1,$F65=2),VLOOKUP($G$8,Congés_auto!$R$5:$BR$5,2+P$4),IF(OR($F65=3,$F65=4),VLOOKUP($G$8,Congés_auto!$R$5:$BR$5,2+P$3),IF(OR($F65=5,$F65=6),VLOOKUP($G$8,Congés_auto!$R$5:$BR$5,2+P$2),IF(OR($F65=7,$F65=8),VLOOKUP($G$8,Congés_auto!$R$5:$BR$5,2+P$1),)))),IF($G65=\"Jeudi\",IF(OR($F65=1,$F65=2),VLOOKUP($G$8,Congés_auto!$R$7:$BR$7,2+P$4),IF(OR($F65=3,$F65=4),VLOOKUP($G$8,Congés_auto!$R$7:$BR$7,2+P$3),IF(OR($F65=5,$F65=6),VLOOKUP($G$8,Congés_auto!$R$7:$BR$7,2+P$2),IF(OR($F65=7,$F65=8),VLOOKUP($G$8,Congés_auto!$R$7:$BR$7,2+P$1),)))),0))","v":"2019-06-20"},{"$f":"IF($G65=\"Mardi\",IF(OR($F65=1,$F65=2),VLOOKUP($G$8,Congés_auto!$R$5:$BR$5,2+Q$4),IF(OR($F65=3,$F65=4),VLOOKUP($G$8,Congés_auto!$R$5:$BR$5,2+Q$3),IF(OR($F65=5,$F65=6),VLOOKUP($G$8,Congés_auto!$R$5:$BR$5,2+Q$2),IF(OR($F65=7,$F65=8),VLOOKUP($G$8,Congés_auto!$R$5:$BR$5,2+Q$1),)))),IF($G65=\"Jeudi\",IF(OR($F65=1,$F65=2),VLOOKUP($G$8,Congés_auto!$R$7:$BR$7,2+Q$4),IF(OR($F65=3,$F65=4),VLOOKUP($G$8,Congés_auto!$R$7:$BR$7,2+Q$3),IF(OR($F65=5,$F65=6),VLOOKUP($G$8,Congés_auto!$R$7:$BR$7,2+Q$2),IF(OR($F65=7,$F65=8),VLOOKUP($G$8,Congés_auto!$R$7:$BR$7,2+Q$1),)))),0))","v":""}]
[null,null,"Roger","2001-03-27",305,2,"Jeudi",30522,{"$f":"IF($G66=\"Mardi\",IF(OR($F66=1,$F66=2),VLOOKUP($G$8,Congés_auto!$R$5:$BR$5,2+I$4),IF(OR($F66=3,$F66=4),VLOOKUP($G$8,Congés_auto!$R$5:$BR$5,2+I$3),IF(OR($F66=5,$F66=6),VLOOKUP($G$8,Congés_auto!$R$5:$BR$5,2+I$2),IF(OR($F66=7,$F66=8),VLOOKUP($G$8,Congés_auto!$R$5:$BR$5,2+I$1),)))),IF($G66=\"Jeudi\",IF(OR($F66=1,$F66=2),VLOOKUP($G$8,Congés_auto!$R$7:$BR$7,2+I$4),IF(OR($F66=3,$F66=4),VLOOKUP($G$8,Congés_auto!$R$7:$BR$7,2+I$3),IF(OR($F66=5,$F66=6),VLOOKUP($G$8,Congés_auto!$R$7:$BR$7,2+I$2),IF(OR($F66=7,$F66=8),VLOOKUP($G$8,Congés_auto!$R$7:$BR$7,2+I$1),)))),0))","v":"2018-08-30"},{"$f":"IF($G66=\"Mardi\",IF(OR($F66=1,$F66=2),VLOOKUP($G$8,Congés_auto!$R$5:$BR$5,2+J$4),IF(OR($F66=3,$F66=4),VLOOKUP($G$8,Congés_auto!$R$5:$BR$5,2+J$3),IF(OR($F66=5,$F66=6),VLOOKUP($G$8,Congés_auto!$R$5:$BR$5,2+J$2),IF(OR($F66=7,$F66=8),VLOOKUP($G$8,Congés_auto!$R$5:$BR$5,2+J$1),)))),IF($G66=\"Jeudi\",IF(OR($F66=1,$F66=2),VLOOKUP($G$8,Congés_auto!$R$7:$BR$7,2+J$4),IF(OR($F66=3,$F66=4),VLOOKUP($G$8,Congés_auto!$R$7:$BR$7,2+J$3),IF(OR($F66=5,$F66=6),VLOOKUP($G$8,Congés_auto!$R$7:$BR$7,2+J$2),IF(OR($F66=7,$F66=8),VLOOKUP($G$8,Congés_auto!$R$7:$BR$7,2+J$1),)))),0))","v":"2018-09-27"},{"$f":"IF($G66=\"Mardi\",IF(OR($F66=1,$F66=2),VLOOKUP($G$8,Congés_auto!$R$5:$BR$5,2+K$4),IF(OR($F66=3,$F66=4),VLOOKUP($G$8,Congés_auto!$R$5:$BR$5,2+K$3),IF(OR($F66=5,$F66=6),VLOOKUP($G$8,Congés_auto!$R$5:$BR$5,2+K$2),IF(OR($F66=7,$F66=8),VLOOKUP($G$8,Congés_auto!$R$5:$BR$5,2+K$1),)))),IF($G66=\"Jeudi\",IF(OR($F66=1,$F66=2),VLOOKUP($G$8,Congés_auto!$R$7:$BR$7,2+K$4),IF(OR($F66=3,$F66=4),VLOOKUP($G$8,Congés_auto!$R$7:$BR$7,2+K$3),IF(OR($F66=5,$F66=6),VLOOKUP($G$8,Congés_auto!$R$7:$BR$7,2+K$2),IF(OR($F66=7,$F66=8),VLOOKUP($G$8,Congés_auto!$R$7:$BR$7,2+K$1),)))),0))","v":"2018-11-15"},{"$f":"IF($G66=\"Mardi\",IF(OR($F66=1,$F66=2),VLOOKUP($G$8,Congés_auto!$R$5:$BR$5,2+L$4),IF(OR($F66=3,$F66=4),VLOOKUP($G$8,Congés_auto!$R$5:$BR$5,2+L$3),IF(OR($F66=5,$F66=6),VLOOKUP($G$8,Congés_auto!$R$5:$BR$5,2+L$2),IF(OR($F66=7,$F66=8),VLOOKUP($G$8,Congés_auto!$R$5:$BR$5,2+L$1),)))),IF($G66=\"Jeudi\",IF(OR($F66=1,$F66=2),VLOOKUP($G$8,Congés_auto!$R$7:$BR$7,2+L$4),IF(OR($F66=3,$F66=4),VLOOKUP($G$8,Congés_auto!$R$7:$BR$7,2+L$3),IF(OR($F66=5,$F66=6),VLOOKUP($G$8,Congés_auto!$R$7:$BR$7,2+L$2),IF(OR($F66=7,$F66=8),VLOOKUP($G$8,Congés_auto!$R$7:$BR$7,2+L$1),)))),0))","v":"2018-12-13"},{"$f":"IF($G66=\"Mardi\",IF(OR($F66=1,$F66=2),VLOOKUP($G$8,Congés_auto!$R$5:$BR$5,2+M$4),IF(OR($F66=3,$F66=4),VLOOKUP($G$8,Congés_auto!$R$5:$BR$5,2+M$3),IF(OR($F66=5,$F66=6),VLOOKUP($G$8,Congés_auto!$R$5:$BR$5,2+M$2),IF(OR($F66=7,$F66=8),VLOOKUP($G$8,Congés_auto!$R$5:$BR$5,2+M$1),)))),IF($G66=\"Jeudi\",IF(OR($F66=1,$F66=2),VLOOKUP($G$8,Congés_auto!$R$7:$BR$7,2+M$4),IF(OR($F66=3,$F66=4),VLOOKUP($G$8,Congés_auto!$R$7:$BR$7,2+M$3),IF(OR($F66=5,$F66=6),VLOOKUP($G$8,Congés_auto!$R$7:$BR$7,2+M$2),IF(OR($F66=7,$F66=8),VLOOKUP($G$8,Congés_auto!$R$7:$BR$7,2+M$1),)))),0))","v":"2019-02-21"},{"$f":"IF($G66=\"Mardi\",IF(OR($F66=1,$F66=2),VLOOKUP($G$8,Congés_auto!$R$5:$BR$5,2+N$4),IF(OR($F66=3,$F66=4),VLOOKUP($G$8,Congés_auto!$R$5:$BR$5,2+N$3),IF(OR($F66=5,$F66=6),VLOOKUP($G$8,Congés_auto!$R$5:$BR$5,2+N$2),IF(OR($F66=7,$F66=8),VLOOKUP($G$8,Congés_auto!$R$5:$BR$5,2+N$1),)))),IF($G66=\"Jeudi\",IF(OR($F66=1,$F66=2),VLOOKUP($G$8,Congés_auto!$R$7:$BR$7,2+N$4),IF(OR($F66=3,$F66=4),VLOOKUP($G$8,Congés_auto!$R$7:$BR$7,2+N$3),IF(OR($F66=5,$F66=6),VLOOKUP($G$8,Congés_auto!$R$7:$BR$7,2+N$2),IF(OR($F66=7,$F66=8),VLOOKUP($G$8,Congés_auto!$R$7:$BR$7,2+N$1),)))),0))","v":"2019-04-04"},{"$f":"IF($G66=\"Mardi\",IF(OR($F66=1,$F66=2),VLOOKUP($G$8,Congés_auto!$R$5:$BR$5,2+O$4),IF(OR($F66=3,$F66=4),VLOOKUP($G$8,Congés_auto!$R$5:$BR$5,2+O$3),IF(OR($F66=5,$F66=6),VLOOKUP($G$8,Congés_auto!$R$5:$BR$5,2+O$2),IF(OR($F66=7,$F66=8),VLOOKUP($G$8,Congés_auto!$R$5:$BR$5,2+O$1),)))),IF($G66=\"Jeudi\",IF(OR($F66=1,$F66=2),VLOOKUP($G$8,Congés_auto!$R$7:$BR$7,2+O$4),IF(OR($F66=3,$F66=4),VLOOKUP($G$8,Congés_auto!$R$7:$BR$7,2+O$3),IF(OR($F66=5,$F66=6),VLOOKUP($G$8,Congés_auto!$R$7:$BR$7,2+O$2),IF(OR($F66=7,$F66=8),VLOOKUP($G$8,Congés_auto!$R$7:$BR$7,2+O$1),)))),0))","v":"2019-05-02"},{"$f":"IF($G66=\"Mardi\",IF(OR($F66=1,$F66=2),VLOOKUP($G$8,Congés_auto!$R$5:$BR$5,2+P$4),IF(OR($F66=3,$F66=4),VLOOKUP($G$8,Congés_auto!$R$5:$BR$5,2+P$3),IF(OR($F66=5,$F66=6),VLOOKUP($G$8,Congés_auto!$R$5:$BR$5,2+P$2),IF(OR($F66=7,$F66=8),VLOOKUP($G$8,Congés_auto!$R$5:$BR$5,2+P$1),)))),IF($G66=\"Jeudi\",IF(OR($F66=1,$F66=2),VLOOKUP($G$8,Congés_auto!$R$7:$BR$7,2+P$4),IF(OR($F66=3,$F66=4),VLOOKUP($G$8,Congés_auto!$R$7:$BR$7,2+P$3),IF(OR($F66=5,$F66=6),VLOOKUP($G$8,Congés_auto!$R$7:$BR$7,2+P$2),IF(OR($F66=7,$F66=8),VLOOKUP($G$8,Congés_auto!$R$7:$BR$7,2+P$1),)))),0))","v":"2019-06-20"},{"$f":"IF($G66=\"Mardi\",IF(OR($F66=1,$F66=2),VLOOKUP($G$8,Congés_auto!$R$5:$BR$5,2+Q$4),IF(OR($F66=3,$F66=4),VLOOKUP($G$8,Congés_auto!$R$5:$BR$5,2+Q$3),IF(OR($F66=5,$F66=6),VLOOKUP($G$8,Congés_auto!$R$5:$BR$5,2+Q$2),IF(OR($F66=7,$F66=8),VLOOKUP($G$8,Congés_auto!$R$5:$BR$5,2+Q$1),)))),IF($G66=\"Jeudi\",IF(OR($F66=1,$F66=2),VLOOKUP($G$8,Congés_auto!$R$7:$BR$7,2+Q$4),IF(OR($F66=3,$F66=4),VLOOKUP($G$8,Congés_auto!$R$7:$BR$7,2+Q$3),IF(OR($F66=5,$F66=6),VLOOKUP($G$8,Congés_auto!$R$7:$BR$7,2+Q$2),IF(OR($F66=7,$F66=8),VLOOKUP($G$8,Congés_auto!$R$7:$BR$7,2+Q$1),)))),0))","v":""}]
[null,null,"Marie","2001-12-05",305,2,"Jeudi",30523,{"$f":"IF($G67=\"Mardi\",IF(OR($F67=1,$F67=2),VLOOKUP($G$8,Congés_auto!$R$5:$BR$5,2+I$4),IF(OR($F67=3,$F67=4),VLOOKUP($G$8,Congés_auto!$R$5:$BR$5,2+I$3),IF(OR($F67=5,$F67=6),VLOOKUP($G$8,Congés_auto!$R$5:$BR$5,2+I$2),IF(OR($F67=7,$F67=8),VLOOKUP($G$8,Congés_auto!$R$5:$BR$5,2+I$1),)))),IF($G67=\"Jeudi\",IF(OR($F67=1,$F67=2),VLOOKUP($G$8,Congés_auto!$R$7:$BR$7,2+I$4),IF(OR($F67=3,$F67=4),VLOOKUP($G$8,Congés_auto!$R$7:$BR$7,2+I$3),IF(OR($F67=5,$F67=6),VLOOKUP($G$8,Congés_auto!$R$7:$BR$7,2+I$2),IF(OR($F67=7,$F67=8),VLOOKUP($G$8,Congés_auto!$R$7:$BR$7,2+I$1),)))),0))","v":"2018-08-30"},{"$f":"IF($G67=\"Mardi\",IF(OR($F67=1,$F67=2),VLOOKUP($G$8,Congés_auto!$R$5:$BR$5,2+J$4),IF(OR($F67=3,$F67=4),VLOOKUP($G$8,Congés_auto!$R$5:$BR$5,2+J$3),IF(OR($F67=5,$F67=6),VLOOKUP($G$8,Congés_auto!$R$5:$BR$5,2+J$2),IF(OR($F67=7,$F67=8),VLOOKUP($G$8,Congés_auto!$R$5:$BR$5,2+J$1),)))),IF($G67=\"Jeudi\",IF(OR($F67=1,$F67=2),VLOOKUP($G$8,Congés_auto!$R$7:$BR$7,2+J$4),IF(OR($F67=3,$F67=4),VLOOKUP($G$8,Congés_auto!$R$7:$BR$7,2+J$3),IF(OR($F67=5,$F67=6),VLOOKUP($G$8,Congés_auto!$R$7:$BR$7,2+J$2),IF(OR($F67=7,$F67=8),VLOOKUP($G$8,Congés_auto!$R$7:$BR$7,2+J$1),)))),0))","v":"2018-09-27"},{"$f":"IF($G67=\"Mardi\",IF(OR($F67=1,$F67=2),VLOOKUP($G$8,Congés_auto!$R$5:$BR$5,2+K$4),IF(OR($F67=3,$F67=4),VLOOKUP($G$8,Congés_auto!$R$5:$BR$5,2+K$3),IF(OR($F67=5,$F67=6),VLOOKUP($G$8,Congés_auto!$R$5:$BR$5,2+K$2),IF(OR($F67=7,$F67=8),VLOOKUP($G$8,Congés_auto!$R$5:$BR$5,2+K$1),)))),IF($G67=\"Jeudi\",IF(OR($F67=1,$F67=2),VLOOKUP($G$8,Congés_auto!$R$7:$BR$7,2+K$4),IF(OR($F67=3,$F67=4),VLOOKUP($G$8,Congés_auto!$R$7:$BR$7,2+K$3),IF(OR($F67=5,$F67=6),VLOOKUP($G$8,Congés_auto!$R$7:$BR$7,2+K$2),IF(OR($F67=7,$F67=8),VLOOKUP($G$8,Congés_auto!$R$7:$BR$7,2+K$1),)))),0))","v":"2018-11-15"},{"$f":"IF($G67=\"Mardi\",IF(OR($F67=1,$F67=2),VLOOKUP($G$8,Congés_auto!$R$5:$BR$5,2+L$4),IF(OR($F67=3,$F67=4),VLOOKUP($G$8,Congés_auto!$R$5:$BR$5,2+L$3),IF(OR($F67=5,$F67=6),VLOOKUP($G$8,Congés_auto!$R$5:$BR$5,2+L$2),IF(OR($F67=7,$F67=8),VLOOKUP($G$8,Congés_auto!$R$5:$BR$5,2+L$1),)))),IF($G67=\"Jeudi\",IF(OR($F67=1,$F67=2),VLOOKUP($G$8,Congés_auto!$R$7:$BR$7,2+L$4),IF(OR($F67=3,$F67=4),VLOOKUP($G$8,Congés_auto!$R$7:$BR$7,2+L$3),IF(OR($F67=5,$F67=6),VLOOKUP($G$8,Congés_auto!$R$7:$BR$7,2+L$2),IF(OR($F67=7,$F67=8),VLOOKUP($G$8,Congés_auto!$R$7:$BR$7,2+L$1),)))),0))","v":"2018-12-13"},{"$f":"IF($G67=\"Mardi\",IF(OR($F67=1,$F67=2),VLOOKUP($G$8,Congés_auto!$R$5:$BR$5,2+M$4),IF(OR($F67=3,$F67=4),VLOOKUP($G$8,Congés_auto!$R$5:$BR$5,2+M$3),IF(OR($F67=5,$F67=6),VLOOKUP($G$8,Congés_auto!$R$5:$BR$5,2+M$2),IF(OR($F67=7,$F67=8),VLOOKUP($G$8,Congés_auto!$R$5:$BR$5,2+M$1),)))),IF($G67=\"Jeudi\",IF(OR($F67=1,$F67=2),VLOOKUP($G$8,Congés_auto!$R$7:$BR$7,2+M$4),IF(OR($F67=3,$F67=4),VLOOKUP($G$8,Congés_auto!$R$7:$BR$7,2+M$3),IF(OR($F67=5,$F67=6),VLOOKUP($G$8,Congés_auto!$R$7:$BR$7,2+M$2),IF(OR($F67=7,$F67=8),VLOOKUP($G$8,Congés_auto!$R$7:$BR$7,2+M$1),)))),0))","v":"2019-02-21"},{"$f":"IF($G67=\"Mardi\",IF(OR($F67=1,$F67=2),VLOOKUP($G$8,Congés_auto!$R$5:$BR$5,2+N$4),IF(OR($F67=3,$F67=4),VLOOKUP($G$8,Congés_auto!$R$5:$BR$5,2+N$3),IF(OR($F67=5,$F67=6),VLOOKUP($G$8,Congés_auto!$R$5:$BR$5,2+N$2),IF(OR($F67=7,$F67=8),VLOOKUP($G$8,Congés_auto!$R$5:$BR$5,2+N$1),)))),IF($G67=\"Jeudi\",IF(OR($F67=1,$F67=2),VLOOKUP($G$8,Congés_auto!$R$7:$BR$7,2+N$4),IF(OR($F67=3,$F67=4),VLOOKUP($G$8,Congés_auto!$R$7:$BR$7,2+N$3),IF(OR($F67=5,$F67=6),VLOOKUP($G$8,Congés_auto!$R$7:$BR$7,2+N$2),IF(OR($F67=7,$F67=8),VLOOKUP($G$8,Congés_auto!$R$7:$BR$7,2+N$1),)))),0))","v":"2019-04-04"},{"$f":"IF($G67=\"Mardi\",IF(OR($F67=1,$F67=2),VLOOKUP($G$8,Congés_auto!$R$5:$BR$5,2+O$4),IF(OR($F67=3,$F67=4),VLOOKUP($G$8,Congés_auto!$R$5:$BR$5,2+O$3),IF(OR($F67=5,$F67=6),VLOOKUP($G$8,Congés_auto!$R$5:$BR$5,2+O$2),IF(OR($F67=7,$F67=8),VLOOKUP($G$8,Congés_auto!$R$5:$BR$5,2+O$1),)))),IF($G67=\"Jeudi\",IF(OR($F67=1,$F67=2),VLOOKUP($G$8,Congés_auto!$R$7:$BR$7,2+O$4),IF(OR($F67=3,$F67=4),VLOOKUP($G$8,Congés_auto!$R$7:$BR$7,2+O$3),IF(OR($F67=5,$F67=6),VLOOKUP($G$8,Congés_auto!$R$7:$BR$7,2+O$2),IF(OR($F67=7,$F67=8),VLOOKUP($G$8,Congés_auto!$R$7:$BR$7,2+O$1),)))),0))","v":"2019-05-02"},{"$f":"IF($G67=\"Mardi\",IF(OR($F67=1,$F67=2),VLOOKUP($G$8,Congés_auto!$R$5:$BR$5,2+P$4),IF(OR($F67=3,$F67=4),VLOOKUP($G$8,Congés_auto!$R$5:$BR$5,2+P$3),IF(OR($F67=5,$F67=6),VLOOKUP($G$8,Congés_auto!$R$5:$BR$5,2+P$2),IF(OR($F67=7,$F67=8),VLOOKUP($G$8,Congés_auto!$R$5:$BR$5,2+P$1),)))),IF($G67=\"Jeudi\",IF(OR($F67=1,$F67=2),VLOOKUP($G$8,Congés_auto!$R$7:$BR$7,2+P$4),IF(OR($F67=3,$F67=4),VLOOKUP($G$8,Congés_auto!$R$7:$BR$7,2+P$3),IF(OR($F67=5,$F67=6),VLOOKUP($G$8,Congés_auto!$R$7:$BR$7,2+P$2),IF(OR($F67=7,$F67=8),VLOOKUP($G$8,Congés_auto!$R$7:$BR$7,2+P$1),)))),0))","v":"2019-06-20"},{"$f":"IF($G67=\"Mardi\",IF(OR($F67=1,$F67=2),VLOOKUP($G$8,Congés_auto!$R$5:$BR$5,2+Q$4),IF(OR($F67=3,$F67=4),VLOOKUP($G$8,Congés_auto!$R$5:$BR$5,2+Q$3),IF(OR($F67=5,$F67=6),VLOOKUP($G$8,Congés_auto!$R$5:$BR$5,2+Q$2),IF(OR($F67=7,$F67=8),VLOOKUP($G$8,Congés_auto!$R$5:$BR$5,2+Q$1),)))),IF($G67=\"Jeudi\",IF(OR($F67=1,$F67=2),VLOOKUP($G$8,Congés_auto!$R$7:$BR$7,2+Q$4),IF(OR($F67=3,$F67=4),VLOOKUP($G$8,Congés_auto!$R$7:$BR$7,2+Q$3),IF(OR($F67=5,$F67=6),VLOOKUP($G$8,Congés_auto!$R$7:$BR$7,2+Q$2),IF(OR($F67=7,$F67=8),VLOOKUP($G$8,Congés_auto!$R$7:$BR$7,2+Q$1),)))),0))","v":""}]
[null,null,"Gabriel","2001-03-17",305,3,"Jeudi","30530",{"$f":"IF($G68=\"Mardi\",IF(OR($F68=1,$F68=2),VLOOKUP($G$8,Congés_auto!$R$5:$BR$5,2+I$4),IF(OR($F68=3,$F68=4),VLOOKUP($G$8,Congés_auto!$R$5:$BR$5,2+I$3),IF(OR($F68=5,$F68=6),VLOOKUP($G$8,Congés_auto!$R$5:$BR$5,2+I$2),IF(OR($F68=7,$F68=8),VLOOKUP($G$8,Congés_auto!$R$5:$BR$5,2+I$1),)))),IF($G68=\"Jeudi\",IF(OR($F68=1,$F68=2),VLOOKUP($G$8,Congés_auto!$R$7:$BR$7,2+I$4),IF(OR($F68=3,$F68=4),VLOOKUP($G$8,Congés_auto!$R$7:$BR$7,2+I$3),IF(OR($F68=5,$F68=6),VLOOKUP($G$8,Congés_auto!$R$7:$BR$7,2+I$2),IF(OR($F68=7,$F68=8),VLOOKUP($G$8,Congés_auto!$R$7:$BR$7,2+I$1),)))),0))","v":"2018-09-06"},{"$f":"IF($G68=\"Mardi\",IF(OR($F68=1,$F68=2),VLOOKUP($G$8,Congés_auto!$R$5:$BR$5,2+J$4),IF(OR($F68=3,$F68=4),VLOOKUP($G$8,Congés_auto!$R$5:$BR$5,2+J$3),IF(OR($F68=5,$F68=6),VLOOKUP($G$8,Congés_auto!$R$5:$BR$5,2+J$2),IF(OR($F68=7,$F68=8),VLOOKUP($G$8,Congés_auto!$R$5:$BR$5,2+J$1),)))),IF($G68=\"Jeudi\",IF(OR($F68=1,$F68=2),VLOOKUP($G$8,Congés_auto!$R$7:$BR$7,2+J$4),IF(OR($F68=3,$F68=4),VLOOKUP($G$8,Congés_auto!$R$7:$BR$7,2+J$3),IF(OR($F68=5,$F68=6),VLOOKUP($G$8,Congés_auto!$R$7:$BR$7,2+J$2),IF(OR($F68=7,$F68=8),VLOOKUP($G$8,Congés_auto!$R$7:$BR$7,2+J$1),)))),0))","v":"2018-10-04"},{"$f":"IF($G68=\"Mardi\",IF(OR($F68=1,$F68=2),VLOOKUP($G$8,Congés_auto!$R$5:$BR$5,2+K$4),IF(OR($F68=3,$F68=4),VLOOKUP($G$8,Congés_auto!$R$5:$BR$5,2+K$3),IF(OR($F68=5,$F68=6),VLOOKUP($G$8,Congés_auto!$R$5:$BR$5,2+K$2),IF(OR($F68=7,$F68=8),VLOOKUP($G$8,Congés_auto!$R$5:$BR$5,2+K$1),)))),IF($G68=\"Jeudi\",IF(OR($F68=1,$F68=2),VLOOKUP($G$8,Congés_auto!$R$7:$BR$7,2+K$4),IF(OR($F68=3,$F68=4),VLOOKUP($G$8,Congés_auto!$R$7:$BR$7,2+K$3),IF(OR($F68=5,$F68=6),VLOOKUP($G$8,Congés_auto!$R$7:$BR$7,2+K$2),IF(OR($F68=7,$F68=8),VLOOKUP($G$8,Congés_auto!$R$7:$BR$7,2+K$1),)))),0))","v":"2018-11-22"},{"$f":"IF($G68=\"Mardi\",IF(OR($F68=1,$F68=2),VLOOKUP($G$8,Congés_auto!$R$5:$BR$5,2+L$4),IF(OR($F68=3,$F68=4),VLOOKUP($G$8,Congés_auto!$R$5:$BR$5,2+L$3),IF(OR($F68=5,$F68=6),VLOOKUP($G$8,Congés_auto!$R$5:$BR$5,2+L$2),IF(OR($F68=7,$F68=8),VLOOKUP($G$8,Congés_auto!$R$5:$BR$5,2+L$1),)))),IF($G68=\"Jeudi\",IF(OR($F68=1,$F68=2),VLOOKUP($G$8,Congés_auto!$R$7:$BR$7,2+L$4),IF(OR($F68=3,$F68=4),VLOOKUP($G$8,Congés_auto!$R$7:$BR$7,2+L$3),IF(OR($F68=5,$F68=6),VLOOKUP($G$8,Congés_auto!$R$7:$BR$7,2+L$2),IF(OR($F68=7,$F68=8),VLOOKUP($G$8,Congés_auto!$R$7:$BR$7,2+L$1),)))),0))","v":"2019-01-31"},{"$f":"IF($G68=\"Mardi\",IF(OR($F68=1,$F68=2),VLOOKUP($G$8,Congés_auto!$R$5:$BR$5,2+M$4),IF(OR($F68=3,$F68=4),VLOOKUP($G$8,Congés_auto!$R$5:$BR$5,2+M$3),IF(OR($F68=5,$F68=6),VLOOKUP($G$8,Congés_auto!$R$5:$BR$5,2+M$2),IF(OR($F68=7,$F68=8),VLOOKUP($G$8,Congés_auto!$R$5:$BR$5,2+M$1),)))),IF($G68=\"Jeudi\",IF(OR($F68=1,$F68=2),VLOOKUP($G$8,Congés_auto!$R$7:$BR$7,2+M$4),IF(OR($F68=3,$F68=4),VLOOKUP($G$8,Congés_auto!$R$7:$BR$7,2+M$3),IF(OR($F68=5,$F68=6),VLOOKUP($G$8,Congés_auto!$R$7:$BR$7,2+M$2),IF(OR($F68=7,$F68=8),VLOOKUP($G$8,Congés_auto!$R$7:$BR$7,2+M$1),)))),0))","v":"2019-02-28"},{"$f":"IF($G68=\"Mardi\",IF(OR($F68=1,$F68=2),VLOOKUP($G$8,Congés_auto!$R$5:$BR$5,2+N$4),IF(OR($F68=3,$F68=4),VLOOKUP($G$8,Congés_auto!$R$5:$BR$5,2+N$3),IF(OR($F68=5,$F68=6),VLOOKUP($G$8,Congés_auto!$R$5:$BR$5,2+N$2),IF(OR($F68=7,$F68=8),VLOOKUP($G$8,Congés_auto!$R$5:$BR$5,2+N$1),)))),IF($G68=\"Jeudi\",IF(OR($F68=1,$F68=2),VLOOKUP($G$8,Congés_auto!$R$7:$BR$7,2+N$4),IF(OR($F68=3,$F68=4),VLOOKUP($G$8,Congés_auto!$R$7:$BR$7,2+N$3),IF(OR($F68=5,$F68=6),VLOOKUP($G$8,Congés_auto!$R$7:$BR$7,2+N$2),IF(OR($F68=7,$F68=8),VLOOKUP($G$8,Congés_auto!$R$7:$BR$7,2+N$1),)))),0))","v":"2019-04-11"},{"$f":"IF($G68=\"Mardi\",IF(OR($F68=1,$F68=2),VLOOKUP($G$8,Congés_auto!$R$5:$BR$5,2+O$4),IF(OR($F68=3,$F68=4),VLOOKUP($G$8,Congés_auto!$R$5:$BR$5,2+O$3),IF(OR($F68=5,$F68=6),VLOOKUP($G$8,Congés_auto!$R$5:$BR$5,2+O$2),IF(OR($F68=7,$F68=8),VLOOKUP($G$8,Congés_auto!$R$5:$BR$5,2+O$1),)))),IF($G68=\"Jeudi\",IF(OR($F68=1,$F68=2),VLOOKUP($G$8,Congés_auto!$R$7:$BR$7,2+O$4),IF(OR($F68=3,$F68=4),VLOOKUP($G$8,Congés_auto!$R$7:$BR$7,2+O$3),IF(OR($F68=5,$F68=6),VLOOKUP($G$8,Congés_auto!$R$7:$BR$7,2+O$2),IF(OR($F68=7,$F68=8),VLOOKUP($G$8,Congés_auto!$R$7:$BR$7,2+O$1),)))),0))","v":"2019-05-23"},{"$f":"IF($G68=\"Mardi\",IF(OR($F68=1,$F68=2),VLOOKUP($G$8,Congés_auto!$R$5:$BR$5,2+P$4),IF(OR($F68=3,$F68=4),VLOOKUP($G$8,Congés_auto!$R$5:$BR$5,2+P$3),IF(OR($F68=5,$F68=6),VLOOKUP($G$8,Congés_auto!$R$5:$BR$5,2+P$2),IF(OR($F68=7,$F68=8),VLOOKUP($G$8,Congés_auto!$R$5:$BR$5,2+P$1),)))),IF($G68=\"Jeudi\",IF(OR($F68=1,$F68=2),VLOOKUP($G$8,Congés_auto!$R$7:$BR$7,2+P$4),IF(OR($F68=3,$F68=4),VLOOKUP($G$8,Congés_auto!$R$7:$BR$7,2+P$3),IF(OR($F68=5,$F68=6),VLOOKUP($G$8,Congés_auto!$R$7:$BR$7,2+P$2),IF(OR($F68=7,$F68=8),VLOOKUP($G$8,Congés_auto!$R$7:$BR$7,2+P$1),)))),0))","v":"2019-06-27"},{"$f":"IF($G68=\"Mardi\",IF(OR($F68=1,$F68=2),VLOOKUP($G$8,Congés_auto!$R$5:$BR$5,2+Q$4),IF(OR($F68=3,$F68=4),VLOOKUP($G$8,Congés_auto!$R$5:$BR$5,2+Q$3),IF(OR($F68=5,$F68=6),VLOOKUP($G$8,Congés_auto!$R$5:$BR$5,2+Q$2),IF(OR($F68=7,$F68=8),VLOOKUP($G$8,Congés_auto!$R$5:$BR$5,2+Q$1),)))),IF($G68=\"Jeudi\",IF(OR($F68=1,$F68=2),VLOOKUP($G$8,Congés_auto!$R$7:$BR$7,2+Q$4),IF(OR($F68=3,$F68=4),VLOOKUP($G$8,Congés_auto!$R$7:$BR$7,2+Q$3),IF(OR($F68=5,$F68=6),VLOOKUP($G$8,Congés_auto!$R$7:$BR$7,2+Q$2),IF(OR($F68=7,$F68=8),VLOOKUP($G$8,Congés_auto!$R$7:$BR$7,2+Q$1),)))),0))","v":""}]
[{"$nulls":3},"2001-07-04",305,3,"Jeudi",30531,{"$f":"IF($G69=\"Mardi\",IF(OR($F69=1,$F69=2),VLOOKUP($G$8,Congés_auto!$R$5:$BR$5,2+I$4),IF(OR($F69=3,$F69=4),VLOOKUP($G$8,Congés_auto!$R$5:$BR$5,2+I$3),IF(OR($F69=5,$F69=6),VLOOKUP($G$8,Congés_auto!$R$5:$BR$5,2+I$2),IF(OR($F69=7,$F69=8),VLOOKUP($G$8,Congés_auto!$R$5:$BR$5,2+I$1),)))),IF($G69=\"Jeudi\",IF(OR($F69=1,$F69=2),VLOOKUP($G$8,Congés_auto!$R$7:$BR$7,2+I$4),IF(OR($F69=3,$F69=4),VLOOKUP($G$8,Congés_auto!$R$7:$BR$7,2+I$3),IF(OR($F69=5,$F69=6),VLOOKUP($G$8,Congés_auto!$R$7:$BR$7,2+I$2),IF(OR($F69=7,$F69=8),VLOOKUP($G$8,Congés_auto!$R$7:$BR$7,2+I$1),)))),0))","v":"2018-09-06"},{"$f":"IF($G69=\"Mardi\",IF(OR($F69=1,$F69=2),VLOOKUP($G$8,Congés_auto!$R$5:$BR$5,2+J$4),IF(OR($F69=3,$F69=4),VLOOKUP($G$8,Congés_auto!$R$5:$BR$5,2+J$3),IF(OR($F69=5,$F69=6),VLOOKUP($G$8,Congés_auto!$R$5:$BR$5,2+J$2),IF(OR($F69=7,$F69=8),VLOOKUP($G$8,Congés_auto!$R$5:$BR$5,2+J$1),)))),IF($G69=\"Jeudi\",IF(OR($F69=1,$F69=2),VLOOKUP($G$8,Congés_auto!$R$7:$BR$7,2+J$4),IF(OR($F69=3,$F69=4),VLOOKUP($G$8,Congés_auto!$R$7:$BR$7,2+J$3),IF(OR($F69=5,$F69=6),VLOOKUP($G$8,Congés_auto!$R$7:$BR$7,2+J$2),IF(OR($F69=7,$F69=8),VLOOKUP($G$8,Congés_auto!$R$7:$BR$7,2+J$1),)))),0))","v":"2018-10-04"},{"$f":"IF($G69=\"Mardi\",IF(OR($F69=1,$F69=2),VLOOKUP($G$8,Congés_auto!$R$5:$BR$5,2+K$4),IF(OR($F69=3,$F69=4),VLOOKUP($G$8,Congés_auto!$R$5:$BR$5,2+K$3),IF(OR($F69=5,$F69=6),VLOOKUP($G$8,Congés_auto!$R$5:$BR$5,2+K$2),IF(OR($F69=7,$F69=8),VLOOKUP($G$8,Congés_auto!$R$5:$BR$5,2+K$1),)))),IF($G69=\"Jeudi\",IF(OR($F69=1,$F69=2),VLOOKUP($G$8,Congés_auto!$R$7:$BR$7,2+K$4),IF(OR($F69=3,$F69=4),VLOOKUP($G$8,Congés_auto!$R$7:$BR$7,2+K$3),IF(OR($F69=5,$F69=6),VLOOKUP($G$8,Congés_auto!$R$7:$BR$7,2+K$2),IF(OR($F69=7,$F69=8),VLOOKUP($G$8,Congés_auto!$R$7:$BR$7,2+K$1),)))),0))","v":"2018-11-22"},{"$f":"IF($G69=\"Mardi\",IF(OR($F69=1,$F69=2),VLOOKUP($G$8,Congés_auto!$R$5:$BR$5,2+L$4),IF(OR($F69=3,$F69=4),VLOOKUP($G$8,Congés_auto!$R$5:$BR$5,2+L$3),IF(OR($F69=5,$F69=6),VLOOKUP($G$8,Congés_auto!$R$5:$BR$5,2+L$2),IF(OR($F69=7,$F69=8),VLOOKUP($G$8,Congés_auto!$R$5:$BR$5,2+L$1),)))),IF($G69=\"Jeudi\",IF(OR($F69=1,$F69=2),VLOOKUP($G$8,Congés_auto!$R$7:$BR$7,2+L$4),IF(OR($F69=3,$F69=4),VLOOKUP($G$8,Congés_auto!$R$7:$BR$7,2+L$3),IF(OR($F69=5,$F69=6),VLOOKUP($G$8,Congés_auto!$R$7:$BR$7,2+L$2),IF(OR($F69=7,$F69=8),VLOOKUP($G$8,Congés_auto!$R$7:$BR$7,2+L$1),)))),0))","v":"2019-01-31"},{"$f":"IF($G69=\"Mardi\",IF(OR($F69=1,$F69=2),VLOOKUP($G$8,Congés_auto!$R$5:$BR$5,2+M$4),IF(OR($F69=3,$F69=4),VLOOKUP($G$8,Congés_auto!$R$5:$BR$5,2+M$3),IF(OR($F69=5,$F69=6),VLOOKUP($G$8,Congés_auto!$R$5:$BR$5,2+M$2),IF(OR($F69=7,$F69=8),VLOOKUP($G$8,Congés_auto!$R$5:$BR$5,2+M$1),)))),IF($G69=\"Jeudi\",IF(OR($F69=1,$F69=2),VLOOKUP($G$8,Congés_auto!$R$7:$BR$7,2+M$4),IF(OR($F69=3,$F69=4),VLOOKUP($G$8,Congés_auto!$R$7:$BR$7,2+M$3),IF(OR($F69=5,$F69=6),VLOOKUP($G$8,Congés_auto!$R$7:$BR$7,2+M$2),IF(OR($F69=7,$F69=8),VLOOKUP($G$8,Congés_auto!$R$7:$BR$7,2+M$1),)))),0))","v":"2019-02-28"},{"$f":"IF($G69=\"Mardi\",IF(OR($F69=1,$F69=2),VLOOKUP($G$8,Congés_auto!$R$5:$BR$5,2+N$4),IF(OR($F69=3,$F69=4),VLOOKUP($G$8,Congés_auto!$R$5:$BR$5,2+N$3),IF(OR($F69=5,$F69=6),VLOOKUP($G$8,Congés_auto!$R$5:$BR$5,2+N$2),IF(OR($F69=7,$F69=8),VLOOKUP($G$8,Congés_auto!$R$5:$BR$5,2+N$1),)))),IF($G69=\"Jeudi\",IF(OR($F69=1,$F69=2),VLOOKUP($G$8,Congés_auto!$R$7:$BR$7,2+N$4),IF(OR($F69=3,$F69=4),VLOOKUP($G$8,Congés_auto!$R$7:$BR$7,2+N$3),IF(OR($F69=5,$F69=6),VLOOKUP($G$8,Congés_auto!$R$7:$BR$7,2+N$2),IF(OR($F69=7,$F69=8),VLOOKUP($G$8,Congés_auto!$R$7:$BR$7,2+N$1),)))),0))","v":"2019-04-11"},{"$f":"IF($G69=\"Mardi\",IF(OR($F69=1,$F69=2),VLOOKUP($G$8,Congés_auto!$R$5:$BR$5,2+O$4),IF(OR($F69=3,$F69=4),VLOOKUP($G$8,Congés_auto!$R$5:$BR$5,2+O$3),IF(OR($F69=5,$F69=6),VLOOKUP($G$8,Congés_auto!$R$5:$BR$5,2+O$2),IF(OR($F69=7,$F69=8),VLOOKUP($G$8,Congés_auto!$R$5:$BR$5,2+O$1),)))),IF($G69=\"Jeudi\",IF(OR($F69=1,$F69=2),VLOOKUP($G$8,Congés_auto!$R$7:$BR$7,2+O$4),IF(OR($F69=3,$F69=4),VLOOKUP($G$8,Congés_auto!$R$7:$BR$7,2+O$3),IF(OR($F69=5,$F69=6),VLOOKUP($G$8,Congés_auto!$R$7:$BR$7,2+O$2),IF(OR($F69=7,$F69=8),VLOOKUP($G$8,Congés_auto!$R$7:$BR$7,2+O$1),)))),0))","v":"2019-05-23"},{"$f":"IF($G69=\"Mardi\",IF(OR($F69=1,$F69=2),VLOOKUP($G$8,Congés_auto!$R$5:$BR$5,2+P$4),IF(OR($F69=3,$F69=4),VLOOKUP($G$8,Congés_auto!$R$5:$BR$5,2+P$3),IF(OR($F69=5,$F69=6),VLOOKUP($G$8,Congés_auto!$R$5:$BR$5,2+P$2),IF(OR($F69=7,$F69=8),VLOOKUP($G$8,Congés_auto!$R$5:$BR$5,2+P$1),)))),IF($G69=\"Jeudi\",IF(OR($F69=1,$F69=2),VLOOKUP($G$8,Congés_auto!$R$7:$BR$7,2+P$4),IF(OR($F69=3,$F69=4),VLOOKUP($G$8,Congés_auto!$R$7:$BR$7,2+P$3),IF(OR($F69=5,$F69=6),VLOOKUP($G$8,Congés_auto!$R$7:$BR$7,2+P$2),IF(OR($F69=7,$F69=8),VLOOKUP($G$8,Congés_auto!$R$7:$BR$7,2+P$1),)))),0))","v":"2019-06-27"},{"$f":"IF($G69=\"Mardi\",IF(OR($F69=1,$F69=2),VLOOKUP($G$8,Congés_auto!$R$5:$BR$5,2+Q$4),IF(OR($F69=3,$F69=4),VLOOKUP($G$8,Congés_auto!$R$5:$BR$5,2+Q$3),IF(OR($F69=5,$F69=6),VLOOKUP($G$8,Congés_auto!$R$5:$BR$5,2+Q$2),IF(OR($F69=7,$F69=8),VLOOKUP($G$8,Congés_auto!$R$5:$BR$5,2+Q$1),)))),IF($G69=\"Jeudi\",IF(OR($F69=1,$F69=2),VLOOKUP($G$8,Congés_auto!$R$7:$BR$7,2+Q$4),IF(OR($F69=3,$F69=4),VLOOKUP($G$8,Congés_auto!$R$7:$BR$7,2+Q$3),IF(OR($F69=5,$F69=6),VLOOKUP($G$8,Congés_auto!$R$7:$BR$7,2+Q$2),IF(OR($F69=7,$F69=8),VLOOKUP($G$8,Congés_auto!$R$7:$BR$7,2+Q$1),)))),0))","v":""}]
[{"$nulls":3},"2000-08-28",305,3,"Jeudi",30532,{"$f":"IF($G70=\"Mardi\",IF(OR($F70=1,$F70=2),VLOOKUP($G$8,Congés_auto!$R$5:$BR$5,2+I$4),IF(OR($F70=3,$F70=4),VLOOKUP($G$8,Congés_auto!$R$5:$BR$5,2+I$3),IF(OR($F70=5,$F70=6),VLOOKUP($G$8,Congés_auto!$R$5:$BR$5,2+I$2),IF(OR($F70=7,$F70=8),VLOOKUP($G$8,Congés_auto!$R$5:$BR$5,2+I$1),)))),IF($G70=\"Jeudi\",IF(OR($F70=1,$F70=2),VLOOKUP($G$8,Congés_auto!$R$7:$BR$7,2+I$4),IF(OR($F70=3,$F70=4),VLOOKUP($G$8,Congés_auto!$R$7:$BR$7,2+I$3),IF(OR($F70=5,$F70=6),VLOOKUP($G$8,Congés_auto!$R$7:$BR$7,2+I$2),IF(OR($F70=7,$F70=8),VLOOKUP($G$8,Congés_auto!$R$7:$BR$7,2+I$1),)))),0))","v":"2018-09-06"},{"$f":"IF($G70=\"Mardi\",IF(OR($F70=1,$F70=2),VLOOKUP($G$8,Congés_auto!$R$5:$BR$5,2+J$4),IF(OR($F70=3,$F70=4),VLOOKUP($G$8,Congés_auto!$R$5:$BR$5,2+J$3),IF(OR($F70=5,$F70=6),VLOOKUP($G$8,Congés_auto!$R$5:$BR$5,2+J$2),IF(OR($F70=7,$F70=8),VLOOKUP($G$8,Congés_auto!$R$5:$BR$5,2+J$1),)))),IF($G70=\"Jeudi\",IF(OR($F70=1,$F70=2),VLOOKUP($G$8,Congés_auto!$R$7:$BR$7,2+J$4),IF(OR($F70=3,$F70=4),VLOOKUP($G$8,Congés_auto!$R$7:$BR$7,2+J$3),IF(OR($F70=5,$F70=6),VLOOKUP($G$8,Congés_auto!$R$7:$BR$7,2+J$2),IF(OR($F70=7,$F70=8),VLOOKUP($G$8,Congés_auto!$R$7:$BR$7,2+J$1),)))),0))","v":"2018-10-04"},{"$f":"IF($G70=\"Mardi\",IF(OR($F70=1,$F70=2),VLOOKUP($G$8,Congés_auto!$R$5:$BR$5,2+K$4),IF(OR($F70=3,$F70=4),VLOOKUP($G$8,Congés_auto!$R$5:$BR$5,2+K$3),IF(OR($F70=5,$F70=6),VLOOKUP($G$8,Congés_auto!$R$5:$BR$5,2+K$2),IF(OR($F70=7,$F70=8),VLOOKUP($G$8,Congés_auto!$R$5:$BR$5,2+K$1),)))),IF($G70=\"Jeudi\",IF(OR($F70=1,$F70=2),VLOOKUP($G$8,Congés_auto!$R$7:$BR$7,2+K$4),IF(OR($F70=3,$F70=4),VLOOKUP($G$8,Congés_auto!$R$7:$BR$7,2+K$3),IF(OR($F70=5,$F70=6),VLOOKUP($G$8,Congés_auto!$R$7:$BR$7,2+K$2),IF(OR($F70=7,$F70=8),VLOOKUP($G$8,Congés_auto!$R$7:$BR$7,2+K$1),)))),0))","v":"2018-11-22"},{"$f":"IF($G70=\"Mardi\",IF(OR($F70=1,$F70=2),VLOOKUP($G$8,Congés_auto!$R$5:$BR$5,2+L$4),IF(OR($F70=3,$F70=4),VLOOKUP($G$8,Congés_auto!$R$5:$BR$5,2+L$3),IF(OR($F70=5,$F70=6),VLOOKUP($G$8,Congés_auto!$R$5:$BR$5,2+L$2),IF(OR($F70=7,$F70=8),VLOOKUP($G$8,Congés_auto!$R$5:$BR$5,2+L$1),)))),IF($G70=\"Jeudi\",IF(OR($F70=1,$F70=2),VLOOKUP($G$8,Congés_auto!$R$7:$BR$7,2+L$4),IF(OR($F70=3,$F70=4),VLOOKUP($G$8,Congés_auto!$R$7:$BR$7,2+L$3),IF(OR($F70=5,$F70=6),VLOOKUP($G$8,Congés_auto!$R$7:$BR$7,2+L$2),IF(OR($F70=7,$F70=8),VLOOKUP($G$8,Congés_auto!$R$7:$BR$7,2+L$1),)))),0))","v":"2019-01-31"},{"$f":"IF($G70=\"Mardi\",IF(OR($F70=1,$F70=2),VLOOKUP($G$8,Congés_auto!$R$5:$BR$5,2+M$4),IF(OR($F70=3,$F70=4),VLOOKUP($G$8,Congés_auto!$R$5:$BR$5,2+M$3),IF(OR($F70=5,$F70=6),VLOOKUP($G$8,Congés_auto!$R$5:$BR$5,2+M$2),IF(OR($F70=7,$F70=8),VLOOKUP($G$8,Congés_auto!$R$5:$BR$5,2+M$1),)))),IF($G70=\"Jeudi\",IF(OR($F70=1,$F70=2),VLOOKUP($G$8,Congés_auto!$R$7:$BR$7,2+M$4),IF(OR($F70=3,$F70=4),VLOOKUP($G$8,Congés_auto!$R$7:$BR$7,2+M$3),IF(OR($F70=5,$F70=6),VLOOKUP($G$8,Congés_auto!$R$7:$BR$7,2+M$2),IF(OR($F70=7,$F70=8),VLOOKUP($G$8,Congés_auto!$R$7:$BR$7,2+M$1),)))),0))","v":"2019-02-28"},{"$f":"IF($G70=\"Mardi\",IF(OR($F70=1,$F70=2),VLOOKUP($G$8,Congés_auto!$R$5:$BR$5,2+N$4),IF(OR($F70=3,$F70=4),VLOOKUP($G$8,Congés_auto!$R$5:$BR$5,2+N$3),IF(OR($F70=5,$F70=6),VLOOKUP($G$8,Congés_auto!$R$5:$BR$5,2+N$2),IF(OR($F70=7,$F70=8),VLOOKUP($G$8,Congés_auto!$R$5:$BR$5,2+N$1),)))),IF($G70=\"Jeudi\",IF(OR($F70=1,$F70=2),VLOOKUP($G$8,Congés_auto!$R$7:$BR$7,2+N$4),IF(OR($F70=3,$F70=4),VLOOKUP($G$8,Congés_auto!$R$7:$BR$7,2+N$3),IF(OR($F70=5,$F70=6),VLOOKUP($G$8,Congés_auto!$R$7:$BR$7,2+N$2),IF(OR($F70=7,$F70=8),VLOOKUP($G$8,Congés_auto!$R$7:$BR$7,2+N$1),)))),0))","v":"2019-04-11"},{"$f":"IF($G70=\"Mardi\",IF(OR($F70=1,$F70=2),VLOOKUP($G$8,Congés_auto!$R$5:$BR$5,2+O$4),IF(OR($F70=3,$F70=4),VLOOKUP($G$8,Congés_auto!$R$5:$BR$5,2+O$3),IF(OR($F70=5,$F70=6),VLOOKUP($G$8,Congés_auto!$R$5:$BR$5,2+O$2),IF(OR($F70=7,$F70=8),VLOOKUP($G$8,Congés_auto!$R$5:$BR$5,2+O$1),)))),IF($G70=\"Jeudi\",IF(OR($F70=1,$F70=2),VLOOKUP($G$8,Congés_auto!$R$7:$BR$7,2+O$4),IF(OR($F70=3,$F70=4),VLOOKUP($G$8,Congés_auto!$R$7:$BR$7,2+O$3),IF(OR($F70=5,$F70=6),VLOOKUP($G$8,Congés_auto!$R$7:$BR$7,2+O$2),IF(OR($F70=7,$F70=8),VLOOKUP($G$8,Congés_auto!$R$7:$BR$7,2+O$1),)))),0))","v":"2019-05-23"},{"$f":"IF($G70=\"Mardi\",IF(OR($F70=1,$F70=2),VLOOKUP($G$8,Congés_auto!$R$5:$BR$5,2+P$4),IF(OR($F70=3,$F70=4),VLOOKUP($G$8,Congés_auto!$R$5:$BR$5,2+P$3),IF(OR($F70=5,$F70=6),VLOOKUP($G$8,Congés_auto!$R$5:$BR$5,2+P$2),IF(OR($F70=7,$F70=8),VLOOKUP($G$8,Congés_auto!$R$5:$BR$5,2+P$1),)))),IF($G70=\"Jeudi\",IF(OR($F70=1,$F70=2),VLOOKUP($G$8,Congés_auto!$R$7:$BR$7,2+P$4),IF(OR($F70=3,$F70=4),VLOOKUP($G$8,Congés_auto!$R$7:$BR$7,2+P$3),IF(OR($F70=5,$F70=6),VLOOKUP($G$8,Congés_auto!$R$7:$BR$7,2+P$2),IF(OR($F70=7,$F70=8),VLOOKUP($G$8,Congés_auto!$R$7:$BR$7,2+P$1),)))),0))","v":"2019-06-27"},{"$f":"IF($G70=\"Mardi\",IF(OR($F70=1,$F70=2),VLOOKUP($G$8,Congés_auto!$R$5:$BR$5,2+Q$4),IF(OR($F70=3,$F70=4),VLOOKUP($G$8,Congés_auto!$R$5:$BR$5,2+Q$3),IF(OR($F70=5,$F70=6),VLOOKUP($G$8,Congés_auto!$R$5:$BR$5,2+Q$2),IF(OR($F70=7,$F70=8),VLOOKUP($G$8,Congés_auto!$R$5:$BR$5,2+Q$1),)))),IF($G70=\"Jeudi\",IF(OR($F70=1,$F70=2),VLOOKUP($G$8,Congés_auto!$R$7:$BR$7,2+Q$4),IF(OR($F70=3,$F70=4),VLOOKUP($G$8,Congés_auto!$R$7:$BR$7,2+Q$3),IF(OR($F70=5,$F70=6),VLOOKUP($G$8,Congés_auto!$R$7:$BR$7,2+Q$2),IF(OR($F70=7,$F70=8),VLOOKUP($G$8,Congés_auto!$R$7:$BR$7,2+Q$1),)))),0))","v":""}]
[{"$nulls":3},"2000-10-06",305,4,"Jeudi","30540",{"$f":"IF($G71=\"Mardi\",IF(OR($F71=1,$F71=2),VLOOKUP($G$8,Congés_auto!$R$5:$BR$5,2+I$4),IF(OR($F71=3,$F71=4),VLOOKUP($G$8,Congés_auto!$R$5:$BR$5,2+I$3),IF(OR($F71=5,$F71=6),VLOOKUP($G$8,Congés_auto!$R$5:$BR$5,2+I$2),IF(OR($F71=7,$F71=8),VLOOKUP($G$8,Congés_auto!$R$5:$BR$5,2+I$1),)))),IF($G71=\"Jeudi\",IF(OR($F71=1,$F71=2),VLOOKUP($G$8,Congés_auto!$R$7:$BR$7,2+I$4),IF(OR($F71=3,$F71=4),VLOOKUP($G$8,Congés_auto!$R$7:$BR$7,2+I$3),IF(OR($F71=5,$F71=6),VLOOKUP($G$8,Congés_auto!$R$7:$BR$7,2+I$2),IF(OR($F71=7,$F71=8),VLOOKUP($G$8,Congés_auto!$R$7:$BR$7,2+I$1),)))),0))","v":"2018-09-06"},{"$f":"IF($G71=\"Mardi\",IF(OR($F71=1,$F71=2),VLOOKUP($G$8,Congés_auto!$R$5:$BR$5,2+J$4),IF(OR($F71=3,$F71=4),VLOOKUP($G$8,Congés_auto!$R$5:$BR$5,2+J$3),IF(OR($F71=5,$F71=6),VLOOKUP($G$8,Congés_auto!$R$5:$BR$5,2+J$2),IF(OR($F71=7,$F71=8),VLOOKUP($G$8,Congés_auto!$R$5:$BR$5,2+J$1),)))),IF($G71=\"Jeudi\",IF(OR($F71=1,$F71=2),VLOOKUP($G$8,Congés_auto!$R$7:$BR$7,2+J$4),IF(OR($F71=3,$F71=4),VLOOKUP($G$8,Congés_auto!$R$7:$BR$7,2+J$3),IF(OR($F71=5,$F71=6),VLOOKUP($G$8,Congés_auto!$R$7:$BR$7,2+J$2),IF(OR($F71=7,$F71=8),VLOOKUP($G$8,Congés_auto!$R$7:$BR$7,2+J$1),)))),0))","v":"2018-10-04"},{"$f":"IF($G71=\"Mardi\",IF(OR($F71=1,$F71=2),VLOOKUP($G$8,Congés_auto!$R$5:$BR$5,2+K$4),IF(OR($F71=3,$F71=4),VLOOKUP($G$8,Congés_auto!$R$5:$BR$5,2+K$3),IF(OR($F71=5,$F71=6),VLOOKUP($G$8,Congés_auto!$R$5:$BR$5,2+K$2),IF(OR($F71=7,$F71=8),VLOOKUP($G$8,Congés_auto!$R$5:$BR$5,2+K$1),)))),IF($G71=\"Jeudi\",IF(OR($F71=1,$F71=2),VLOOKUP($G$8,Congés_auto!$R$7:$BR$7,2+K$4),IF(OR($F71=3,$F71=4),VLOOKUP($G$8,Congés_auto!$R$7:$BR$7,2+K$3),IF(OR($F71=5,$F71=6),VLOOKUP($G$8,Congés_auto!$R$7:$BR$7,2+K$2),IF(OR($F71=7,$F71=8),VLOOKUP($G$8,Congés_auto!$R$7:$BR$7,2+K$1),)))),0))","v":"2018-11-22"},{"$f":"IF($G71=\"Mardi\",IF(OR($F71=1,$F71=2),VLOOKUP($G$8,Congés_auto!$R$5:$BR$5,2+L$4),IF(OR($F71=3,$F71=4),VLOOKUP($G$8,Congés_auto!$R$5:$BR$5,2+L$3),IF(OR($F71=5,$F71=6),VLOOKUP($G$8,Congés_auto!$R$5:$BR$5,2+L$2),IF(OR($F71=7,$F71=8),VLOOKUP($G$8,Congés_auto!$R$5:$BR$5,2+L$1),)))),IF($G71=\"Jeudi\",IF(OR($F71=1,$F71=2),VLOOKUP($G$8,Congés_auto!$R$7:$BR$7,2+L$4),IF(OR($F71=3,$F71=4),VLOOKUP($G$8,Congés_auto!$R$7:$BR$7,2+L$3),IF(OR($F71=5,$F71=6),VLOOKUP($G$8,Congés_auto!$R$7:$BR$7,2+L$2),IF(OR($F71=7,$F71=8),VLOOKUP($G$8,Congés_auto!$R$7:$BR$7,2+L$1),)))),0))","v":"2019-01-31"},{"$f":"IF($G71=\"Mardi\",IF(OR($F71=1,$F71=2),VLOOKUP($G$8,Congés_auto!$R$5:$BR$5,2+M$4),IF(OR($F71=3,$F71=4),VLOOKUP($G$8,Congés_auto!$R$5:$BR$5,2+M$3),IF(OR($F71=5,$F71=6),VLOOKUP($G$8,Congés_auto!$R$5:$BR$5,2+M$2),IF(OR($F71=7,$F71=8),VLOOKUP($G$8,Congés_auto!$R$5:$BR$5,2+M$1),)))),IF($G71=\"Jeudi\",IF(OR($F71=1,$F71=2),VLOOKUP($G$8,Congés_auto!$R$7:$BR$7,2+M$4),IF(OR($F71=3,$F71=4),VLOOKUP($G$8,Congés_auto!$R$7:$BR$7,2+M$3),IF(OR($F71=5,$F71=6),VLOOKUP($G$8,Congés_auto!$R$7:$BR$7,2+M$2),IF(OR($F71=7,$F71=8),VLOOKUP($G$8,Congés_auto!$R$7:$BR$7,2+M$1),)))),0))","v":"2019-02-28"},{"$f":"IF($G71=\"Mardi\",IF(OR($F71=1,$F71=2),VLOOKUP($G$8,Congés_auto!$R$5:$BR$5,2+N$4),IF(OR($F71=3,$F71=4),VLOOKUP($G$8,Congés_auto!$R$5:$BR$5,2+N$3),IF(OR($F71=5,$F71=6),VLOOKUP($G$8,Congés_auto!$R$5:$BR$5,2+N$2),IF(OR($F71=7,$F71=8),VLOOKUP($G$8,Congés_auto!$R$5:$BR$5,2+N$1),)))),IF($G71=\"Jeudi\",IF(OR($F71=1,$F71=2),VLOOKUP($G$8,Congés_auto!$R$7:$BR$7,2+N$4),IF(OR($F71=3,$F71=4),VLOOKUP($G$8,Congés_auto!$R$7:$BR$7,2+N$3),IF(OR($F71=5,$F71=6),VLOOKUP($G$8,Congés_auto!$R$7:$BR$7,2+N$2),IF(OR($F71=7,$F71=8),VLOOKUP($G$8,Congés_auto!$R$7:$BR$7,2+N$1),)))),0))","v":"2019-04-11"},{"$f":"IF($G71=\"Mardi\",IF(OR($F71=1,$F71=2),VLOOKUP($G$8,Congés_auto!$R$5:$BR$5,2+O$4),IF(OR($F71=3,$F71=4),VLOOKUP($G$8,Congés_auto!$R$5:$BR$5,2+O$3),IF(OR($F71=5,$F71=6),VLOOKUP($G$8,Congés_auto!$R$5:$BR$5,2+O$2),IF(OR($F71=7,$F71=8),VLOOKUP($G$8,Congés_auto!$R$5:$BR$5,2+O$1),)))),IF($G71=\"Jeudi\",IF(OR($F71=1,$F71=2),VLOOKUP($G$8,Congés_auto!$R$7:$BR$7,2+O$4),IF(OR($F71=3,$F71=4),VLOOKUP($G$8,Congés_auto!$R$7:$BR$7,2+O$3),IF(OR($F71=5,$F71=6),VLOOKUP($G$8,Congés_auto!$R$7:$BR$7,2+O$2),IF(OR($F71=7,$F71=8),VLOOKUP($G$8,Congés_auto!$R$7:$BR$7,2+O$1),)))),0))","v":"2019-05-23"},{"$f":"IF($G71=\"Mardi\",IF(OR($F71=1,$F71=2),VLOOKUP($G$8,Congés_auto!$R$5:$BR$5,2+P$4),IF(OR($F71=3,$F71=4),VLOOKUP($G$8,Congés_auto!$R$5:$BR$5,2+P$3),IF(OR($F71=5,$F71=6),VLOOKUP($G$8,Congés_auto!$R$5:$BR$5,2+P$2),IF(OR($F71=7,$F71=8),VLOOKUP($G$8,Congés_auto!$R$5:$BR$5,2+P$1),)))),IF($G71=\"Jeudi\",IF(OR($F71=1,$F71=2),VLOOKUP($G$8,Congés_auto!$R$7:$BR$7,2+P$4),IF(OR($F71=3,$F71=4),VLOOKUP($G$8,Congés_auto!$R$7:$BR$7,2+P$3),IF(OR($F71=5,$F71=6),VLOOKUP($G$8,Congés_auto!$R$7:$BR$7,2+P$2),IF(OR($F71=7,$F71=8),VLOOKUP($G$8,Congés_auto!$R$7:$BR$7,2+P$1),)))),0))","v":"2019-06-27"},{"$f":"IF($G71=\"Mardi\",IF(OR($F71=1,$F71=2),VLOOKUP($G$8,Congés_auto!$R$5:$BR$5,2+Q$4),IF(OR($F71=3,$F71=4),VLOOKUP($G$8,Congés_auto!$R$5:$BR$5,2+Q$3),IF(OR($F71=5,$F71=6),VLOOKUP($G$8,Congés_auto!$R$5:$BR$5,2+Q$2),IF(OR($F71=7,$F71=8),VLOOKUP($G$8,Congés_auto!$R$5:$BR$5,2+Q$1),)))),IF($G71=\"Jeudi\",IF(OR($F71=1,$F71=2),VLOOKUP($G$8,Congés_auto!$R$7:$BR$7,2+Q$4),IF(OR($F71=3,$F71=4),VLOOKUP($G$8,Congés_auto!$R$7:$BR$7,2+Q$3),IF(OR($F71=5,$F71=6),VLOOKUP($G$8,Congés_auto!$R$7:$BR$7,2+Q$2),IF(OR($F71=7,$F71=8),VLOOKUP($G$8,Congés_auto!$R$7:$BR$7,2+Q$1),)))),0))","v":""}]
[null,null,"Andrea","2001-05-29",305,4,"Jeudi",30541,{"$f":"IF($G72=\"Mardi\",IF(OR($F72=1,$F72=2),VLOOKUP($G$8,Congés_auto!$R$5:$BR$5,2+I$4),IF(OR($F72=3,$F72=4),VLOOKUP($G$8,Congés_auto!$R$5:$BR$5,2+I$3),IF(OR($F72=5,$F72=6),VLOOKUP($G$8,Congés_auto!$R$5:$BR$5,2+I$2),IF(OR($F72=7,$F72=8),VLOOKUP($G$8,Congés_auto!$R$5:$BR$5,2+I$1),)))),IF($G72=\"Jeudi\",IF(OR($F72=1,$F72=2),VLOOKUP($G$8,Congés_auto!$R$7:$BR$7,2+I$4),IF(OR($F72=3,$F72=4),VLOOKUP($G$8,Congés_auto!$R$7:$BR$7,2+I$3),IF(OR($F72=5,$F72=6),VLOOKUP($G$8,Congés_auto!$R$7:$BR$7,2+I$2),IF(OR($F72=7,$F72=8),VLOOKUP($G$8,Congés_auto!$R$7:$BR$7,2+I$1),)))),0))","v":"2018-09-06"},{"$f":"IF($G72=\"Mardi\",IF(OR($F72=1,$F72=2),VLOOKUP($G$8,Congés_auto!$R$5:$BR$5,2+J$4),IF(OR($F72=3,$F72=4),VLOOKUP($G$8,Congés_auto!$R$5:$BR$5,2+J$3),IF(OR($F72=5,$F72=6),VLOOKUP($G$8,Congés_auto!$R$5:$BR$5,2+J$2),IF(OR($F72=7,$F72=8),VLOOKUP($G$8,Congés_auto!$R$5:$BR$5,2+J$1),)))),IF($G72=\"Jeudi\",IF(OR($F72=1,$F72=2),VLOOKUP($G$8,Congés_auto!$R$7:$BR$7,2+J$4),IF(OR($F72=3,$F72=4),VLOOKUP($G$8,Congés_auto!$R$7:$BR$7,2+J$3),IF(OR($F72=5,$F72=6),VLOOKUP($G$8,Congés_auto!$R$7:$BR$7,2+J$2),IF(OR($F72=7,$F72=8),VLOOKUP($G$8,Congés_auto!$R$7:$BR$7,2+J$1),)))),0))","v":"2018-10-04"},{"$f":"IF($G72=\"Mardi\",IF(OR($F72=1,$F72=2),VLOOKUP($G$8,Congés_auto!$R$5:$BR$5,2+K$4),IF(OR($F72=3,$F72=4),VLOOKUP($G$8,Congés_auto!$R$5:$BR$5,2+K$3),IF(OR($F72=5,$F72=6),VLOOKUP($G$8,Congés_auto!$R$5:$BR$5,2+K$2),IF(OR($F72=7,$F72=8),VLOOKUP($G$8,Congés_auto!$R$5:$BR$5,2+K$1),)))),IF($G72=\"Jeudi\",IF(OR($F72=1,$F72=2),VLOOKUP($G$8,Congés_auto!$R$7:$BR$7,2+K$4),IF(OR($F72=3,$F72=4),VLOOKUP($G$8,Congés_auto!$R$7:$BR$7,2+K$3),IF(OR($F72=5,$F72=6),VLOOKUP($G$8,Congés_auto!$R$7:$BR$7,2+K$2),IF(OR($F72=7,$F72=8),VLOOKUP($G$8,Congés_auto!$R$7:$BR$7,2+K$1),)))),0))","v":"2018-11-22"},{"$f":"IF($G72=\"Mardi\",IF(OR($F72=1,$F72=2),VLOOKUP($G$8,Congés_auto!$R$5:$BR$5,2+L$4),IF(OR($F72=3,$F72=4),VLOOKUP($G$8,Congés_auto!$R$5:$BR$5,2+L$3),IF(OR($F72=5,$F72=6),VLOOKUP($G$8,Congés_auto!$R$5:$BR$5,2+L$2),IF(OR($F72=7,$F72=8),VLOOKUP($G$8,Congés_auto!$R$5:$BR$5,2+L$1),)))),IF($G72=\"Jeudi\",IF(OR($F72=1,$F72=2),VLOOKUP($G$8,Congés_auto!$R$7:$BR$7,2+L$4),IF(OR($F72=3,$F72=4),VLOOKUP($G$8,Congés_auto!$R$7:$BR$7,2+L$3),IF(OR($F72=5,$F72=6),VLOOKUP($G$8,Congés_auto!$R$7:$BR$7,2+L$2),IF(OR($F72=7,$F72=8),VLOOKUP($G$8,Congés_auto!$R$7:$BR$7,2+L$1),)))),0))","v":"2019-01-31"},{"$f":"IF($G72=\"Mardi\",IF(OR($F72=1,$F72=2),VLOOKUP($G$8,Congés_auto!$R$5:$BR$5,2+M$4),IF(OR($F72=3,$F72=4),VLOOKUP($G$8,Congés_auto!$R$5:$BR$5,2+M$3),IF(OR($F72=5,$F72=6),VLOOKUP($G$8,Congés_auto!$R$5:$BR$5,2+M$2),IF(OR($F72=7,$F72=8),VLOOKUP($G$8,Congés_auto!$R$5:$BR$5,2+M$1),)))),IF($G72=\"Jeudi\",IF(OR($F72=1,$F72=2),VLOOKUP($G$8,Congés_auto!$R$7:$BR$7,2+M$4),IF(OR($F72=3,$F72=4),VLOOKUP($G$8,Congés_auto!$R$7:$BR$7,2+M$3),IF(OR($F72=5,$F72=6),VLOOKUP($G$8,Congés_auto!$R$7:$BR$7,2+M$2),IF(OR($F72=7,$F72=8),VLOOKUP($G$8,Congés_auto!$R$7:$BR$7,2+M$1),)))),0))","v":"2019-02-28"},{"$f":"IF($G72=\"Mardi\",IF(OR($F72=1,$F72=2),VLOOKUP($G$8,Congés_auto!$R$5:$BR$5,2+N$4),IF(OR($F72=3,$F72=4),VLOOKUP($G$8,Congés_auto!$R$5:$BR$5,2+N$3),IF(OR($F72=5,$F72=6),VLOOKUP($G$8,Congés_auto!$R$5:$BR$5,2+N$2),IF(OR($F72=7,$F72=8),VLOOKUP($G$8,Congés_auto!$R$5:$BR$5,2+N$1),)))),IF($G72=\"Jeudi\",IF(OR($F72=1,$F72=2),VLOOKUP($G$8,Congés_auto!$R$7:$BR$7,2+N$4),IF(OR($F72=3,$F72=4),VLOOKUP($G$8,Congés_auto!$R$7:$BR$7,2+N$3),IF(OR($F72=5,$F72=6),VLOOKUP($G$8,Congés_auto!$R$7:$BR$7,2+N$2),IF(OR($F72=7,$F72=8),VLOOKUP($G$8,Congés_auto!$R$7:$BR$7,2+N$1),)))),0))","v":"2019-04-11"},{"$f":"IF($G72=\"Mardi\",IF(OR($F72=1,$F72=2),VLOOKUP($G$8,Congés_auto!$R$5:$BR$5,2+O$4),IF(OR($F72=3,$F72=4),VLOOKUP($G$8,Congés_auto!$R$5:$BR$5,2+O$3),IF(OR($F72=5,$F72=6),VLOOKUP($G$8,Congés_auto!$R$5:$BR$5,2+O$2),IF(OR($F72=7,$F72=8),VLOOKUP($G$8,Congés_auto!$R$5:$BR$5,2+O$1),)))),IF($G72=\"Jeudi\",IF(OR($F72=1,$F72=2),VLOOKUP($G$8,Congés_auto!$R$7:$BR$7,2+O$4),IF(OR($F72=3,$F72=4),VLOOKUP($G$8,Congés_auto!$R$7:$BR$7,2+O$3),IF(OR($F72=5,$F72=6),VLOOKUP($G$8,Congés_auto!$R$7:$BR$7,2+O$2),IF(OR($F72=7,$F72=8),VLOOKUP($G$8,Congés_auto!$R$7:$BR$7,2+O$1),)))),0))","v":"2019-05-23"},{"$f":"IF($G72=\"Mardi\",IF(OR($F72=1,$F72=2),VLOOKUP($G$8,Congés_auto!$R$5:$BR$5,2+P$4),IF(OR($F72=3,$F72=4),VLOOKUP($G$8,Congés_auto!$R$5:$BR$5,2+P$3),IF(OR($F72=5,$F72=6),VLOOKUP($G$8,Congés_auto!$R$5:$BR$5,2+P$2),IF(OR($F72=7,$F72=8),VLOOKUP($G$8,Congés_auto!$R$5:$BR$5,2+P$1),)))),IF($G72=\"Jeudi\",IF(OR($F72=1,$F72=2),VLOOKUP($G$8,Congés_auto!$R$7:$BR$7,2+P$4),IF(OR($F72=3,$F72=4),VLOOKUP($G$8,Congés_auto!$R$7:$BR$7,2+P$3),IF(OR($F72=5,$F72=6),VLOOKUP($G$8,Congés_auto!$R$7:$BR$7,2+P$2),IF(OR($F72=7,$F72=8),VLOOKUP($G$8,Congés_auto!$R$7:$BR$7,2+P$1),)))),0))","v":"2019-06-27"},{"$f":"IF($G72=\"Mardi\",IF(OR($F72=1,$F72=2),VLOOKUP($G$8,Congés_auto!$R$5:$BR$5,2+Q$4),IF(OR($F72=3,$F72=4),VLOOKUP($G$8,Congés_auto!$R$5:$BR$5,2+Q$3),IF(OR($F72=5,$F72=6),VLOOKUP($G$8,Congés_auto!$R$5:$BR$5,2+Q$2),IF(OR($F72=7,$F72=8),VLOOKUP($G$8,Congés_auto!$R$5:$BR$5,2+Q$1),)))),IF($G72=\"Jeudi\",IF(OR($F72=1,$F72=2),VLOOKUP($G$8,Congés_auto!$R$7:$BR$7,2+Q$4),IF(OR($F72=3,$F72=4),VLOOKUP($G$8,Congés_auto!$R$7:$BR$7,2+Q$3),IF(OR($F72=5,$F72=6),VLOOKUP($G$8,Congés_auto!$R$7:$BR$7,2+Q$2),IF(OR($F72=7,$F72=8),VLOOKUP($G$8,Congés_auto!$R$7:$BR$7,2+Q$1),)))),0))","v":""}]
[null,null,"Gaëlle","2001-01-17",305,4,"Jeudi",30542,{"$f":"IF($G73=\"Mardi\",IF(OR($F73=1,$F73=2),VLOOKUP($G$8,Congés_auto!$R$5:$BR$5,2+I$4),IF(OR($F73=3,$F73=4),VLOOKUP($G$8,Congés_auto!$R$5:$BR$5,2+I$3),IF(OR($F73=5,$F73=6),VLOOKUP($G$8,Congés_auto!$R$5:$BR$5,2+I$2),IF(OR($F73=7,$F73=8),VLOOKUP($G$8,Congés_auto!$R$5:$BR$5,2+I$1),)))),IF($G73=\"Jeudi\",IF(OR($F73=1,$F73=2),VLOOKUP($G$8,Congés_auto!$R$7:$BR$7,2+I$4),IF(OR($F73=3,$F73=4),VLOOKUP($G$8,Congés_auto!$R$7:$BR$7,2+I$3),IF(OR($F73=5,$F73=6),VLOOKUP($G$8,Congés_auto!$R$7:$BR$7,2+I$2),IF(OR($F73=7,$F73=8),VLOOKUP($G$8,Congés_auto!$R$7:$BR$7,2+I$1),)))),0))","v":"2018-09-06"},{"$f":"IF($G73=\"Mardi\",IF(OR($F73=1,$F73=2),VLOOKUP($G$8,Congés_auto!$R$5:$BR$5,2+J$4),IF(OR($F73=3,$F73=4),VLOOKUP($G$8,Congés_auto!$R$5:$BR$5,2+J$3),IF(OR($F73=5,$F73=6),VLOOKUP($G$8,Congés_auto!$R$5:$BR$5,2+J$2),IF(OR($F73=7,$F73=8),VLOOKUP($G$8,Congés_auto!$R$5:$BR$5,2+J$1),)))),IF($G73=\"Jeudi\",IF(OR($F73=1,$F73=2),VLOOKUP($G$8,Congés_auto!$R$7:$BR$7,2+J$4),IF(OR($F73=3,$F73=4),VLOOKUP($G$8,Congés_auto!$R$7:$BR$7,2+J$3),IF(OR($F73=5,$F73=6),VLOOKUP($G$8,Congés_auto!$R$7:$BR$7,2+J$2),IF(OR($F73=7,$F73=8),VLOOKUP($G$8,Congés_auto!$R$7:$BR$7,2+J$1),)))),0))","v":"2018-10-04"},{"$f":"IF($G73=\"Mardi\",IF(OR($F73=1,$F73=2),VLOOKUP($G$8,Congés_auto!$R$5:$BR$5,2+K$4),IF(OR($F73=3,$F73=4),VLOOKUP($G$8,Congés_auto!$R$5:$BR$5,2+K$3),IF(OR($F73=5,$F73=6),VLOOKUP($G$8,Congés_auto!$R$5:$BR$5,2+K$2),IF(OR($F73=7,$F73=8),VLOOKUP($G$8,Congés_auto!$R$5:$BR$5,2+K$1),)))),IF($G73=\"Jeudi\",IF(OR($F73=1,$F73=2),VLOOKUP($G$8,Congés_auto!$R$7:$BR$7,2+K$4),IF(OR($F73=3,$F73=4),VLOOKUP($G$8,Congés_auto!$R$7:$BR$7,2+K$3),IF(OR($F73=5,$F73=6),VLOOKUP($G$8,Congés_auto!$R$7:$BR$7,2+K$2),IF(OR($F73=7,$F73=8),VLOOKUP($G$8,Congés_auto!$R$7:$BR$7,2+K$1),)))),0))","v":"2018-11-22"},{"$f":"IF($G73=\"Mardi\",IF(OR($F73=1,$F73=2),VLOOKUP($G$8,Congés_auto!$R$5:$BR$5,2+L$4),IF(OR($F73=3,$F73=4),VLOOKUP($G$8,Congés_auto!$R$5:$BR$5,2+L$3),IF(OR($F73=5,$F73=6),VLOOKUP($G$8,Congés_auto!$R$5:$BR$5,2+L$2),IF(OR($F73=7,$F73=8),VLOOKUP($G$8,Congés_auto!$R$5:$BR$5,2+L$1),)))),IF($G73=\"Jeudi\",IF(OR($F73=1,$F73=2),VLOOKUP($G$8,Congés_auto!$R$7:$BR$7,2+L$4),IF(OR($F73=3,$F73=4),VLOOKUP($G$8,Congés_auto!$R$7:$BR$7,2+L$3),IF(OR($F73=5,$F73=6),VLOOKUP($G$8,Congés_auto!$R$7:$BR$7,2+L$2),IF(OR($F73=7,$F73=8),VLOOKUP($G$8,Congés_auto!$R$7:$BR$7,2+L$1),)))),0))","v":"2019-01-31"},{"$f":"IF($G73=\"Mardi\",IF(OR($F73=1,$F73=2),VLOOKUP($G$8,Congés_auto!$R$5:$BR$5,2+M$4),IF(OR($F73=3,$F73=4),VLOOKUP($G$8,Congés_auto!$R$5:$BR$5,2+M$3),IF(OR($F73=5,$F73=6),VLOOKUP($G$8,Congés_auto!$R$5:$BR$5,2+M$2),IF(OR($F73=7,$F73=8),VLOOKUP($G$8,Congés_auto!$R$5:$BR$5,2+M$1),)))),IF($G73=\"Jeudi\",IF(OR($F73=1,$F73=2),VLOOKUP($G$8,Congés_auto!$R$7:$BR$7,2+M$4),IF(OR($F73=3,$F73=4),VLOOKUP($G$8,Congés_auto!$R$7:$BR$7,2+M$3),IF(OR($F73=5,$F73=6),VLOOKUP($G$8,Congés_auto!$R$7:$BR$7,2+M$2),IF(OR($F73=7,$F73=8),VLOOKUP($G$8,Congés_auto!$R$7:$BR$7,2+M$1),)))),0))","v":"2019-02-28"},{"$f":"IF($G73=\"Mardi\",IF(OR($F73=1,$F73=2),VLOOKUP($G$8,Congés_auto!$R$5:$BR$5,2+N$4),IF(OR($F73=3,$F73=4),VLOOKUP($G$8,Congés_auto!$R$5:$BR$5,2+N$3),IF(OR($F73=5,$F73=6),VLOOKUP($G$8,Congés_auto!$R$5:$BR$5,2+N$2),IF(OR($F73=7,$F73=8),VLOOKUP($G$8,Congés_auto!$R$5:$BR$5,2+N$1),)))),IF($G73=\"Jeudi\",IF(OR($F73=1,$F73=2),VLOOKUP($G$8,Congés_auto!$R$7:$BR$7,2+N$4),IF(OR($F73=3,$F73=4),VLOOKUP($G$8,Congés_auto!$R$7:$BR$7,2+N$3),IF(OR($F73=5,$F73=6),VLOOKUP($G$8,Congés_auto!$R$7:$BR$7,2+N$2),IF(OR($F73=7,$F73=8),VLOOKUP($G$8,Congés_auto!$R$7:$BR$7,2+N$1),)))),0))","v":"2019-04-11"},{"$f":"IF($G73=\"Mardi\",IF(OR($F73=1,$F73=2),VLOOKUP($G$8,Congés_auto!$R$5:$BR$5,2+O$4),IF(OR($F73=3,$F73=4),VLOOKUP($G$8,Congés_auto!$R$5:$BR$5,2+O$3),IF(OR($F73=5,$F73=6),VLOOKUP($G$8,Congés_auto!$R$5:$BR$5,2+O$2),IF(OR($F73=7,$F73=8),VLOOKUP($G$8,Congés_auto!$R$5:$BR$5,2+O$1),)))),IF($G73=\"Jeudi\",IF(OR($F73=1,$F73=2),VLOOKUP($G$8,Congés_auto!$R$7:$BR$7,2+O$4),IF(OR($F73=3,$F73=4),VLOOKUP($G$8,Congés_auto!$R$7:$BR$7,2+O$3),IF(OR($F73=5,$F73=6),VLOOKUP($G$8,Congés_auto!$R$7:$BR$7,2+O$2),IF(OR($F73=7,$F73=8),VLOOKUP($G$8,Congés_auto!$R$7:$BR$7,2+O$1),)))),0))","v":"2019-05-23"},{"$f":"IF($G73=\"Mardi\",IF(OR($F73=1,$F73=2),VLOOKUP($G$8,Congés_auto!$R$5:$BR$5,2+P$4),IF(OR($F73=3,$F73=4),VLOOKUP($G$8,Congés_auto!$R$5:$BR$5,2+P$3),IF(OR($F73=5,$F73=6),VLOOKUP($G$8,Congés_auto!$R$5:$BR$5,2+P$2),IF(OR($F73=7,$F73=8),VLOOKUP($G$8,Congés_auto!$R$5:$BR$5,2+P$1),)))),IF($G73=\"Jeudi\",IF(OR($F73=1,$F73=2),VLOOKUP($G$8,Congés_auto!$R$7:$BR$7,2+P$4),IF(OR($F73=3,$F73=4),VLOOKUP($G$8,Congés_auto!$R$7:$BR$7,2+P$3),IF(OR($F73=5,$F73=6),VLOOKUP($G$8,Congés_auto!$R$7:$BR$7,2+P$2),IF(OR($F73=7,$F73=8),VLOOKUP($G$8,Congés_auto!$R$7:$BR$7,2+P$1),)))),0))","v":"2019-06-27"},{"$f":"IF($G73=\"Mardi\",IF(OR($F73=1,$F73=2),VLOOKUP($G$8,Congés_auto!$R$5:$BR$5,2+Q$4),IF(OR($F73=3,$F73=4),VLOOKUP($G$8,Congés_auto!$R$5:$BR$5,2+Q$3),IF(OR($F73=5,$F73=6),VLOOKUP($G$8,Congés_auto!$R$5:$BR$5,2+Q$2),IF(OR($F73=7,$F73=8),VLOOKUP($G$8,Congés_auto!$R$5:$BR$5,2+Q$1),)))),IF($G73=\"Jeudi\",IF(OR($F73=1,$F73=2),VLOOKUP($G$8,Congés_auto!$R$7:$BR$7,2+Q$4),IF(OR($F73=3,$F73=4),VLOOKUP($G$8,Congés_auto!$R$7:$BR$7,2+Q$3),IF(OR($F73=5,$F73=6),VLOOKUP($G$8,Congés_auto!$R$7:$BR$7,2+Q$2),IF(OR($F73=7,$F73=8),VLOOKUP($G$8,Congés_auto!$R$7:$BR$7,2+Q$1),)))),0))","v":""}]
[{"$nulls":3},"2001-06-05",305,4,"Jeudi",30543,{"$f":"IF($G74=\"Mardi\",IF(OR($F74=1,$F74=2),VLOOKUP($G$8,Congés_auto!$R$5:$BR$5,2+I$4),IF(OR($F74=3,$F74=4),VLOOKUP($G$8,Congés_auto!$R$5:$BR$5,2+I$3),IF(OR($F74=5,$F74=6),VLOOKUP($G$8,Congés_auto!$R$5:$BR$5,2+I$2),IF(OR($F74=7,$F74=8),VLOOKUP($G$8,Congés_auto!$R$5:$BR$5,2+I$1),)))),IF($G74=\"Jeudi\",IF(OR($F74=1,$F74=2),VLOOKUP($G$8,Congés_auto!$R$7:$BR$7,2+I$4),IF(OR($F74=3,$F74=4),VLOOKUP($G$8,Congés_auto!$R$7:$BR$7,2+I$3),IF(OR($F74=5,$F74=6),VLOOKUP($G$8,Congés_auto!$R$7:$BR$7,2+I$2),IF(OR($F74=7,$F74=8),VLOOKUP($G$8,Congés_auto!$R$7:$BR$7,2+I$1),)))),0))","v":"2018-09-06"},{"$f":"IF($G74=\"Mardi\",IF(OR($F74=1,$F74=2),VLOOKUP($G$8,Congés_auto!$R$5:$BR$5,2+J$4),IF(OR($F74=3,$F74=4),VLOOKUP($G$8,Congés_auto!$R$5:$BR$5,2+J$3),IF(OR($F74=5,$F74=6),VLOOKUP($G$8,Congés_auto!$R$5:$BR$5,2+J$2),IF(OR($F74=7,$F74=8),VLOOKUP($G$8,Congés_auto!$R$5:$BR$5,2+J$1),)))),IF($G74=\"Jeudi\",IF(OR($F74=1,$F74=2),VLOOKUP($G$8,Congés_auto!$R$7:$BR$7,2+J$4),IF(OR($F74=3,$F74=4),VLOOKUP($G$8,Congés_auto!$R$7:$BR$7,2+J$3),IF(OR($F74=5,$F74=6),VLOOKUP($G$8,Congés_auto!$R$7:$BR$7,2+J$2),IF(OR($F74=7,$F74=8),VLOOKUP($G$8,Congés_auto!$R$7:$BR$7,2+J$1),)))),0))","v":"2018-10-04"},{"$f":"IF($G74=\"Mardi\",IF(OR($F74=1,$F74=2),VLOOKUP($G$8,Congés_auto!$R$5:$BR$5,2+K$4),IF(OR($F74=3,$F74=4),VLOOKUP($G$8,Congés_auto!$R$5:$BR$5,2+K$3),IF(OR($F74=5,$F74=6),VLOOKUP($G$8,Congés_auto!$R$5:$BR$5,2+K$2),IF(OR($F74=7,$F74=8),VLOOKUP($G$8,Congés_auto!$R$5:$BR$5,2+K$1),)))),IF($G74=\"Jeudi\",IF(OR($F74=1,$F74=2),VLOOKUP($G$8,Congés_auto!$R$7:$BR$7,2+K$4),IF(OR($F74=3,$F74=4),VLOOKUP($G$8,Congés_auto!$R$7:$BR$7,2+K$3),IF(OR($F74=5,$F74=6),VLOOKUP($G$8,Congés_auto!$R$7:$BR$7,2+K$2),IF(OR($F74=7,$F74=8),VLOOKUP($G$8,Congés_auto!$R$7:$BR$7,2+K$1),)))),0))","v":"2018-11-22"},{"$f":"IF($G74=\"Mardi\",IF(OR($F74=1,$F74=2),VLOOKUP($G$8,Congés_auto!$R$5:$BR$5,2+L$4),IF(OR($F74=3,$F74=4),VLOOKUP($G$8,Congés_auto!$R$5:$BR$5,2+L$3),IF(OR($F74=5,$F74=6),VLOOKUP($G$8,Congés_auto!$R$5:$BR$5,2+L$2),IF(OR($F74=7,$F74=8),VLOOKUP($G$8,Congés_auto!$R$5:$BR$5,2+L$1),)))),IF($G74=\"Jeudi\",IF(OR($F74=1,$F74=2),VLOOKUP($G$8,Congés_auto!$R$7:$BR$7,2+L$4),IF(OR($F74=3,$F74=4),VLOOKUP($G$8,Congés_auto!$R$7:$BR$7,2+L$3),IF(OR($F74=5,$F74=6),VLOOKUP($G$8,Congés_auto!$R$7:$BR$7,2+L$2),IF(OR($F74=7,$F74=8),VLOOKUP($G$8,Congés_auto!$R$7:$BR$7,2+L$1),)))),0))","v":"2019-01-31"},{"$f":"IF($G74=\"Mardi\",IF(OR($F74=1,$F74=2),VLOOKUP($G$8,Congés_auto!$R$5:$BR$5,2+M$4),IF(OR($F74=3,$F74=4),VLOOKUP($G$8,Congés_auto!$R$5:$BR$5,2+M$3),IF(OR($F74=5,$F74=6),VLOOKUP($G$8,Congés_auto!$R$5:$BR$5,2+M$2),IF(OR($F74=7,$F74=8),VLOOKUP($G$8,Congés_auto!$R$5:$BR$5,2+M$1),)))),IF($G74=\"Jeudi\",IF(OR($F74=1,$F74=2),VLOOKUP($G$8,Congés_auto!$R$7:$BR$7,2+M$4),IF(OR($F74=3,$F74=4),VLOOKUP($G$8,Congés_auto!$R$7:$BR$7,2+M$3),IF(OR($F74=5,$F74=6),VLOOKUP($G$8,Congés_auto!$R$7:$BR$7,2+M$2),IF(OR($F74=7,$F74=8),VLOOKUP($G$8,Congés_auto!$R$7:$BR$7,2+M$1),)))),0))","v":"2019-02-28"},{"$f":"IF($G74=\"Mardi\",IF(OR($F74=1,$F74=2),VLOOKUP($G$8,Congés_auto!$R$5:$BR$5,2+N$4),IF(OR($F74=3,$F74=4),VLOOKUP($G$8,Congés_auto!$R$5:$BR$5,2+N$3),IF(OR($F74=5,$F74=6),VLOOKUP($G$8,Congés_auto!$R$5:$BR$5,2+N$2),IF(OR($F74=7,$F74=8),VLOOKUP($G$8,Congés_auto!$R$5:$BR$5,2+N$1),)))),IF($G74=\"Jeudi\",IF(OR($F74=1,$F74=2),VLOOKUP($G$8,Congés_auto!$R$7:$BR$7,2+N$4),IF(OR($F74=3,$F74=4),VLOOKUP($G$8,Congés_auto!$R$7:$BR$7,2+N$3),IF(OR($F74=5,$F74=6),VLOOKUP($G$8,Congés_auto!$R$7:$BR$7,2+N$2),IF(OR($F74=7,$F74=8),VLOOKUP($G$8,Congés_auto!$R$7:$BR$7,2+N$1),)))),0))","v":"2019-04-11"},{"$f":"IF($G74=\"Mardi\",IF(OR($F74=1,$F74=2),VLOOKUP($G$8,Congés_auto!$R$5:$BR$5,2+O$4),IF(OR($F74=3,$F74=4),VLOOKUP($G$8,Congés_auto!$R$5:$BR$5,2+O$3),IF(OR($F74=5,$F74=6),VLOOKUP($G$8,Congés_auto!$R$5:$BR$5,2+O$2),IF(OR($F74=7,$F74=8),VLOOKUP($G$8,Congés_auto!$R$5:$BR$5,2+O$1),)))),IF($G74=\"Jeudi\",IF(OR($F74=1,$F74=2),VLOOKUP($G$8,Congés_auto!$R$7:$BR$7,2+O$4),IF(OR($F74=3,$F74=4),VLOOKUP($G$8,Congés_auto!$R$7:$BR$7,2+O$3),IF(OR($F74=5,$F74=6),VLOOKUP($G$8,Congés_auto!$R$7:$BR$7,2+O$2),IF(OR($F74=7,$F74=8),VLOOKUP($G$8,Congés_auto!$R$7:$BR$7,2+O$1),)))),0))","v":"2019-05-23"},{"$f":"IF($G74=\"Mardi\",IF(OR($F74=1,$F74=2),VLOOKUP($G$8,Congés_auto!$R$5:$BR$5,2+P$4),IF(OR($F74=3,$F74=4),VLOOKUP($G$8,Congés_auto!$R$5:$BR$5,2+P$3),IF(OR($F74=5,$F74=6),VLOOKUP($G$8,Congés_auto!$R$5:$BR$5,2+P$2),IF(OR($F74=7,$F74=8),VLOOKUP($G$8,Congés_auto!$R$5:$BR$5,2+P$1),)))),IF($G74=\"Jeudi\",IF(OR($F74=1,$F74=2),VLOOKUP($G$8,Congés_auto!$R$7:$BR$7,2+P$4),IF(OR($F74=3,$F74=4),VLOOKUP($G$8,Congés_auto!$R$7:$BR$7,2+P$3),IF(OR($F74=5,$F74=6),VLOOKUP($G$8,Congés_auto!$R$7:$BR$7,2+P$2),IF(OR($F74=7,$F74=8),VLOOKUP($G$8,Congés_auto!$R$7:$BR$7,2+P$1),)))),0))","v":"2019-06-27"},{"$f":"IF($G74=\"Mardi\",IF(OR($F74=1,$F74=2),VLOOKUP($G$8,Congés_auto!$R$5:$BR$5,2+Q$4),IF(OR($F74=3,$F74=4),VLOOKUP($G$8,Congés_auto!$R$5:$BR$5,2+Q$3),IF(OR($F74=5,$F74=6),VLOOKUP($G$8,Congés_auto!$R$5:$BR$5,2+Q$2),IF(OR($F74=7,$F74=8),VLOOKUP($G$8,Congés_auto!$R$5:$BR$5,2+Q$1),)))),IF($G74=\"Jeudi\",IF(OR($F74=1,$F74=2),VLOOKUP($G$8,Congés_auto!$R$7:$BR$7,2+Q$4),IF(OR($F74=3,$F74=4),VLOOKUP($G$8,Congés_auto!$R$7:$BR$7,2+Q$3),IF(OR($F74=5,$F74=6),VLOOKUP($G$8,Congés_auto!$R$7:$BR$7,2+Q$2),IF(OR($F74=7,$F74=8),VLOOKUP($G$8,Congés_auto!$R$7:$BR$7,2+Q$1),)))),0))","v":""}]
[{"$nulls":3},"2001-04-25",305,5,"Jeudi","30550",{"$f":"IF($G75=\"Mardi\",IF(OR($F75=1,$F75=2),VLOOKUP($G$8,Congés_auto!$R$5:$BR$5,2+I$4),IF(OR($F75=3,$F75=4),VLOOKUP($G$8,Congés_auto!$R$5:$BR$5,2+I$3),IF(OR($F75=5,$F75=6),VLOOKUP($G$8,Congés_auto!$R$5:$BR$5,2+I$2),IF(OR($F75=7,$F75=8),VLOOKUP($G$8,Congés_auto!$R$5:$BR$5,2+I$1),)))),IF($G75=\"Jeudi\",IF(OR($F75=1,$F75=2),VLOOKUP($G$8,Congés_auto!$R$7:$BR$7,2+I$4),IF(OR($F75=3,$F75=4),VLOOKUP($G$8,Congés_auto!$R$7:$BR$7,2+I$3),IF(OR($F75=5,$F75=6),VLOOKUP($G$8,Congés_auto!$R$7:$BR$7,2+I$2),IF(OR($F75=7,$F75=8),VLOOKUP($G$8,Congés_auto!$R$7:$BR$7,2+I$1),)))),0))","v":"2018-09-13"},{"$f":"IF($G75=\"Mardi\",IF(OR($F75=1,$F75=2),VLOOKUP($G$8,Congés_auto!$R$5:$BR$5,2+J$4),IF(OR($F75=3,$F75=4),VLOOKUP($G$8,Congés_auto!$R$5:$BR$5,2+J$3),IF(OR($F75=5,$F75=6),VLOOKUP($G$8,Congés_auto!$R$5:$BR$5,2+J$2),IF(OR($F75=7,$F75=8),VLOOKUP($G$8,Congés_auto!$R$5:$BR$5,2+J$1),)))),IF($G75=\"Jeudi\",IF(OR($F75=1,$F75=2),VLOOKUP($G$8,Congés_auto!$R$7:$BR$7,2+J$4),IF(OR($F75=3,$F75=4),VLOOKUP($G$8,Congés_auto!$R$7:$BR$7,2+J$3),IF(OR($F75=5,$F75=6),VLOOKUP($G$8,Congés_auto!$R$7:$BR$7,2+J$2),IF(OR($F75=7,$F75=8),VLOOKUP($G$8,Congés_auto!$R$7:$BR$7,2+J$1),)))),0))","v":"2018-10-11"},{"$f":"IF($G75=\"Mardi\",IF(OR($F75=1,$F75=2),VLOOKUP($G$8,Congés_auto!$R$5:$BR$5,2+K$4),IF(OR($F75=3,$F75=4),VLOOKUP($G$8,Congés_auto!$R$5:$BR$5,2+K$3),IF(OR($F75=5,$F75=6),VLOOKUP($G$8,Congés_auto!$R$5:$BR$5,2+K$2),IF(OR($F75=7,$F75=8),VLOOKUP($G$8,Congés_auto!$R$5:$BR$5,2+K$1),)))),IF($G75=\"Jeudi\",IF(OR($F75=1,$F75=2),VLOOKUP($G$8,Congés_auto!$R$7:$BR$7,2+K$4),IF(OR($F75=3,$F75=4),VLOOKUP($G$8,Congés_auto!$R$7:$BR$7,2+K$3),IF(OR($F75=5,$F75=6),VLOOKUP($G$8,Congés_auto!$R$7:$BR$7,2+K$2),IF(OR($F75=7,$F75=8),VLOOKUP($G$8,Congés_auto!$R$7:$BR$7,2+K$1),)))),0))","v":"2018-11-29"},{"$f":"IF($G75=\"Mardi\",IF(OR($F75=1,$F75=2),VLOOKUP($G$8,Congés_auto!$R$5:$BR$5,2+L$4),IF(OR($F75=3,$F75=4),VLOOKUP($G$8,Congés_auto!$R$5:$BR$5,2+L$3),IF(OR($F75=5,$F75=6),VLOOKUP($G$8,Congés_auto!$R$5:$BR$5,2+L$2),IF(OR($F75=7,$F75=8),VLOOKUP($G$8,Congés_auto!$R$5:$BR$5,2+L$1),)))),IF($G75=\"Jeudi\",IF(OR($F75=1,$F75=2),VLOOKUP($G$8,Congés_auto!$R$7:$BR$7,2+L$4),IF(OR($F75=3,$F75=4),VLOOKUP($G$8,Congés_auto!$R$7:$BR$7,2+L$3),IF(OR($F75=5,$F75=6),VLOOKUP($G$8,Congés_auto!$R$7:$BR$7,2+L$2),IF(OR($F75=7,$F75=8),VLOOKUP($G$8,Congés_auto!$R$7:$BR$7,2+L$1),)))),0))","v":"2019-02-07"},{"$f":"IF($G75=\"Mardi\",IF(OR($F75=1,$F75=2),VLOOKUP($G$8,Congés_auto!$R$5:$BR$5,2+M$4),IF(OR($F75=3,$F75=4),VLOOKUP($G$8,Congés_auto!$R$5:$BR$5,2+M$3),IF(OR($F75=5,$F75=6),VLOOKUP($G$8,Congés_auto!$R$5:$BR$5,2+M$2),IF(OR($F75=7,$F75=8),VLOOKUP($G$8,Congés_auto!$R$5:$BR$5,2+M$1),)))),IF($G75=\"Jeudi\",IF(OR($F75=1,$F75=2),VLOOKUP($G$8,Congés_auto!$R$7:$BR$7,2+M$4),IF(OR($F75=3,$F75=4),VLOOKUP($G$8,Congés_auto!$R$7:$BR$7,2+M$3),IF(OR($F75=5,$F75=6),VLOOKUP($G$8,Congés_auto!$R$7:$BR$7,2+M$2),IF(OR($F75=7,$F75=8),VLOOKUP($G$8,Congés_auto!$R$7:$BR$7,2+M$1),)))),0))","v":"2019-03-07"},{"$f":"IF($G75=\"Mardi\",IF(OR($F75=1,$F75=2),VLOOKUP($G$8,Congés_auto!$R$5:$BR$5,2+N$4),IF(OR($F75=3,$F75=4),VLOOKUP($G$8,Congés_auto!$R$5:$BR$5,2+N$3),IF(OR($F75=5,$F75=6),VLOOKUP($G$8,Congés_auto!$R$5:$BR$5,2+N$2),IF(OR($F75=7,$F75=8),VLOOKUP($G$8,Congés_auto!$R$5:$BR$5,2+N$1),)))),IF($G75=\"Jeudi\",IF(OR($F75=1,$F75=2),VLOOKUP($G$8,Congés_auto!$R$7:$BR$7,2+N$4),IF(OR($F75=3,$F75=4),VLOOKUP($G$8,Congés_auto!$R$7:$BR$7,2+N$3),IF(OR($F75=5,$F75=6),VLOOKUP($G$8,Congés_auto!$R$7:$BR$7,2+N$2),IF(OR($F75=7,$F75=8),VLOOKUP($G$8,Congés_auto!$R$7:$BR$7,2+N$1),)))),0))","v":"2019-04-18"},{"$f":"IF($G75=\"Mardi\",IF(OR($F75=1,$F75=2),VLOOKUP($G$8,Congés_auto!$R$5:$BR$5,2+O$4),IF(OR($F75=3,$F75=4),VLOOKUP($G$8,Congés_auto!$R$5:$BR$5,2+O$3),IF(OR($F75=5,$F75=6),VLOOKUP($G$8,Congés_auto!$R$5:$BR$5,2+O$2),IF(OR($F75=7,$F75=8),VLOOKUP($G$8,Congés_auto!$R$5:$BR$5,2+O$1),)))),IF($G75=\"Jeudi\",IF(OR($F75=1,$F75=2),VLOOKUP($G$8,Congés_auto!$R$7:$BR$7,2+O$4),IF(OR($F75=3,$F75=4),VLOOKUP($G$8,Congés_auto!$R$7:$BR$7,2+O$3),IF(OR($F75=5,$F75=6),VLOOKUP($G$8,Congés_auto!$R$7:$BR$7,2+O$2),IF(OR($F75=7,$F75=8),VLOOKUP($G$8,Congés_auto!$R$7:$BR$7,2+O$1),)))),0))","v":"2019-06-06"},{"$f":"IF($G75=\"Mardi\",IF(OR($F75=1,$F75=2),VLOOKUP($G$8,Congés_auto!$R$5:$BR$5,2+P$4),IF(OR($F75=3,$F75=4),VLOOKUP($G$8,Congés_auto!$R$5:$BR$5,2+P$3),IF(OR($F75=5,$F75=6),VLOOKUP($G$8,Congés_auto!$R$5:$BR$5,2+P$2),IF(OR($F75=7,$F75=8),VLOOKUP($G$8,Congés_auto!$R$5:$BR$5,2+P$1),)))),IF($G75=\"Jeudi\",IF(OR($F75=1,$F75=2),VLOOKUP($G$8,Congés_auto!$R$7:$BR$7,2+P$4),IF(OR($F75=3,$F75=4),VLOOKUP($G$8,Congés_auto!$R$7:$BR$7,2+P$3),IF(OR($F75=5,$F75=6),VLOOKUP($G$8,Congés_auto!$R$7:$BR$7,2+P$2),IF(OR($F75=7,$F75=8),VLOOKUP($G$8,Congés_auto!$R$7:$BR$7,2+P$1),)))),0))","v":"2019-07-04"},{"$f":"IF($G75=\"Mardi\",IF(OR($F75=1,$F75=2),VLOOKUP($G$8,Congés_auto!$R$5:$BR$5,2+Q$4),IF(OR($F75=3,$F75=4),VLOOKUP($G$8,Congés_auto!$R$5:$BR$5,2+Q$3),IF(OR($F75=5,$F75=6),VLOOKUP($G$8,Congés_auto!$R$5:$BR$5,2+Q$2),IF(OR($F75=7,$F75=8),VLOOKUP($G$8,Congés_auto!$R$5:$BR$5,2+Q$1),)))),IF($G75=\"Jeudi\",IF(OR($F75=1,$F75=2),VLOOKUP($G$8,Congés_auto!$R$7:$BR$7,2+Q$4),IF(OR($F75=3,$F75=4),VLOOKUP($G$8,Congés_auto!$R$7:$BR$7,2+Q$3),IF(OR($F75=5,$F75=6),VLOOKUP($G$8,Congés_auto!$R$7:$BR$7,2+Q$2),IF(OR($F75=7,$F75=8),VLOOKUP($G$8,Congés_auto!$R$7:$BR$7,2+Q$1),)))),0))","v":""}]
[{"$nulls":3},"2001-11-24",305,5,"Jeudi",30551,{"$f":"IF($G76=\"Mardi\",IF(OR($F76=1,$F76=2),VLOOKUP($G$8,Congés_auto!$R$5:$BR$5,2+I$4),IF(OR($F76=3,$F76=4),VLOOKUP($G$8,Congés_auto!$R$5:$BR$5,2+I$3),IF(OR($F76=5,$F76=6),VLOOKUP($G$8,Congés_auto!$R$5:$BR$5,2+I$2),IF(OR($F76=7,$F76=8),VLOOKUP($G$8,Congés_auto!$R$5:$BR$5,2+I$1),)))),IF($G76=\"Jeudi\",IF(OR($F76=1,$F76=2),VLOOKUP($G$8,Congés_auto!$R$7:$BR$7,2+I$4),IF(OR($F76=3,$F76=4),VLOOKUP($G$8,Congés_auto!$R$7:$BR$7,2+I$3),IF(OR($F76=5,$F76=6),VLOOKUP($G$8,Congés_auto!$R$7:$BR$7,2+I$2),IF(OR($F76=7,$F76=8),VLOOKUP($G$8,Congés_auto!$R$7:$BR$7,2+I$1),)))),0))","v":"2018-09-13"},{"$f":"IF($G76=\"Mardi\",IF(OR($F76=1,$F76=2),VLOOKUP($G$8,Congés_auto!$R$5:$BR$5,2+J$4),IF(OR($F76=3,$F76=4),VLOOKUP($G$8,Congés_auto!$R$5:$BR$5,2+J$3),IF(OR($F76=5,$F76=6),VLOOKUP($G$8,Congés_auto!$R$5:$BR$5,2+J$2),IF(OR($F76=7,$F76=8),VLOOKUP($G$8,Congés_auto!$R$5:$BR$5,2+J$1),)))),IF($G76=\"Jeudi\",IF(OR($F76=1,$F76=2),VLOOKUP($G$8,Congés_auto!$R$7:$BR$7,2+J$4),IF(OR($F76=3,$F76=4),VLOOKUP($G$8,Congés_auto!$R$7:$BR$7,2+J$3),IF(OR($F76=5,$F76=6),VLOOKUP($G$8,Congés_auto!$R$7:$BR$7,2+J$2),IF(OR($F76=7,$F76=8),VLOOKUP($G$8,Congés_auto!$R$7:$BR$7,2+J$1),)))),0))","v":"2018-10-11"},{"$f":"IF($G76=\"Mardi\",IF(OR($F76=1,$F76=2),VLOOKUP($G$8,Congés_auto!$R$5:$BR$5,2+K$4),IF(OR($F76=3,$F76=4),VLOOKUP($G$8,Congés_auto!$R$5:$BR$5,2+K$3),IF(OR($F76=5,$F76=6),VLOOKUP($G$8,Congés_auto!$R$5:$BR$5,2+K$2),IF(OR($F76=7,$F76=8),VLOOKUP($G$8,Congés_auto!$R$5:$BR$5,2+K$1),)))),IF($G76=\"Jeudi\",IF(OR($F76=1,$F76=2),VLOOKUP($G$8,Congés_auto!$R$7:$BR$7,2+K$4),IF(OR($F76=3,$F76=4),VLOOKUP($G$8,Congés_auto!$R$7:$BR$7,2+K$3),IF(OR($F76=5,$F76=6),VLOOKUP($G$8,Congés_auto!$R$7:$BR$7,2+K$2),IF(OR($F76=7,$F76=8),VLOOKUP($G$8,Congés_auto!$R$7:$BR$7,2+K$1),)))),0))","v":"2018-11-29"},{"$f":"IF($G76=\"Mardi\",IF(OR($F76=1,$F76=2),VLOOKUP($G$8,Congés_auto!$R$5:$BR$5,2+L$4),IF(OR($F76=3,$F76=4),VLOOKUP($G$8,Congés_auto!$R$5:$BR$5,2+L$3),IF(OR($F76=5,$F76=6),VLOOKUP($G$8,Congés_auto!$R$5:$BR$5,2+L$2),IF(OR($F76=7,$F76=8),VLOOKUP($G$8,Congés_auto!$R$5:$BR$5,2+L$1),)))),IF($G76=\"Jeudi\",IF(OR($F76=1,$F76=2),VLOOKUP($G$8,Congés_auto!$R$7:$BR$7,2+L$4),IF(OR($F76=3,$F76=4),VLOOKUP($G$8,Congés_auto!$R$7:$BR$7,2+L$3),IF(OR($F76=5,$F76=6),VLOOKUP($G$8,Congés_auto!$R$7:$BR$7,2+L$2),IF(OR($F76=7,$F76=8),VLOOKUP($G$8,Congés_auto!$R$7:$BR$7,2+L$1),)))),0))","v":"2019-02-07"},{"$f":"IF($G76=\"Mardi\",IF(OR($F76=1,$F76=2),VLOOKUP($G$8,Congés_auto!$R$5:$BR$5,2+M$4),IF(OR($F76=3,$F76=4),VLOOKUP($G$8,Congés_auto!$R$5:$BR$5,2+M$3),IF(OR($F76=5,$F76=6),VLOOKUP($G$8,Congés_auto!$R$5:$BR$5,2+M$2),IF(OR($F76=7,$F76=8),VLOOKUP($G$8,Congés_auto!$R$5:$BR$5,2+M$1),)))),IF($G76=\"Jeudi\",IF(OR($F76=1,$F76=2),VLOOKUP($G$8,Congés_auto!$R$7:$BR$7,2+M$4),IF(OR($F76=3,$F76=4),VLOOKUP($G$8,Congés_auto!$R$7:$BR$7,2+M$3),IF(OR($F76=5,$F76=6),VLOOKUP($G$8,Congés_auto!$R$7:$BR$7,2+M$2),IF(OR($F76=7,$F76=8),VLOOKUP($G$8,Congés_auto!$R$7:$BR$7,2+M$1),)))),0))","v":"2019-03-07"},{"$f":"IF($G76=\"Mardi\",IF(OR($F76=1,$F76=2),VLOOKUP($G$8,Congés_auto!$R$5:$BR$5,2+N$4),IF(OR($F76=3,$F76=4),VLOOKUP($G$8,Congés_auto!$R$5:$BR$5,2+N$3),IF(OR($F76=5,$F76=6),VLOOKUP($G$8,Congés_auto!$R$5:$BR$5,2+N$2),IF(OR($F76=7,$F76=8),VLOOKUP($G$8,Congés_auto!$R$5:$BR$5,2+N$1),)))),IF($G76=\"Jeudi\",IF(OR($F76=1,$F76=2),VLOOKUP($G$8,Congés_auto!$R$7:$BR$7,2+N$4),IF(OR($F76=3,$F76=4),VLOOKUP($G$8,Congés_auto!$R$7:$BR$7,2+N$3),IF(OR($F76=5,$F76=6),VLOOKUP($G$8,Congés_auto!$R$7:$BR$7,2+N$2),IF(OR($F76=7,$F76=8),VLOOKUP($G$8,Congés_auto!$R$7:$BR$7,2+N$1),)))),0))","v":"2019-04-18"},{"$f":"IF($G76=\"Mardi\",IF(OR($F76=1,$F76=2),VLOOKUP($G$8,Congés_auto!$R$5:$BR$5,2+O$4),IF(OR($F76=3,$F76=4),VLOOKUP($G$8,Congés_auto!$R$5:$BR$5,2+O$3),IF(OR($F76=5,$F76=6),VLOOKUP($G$8,Congés_auto!$R$5:$BR$5,2+O$2),IF(OR($F76=7,$F76=8),VLOOKUP($G$8,Congés_auto!$R$5:$BR$5,2+O$1),)))),IF($G76=\"Jeudi\",IF(OR($F76=1,$F76=2),VLOOKUP($G$8,Congés_auto!$R$7:$BR$7,2+O$4),IF(OR($F76=3,$F76=4),VLOOKUP($G$8,Congés_auto!$R$7:$BR$7,2+O$3),IF(OR($F76=5,$F76=6),VLOOKUP($G$8,Congés_auto!$R$7:$BR$7,2+O$2),IF(OR($F76=7,$F76=8),VLOOKUP($G$8,Congés_auto!$R$7:$BR$7,2+O$1),)))),0))","v":"2019-06-06"},{"$f":"IF($G76=\"Mardi\",IF(OR($F76=1,$F76=2),VLOOKUP($G$8,Congés_auto!$R$5:$BR$5,2+P$4),IF(OR($F76=3,$F76=4),VLOOKUP($G$8,Congés_auto!$R$5:$BR$5,2+P$3),IF(OR($F76=5,$F76=6),VLOOKUP($G$8,Congés_auto!$R$5:$BR$5,2+P$2),IF(OR($F76=7,$F76=8),VLOOKUP($G$8,Congés_auto!$R$5:$BR$5,2+P$1),)))),IF($G76=\"Jeudi\",IF(OR($F76=1,$F76=2),VLOOKUP($G$8,Congés_auto!$R$7:$BR$7,2+P$4),IF(OR($F76=3,$F76=4),VLOOKUP($G$8,Congés_auto!$R$7:$BR$7,2+P$3),IF(OR($F76=5,$F76=6),VLOOKUP($G$8,Congés_auto!$R$7:$BR$7,2+P$2),IF(OR($F76=7,$F76=8),VLOOKUP($G$8,Congés_auto!$R$7:$BR$7,2+P$1),)))),0))","v":"2019-07-04"},{"$f":"IF($G76=\"Mardi\",IF(OR($F76=1,$F76=2),VLOOKUP($G$8,Congés_auto!$R$5:$BR$5,2+Q$4),IF(OR($F76=3,$F76=4),VLOOKUP($G$8,Congés_auto!$R$5:$BR$5,2+Q$3),IF(OR($F76=5,$F76=6),VLOOKUP($G$8,Congés_auto!$R$5:$BR$5,2+Q$2),IF(OR($F76=7,$F76=8),VLOOKUP($G$8,Congés_auto!$R$5:$BR$5,2+Q$1),)))),IF($G76=\"Jeudi\",IF(OR($F76=1,$F76=2),VLOOKUP($G$8,Congés_auto!$R$7:$BR$7,2+Q$4),IF(OR($F76=3,$F76=4),VLOOKUP($G$8,Congés_auto!$R$7:$BR$7,2+Q$3),IF(OR($F76=5,$F76=6),VLOOKUP($G$8,Congés_auto!$R$7:$BR$7,2+Q$2),IF(OR($F76=7,$F76=8),VLOOKUP($G$8,Congés_auto!$R$7:$BR$7,2+Q$1),)))),0))","v":""}]
[null,null,"Marylise","2001-03-14",305,5,"Jeudi",30552,{"$f":"IF($G77=\"Mardi\",IF(OR($F77=1,$F77=2),VLOOKUP($G$8,Congés_auto!$R$5:$BR$5,2+I$4),IF(OR($F77=3,$F77=4),VLOOKUP($G$8,Congés_auto!$R$5:$BR$5,2+I$3),IF(OR($F77=5,$F77=6),VLOOKUP($G$8,Congés_auto!$R$5:$BR$5,2+I$2),IF(OR($F77=7,$F77=8),VLOOKUP($G$8,Congés_auto!$R$5:$BR$5,2+I$1),)))),IF($G77=\"Jeudi\",IF(OR($F77=1,$F77=2),VLOOKUP($G$8,Congés_auto!$R$7:$BR$7,2+I$4),IF(OR($F77=3,$F77=4),VLOOKUP($G$8,Congés_auto!$R$7:$BR$7,2+I$3),IF(OR($F77=5,$F77=6),VLOOKUP($G$8,Congés_auto!$R$7:$BR$7,2+I$2),IF(OR($F77=7,$F77=8),VLOOKUP($G$8,Congés_auto!$R$7:$BR$7,2+I$1),)))),0))","v":"2018-09-13"},{"$f":"IF($G77=\"Mardi\",IF(OR($F77=1,$F77=2),VLOOKUP($G$8,Congés_auto!$R$5:$BR$5,2+J$4),IF(OR($F77=3,$F77=4),VLOOKUP($G$8,Congés_auto!$R$5:$BR$5,2+J$3),IF(OR($F77=5,$F77=6),VLOOKUP($G$8,Congés_auto!$R$5:$BR$5,2+J$2),IF(OR($F77=7,$F77=8),VLOOKUP($G$8,Congés_auto!$R$5:$BR$5,2+J$1),)))),IF($G77=\"Jeudi\",IF(OR($F77=1,$F77=2),VLOOKUP($G$8,Congés_auto!$R$7:$BR$7,2+J$4),IF(OR($F77=3,$F77=4),VLOOKUP($G$8,Congés_auto!$R$7:$BR$7,2+J$3),IF(OR($F77=5,$F77=6),VLOOKUP($G$8,Congés_auto!$R$7:$BR$7,2+J$2),IF(OR($F77=7,$F77=8),VLOOKUP($G$8,Congés_auto!$R$7:$BR$7,2+J$1),)))),0))","v":"2018-10-11"},{"$f":"IF($G77=\"Mardi\",IF(OR($F77=1,$F77=2),VLOOKUP($G$8,Congés_auto!$R$5:$BR$5,2+K$4),IF(OR($F77=3,$F77=4),VLOOKUP($G$8,Congés_auto!$R$5:$BR$5,2+K$3),IF(OR($F77=5,$F77=6),VLOOKUP($G$8,Congés_auto!$R$5:$BR$5,2+K$2),IF(OR($F77=7,$F77=8),VLOOKUP($G$8,Congés_auto!$R$5:$BR$5,2+K$1),)))),IF($G77=\"Jeudi\",IF(OR($F77=1,$F77=2),VLOOKUP($G$8,Congés_auto!$R$7:$BR$7,2+K$4),IF(OR($F77=3,$F77=4),VLOOKUP($G$8,Congés_auto!$R$7:$BR$7,2+K$3),IF(OR($F77=5,$F77=6),VLOOKUP($G$8,Congés_auto!$R$7:$BR$7,2+K$2),IF(OR($F77=7,$F77=8),VLOOKUP($G$8,Congés_auto!$R$7:$BR$7,2+K$1),)))),0))","v":"2018-11-29"},{"$f":"IF($G77=\"Mardi\",IF(OR($F77=1,$F77=2),VLOOKUP($G$8,Congés_auto!$R$5:$BR$5,2+L$4),IF(OR($F77=3,$F77=4),VLOOKUP($G$8,Congés_auto!$R$5:$BR$5,2+L$3),IF(OR($F77=5,$F77=6),VLOOKUP($G$8,Congés_auto!$R$5:$BR$5,2+L$2),IF(OR($F77=7,$F77=8),VLOOKUP($G$8,Congés_auto!$R$5:$BR$5,2+L$1),)))),IF($G77=\"Jeudi\",IF(OR($F77=1,$F77=2),VLOOKUP($G$8,Congés_auto!$R$7:$BR$7,2+L$4),IF(OR($F77=3,$F77=4),VLOOKUP($G$8,Congés_auto!$R$7:$BR$7,2+L$3),IF(OR($F77=5,$F77=6),VLOOKUP($G$8,Congés_auto!$R$7:$BR$7,2+L$2),IF(OR($F77=7,$F77=8),VLOOKUP($G$8,Congés_auto!$R$7:$BR$7,2+L$1),)))),0))","v":"2019-02-07"},{"$f":"IF($G77=\"Mardi\",IF(OR($F77=1,$F77=2),VLOOKUP($G$8,Congés_auto!$R$5:$BR$5,2+M$4),IF(OR($F77=3,$F77=4),VLOOKUP($G$8,Congés_auto!$R$5:$BR$5,2+M$3),IF(OR($F77=5,$F77=6),VLOOKUP($G$8,Congés_auto!$R$5:$BR$5,2+M$2),IF(OR($F77=7,$F77=8),VLOOKUP($G$8,Congés_auto!$R$5:$BR$5,2+M$1),)))),IF($G77=\"Jeudi\",IF(OR($F77=1,$F77=2),VLOOKUP($G$8,Congés_auto!$R$7:$BR$7,2+M$4),IF(OR($F77=3,$F77=4),VLOOKUP($G$8,Congés_auto!$R$7:$BR$7,2+M$3),IF(OR($F77=5,$F77=6),VLOOKUP($G$8,Congés_auto!$R$7:$BR$7,2+M$2),IF(OR($F77=7,$F77=8),VLOOKUP($G$8,Congés_auto!$R$7:$BR$7,2+M$1),)))),0))","v":"2019-03-07"},{"$f":"IF($G77=\"Mardi\",IF(OR($F77=1,$F77=2),VLOOKUP($G$8,Congés_auto!$R$5:$BR$5,2+N$4),IF(OR($F77=3,$F77=4),VLOOKUP($G$8,Congés_auto!$R$5:$BR$5,2+N$3),IF(OR($F77=5,$F77=6),VLOOKUP($G$8,Congés_auto!$R$5:$BR$5,2+N$2),IF(OR($F77=7,$F77=8),VLOOKUP($G$8,Congés_auto!$R$5:$BR$5,2+N$1),)))),IF($G77=\"Jeudi\",IF(OR($F77=1,$F77=2),VLOOKUP($G$8,Congés_auto!$R$7:$BR$7,2+N$4),IF(OR($F77=3,$F77=4),VLOOKUP($G$8,Congés_auto!$R$7:$BR$7,2+N$3),IF(OR($F77=5,$F77=6),VLOOKUP($G$8,Congés_auto!$R$7:$BR$7,2+N$2),IF(OR($F77=7,$F77=8),VLOOKUP($G$8,Congés_auto!$R$7:$BR$7,2+N$1),)))),0))","v":"2019-04-18"},{"$f":"IF($G77=\"Mardi\",IF(OR($F77=1,$F77=2),VLOOKUP($G$8,Congés_auto!$R$5:$BR$5,2+O$4),IF(OR($F77=3,$F77=4),VLOOKUP($G$8,Congés_auto!$R$5:$BR$5,2+O$3),IF(OR($F77=5,$F77=6),VLOOKUP($G$8,Congés_auto!$R$5:$BR$5,2+O$2),IF(OR($F77=7,$F77=8),VLOOKUP($G$8,Congés_auto!$R$5:$BR$5,2+O$1),)))),IF($G77=\"Jeudi\",IF(OR($F77=1,$F77=2),VLOOKUP($G$8,Congés_auto!$R$7:$BR$7,2+O$4),IF(OR($F77=3,$F77=4),VLOOKUP($G$8,Congés_auto!$R$7:$BR$7,2+O$3),IF(OR($F77=5,$F77=6),VLOOKUP($G$8,Congés_auto!$R$7:$BR$7,2+O$2),IF(OR($F77=7,$F77=8),VLOOKUP($G$8,Congés_auto!$R$7:$BR$7,2+O$1),)))),0))","v":"2019-06-06"},{"$f":"IF($G77=\"Mardi\",IF(OR($F77=1,$F77=2),VLOOKUP($G$8,Congés_auto!$R$5:$BR$5,2+P$4),IF(OR($F77=3,$F77=4),VLOOKUP($G$8,Congés_auto!$R$5:$BR$5,2+P$3),IF(OR($F77=5,$F77=6),VLOOKUP($G$8,Congés_auto!$R$5:$BR$5,2+P$2),IF(OR($F77=7,$F77=8),VLOOKUP($G$8,Congés_auto!$R$5:$BR$5,2+P$1),)))),IF($G77=\"Jeudi\",IF(OR($F77=1,$F77=2),VLOOKUP($G$8,Congés_auto!$R$7:$BR$7,2+P$4),IF(OR($F77=3,$F77=4),VLOOKUP($G$8,Congés_auto!$R$7:$BR$7,2+P$3),IF(OR($F77=5,$F77=6),VLOOKUP($G$8,Congés_auto!$R$7:$BR$7,2+P$2),IF(OR($F77=7,$F77=8),VLOOKUP($G$8,Congés_auto!$R$7:$BR$7,2+P$1),)))),0))","v":"2019-07-04"},{"$f":"IF($G77=\"Mardi\",IF(OR($F77=1,$F77=2),VLOOKUP($G$8,Congés_auto!$R$5:$BR$5,2+Q$4),IF(OR($F77=3,$F77=4),VLOOKUP($G$8,Congés_auto!$R$5:$BR$5,2+Q$3),IF(OR($F77=5,$F77=6),VLOOKUP($G$8,Congés_auto!$R$5:$BR$5,2+Q$2),IF(OR($F77=7,$F77=8),VLOOKUP($G$8,Congés_auto!$R$5:$BR$5,2+Q$1),)))),IF($G77=\"Jeudi\",IF(OR($F77=1,$F77=2),VLOOKUP($G$8,Congés_auto!$R$7:$BR$7,2+Q$4),IF(OR($F77=3,$F77=4),VLOOKUP($G$8,Congés_auto!$R$7:$BR$7,2+Q$3),IF(OR($F77=5,$F77=6),VLOOKUP($G$8,Congés_auto!$R$7:$BR$7,2+Q$2),IF(OR($F77=7,$F77=8),VLOOKUP($G$8,Congés_auto!$R$7:$BR$7,2+Q$1),)))),0))","v":""}]
[{"$nulls":3},"2001-11-09",305,5,"Jeudi",30553,{"$f":"IF($G78=\"Mardi\",IF(OR($F78=1,$F78=2),VLOOKUP($G$8,Congés_auto!$R$5:$BR$5,2+I$4),IF(OR($F78=3,$F78=4),VLOOKUP($G$8,Congés_auto!$R$5:$BR$5,2+I$3),IF(OR($F78=5,$F78=6),VLOOKUP($G$8,Congés_auto!$R$5:$BR$5,2+I$2),IF(OR($F78=7,$F78=8),VLOOKUP($G$8,Congés_auto!$R$5:$BR$5,2+I$1),)))),IF($G78=\"Jeudi\",IF(OR($F78=1,$F78=2),VLOOKUP($G$8,Congés_auto!$R$7:$BR$7,2+I$4),IF(OR($F78=3,$F78=4),VLOOKUP($G$8,Congés_auto!$R$7:$BR$7,2+I$3),IF(OR($F78=5,$F78=6),VLOOKUP($G$8,Congés_auto!$R$7:$BR$7,2+I$2),IF(OR($F78=7,$F78=8),VLOOKUP($G$8,Congés_auto!$R$7:$BR$7,2+I$1),)))),0))","v":"2018-09-13"},{"$f":"IF($G78=\"Mardi\",IF(OR($F78=1,$F78=2),VLOOKUP($G$8,Congés_auto!$R$5:$BR$5,2+J$4),IF(OR($F78=3,$F78=4),VLOOKUP($G$8,Congés_auto!$R$5:$BR$5,2+J$3),IF(OR($F78=5,$F78=6),VLOOKUP($G$8,Congés_auto!$R$5:$BR$5,2+J$2),IF(OR($F78=7,$F78=8),VLOOKUP($G$8,Congés_auto!$R$5:$BR$5,2+J$1),)))),IF($G78=\"Jeudi\",IF(OR($F78=1,$F78=2),VLOOKUP($G$8,Congés_auto!$R$7:$BR$7,2+J$4),IF(OR($F78=3,$F78=4),VLOOKUP($G$8,Congés_auto!$R$7:$BR$7,2+J$3),IF(OR($F78=5,$F78=6),VLOOKUP($G$8,Congés_auto!$R$7:$BR$7,2+J$2),IF(OR($F78=7,$F78=8),VLOOKUP($G$8,Congés_auto!$R$7:$BR$7,2+J$1),)))),0))","v":"2018-10-11"},{"$f":"IF($G78=\"Mardi\",IF(OR($F78=1,$F78=2),VLOOKUP($G$8,Congés_auto!$R$5:$BR$5,2+K$4),IF(OR($F78=3,$F78=4),VLOOKUP($G$8,Congés_auto!$R$5:$BR$5,2+K$3),IF(OR($F78=5,$F78=6),VLOOKUP($G$8,Congés_auto!$R$5:$BR$5,2+K$2),IF(OR($F78=7,$F78=8),VLOOKUP($G$8,Congés_auto!$R$5:$BR$5,2+K$1),)))),IF($G78=\"Jeudi\",IF(OR($F78=1,$F78=2),VLOOKUP($G$8,Congés_auto!$R$7:$BR$7,2+K$4),IF(OR($F78=3,$F78=4),VLOOKUP($G$8,Congés_auto!$R$7:$BR$7,2+K$3),IF(OR($F78=5,$F78=6),VLOOKUP($G$8,Congés_auto!$R$7:$BR$7,2+K$2),IF(OR($F78=7,$F78=8),VLOOKUP($G$8,Congés_auto!$R$7:$BR$7,2+K$1),)))),0))","v":"2018-11-29"},{"$f":"IF($G78=\"Mardi\",IF(OR($F78=1,$F78=2),VLOOKUP($G$8,Congés_auto!$R$5:$BR$5,2+L$4),IF(OR($F78=3,$F78=4),VLOOKUP($G$8,Congés_auto!$R$5:$BR$5,2+L$3),IF(OR($F78=5,$F78=6),VLOOKUP($G$8,Congés_auto!$R$5:$BR$5,2+L$2),IF(OR($F78=7,$F78=8),VLOOKUP($G$8,Congés_auto!$R$5:$BR$5,2+L$1),)))),IF($G78=\"Jeudi\",IF(OR($F78=1,$F78=2),VLOOKUP($G$8,Congés_auto!$R$7:$BR$7,2+L$4),IF(OR($F78=3,$F78=4),VLOOKUP($G$8,Congés_auto!$R$7:$BR$7,2+L$3),IF(OR($F78=5,$F78=6),VLOOKUP($G$8,Congés_auto!$R$7:$BR$7,2+L$2),IF(OR($F78=7,$F78=8),VLOOKUP($G$8,Congés_auto!$R$7:$BR$7,2+L$1),)))),0))","v":"2019-02-07"},{"$f":"IF($G78=\"Mardi\",IF(OR($F78=1,$F78=2),VLOOKUP($G$8,Congés_auto!$R$5:$BR$5,2+M$4),IF(OR($F78=3,$F78=4),VLOOKUP($G$8,Congés_auto!$R$5:$BR$5,2+M$3),IF(OR($F78=5,$F78=6),VLOOKUP($G$8,Congés_auto!$R$5:$BR$5,2+M$2),IF(OR($F78=7,$F78=8),VLOOKUP($G$8,Congés_auto!$R$5:$BR$5,2+M$1),)))),IF($G78=\"Jeudi\",IF(OR($F78=1,$F78=2),VLOOKUP($G$8,Congés_auto!$R$7:$BR$7,2+M$4),IF(OR($F78=3,$F78=4),VLOOKUP($G$8,Congés_auto!$R$7:$BR$7,2+M$3),IF(OR($F78=5,$F78=6),VLOOKUP($G$8,Congés_auto!$R$7:$BR$7,2+M$2),IF(OR($F78=7,$F78=8),VLOOKUP($G$8,Congés_auto!$R$7:$BR$7,2+M$1),)))),0))","v":"2019-03-07"},{"$f":"IF($G78=\"Mardi\",IF(OR($F78=1,$F78=2),VLOOKUP($G$8,Congés_auto!$R$5:$BR$5,2+N$4),IF(OR($F78=3,$F78=4),VLOOKUP($G$8,Congés_auto!$R$5:$BR$5,2+N$3),IF(OR($F78=5,$F78=6),VLOOKUP($G$8,Congés_auto!$R$5:$BR$5,2+N$2),IF(OR($F78=7,$F78=8),VLOOKUP($G$8,Congés_auto!$R$5:$BR$5,2+N$1),)))),IF($G78=\"Jeudi\",IF(OR($F78=1,$F78=2),VLOOKUP($G$8,Congés_auto!$R$7:$BR$7,2+N$4),IF(OR($F78=3,$F78=4),VLOOKUP($G$8,Congés_auto!$R$7:$BR$7,2+N$3),IF(OR($F78=5,$F78=6),VLOOKUP($G$8,Congés_auto!$R$7:$BR$7,2+N$2),IF(OR($F78=7,$F78=8),VLOOKUP($G$8,Congés_auto!$R$7:$BR$7,2+N$1),)))),0))","v":"2019-04-18"},{"$f":"IF($G78=\"Mardi\",IF(OR($F78=1,$F78=2),VLOOKUP($G$8,Congés_auto!$R$5:$BR$5,2+O$4),IF(OR($F78=3,$F78=4),VLOOKUP($G$8,Congés_auto!$R$5:$BR$5,2+O$3),IF(OR($F78=5,$F78=6),VLOOKUP($G$8,Congés_auto!$R$5:$BR$5,2+O$2),IF(OR($F78=7,$F78=8),VLOOKUP($G$8,Congés_auto!$R$5:$BR$5,2+O$1),)))),IF($G78=\"Jeudi\",IF(OR($F78=1,$F78=2),VLOOKUP($G$8,Congés_auto!$R$7:$BR$7,2+O$4),IF(OR($F78=3,$F78=4),VLOOKUP($G$8,Congés_auto!$R$7:$BR$7,2+O$3),IF(OR($F78=5,$F78=6),VLOOKUP($G$8,Congés_auto!$R$7:$BR$7,2+O$2),IF(OR($F78=7,$F78=8),VLOOKUP($G$8,Congés_auto!$R$7:$BR$7,2+O$1),)))),0))","v":"2019-06-06"},{"$f":"IF($G78=\"Mardi\",IF(OR($F78=1,$F78=2),VLOOKUP($G$8,Congés_auto!$R$5:$BR$5,2+P$4),IF(OR($F78=3,$F78=4),VLOOKUP($G$8,Congés_auto!$R$5:$BR$5,2+P$3),IF(OR($F78=5,$F78=6),VLOOKUP($G$8,Congés_auto!$R$5:$BR$5,2+P$2),IF(OR($F78=7,$F78=8),VLOOKUP($G$8,Congés_auto!$R$5:$BR$5,2+P$1),)))),IF($G78=\"Jeudi\",IF(OR($F78=1,$F78=2),VLOOKUP($G$8,Congés_auto!$R$7:$BR$7,2+P$4),IF(OR($F78=3,$F78=4),VLOOKUP($G$8,Congés_auto!$R$7:$BR$7,2+P$3),IF(OR($F78=5,$F78=6),VLOOKUP($G$8,Congés_auto!$R$7:$BR$7,2+P$2),IF(OR($F78=7,$F78=8),VLOOKUP($G$8,Congés_auto!$R$7:$BR$7,2+P$1),)))),0))","v":"2019-07-04"},{"$f":"IF($G78=\"Mardi\",IF(OR($F78=1,$F78=2),VLOOKUP($G$8,Congés_auto!$R$5:$BR$5,2+Q$4),IF(OR($F78=3,$F78=4),VLOOKUP($G$8,Congés_auto!$R$5:$BR$5,2+Q$3),IF(OR($F78=5,$F78=6),VLOOKUP($G$8,Congés_auto!$R$5:$BR$5,2+Q$2),IF(OR($F78=7,$F78=8),VLOOKUP($G$8,Congés_auto!$R$5:$BR$5,2+Q$1),)))),IF($G78=\"Jeudi\",IF(OR($F78=1,$F78=2),VLOOKUP($G$8,Congés_auto!$R$7:$BR$7,2+Q$4),IF(OR($F78=3,$F78=4),VLOOKUP($G$8,Congés_auto!$R$7:$BR$7,2+Q$3),IF(OR($F78=5,$F78=6),VLOOKUP($G$8,Congés_auto!$R$7:$BR$7,2+Q$2),IF(OR($F78=7,$F78=8),VLOOKUP($G$8,Congés_auto!$R$7:$BR$7,2+Q$1),)))),0))","v":""}]
[null,null,"Pierre","2001-08-20",305,6,"Jeudi","30560",{"$f":"IF($G79=\"Mardi\",IF(OR($F79=1,$F79=2),VLOOKUP($G$8,Congés_auto!$R$5:$BR$5,2+I$4),IF(OR($F79=3,$F79=4),VLOOKUP($G$8,Congés_auto!$R$5:$BR$5,2+I$3),IF(OR($F79=5,$F79=6),VLOOKUP($G$8,Congés_auto!$R$5:$BR$5,2+I$2),IF(OR($F79=7,$F79=8),VLOOKUP($G$8,Congés_auto!$R$5:$BR$5,2+I$1),)))),IF($G79=\"Jeudi\",IF(OR($F79=1,$F79=2),VLOOKUP($G$8,Congés_auto!$R$7:$BR$7,2+I$4),IF(OR($F79=3,$F79=4),VLOOKUP($G$8,Congés_auto!$R$7:$BR$7,2+I$3),IF(OR($F79=5,$F79=6),VLOOKUP($G$8,Congés_auto!$R$7:$BR$7,2+I$2),IF(OR($F79=7,$F79=8),VLOOKUP($G$8,Congés_auto!$R$7:$BR$7,2+I$1),)))),0))","v":"2018-09-13"},{"$f":"IF($G79=\"Mardi\",IF(OR($F79=1,$F79=2),VLOOKUP($G$8,Congés_auto!$R$5:$BR$5,2+J$4),IF(OR($F79=3,$F79=4),VLOOKUP($G$8,Congés_auto!$R$5:$BR$5,2+J$3),IF(OR($F79=5,$F79=6),VLOOKUP($G$8,Congés_auto!$R$5:$BR$5,2+J$2),IF(OR($F79=7,$F79=8),VLOOKUP($G$8,Congés_auto!$R$5:$BR$5,2+J$1),)))),IF($G79=\"Jeudi\",IF(OR($F79=1,$F79=2),VLOOKUP($G$8,Congés_auto!$R$7:$BR$7,2+J$4),IF(OR($F79=3,$F79=4),VLOOKUP($G$8,Congés_auto!$R$7:$BR$7,2+J$3),IF(OR($F79=5,$F79=6),VLOOKUP($G$8,Congés_auto!$R$7:$BR$7,2+J$2),IF(OR($F79=7,$F79=8),VLOOKUP($G$8,Congés_auto!$R$7:$BR$7,2+J$1),)))),0))","v":"2018-10-11"},{"$f":"IF($G79=\"Mardi\",IF(OR($F79=1,$F79=2),VLOOKUP($G$8,Congés_auto!$R$5:$BR$5,2+K$4),IF(OR($F79=3,$F79=4),VLOOKUP($G$8,Congés_auto!$R$5:$BR$5,2+K$3),IF(OR($F79=5,$F79=6),VLOOKUP($G$8,Congés_auto!$R$5:$BR$5,2+K$2),IF(OR($F79=7,$F79=8),VLOOKUP($G$8,Congés_auto!$R$5:$BR$5,2+K$1),)))),IF($G79=\"Jeudi\",IF(OR($F79=1,$F79=2),VLOOKUP($G$8,Congés_auto!$R$7:$BR$7,2+K$4),IF(OR($F79=3,$F79=4),VLOOKUP($G$8,Congés_auto!$R$7:$BR$7,2+K$3),IF(OR($F79=5,$F79=6),VLOOKUP($G$8,Congés_auto!$R$7:$BR$7,2+K$2),IF(OR($F79=7,$F79=8),VLOOKUP($G$8,Congés_auto!$R$7:$BR$7,2+K$1),)))),0))","v":"2018-11-29"},{"$f":"IF($G79=\"Mardi\",IF(OR($F79=1,$F79=2),VLOOKUP($G$8,Congés_auto!$R$5:$BR$5,2+L$4),IF(OR($F79=3,$F79=4),VLOOKUP($G$8,Congés_auto!$R$5:$BR$5,2+L$3),IF(OR($F79=5,$F79=6),VLOOKUP($G$8,Congés_auto!$R$5:$BR$5,2+L$2),IF(OR($F79=7,$F79=8),VLOOKUP($G$8,Congés_auto!$R$5:$BR$5,2+L$1),)))),IF($G79=\"Jeudi\",IF(OR($F79=1,$F79=2),VLOOKUP($G$8,Congés_auto!$R$7:$BR$7,2+L$4),IF(OR($F79=3,$F79=4),VLOOKUP($G$8,Congés_auto!$R$7:$BR$7,2+L$3),IF(OR($F79=5,$F79=6),VLOOKUP($G$8,Congés_auto!$R$7:$BR$7,2+L$2),IF(OR($F79=7,$F79=8),VLOOKUP($G$8,Congés_auto!$R$7:$BR$7,2+L$1),)))),0))","v":"2019-02-07"},{"$f":"IF($G79=\"Mardi\",IF(OR($F79=1,$F79=2),VLOOKUP($G$8,Congés_auto!$R$5:$BR$5,2+M$4),IF(OR($F79=3,$F79=4),VLOOKUP($G$8,Congés_auto!$R$5:$BR$5,2+M$3),IF(OR($F79=5,$F79=6),VLOOKUP($G$8,Congés_auto!$R$5:$BR$5,2+M$2),IF(OR($F79=7,$F79=8),VLOOKUP($G$8,Congés_auto!$R$5:$BR$5,2+M$1),)))),IF($G79=\"Jeudi\",IF(OR($F79=1,$F79=2),VLOOKUP($G$8,Congés_auto!$R$7:$BR$7,2+M$4),IF(OR($F79=3,$F79=4),VLOOKUP($G$8,Congés_auto!$R$7:$BR$7,2+M$3),IF(OR($F79=5,$F79=6),VLOOKUP($G$8,Congés_auto!$R$7:$BR$7,2+M$2),IF(OR($F79=7,$F79=8),VLOOKUP($G$8,Congés_auto!$R$7:$BR$7,2+M$1),)))),0))","v":"2019-03-07"},{"$f":"IF($G79=\"Mardi\",IF(OR($F79=1,$F79=2),VLOOKUP($G$8,Congés_auto!$R$5:$BR$5,2+N$4),IF(OR($F79=3,$F79=4),VLOOKUP($G$8,Congés_auto!$R$5:$BR$5,2+N$3),IF(OR($F79=5,$F79=6),VLOOKUP($G$8,Congés_auto!$R$5:$BR$5,2+N$2),IF(OR($F79=7,$F79=8),VLOOKUP($G$8,Congés_auto!$R$5:$BR$5,2+N$1),)))),IF($G79=\"Jeudi\",IF(OR($F79=1,$F79=2),VLOOKUP($G$8,Congés_auto!$R$7:$BR$7,2+N$4),IF(OR($F79=3,$F79=4),VLOOKUP($G$8,Congés_auto!$R$7:$BR$7,2+N$3),IF(OR($F79=5,$F79=6),VLOOKUP($G$8,Congés_auto!$R$7:$BR$7,2+N$2),IF(OR($F79=7,$F79=8),VLOOKUP($G$8,Congés_auto!$R$7:$BR$7,2+N$1),)))),0))","v":"2019-04-18"},{"$f":"IF($G79=\"Mardi\",IF(OR($F79=1,$F79=2),VLOOKUP($G$8,Congés_auto!$R$5:$BR$5,2+O$4),IF(OR($F79=3,$F79=4),VLOOKUP($G$8,Congés_auto!$R$5:$BR$5,2+O$3),IF(OR($F79=5,$F79=6),VLOOKUP($G$8,Congés_auto!$R$5:$BR$5,2+O$2),IF(OR($F79=7,$F79=8),VLOOKUP($G$8,Congés_auto!$R$5:$BR$5,2+O$1),)))),IF($G79=\"Jeudi\",IF(OR($F79=1,$F79=2),VLOOKUP($G$8,Congés_auto!$R$7:$BR$7,2+O$4),IF(OR($F79=3,$F79=4),VLOOKUP($G$8,Congés_auto!$R$7:$BR$7,2+O$3),IF(OR($F79=5,$F79=6),VLOOKUP($G$8,Congés_auto!$R$7:$BR$7,2+O$2),IF(OR($F79=7,$F79=8),VLOOKUP($G$8,Congés_auto!$R$7:$BR$7,2+O$1),)))),0))","v":"2019-06-06"},{"$f":"IF($G79=\"Mardi\",IF(OR($F79=1,$F79=2),VLOOKUP($G$8,Congés_auto!$R$5:$BR$5,2+P$4),IF(OR($F79=3,$F79=4),VLOOKUP($G$8,Congés_auto!$R$5:$BR$5,2+P$3),IF(OR($F79=5,$F79=6),VLOOKUP($G$8,Congés_auto!$R$5:$BR$5,2+P$2),IF(OR($F79=7,$F79=8),VLOOKUP($G$8,Congés_auto!$R$5:$BR$5,2+P$1),)))),IF($G79=\"Jeudi\",IF(OR($F79=1,$F79=2),VLOOKUP($G$8,Congés_auto!$R$7:$BR$7,2+P$4),IF(OR($F79=3,$F79=4),VLOOKUP($G$8,Congés_auto!$R$7:$BR$7,2+P$3),IF(OR($F79=5,$F79=6),VLOOKUP($G$8,Congés_auto!$R$7:$BR$7,2+P$2),IF(OR($F79=7,$F79=8),VLOOKUP($G$8,Congés_auto!$R$7:$BR$7,2+P$1),)))),0))","v":"2019-07-04"},{"$f":"IF($G79=\"Mardi\",IF(OR($F79=1,$F79=2),VLOOKUP($G$8,Congés_auto!$R$5:$BR$5,2+Q$4),IF(OR($F79=3,$F79=4),VLOOKUP($G$8,Congés_auto!$R$5:$BR$5,2+Q$3),IF(OR($F79=5,$F79=6),VLOOKUP($G$8,Congés_auto!$R$5:$BR$5,2+Q$2),IF(OR($F79=7,$F79=8),VLOOKUP($G$8,Congés_auto!$R$5:$BR$5,2+Q$1),)))),IF($G79=\"Jeudi\",IF(OR($F79=1,$F79=2),VLOOKUP($G$8,Congés_auto!$R$7:$BR$7,2+Q$4),IF(OR($F79=3,$F79=4),VLOOKUP($G$8,Congés_auto!$R$7:$BR$7,2+Q$3),IF(OR($F79=5,$F79=6),VLOOKUP($G$8,Congés_auto!$R$7:$BR$7,2+Q$2),IF(OR($F79=7,$F79=8),VLOOKUP($G$8,Congés_auto!$R$7:$BR$7,2+Q$1),)))),0))","v":""}]
[null,null,"Camillaure","2001-11-02",305,6,"Jeudi",30561,{"$f":"IF($G80=\"Mardi\",IF(OR($F80=1,$F80=2),VLOOKUP($G$8,Congés_auto!$R$5:$BR$5,2+I$4),IF(OR($F80=3,$F80=4),VLOOKUP($G$8,Congés_auto!$R$5:$BR$5,2+I$3),IF(OR($F80=5,$F80=6),VLOOKUP($G$8,Congés_auto!$R$5:$BR$5,2+I$2),IF(OR($F80=7,$F80=8),VLOOKUP($G$8,Congés_auto!$R$5:$BR$5,2+I$1),)))),IF($G80=\"Jeudi\",IF(OR($F80=1,$F80=2),VLOOKUP($G$8,Congés_auto!$R$7:$BR$7,2+I$4),IF(OR($F80=3,$F80=4),VLOOKUP($G$8,Congés_auto!$R$7:$BR$7,2+I$3),IF(OR($F80=5,$F80=6),VLOOKUP($G$8,Congés_auto!$R$7:$BR$7,2+I$2),IF(OR($F80=7,$F80=8),VLOOKUP($G$8,Congés_auto!$R$7:$BR$7,2+I$1),)))),0))","v":"2018-09-13"},{"$f":"IF($G80=\"Mardi\",IF(OR($F80=1,$F80=2),VLOOKUP($G$8,Congés_auto!$R$5:$BR$5,2+J$4),IF(OR($F80=3,$F80=4),VLOOKUP($G$8,Congés_auto!$R$5:$BR$5,2+J$3),IF(OR($F80=5,$F80=6),VLOOKUP($G$8,Congés_auto!$R$5:$BR$5,2+J$2),IF(OR($F80=7,$F80=8),VLOOKUP($G$8,Congés_auto!$R$5:$BR$5,2+J$1),)))),IF($G80=\"Jeudi\",IF(OR($F80=1,$F80=2),VLOOKUP($G$8,Congés_auto!$R$7:$BR$7,2+J$4),IF(OR($F80=3,$F80=4),VLOOKUP($G$8,Congés_auto!$R$7:$BR$7,2+J$3),IF(OR($F80=5,$F80=6),VLOOKUP($G$8,Congés_auto!$R$7:$BR$7,2+J$2),IF(OR($F80=7,$F80=8),VLOOKUP($G$8,Congés_auto!$R$7:$BR$7,2+J$1),)))),0))","v":"2018-10-11"},{"$f":"IF($G80=\"Mardi\",IF(OR($F80=1,$F80=2),VLOOKUP($G$8,Congés_auto!$R$5:$BR$5,2+K$4),IF(OR($F80=3,$F80=4),VLOOKUP($G$8,Congés_auto!$R$5:$BR$5,2+K$3),IF(OR($F80=5,$F80=6),VLOOKUP($G$8,Congés_auto!$R$5:$BR$5,2+K$2),IF(OR($F80=7,$F80=8),VLOOKUP($G$8,Congés_auto!$R$5:$BR$5,2+K$1),)))),IF($G80=\"Jeudi\",IF(OR($F80=1,$F80=2),VLOOKUP($G$8,Congés_auto!$R$7:$BR$7,2+K$4),IF(OR($F80=3,$F80=4),VLOOKUP($G$8,Congés_auto!$R$7:$BR$7,2+K$3),IF(OR($F80=5,$F80=6),VLOOKUP($G$8,Congés_auto!$R$7:$BR$7,2+K$2),IF(OR($F80=7,$F80=8),VLOOKUP($G$8,Congés_auto!$R$7:$BR$7,2+K$1),)))),0))","v":"2018-11-29"},{"$f":"IF($G80=\"Mardi\",IF(OR($F80=1,$F80=2),VLOOKUP($G$8,Congés_auto!$R$5:$BR$5,2+L$4),IF(OR($F80=3,$F80=4),VLOOKUP($G$8,Congés_auto!$R$5:$BR$5,2+L$3),IF(OR($F80=5,$F80=6),VLOOKUP($G$8,Congés_auto!$R$5:$BR$5,2+L$2),IF(OR($F80=7,$F80=8),VLOOKUP($G$8,Congés_auto!$R$5:$BR$5,2+L$1),)))),IF($G80=\"Jeudi\",IF(OR($F80=1,$F80=2),VLOOKUP($G$8,Congés_auto!$R$7:$BR$7,2+L$4),IF(OR($F80=3,$F80=4),VLOOKUP($G$8,Congés_auto!$R$7:$BR$7,2+L$3),IF(OR($F80=5,$F80=6),VLOOKUP($G$8,Congés_auto!$R$7:$BR$7,2+L$2),IF(OR($F80=7,$F80=8),VLOOKUP($G$8,Congés_auto!$R$7:$BR$7,2+L$1),)))),0))","v":"2019-02-07"},{"$f":"IF($G80=\"Mardi\",IF(OR($F80=1,$F80=2),VLOOKUP($G$8,Congés_auto!$R$5:$BR$5,2+M$4),IF(OR($F80=3,$F80=4),VLOOKUP($G$8,Congés_auto!$R$5:$BR$5,2+M$3),IF(OR($F80=5,$F80=6),VLOOKUP($G$8,Congés_auto!$R$5:$BR$5,2+M$2),IF(OR($F80=7,$F80=8),VLOOKUP($G$8,Congés_auto!$R$5:$BR$5,2+M$1),)))),IF($G80=\"Jeudi\",IF(OR($F80=1,$F80=2),VLOOKUP($G$8,Congés_auto!$R$7:$BR$7,2+M$4),IF(OR($F80=3,$F80=4),VLOOKUP($G$8,Congés_auto!$R$7:$BR$7,2+M$3),IF(OR($F80=5,$F80=6),VLOOKUP($G$8,Congés_auto!$R$7:$BR$7,2+M$2),IF(OR($F80=7,$F80=8),VLOOKUP($G$8,Congés_auto!$R$7:$BR$7,2+M$1),)))),0))","v":"2019-03-07"},{"$f":"IF($G80=\"Mardi\",IF(OR($F80=1,$F80=2),VLOOKUP($G$8,Congés_auto!$R$5:$BR$5,2+N$4),IF(OR($F80=3,$F80=4),VLOOKUP($G$8,Congés_auto!$R$5:$BR$5,2+N$3),IF(OR($F80=5,$F80=6),VLOOKUP($G$8,Congés_auto!$R$5:$BR$5,2+N$2),IF(OR($F80=7,$F80=8),VLOOKUP($G$8,Congés_auto!$R$5:$BR$5,2+N$1),)))),IF($G80=\"Jeudi\",IF(OR($F80=1,$F80=2),VLOOKUP($G$8,Congés_auto!$R$7:$BR$7,2+N$4),IF(OR($F80=3,$F80=4),VLOOKUP($G$8,Congés_auto!$R$7:$BR$7,2+N$3),IF(OR($F80=5,$F80=6),VLOOKUP($G$8,Congés_auto!$R$7:$BR$7,2+N$2),IF(OR($F80=7,$F80=8),VLOOKUP($G$8,Congés_auto!$R$7:$BR$7,2+N$1),)))),0))","v":"2019-04-18"},{"$f":"IF($G80=\"Mardi\",IF(OR($F80=1,$F80=2),VLOOKUP($G$8,Congés_auto!$R$5:$BR$5,2+O$4),IF(OR($F80=3,$F80=4),VLOOKUP($G$8,Congés_auto!$R$5:$BR$5,2+O$3),IF(OR($F80=5,$F80=6),VLOOKUP($G$8,Congés_auto!$R$5:$BR$5,2+O$2),IF(OR($F80=7,$F80=8),VLOOKUP($G$8,Congés_auto!$R$5:$BR$5,2+O$1),)))),IF($G80=\"Jeudi\",IF(OR($F80=1,$F80=2),VLOOKUP($G$8,Congés_auto!$R$7:$BR$7,2+O$4),IF(OR($F80=3,$F80=4),VLOOKUP($G$8,Congés_auto!$R$7:$BR$7,2+O$3),IF(OR($F80=5,$F80=6),VLOOKUP($G$8,Congés_auto!$R$7:$BR$7,2+O$2),IF(OR($F80=7,$F80=8),VLOOKUP($G$8,Congés_auto!$R$7:$BR$7,2+O$1),)))),0))","v":"2019-06-06"},{"$f":"IF($G80=\"Mardi\",IF(OR($F80=1,$F80=2),VLOOKUP($G$8,Congés_auto!$R$5:$BR$5,2+P$4),IF(OR($F80=3,$F80=4),VLOOKUP($G$8,Congés_auto!$R$5:$BR$5,2+P$3),IF(OR($F80=5,$F80=6),VLOOKUP($G$8,Congés_auto!$R$5:$BR$5,2+P$2),IF(OR($F80=7,$F80=8),VLOOKUP($G$8,Congés_auto!$R$5:$BR$5,2+P$1),)))),IF($G80=\"Jeudi\",IF(OR($F80=1,$F80=2),VLOOKUP($G$8,Congés_auto!$R$7:$BR$7,2+P$4),IF(OR($F80=3,$F80=4),VLOOKUP($G$8,Congés_auto!$R$7:$BR$7,2+P$3),IF(OR($F80=5,$F80=6),VLOOKUP($G$8,Congés_auto!$R$7:$BR$7,2+P$2),IF(OR($F80=7,$F80=8),VLOOKUP($G$8,Congés_auto!$R$7:$BR$7,2+P$1),)))),0))","v":"2019-07-04"},{"$f":"IF($G80=\"Mardi\",IF(OR($F80=1,$F80=2),VLOOKUP($G$8,Congés_auto!$R$5:$BR$5,2+Q$4),IF(OR($F80=3,$F80=4),VLOOKUP($G$8,Congés_auto!$R$5:$BR$5,2+Q$3),IF(OR($F80=5,$F80=6),VLOOKUP($G$8,Congés_auto!$R$5:$BR$5,2+Q$2),IF(OR($F80=7,$F80=8),VLOOKUP($G$8,Congés_auto!$R$5:$BR$5,2+Q$1),)))),IF($G80=\"Jeudi\",IF(OR($F80=1,$F80=2),VLOOKUP($G$8,Congés_auto!$R$7:$BR$7,2+Q$4),IF(OR($F80=3,$F80=4),VLOOKUP($G$8,Congés_auto!$R$7:$BR$7,2+Q$3),IF(OR($F80=5,$F80=6),VLOOKUP($G$8,Congés_auto!$R$7:$BR$7,2+Q$2),IF(OR($F80=7,$F80=8),VLOOKUP($G$8,Congés_auto!$R$7:$BR$7,2+Q$1),)))),0))","v":""}]
[null,null,"Lili","2001-04-19",305,6,"Jeudi",30562,{"$f":"IF($G81=\"Mardi\",IF(OR($F81=1,$F81=2),VLOOKUP($G$8,Congés_auto!$R$5:$BR$5,2+I$4),IF(OR($F81=3,$F81=4),VLOOKUP($G$8,Congés_auto!$R$5:$BR$5,2+I$3),IF(OR($F81=5,$F81=6),VLOOKUP($G$8,Congés_auto!$R$5:$BR$5,2+I$2),IF(OR($F81=7,$F81=8),VLOOKUP($G$8,Congés_auto!$R$5:$BR$5,2+I$1),)))),IF($G81=\"Jeudi\",IF(OR($F81=1,$F81=2),VLOOKUP($G$8,Congés_auto!$R$7:$BR$7,2+I$4),IF(OR($F81=3,$F81=4),VLOOKUP($G$8,Congés_auto!$R$7:$BR$7,2+I$3),IF(OR($F81=5,$F81=6),VLOOKUP($G$8,Congés_auto!$R$7:$BR$7,2+I$2),IF(OR($F81=7,$F81=8),VLOOKUP($G$8,Congés_auto!$R$7:$BR$7,2+I$1),)))),0))","v":"2018-09-13"},{"$f":"IF($G81=\"Mardi\",IF(OR($F81=1,$F81=2),VLOOKUP($G$8,Congés_auto!$R$5:$BR$5,2+J$4),IF(OR($F81=3,$F81=4),VLOOKUP($G$8,Congés_auto!$R$5:$BR$5,2+J$3),IF(OR($F81=5,$F81=6),VLOOKUP($G$8,Congés_auto!$R$5:$BR$5,2+J$2),IF(OR($F81=7,$F81=8),VLOOKUP($G$8,Congés_auto!$R$5:$BR$5,2+J$1),)))),IF($G81=\"Jeudi\",IF(OR($F81=1,$F81=2),VLOOKUP($G$8,Congés_auto!$R$7:$BR$7,2+J$4),IF(OR($F81=3,$F81=4),VLOOKUP($G$8,Congés_auto!$R$7:$BR$7,2+J$3),IF(OR($F81=5,$F81=6),VLOOKUP($G$8,Congés_auto!$R$7:$BR$7,2+J$2),IF(OR($F81=7,$F81=8),VLOOKUP($G$8,Congés_auto!$R$7:$BR$7,2+J$1),)))),0))","v":"2018-10-11"},{"$f":"IF($G81=\"Mardi\",IF(OR($F81=1,$F81=2),VLOOKUP($G$8,Congés_auto!$R$5:$BR$5,2+K$4),IF(OR($F81=3,$F81=4),VLOOKUP($G$8,Congés_auto!$R$5:$BR$5,2+K$3),IF(OR($F81=5,$F81=6),VLOOKUP($G$8,Congés_auto!$R$5:$BR$5,2+K$2),IF(OR($F81=7,$F81=8),VLOOKUP($G$8,Congés_auto!$R$5:$BR$5,2+K$1),)))),IF($G81=\"Jeudi\",IF(OR($F81=1,$F81=2),VLOOKUP($G$8,Congés_auto!$R$7:$BR$7,2+K$4),IF(OR($F81=3,$F81=4),VLOOKUP($G$8,Congés_auto!$R$7:$BR$7,2+K$3),IF(OR($F81=5,$F81=6),VLOOKUP($G$8,Congés_auto!$R$7:$BR$7,2+K$2),IF(OR($F81=7,$F81=8),VLOOKUP($G$8,Congés_auto!$R$7:$BR$7,2+K$1),)))),0))","v":"2018-11-29"},{"$f":"IF($G81=\"Mardi\",IF(OR($F81=1,$F81=2),VLOOKUP($G$8,Congés_auto!$R$5:$BR$5,2+L$4),IF(OR($F81=3,$F81=4),VLOOKUP($G$8,Congés_auto!$R$5:$BR$5,2+L$3),IF(OR($F81=5,$F81=6),VLOOKUP($G$8,Congés_auto!$R$5:$BR$5,2+L$2),IF(OR($F81=7,$F81=8),VLOOKUP($G$8,Congés_auto!$R$5:$BR$5,2+L$1),)))),IF($G81=\"Jeudi\",IF(OR($F81=1,$F81=2),VLOOKUP($G$8,Congés_auto!$R$7:$BR$7,2+L$4),IF(OR($F81=3,$F81=4),VLOOKUP($G$8,Congés_auto!$R$7:$BR$7,2+L$3),IF(OR($F81=5,$F81=6),VLOOKUP($G$8,Congés_auto!$R$7:$BR$7,2+L$2),IF(OR($F81=7,$F81=8),VLOOKUP($G$8,Congés_auto!$R$7:$BR$7,2+L$1),)))),0))","v":"2019-02-07"},{"$f":"IF($G81=\"Mardi\",IF(OR($F81=1,$F81=2),VLOOKUP($G$8,Congés_auto!$R$5:$BR$5,2+M$4),IF(OR($F81=3,$F81=4),VLOOKUP($G$8,Congés_auto!$R$5:$BR$5,2+M$3),IF(OR($F81=5,$F81=6),VLOOKUP($G$8,Congés_auto!$R$5:$BR$5,2+M$2),IF(OR($F81=7,$F81=8),VLOOKUP($G$8,Congés_auto!$R$5:$BR$5,2+M$1),)))),IF($G81=\"Jeudi\",IF(OR($F81=1,$F81=2),VLOOKUP($G$8,Congés_auto!$R$7:$BR$7,2+M$4),IF(OR($F81=3,$F81=4),VLOOKUP($G$8,Congés_auto!$R$7:$BR$7,2+M$3),IF(OR($F81=5,$F81=6),VLOOKUP($G$8,Congés_auto!$R$7:$BR$7,2+M$2),IF(OR($F81=7,$F81=8),VLOOKUP($G$8,Congés_auto!$R$7:$BR$7,2+M$1),)))),0))","v":"2019-03-07"},{"$f":"IF($G81=\"Mardi\",IF(OR($F81=1,$F81=2),VLOOKUP($G$8,Congés_auto!$R$5:$BR$5,2+N$4),IF(OR($F81=3,$F81=4),VLOOKUP($G$8,Congés_auto!$R$5:$BR$5,2+N$3),IF(OR($F81=5,$F81=6),VLOOKUP($G$8,Congés_auto!$R$5:$BR$5,2+N$2),IF(OR($F81=7,$F81=8),VLOOKUP($G$8,Congés_auto!$R$5:$BR$5,2+N$1),)))),IF($G81=\"Jeudi\",IF(OR($F81=1,$F81=2),VLOOKUP($G$8,Congés_auto!$R$7:$BR$7,2+N$4),IF(OR($F81=3,$F81=4),VLOOKUP($G$8,Congés_auto!$R$7:$BR$7,2+N$3),IF(OR($F81=5,$F81=6),VLOOKUP($G$8,Congés_auto!$R$7:$BR$7,2+N$2),IF(OR($F81=7,$F81=8),VLOOKUP($G$8,Congés_auto!$R$7:$BR$7,2+N$1),)))),0))","v":"2019-04-18"},{"$f":"IF($G81=\"Mardi\",IF(OR($F81=1,$F81=2),VLOOKUP($G$8,Congés_auto!$R$5:$BR$5,2+O$4),IF(OR($F81=3,$F81=4),VLOOKUP($G$8,Congés_auto!$R$5:$BR$5,2+O$3),IF(OR($F81=5,$F81=6),VLOOKUP($G$8,Congés_auto!$R$5:$BR$5,2+O$2),IF(OR($F81=7,$F81=8),VLOOKUP($G$8,Congés_auto!$R$5:$BR$5,2+O$1),)))),IF($G81=\"Jeudi\",IF(OR($F81=1,$F81=2),VLOOKUP($G$8,Congés_auto!$R$7:$BR$7,2+O$4),IF(OR($F81=3,$F81=4),VLOOKUP($G$8,Congés_auto!$R$7:$BR$7,2+O$3),IF(OR($F81=5,$F81=6),VLOOKUP($G$8,Congés_auto!$R$7:$BR$7,2+O$2),IF(OR($F81=7,$F81=8),VLOOKUP($G$8,Congés_auto!$R$7:$BR$7,2+O$1),)))),0))","v":"2019-06-06"},{"$f":"IF($G81=\"Mardi\",IF(OR($F81=1,$F81=2),VLOOKUP($G$8,Congés_auto!$R$5:$BR$5,2+P$4),IF(OR($F81=3,$F81=4),VLOOKUP($G$8,Congés_auto!$R$5:$BR$5,2+P$3),IF(OR($F81=5,$F81=6),VLOOKUP($G$8,Congés_auto!$R$5:$BR$5,2+P$2),IF(OR($F81=7,$F81=8),VLOOKUP($G$8,Congés_auto!$R$5:$BR$5,2+P$1),)))),IF($G81=\"Jeudi\",IF(OR($F81=1,$F81=2),VLOOKUP($G$8,Congés_auto!$R$7:$BR$7,2+P$4),IF(OR($F81=3,$F81=4),VLOOKUP($G$8,Congés_auto!$R$7:$BR$7,2+P$3),IF(OR($F81=5,$F81=6),VLOOKUP($G$8,Congés_auto!$R$7:$BR$7,2+P$2),IF(OR($F81=7,$F81=8),VLOOKUP($G$8,Congés_auto!$R$7:$BR$7,2+P$1),)))),0))","v":"2019-07-04"},{"$f":"IF($G81=\"Mardi\",IF(OR($F81=1,$F81=2),VLOOKUP($G$8,Congés_auto!$R$5:$BR$5,2+Q$4),IF(OR($F81=3,$F81=4),VLOOKUP($G$8,Congés_auto!$R$5:$BR$5,2+Q$3),IF(OR($F81=5,$F81=6),VLOOKUP($G$8,Congés_auto!$R$5:$BR$5,2+Q$2),IF(OR($F81=7,$F81=8),VLOOKUP($G$8,Congés_auto!$R$5:$BR$5,2+Q$1),)))),IF($G81=\"Jeudi\",IF(OR($F81=1,$F81=2),VLOOKUP($G$8,Congés_auto!$R$7:$BR$7,2+Q$4),IF(OR($F81=3,$F81=4),VLOOKUP($G$8,Congés_auto!$R$7:$BR$7,2+Q$3),IF(OR($F81=5,$F81=6),VLOOKUP($G$8,Congés_auto!$R$7:$BR$7,2+Q$2),IF(OR($F81=7,$F81=8),VLOOKUP($G$8,Congés_auto!$R$7:$BR$7,2+Q$1),)))),0))","v":""}]
[{"$nulls":3},"2001-10-25",305,7,"Jeudi","30570",{"$f":"IF($G82=\"Mardi\",IF(OR($F82=1,$F82=2),VLOOKUP($G$8,Congés_auto!$R$5:$BR$5,2+I$4),IF(OR($F82=3,$F82=4),VLOOKUP($G$8,Congés_auto!$R$5:$BR$5,2+I$3),IF(OR($F82=5,$F82=6),VLOOKUP($G$8,Congés_auto!$R$5:$BR$5,2+I$2),IF(OR($F82=7,$F82=8),VLOOKUP($G$8,Congés_auto!$R$5:$BR$5,2+I$1),)))),IF($G82=\"Jeudi\",IF(OR($F82=1,$F82=2),VLOOKUP($G$8,Congés_auto!$R$7:$BR$7,2+I$4),IF(OR($F82=3,$F82=4),VLOOKUP($G$8,Congés_auto!$R$7:$BR$7,2+I$3),IF(OR($F82=5,$F82=6),VLOOKUP($G$8,Congés_auto!$R$7:$BR$7,2+I$2),IF(OR($F82=7,$F82=8),VLOOKUP($G$8,Congés_auto!$R$7:$BR$7,2+I$1),)))),0))","v":"2018-09-20"},{"$f":"IF($G82=\"Mardi\",IF(OR($F82=1,$F82=2),VLOOKUP($G$8,Congés_auto!$R$5:$BR$5,2+J$4),IF(OR($F82=3,$F82=4),VLOOKUP($G$8,Congés_auto!$R$5:$BR$5,2+J$3),IF(OR($F82=5,$F82=6),VLOOKUP($G$8,Congés_auto!$R$5:$BR$5,2+J$2),IF(OR($F82=7,$F82=8),VLOOKUP($G$8,Congés_auto!$R$5:$BR$5,2+J$1),)))),IF($G82=\"Jeudi\",IF(OR($F82=1,$F82=2),VLOOKUP($G$8,Congés_auto!$R$7:$BR$7,2+J$4),IF(OR($F82=3,$F82=4),VLOOKUP($G$8,Congés_auto!$R$7:$BR$7,2+J$3),IF(OR($F82=5,$F82=6),VLOOKUP($G$8,Congés_auto!$R$7:$BR$7,2+J$2),IF(OR($F82=7,$F82=8),VLOOKUP($G$8,Congés_auto!$R$7:$BR$7,2+J$1),)))),0))","v":"2018-11-08"},{"$f":"IF($G82=\"Mardi\",IF(OR($F82=1,$F82=2),VLOOKUP($G$8,Congés_auto!$R$5:$BR$5,2+K$4),IF(OR($F82=3,$F82=4),VLOOKUP($G$8,Congés_auto!$R$5:$BR$5,2+K$3),IF(OR($F82=5,$F82=6),VLOOKUP($G$8,Congés_auto!$R$5:$BR$5,2+K$2),IF(OR($F82=7,$F82=8),VLOOKUP($G$8,Congés_auto!$R$5:$BR$5,2+K$1),)))),IF($G82=\"Jeudi\",IF(OR($F82=1,$F82=2),VLOOKUP($G$8,Congés_auto!$R$7:$BR$7,2+K$4),IF(OR($F82=3,$F82=4),VLOOKUP($G$8,Congés_auto!$R$7:$BR$7,2+K$3),IF(OR($F82=5,$F82=6),VLOOKUP($G$8,Congés_auto!$R$7:$BR$7,2+K$2),IF(OR($F82=7,$F82=8),VLOOKUP($G$8,Congés_auto!$R$7:$BR$7,2+K$1),)))),0))","v":"2018-12-06"},{"$f":"IF($G82=\"Mardi\",IF(OR($F82=1,$F82=2),VLOOKUP($G$8,Congés_auto!$R$5:$BR$5,2+L$4),IF(OR($F82=3,$F82=4),VLOOKUP($G$8,Congés_auto!$R$5:$BR$5,2+L$3),IF(OR($F82=5,$F82=6),VLOOKUP($G$8,Congés_auto!$R$5:$BR$5,2+L$2),IF(OR($F82=7,$F82=8),VLOOKUP($G$8,Congés_auto!$R$5:$BR$5,2+L$1),)))),IF($G82=\"Jeudi\",IF(OR($F82=1,$F82=2),VLOOKUP($G$8,Congés_auto!$R$7:$BR$7,2+L$4),IF(OR($F82=3,$F82=4),VLOOKUP($G$8,Congés_auto!$R$7:$BR$7,2+L$3),IF(OR($F82=5,$F82=6),VLOOKUP($G$8,Congés_auto!$R$7:$BR$7,2+L$2),IF(OR($F82=7,$F82=8),VLOOKUP($G$8,Congés_auto!$R$7:$BR$7,2+L$1),)))),0))","v":"2019-02-14"},{"$f":"IF($G82=\"Mardi\",IF(OR($F82=1,$F82=2),VLOOKUP($G$8,Congés_auto!$R$5:$BR$5,2+M$4),IF(OR($F82=3,$F82=4),VLOOKUP($G$8,Congés_auto!$R$5:$BR$5,2+M$3),IF(OR($F82=5,$F82=6),VLOOKUP($G$8,Congés_auto!$R$5:$BR$5,2+M$2),IF(OR($F82=7,$F82=8),VLOOKUP($G$8,Congés_auto!$R$5:$BR$5,2+M$1),)))),IF($G82=\"Jeudi\",IF(OR($F82=1,$F82=2),VLOOKUP($G$8,Congés_auto!$R$7:$BR$7,2+M$4),IF(OR($F82=3,$F82=4),VLOOKUP($G$8,Congés_auto!$R$7:$BR$7,2+M$3),IF(OR($F82=5,$F82=6),VLOOKUP($G$8,Congés_auto!$R$7:$BR$7,2+M$2),IF(OR($F82=7,$F82=8),VLOOKUP($G$8,Congés_auto!$R$7:$BR$7,2+M$1),)))),0))","v":"2019-03-28"},{"$f":"IF($G82=\"Mardi\",IF(OR($F82=1,$F82=2),VLOOKUP($G$8,Congés_auto!$R$5:$BR$5,2+N$4),IF(OR($F82=3,$F82=4),VLOOKUP($G$8,Congés_auto!$R$5:$BR$5,2+N$3),IF(OR($F82=5,$F82=6),VLOOKUP($G$8,Congés_auto!$R$5:$BR$5,2+N$2),IF(OR($F82=7,$F82=8),VLOOKUP($G$8,Congés_auto!$R$5:$BR$5,2+N$1),)))),IF($G82=\"Jeudi\",IF(OR($F82=1,$F82=2),VLOOKUP($G$8,Congés_auto!$R$7:$BR$7,2+N$4),IF(OR($F82=3,$F82=4),VLOOKUP($G$8,Congés_auto!$R$7:$BR$7,2+N$3),IF(OR($F82=5,$F82=6),VLOOKUP($G$8,Congés_auto!$R$7:$BR$7,2+N$2),IF(OR($F82=7,$F82=8),VLOOKUP($G$8,Congés_auto!$R$7:$BR$7,2+N$1),)))),0))","v":"2019-04-25"},{"$f":"IF($G82=\"Mardi\",IF(OR($F82=1,$F82=2),VLOOKUP($G$8,Congés_auto!$R$5:$BR$5,2+O$4),IF(OR($F82=3,$F82=4),VLOOKUP($G$8,Congés_auto!$R$5:$BR$5,2+O$3),IF(OR($F82=5,$F82=6),VLOOKUP($G$8,Congés_auto!$R$5:$BR$5,2+O$2),IF(OR($F82=7,$F82=8),VLOOKUP($G$8,Congés_auto!$R$5:$BR$5,2+O$1),)))),IF($G82=\"Jeudi\",IF(OR($F82=1,$F82=2),VLOOKUP($G$8,Congés_auto!$R$7:$BR$7,2+O$4),IF(OR($F82=3,$F82=4),VLOOKUP($G$8,Congés_auto!$R$7:$BR$7,2+O$3),IF(OR($F82=5,$F82=6),VLOOKUP($G$8,Congés_auto!$R$7:$BR$7,2+O$2),IF(OR($F82=7,$F82=8),VLOOKUP($G$8,Congés_auto!$R$7:$BR$7,2+O$1),)))),0))","v":"2019-06-13"},{"$f":"IF($G82=\"Mardi\",IF(OR($F82=1,$F82=2),VLOOKUP($G$8,Congés_auto!$R$5:$BR$5,2+P$4),IF(OR($F82=3,$F82=4),VLOOKUP($G$8,Congés_auto!$R$5:$BR$5,2+P$3),IF(OR($F82=5,$F82=6),VLOOKUP($G$8,Congés_auto!$R$5:$BR$5,2+P$2),IF(OR($F82=7,$F82=8),VLOOKUP($G$8,Congés_auto!$R$5:$BR$5,2+P$1),)))),IF($G82=\"Jeudi\",IF(OR($F82=1,$F82=2),VLOOKUP($G$8,Congés_auto!$R$7:$BR$7,2+P$4),IF(OR($F82=3,$F82=4),VLOOKUP($G$8,Congés_auto!$R$7:$BR$7,2+P$3),IF(OR($F82=5,$F82=6),VLOOKUP($G$8,Congés_auto!$R$7:$BR$7,2+P$2),IF(OR($F82=7,$F82=8),VLOOKUP($G$8,Congés_auto!$R$7:$BR$7,2+P$1),)))),0))","v":""},{"$f":"IF($G82=\"Mardi\",IF(OR($F82=1,$F82=2),VLOOKUP($G$8,Congés_auto!$R$5:$BR$5,2+Q$4),IF(OR($F82=3,$F82=4),VLOOKUP($G$8,Congés_auto!$R$5:$BR$5,2+Q$3),IF(OR($F82=5,$F82=6),VLOOKUP($G$8,Congés_auto!$R$5:$BR$5,2+Q$2),IF(OR($F82=7,$F82=8),VLOOKUP($G$8,Congés_auto!$R$5:$BR$5,2+Q$1),)))),IF($G82=\"Jeudi\",IF(OR($F82=1,$F82=2),VLOOKUP($G$8,Congés_auto!$R$7:$BR$7,2+Q$4),IF(OR($F82=3,$F82=4),VLOOKUP($G$8,Congés_auto!$R$7:$BR$7,2+Q$3),IF(OR($F82=5,$F82=6),VLOOKUP($G$8,Congés_auto!$R$7:$BR$7,2+Q$2),IF(OR($F82=7,$F82=8),VLOOKUP($G$8,Congés_auto!$R$7:$BR$7,2+Q$1),)))),0))","v":""}]
[null,null,"Jean","2001-09-18",305,7,"Jeudi",30571,{"$f":"IF($G83=\"Mardi\",IF(OR($F83=1,$F83=2),VLOOKUP($G$8,Congés_auto!$R$5:$BR$5,2+I$4),IF(OR($F83=3,$F83=4),VLOOKUP($G$8,Congés_auto!$R$5:$BR$5,2+I$3),IF(OR($F83=5,$F83=6),VLOOKUP($G$8,Congés_auto!$R$5:$BR$5,2+I$2),IF(OR($F83=7,$F83=8),VLOOKUP($G$8,Congés_auto!$R$5:$BR$5,2+I$1),)))),IF($G83=\"Jeudi\",IF(OR($F83=1,$F83=2),VLOOKUP($G$8,Congés_auto!$R$7:$BR$7,2+I$4),IF(OR($F83=3,$F83=4),VLOOKUP($G$8,Congés_auto!$R$7:$BR$7,2+I$3),IF(OR($F83=5,$F83=6),VLOOKUP($G$8,Congés_auto!$R$7:$BR$7,2+I$2),IF(OR($F83=7,$F83=8),VLOOKUP($G$8,Congés_auto!$R$7:$BR$7,2+I$1),)))),0))","v":"2018-09-20"},{"$f":"IF($G83=\"Mardi\",IF(OR($F83=1,$F83=2),VLOOKUP($G$8,Congés_auto!$R$5:$BR$5,2+J$4),IF(OR($F83=3,$F83=4),VLOOKUP($G$8,Congés_auto!$R$5:$BR$5,2+J$3),IF(OR($F83=5,$F83=6),VLOOKUP($G$8,Congés_auto!$R$5:$BR$5,2+J$2),IF(OR($F83=7,$F83=8),VLOOKUP($G$8,Congés_auto!$R$5:$BR$5,2+J$1),)))),IF($G83=\"Jeudi\",IF(OR($F83=1,$F83=2),VLOOKUP($G$8,Congés_auto!$R$7:$BR$7,2+J$4),IF(OR($F83=3,$F83=4),VLOOKUP($G$8,Congés_auto!$R$7:$BR$7,2+J$3),IF(OR($F83=5,$F83=6),VLOOKUP($G$8,Congés_auto!$R$7:$BR$7,2+J$2),IF(OR($F83=7,$F83=8),VLOOKUP($G$8,Congés_auto!$R$7:$BR$7,2+J$1),)))),0))","v":"2018-11-08"},{"$f":"IF($G83=\"Mardi\",IF(OR($F83=1,$F83=2),VLOOKUP($G$8,Congés_auto!$R$5:$BR$5,2+K$4),IF(OR($F83=3,$F83=4),VLOOKUP($G$8,Congés_auto!$R$5:$BR$5,2+K$3),IF(OR($F83=5,$F83=6),VLOOKUP($G$8,Congés_auto!$R$5:$BR$5,2+K$2),IF(OR($F83=7,$F83=8),VLOOKUP($G$8,Congés_auto!$R$5:$BR$5,2+K$1),)))),IF($G83=\"Jeudi\",IF(OR($F83=1,$F83=2),VLOOKUP($G$8,Congés_auto!$R$7:$BR$7,2+K$4),IF(OR($F83=3,$F83=4),VLOOKUP($G$8,Congés_auto!$R$7:$BR$7,2+K$3),IF(OR($F83=5,$F83=6),VLOOKUP($G$8,Congés_auto!$R$7:$BR$7,2+K$2),IF(OR($F83=7,$F83=8),VLOOKUP($G$8,Congés_auto!$R$7:$BR$7,2+K$1),)))),0))","v":"2018-12-06"},{"$f":"IF($G83=\"Mardi\",IF(OR($F83=1,$F83=2),VLOOKUP($G$8,Congés_auto!$R$5:$BR$5,2+L$4),IF(OR($F83=3,$F83=4),VLOOKUP($G$8,Congés_auto!$R$5:$BR$5,2+L$3),IF(OR($F83=5,$F83=6),VLOOKUP($G$8,Congés_auto!$R$5:$BR$5,2+L$2),IF(OR($F83=7,$F83=8),VLOOKUP($G$8,Congés_auto!$R$5:$BR$5,2+L$1),)))),IF($G83=\"Jeudi\",IF(OR($F83=1,$F83=2),VLOOKUP($G$8,Congés_auto!$R$7:$BR$7,2+L$4),IF(OR($F83=3,$F83=4),VLOOKUP($G$8,Congés_auto!$R$7:$BR$7,2+L$3),IF(OR($F83=5,$F83=6),VLOOKUP($G$8,Congés_auto!$R$7:$BR$7,2+L$2),IF(OR($F83=7,$F83=8),VLOOKUP($G$8,Congés_auto!$R$7:$BR$7,2+L$1),)))),0))","v":"2019-02-14"},{"$f":"IF($G83=\"Mardi\",IF(OR($F83=1,$F83=2),VLOOKUP($G$8,Congés_auto!$R$5:$BR$5,2+M$4),IF(OR($F83=3,$F83=4),VLOOKUP($G$8,Congés_auto!$R$5:$BR$5,2+M$3),IF(OR($F83=5,$F83=6),VLOOKUP($G$8,Congés_auto!$R$5:$BR$5,2+M$2),IF(OR($F83=7,$F83=8),VLOOKUP($G$8,Congés_auto!$R$5:$BR$5,2+M$1),)))),IF($G83=\"Jeudi\",IF(OR($F83=1,$F83=2),VLOOKUP($G$8,Congés_auto!$R$7:$BR$7,2+M$4),IF(OR($F83=3,$F83=4),VLOOKUP($G$8,Congés_auto!$R$7:$BR$7,2+M$3),IF(OR($F83=5,$F83=6),VLOOKUP($G$8,Congés_auto!$R$7:$BR$7,2+M$2),IF(OR($F83=7,$F83=8),VLOOKUP($G$8,Congés_auto!$R$7:$BR$7,2+M$1),)))),0))","v":"2019-03-28"},{"$f":"IF($G83=\"Mardi\",IF(OR($F83=1,$F83=2),VLOOKUP($G$8,Congés_auto!$R$5:$BR$5,2+N$4),IF(OR($F83=3,$F83=4),VLOOKUP($G$8,Congés_auto!$R$5:$BR$5,2+N$3),IF(OR($F83=5,$F83=6),VLOOKUP($G$8,Congés_auto!$R$5:$BR$5,2+N$2),IF(OR($F83=7,$F83=8),VLOOKUP($G$8,Congés_auto!$R$5:$BR$5,2+N$1),)))),IF($G83=\"Jeudi\",IF(OR($F83=1,$F83=2),VLOOKUP($G$8,Congés_auto!$R$7:$BR$7,2+N$4),IF(OR($F83=3,$F83=4),VLOOKUP($G$8,Congés_auto!$R$7:$BR$7,2+N$3),IF(OR($F83=5,$F83=6),VLOOKUP($G$8,Congés_auto!$R$7:$BR$7,2+N$2),IF(OR($F83=7,$F83=8),VLOOKUP($G$8,Congés_auto!$R$7:$BR$7,2+N$1),)))),0))","v":"2019-04-25"},{"$f":"IF($G83=\"Mardi\",IF(OR($F83=1,$F83=2),VLOOKUP($G$8,Congés_auto!$R$5:$BR$5,2+O$4),IF(OR($F83=3,$F83=4),VLOOKUP($G$8,Congés_auto!$R$5:$BR$5,2+O$3),IF(OR($F83=5,$F83=6),VLOOKUP($G$8,Congés_auto!$R$5:$BR$5,2+O$2),IF(OR($F83=7,$F83=8),VLOOKUP($G$8,Congés_auto!$R$5:$BR$5,2+O$1),)))),IF($G83=\"Jeudi\",IF(OR($F83=1,$F83=2),VLOOKUP($G$8,Congés_auto!$R$7:$BR$7,2+O$4),IF(OR($F83=3,$F83=4),VLOOKUP($G$8,Congés_auto!$R$7:$BR$7,2+O$3),IF(OR($F83=5,$F83=6),VLOOKUP($G$8,Congés_auto!$R$7:$BR$7,2+O$2),IF(OR($F83=7,$F83=8),VLOOKUP($G$8,Congés_auto!$R$7:$BR$7,2+O$1),)))),0))","v":"2019-06-13"},{"$f":"IF($G83=\"Mardi\",IF(OR($F83=1,$F83=2),VLOOKUP($G$8,Congés_auto!$R$5:$BR$5,2+P$4),IF(OR($F83=3,$F83=4),VLOOKUP($G$8,Congés_auto!$R$5:$BR$5,2+P$3),IF(OR($F83=5,$F83=6),VLOOKUP($G$8,Congés_auto!$R$5:$BR$5,2+P$2),IF(OR($F83=7,$F83=8),VLOOKUP($G$8,Congés_auto!$R$5:$BR$5,2+P$1),)))),IF($G83=\"Jeudi\",IF(OR($F83=1,$F83=2),VLOOKUP($G$8,Congés_auto!$R$7:$BR$7,2+P$4),IF(OR($F83=3,$F83=4),VLOOKUP($G$8,Congés_auto!$R$7:$BR$7,2+P$3),IF(OR($F83=5,$F83=6),VLOOKUP($G$8,Congés_auto!$R$7:$BR$7,2+P$2),IF(OR($F83=7,$F83=8),VLOOKUP($G$8,Congés_auto!$R$7:$BR$7,2+P$1),)))),0))","v":""},{"$f":"IF($G83=\"Mardi\",IF(OR($F83=1,$F83=2),VLOOKUP($G$8,Congés_auto!$R$5:$BR$5,2+Q$4),IF(OR($F83=3,$F83=4),VLOOKUP($G$8,Congés_auto!$R$5:$BR$5,2+Q$3),IF(OR($F83=5,$F83=6),VLOOKUP($G$8,Congés_auto!$R$5:$BR$5,2+Q$2),IF(OR($F83=7,$F83=8),VLOOKUP($G$8,Congés_auto!$R$5:$BR$5,2+Q$1),)))),IF($G83=\"Jeudi\",IF(OR($F83=1,$F83=2),VLOOKUP($G$8,Congés_auto!$R$7:$BR$7,2+Q$4),IF(OR($F83=3,$F83=4),VLOOKUP($G$8,Congés_auto!$R$7:$BR$7,2+Q$3),IF(OR($F83=5,$F83=6),VLOOKUP($G$8,Congés_auto!$R$7:$BR$7,2+Q$2),IF(OR($F83=7,$F83=8),VLOOKUP($G$8,Congés_auto!$R$7:$BR$7,2+Q$1),)))),0))","v":""}]
[null,null,"Jean","2001-10-27",305,7,"Jeudi",30572,{"$f":"IF($G84=\"Mardi\",IF(OR($F84=1,$F84=2),VLOOKUP($G$8,Congés_auto!$R$5:$BR$5,2+I$4),IF(OR($F84=3,$F84=4),VLOOKUP($G$8,Congés_auto!$R$5:$BR$5,2+I$3),IF(OR($F84=5,$F84=6),VLOOKUP($G$8,Congés_auto!$R$5:$BR$5,2+I$2),IF(OR($F84=7,$F84=8),VLOOKUP($G$8,Congés_auto!$R$5:$BR$5,2+I$1),)))),IF($G84=\"Jeudi\",IF(OR($F84=1,$F84=2),VLOOKUP($G$8,Congés_auto!$R$7:$BR$7,2+I$4),IF(OR($F84=3,$F84=4),VLOOKUP($G$8,Congés_auto!$R$7:$BR$7,2+I$3),IF(OR($F84=5,$F84=6),VLOOKUP($G$8,Congés_auto!$R$7:$BR$7,2+I$2),IF(OR($F84=7,$F84=8),VLOOKUP($G$8,Congés_auto!$R$7:$BR$7,2+I$1),)))),0))","v":"2018-09-20"},{"$f":"IF($G84=\"Mardi\",IF(OR($F84=1,$F84=2),VLOOKUP($G$8,Congés_auto!$R$5:$BR$5,2+J$4),IF(OR($F84=3,$F84=4),VLOOKUP($G$8,Congés_auto!$R$5:$BR$5,2+J$3),IF(OR($F84=5,$F84=6),VLOOKUP($G$8,Congés_auto!$R$5:$BR$5,2+J$2),IF(OR($F84=7,$F84=8),VLOOKUP($G$8,Congés_auto!$R$5:$BR$5,2+J$1),)))),IF($G84=\"Jeudi\",IF(OR($F84=1,$F84=2),VLOOKUP($G$8,Congés_auto!$R$7:$BR$7,2+J$4),IF(OR($F84=3,$F84=4),VLOOKUP($G$8,Congés_auto!$R$7:$BR$7,2+J$3),IF(OR($F84=5,$F84=6),VLOOKUP($G$8,Congés_auto!$R$7:$BR$7,2+J$2),IF(OR($F84=7,$F84=8),VLOOKUP($G$8,Congés_auto!$R$7:$BR$7,2+J$1),)))),0))","v":"2018-11-08"},{"$f":"IF($G84=\"Mardi\",IF(OR($F84=1,$F84=2),VLOOKUP($G$8,Congés_auto!$R$5:$BR$5,2+K$4),IF(OR($F84=3,$F84=4),VLOOKUP($G$8,Congés_auto!$R$5:$BR$5,2+K$3),IF(OR($F84=5,$F84=6),VLOOKUP($G$8,Congés_auto!$R$5:$BR$5,2+K$2),IF(OR($F84=7,$F84=8),VLOOKUP($G$8,Congés_auto!$R$5:$BR$5,2+K$1),)))),IF($G84=\"Jeudi\",IF(OR($F84=1,$F84=2),VLOOKUP($G$8,Congés_auto!$R$7:$BR$7,2+K$4),IF(OR($F84=3,$F84=4),VLOOKUP($G$8,Congés_auto!$R$7:$BR$7,2+K$3),IF(OR($F84=5,$F84=6),VLOOKUP($G$8,Congés_auto!$R$7:$BR$7,2+K$2),IF(OR($F84=7,$F84=8),VLOOKUP($G$8,Congés_auto!$R$7:$BR$7,2+K$1),)))),0))","v":"2018-12-06"},{"$f":"IF($G84=\"Mardi\",IF(OR($F84=1,$F84=2),VLOOKUP($G$8,Congés_auto!$R$5:$BR$5,2+L$4),IF(OR($F84=3,$F84=4),VLOOKUP($G$8,Congés_auto!$R$5:$BR$5,2+L$3),IF(OR($F84=5,$F84=6),VLOOKUP($G$8,Congés_auto!$R$5:$BR$5,2+L$2),IF(OR($F84=7,$F84=8),VLOOKUP($G$8,Congés_auto!$R$5:$BR$5,2+L$1),)))),IF($G84=\"Jeudi\",IF(OR($F84=1,$F84=2),VLOOKUP($G$8,Congés_auto!$R$7:$BR$7,2+L$4),IF(OR($F84=3,$F84=4),VLOOKUP($G$8,Congés_auto!$R$7:$BR$7,2+L$3),IF(OR($F84=5,$F84=6),VLOOKUP($G$8,Congés_auto!$R$7:$BR$7,2+L$2),IF(OR($F84=7,$F84=8),VLOOKUP($G$8,Congés_auto!$R$7:$BR$7,2+L$1),)))),0))","v":"2019-02-14"},{"$f":"IF($G84=\"Mardi\",IF(OR($F84=1,$F84=2),VLOOKUP($G$8,Congés_auto!$R$5:$BR$5,2+M$4),IF(OR($F84=3,$F84=4),VLOOKUP($G$8,Congés_auto!$R$5:$BR$5,2+M$3),IF(OR($F84=5,$F84=6),VLOOKUP($G$8,Congés_auto!$R$5:$BR$5,2+M$2),IF(OR($F84=7,$F84=8),VLOOKUP($G$8,Congés_auto!$R$5:$BR$5,2+M$1),)))),IF($G84=\"Jeudi\",IF(OR($F84=1,$F84=2),VLOOKUP($G$8,Congés_auto!$R$7:$BR$7,2+M$4),IF(OR($F84=3,$F84=4),VLOOKUP($G$8,Congés_auto!$R$7:$BR$7,2+M$3),IF(OR($F84=5,$F84=6),VLOOKUP($G$8,Congés_auto!$R$7:$BR$7,2+M$2),IF(OR($F84=7,$F84=8),VLOOKUP($G$8,Congés_auto!$R$7:$BR$7,2+M$1),)))),0))","v":"2019-03-28"},{"$f":"IF($G84=\"Mardi\",IF(OR($F84=1,$F84=2),VLOOKUP($G$8,Congés_auto!$R$5:$BR$5,2+N$4),IF(OR($F84=3,$F84=4),VLOOKUP($G$8,Congés_auto!$R$5:$BR$5,2+N$3),IF(OR($F84=5,$F84=6),VLOOKUP($G$8,Congés_auto!$R$5:$BR$5,2+N$2),IF(OR($F84=7,$F84=8),VLOOKUP($G$8,Congés_auto!$R$5:$BR$5,2+N$1),)))),IF($G84=\"Jeudi\",IF(OR($F84=1,$F84=2),VLOOKUP($G$8,Congés_auto!$R$7:$BR$7,2+N$4),IF(OR($F84=3,$F84=4),VLOOKUP($G$8,Congés_auto!$R$7:$BR$7,2+N$3),IF(OR($F84=5,$F84=6),VLOOKUP($G$8,Congés_auto!$R$7:$BR$7,2+N$2),IF(OR($F84=7,$F84=8),VLOOKUP($G$8,Congés_auto!$R$7:$BR$7,2+N$1),)))),0))","v":"2019-04-25"},{"$f":"IF($G84=\"Mardi\",IF(OR($F84=1,$F84=2),VLOOKUP($G$8,Congés_auto!$R$5:$BR$5,2+O$4),IF(OR($F84=3,$F84=4),VLOOKUP($G$8,Congés_auto!$R$5:$BR$5,2+O$3),IF(OR($F84=5,$F84=6),VLOOKUP($G$8,Congés_auto!$R$5:$BR$5,2+O$2),IF(OR($F84=7,$F84=8),VLOOKUP($G$8,Congés_auto!$R$5:$BR$5,2+O$1),)))),IF($G84=\"Jeudi\",IF(OR($F84=1,$F84=2),VLOOKUP($G$8,Congés_auto!$R$7:$BR$7,2+O$4),IF(OR($F84=3,$F84=4),VLOOKUP($G$8,Congés_auto!$R$7:$BR$7,2+O$3),IF(OR($F84=5,$F84=6),VLOOKUP($G$8,Congés_auto!$R$7:$BR$7,2+O$2),IF(OR($F84=7,$F84=8),VLOOKUP($G$8,Congés_auto!$R$7:$BR$7,2+O$1),)))),0))","v":"2019-06-13"},{"$f":"IF($G84=\"Mardi\",IF(OR($F84=1,$F84=2),VLOOKUP($G$8,Congés_auto!$R$5:$BR$5,2+P$4),IF(OR($F84=3,$F84=4),VLOOKUP($G$8,Congés_auto!$R$5:$BR$5,2+P$3),IF(OR($F84=5,$F84=6),VLOOKUP($G$8,Congés_auto!$R$5:$BR$5,2+P$2),IF(OR($F84=7,$F84=8),VLOOKUP($G$8,Congés_auto!$R$5:$BR$5,2+P$1),)))),IF($G84=\"Jeudi\",IF(OR($F84=1,$F84=2),VLOOKUP($G$8,Congés_auto!$R$7:$BR$7,2+P$4),IF(OR($F84=3,$F84=4),VLOOKUP($G$8,Congés_auto!$R$7:$BR$7,2+P$3),IF(OR($F84=5,$F84=6),VLOOKUP($G$8,Congés_auto!$R$7:$BR$7,2+P$2),IF(OR($F84=7,$F84=8),VLOOKUP($G$8,Congés_auto!$R$7:$BR$7,2+P$1),)))),0))","v":""},{"$f":"IF($G84=\"Mardi\",IF(OR($F84=1,$F84=2),VLOOKUP($G$8,Congés_auto!$R$5:$BR$5,2+Q$4),IF(OR($F84=3,$F84=4),VLOOKUP($G$8,Congés_auto!$R$5:$BR$5,2+Q$3),IF(OR($F84=5,$F84=6),VLOOKUP($G$8,Congés_auto!$R$5:$BR$5,2+Q$2),IF(OR($F84=7,$F84=8),VLOOKUP($G$8,Congés_auto!$R$5:$BR$5,2+Q$1),)))),IF($G84=\"Jeudi\",IF(OR($F84=1,$F84=2),VLOOKUP($G$8,Congés_auto!$R$7:$BR$7,2+Q$4),IF(OR($F84=3,$F84=4),VLOOKUP($G$8,Congés_auto!$R$7:$BR$7,2+Q$3),IF(OR($F84=5,$F84=6),VLOOKUP($G$8,Congés_auto!$R$7:$BR$7,2+Q$2),IF(OR($F84=7,$F84=8),VLOOKUP($G$8,Congés_auto!$R$7:$BR$7,2+Q$1),)))),0))","v":""}]
[null,null,"Adeline","2001-10-03",305,7,"Jeudi",30573,{"$f":"IF($G85=\"Mardi\",IF(OR($F85=1,$F85=2),VLOOKUP($G$8,Congés_auto!$R$5:$BR$5,2+I$4),IF(OR($F85=3,$F85=4),VLOOKUP($G$8,Congés_auto!$R$5:$BR$5,2+I$3),IF(OR($F85=5,$F85=6),VLOOKUP($G$8,Congés_auto!$R$5:$BR$5,2+I$2),IF(OR($F85=7,$F85=8),VLOOKUP($G$8,Congés_auto!$R$5:$BR$5,2+I$1),)))),IF($G85=\"Jeudi\",IF(OR($F85=1,$F85=2),VLOOKUP($G$8,Congés_auto!$R$7:$BR$7,2+I$4),IF(OR($F85=3,$F85=4),VLOOKUP($G$8,Congés_auto!$R$7:$BR$7,2+I$3),IF(OR($F85=5,$F85=6),VLOOKUP($G$8,Congés_auto!$R$7:$BR$7,2+I$2),IF(OR($F85=7,$F85=8),VLOOKUP($G$8,Congés_auto!$R$7:$BR$7,2+I$1),)))),0))","v":"2018-09-20"},{"$f":"IF($G85=\"Mardi\",IF(OR($F85=1,$F85=2),VLOOKUP($G$8,Congés_auto!$R$5:$BR$5,2+J$4),IF(OR($F85=3,$F85=4),VLOOKUP($G$8,Congés_auto!$R$5:$BR$5,2+J$3),IF(OR($F85=5,$F85=6),VLOOKUP($G$8,Congés_auto!$R$5:$BR$5,2+J$2),IF(OR($F85=7,$F85=8),VLOOKUP($G$8,Congés_auto!$R$5:$BR$5,2+J$1),)))),IF($G85=\"Jeudi\",IF(OR($F85=1,$F85=2),VLOOKUP($G$8,Congés_auto!$R$7:$BR$7,2+J$4),IF(OR($F85=3,$F85=4),VLOOKUP($G$8,Congés_auto!$R$7:$BR$7,2+J$3),IF(OR($F85=5,$F85=6),VLOOKUP($G$8,Congés_auto!$R$7:$BR$7,2+J$2),IF(OR($F85=7,$F85=8),VLOOKUP($G$8,Congés_auto!$R$7:$BR$7,2+J$1),)))),0))","v":"2018-11-08"},{"$f":"IF($G85=\"Mardi\",IF(OR($F85=1,$F85=2),VLOOKUP($G$8,Congés_auto!$R$5:$BR$5,2+K$4),IF(OR($F85=3,$F85=4),VLOOKUP($G$8,Congés_auto!$R$5:$BR$5,2+K$3),IF(OR($F85=5,$F85=6),VLOOKUP($G$8,Congés_auto!$R$5:$BR$5,2+K$2),IF(OR($F85=7,$F85=8),VLOOKUP($G$8,Congés_auto!$R$5:$BR$5,2+K$1),)))),IF($G85=\"Jeudi\",IF(OR($F85=1,$F85=2),VLOOKUP($G$8,Congés_auto!$R$7:$BR$7,2+K$4),IF(OR($F85=3,$F85=4),VLOOKUP($G$8,Congés_auto!$R$7:$BR$7,2+K$3),IF(OR($F85=5,$F85=6),VLOOKUP($G$8,Congés_auto!$R$7:$BR$7,2+K$2),IF(OR($F85=7,$F85=8),VLOOKUP($G$8,Congés_auto!$R$7:$BR$7,2+K$1),)))),0))","v":"2018-12-06"},{"$f":"IF($G85=\"Mardi\",IF(OR($F85=1,$F85=2),VLOOKUP($G$8,Congés_auto!$R$5:$BR$5,2+L$4),IF(OR($F85=3,$F85=4),VLOOKUP($G$8,Congés_auto!$R$5:$BR$5,2+L$3),IF(OR($F85=5,$F85=6),VLOOKUP($G$8,Congés_auto!$R$5:$BR$5,2+L$2),IF(OR($F85=7,$F85=8),VLOOKUP($G$8,Congés_auto!$R$5:$BR$5,2+L$1),)))),IF($G85=\"Jeudi\",IF(OR($F85=1,$F85=2),VLOOKUP($G$8,Congés_auto!$R$7:$BR$7,2+L$4),IF(OR($F85=3,$F85=4),VLOOKUP($G$8,Congés_auto!$R$7:$BR$7,2+L$3),IF(OR($F85=5,$F85=6),VLOOKUP($G$8,Congés_auto!$R$7:$BR$7,2+L$2),IF(OR($F85=7,$F85=8),VLOOKUP($G$8,Congés_auto!$R$7:$BR$7,2+L$1),)))),0))","v":"2019-02-14"},{"$f":"IF($G85=\"Mardi\",IF(OR($F85=1,$F85=2),VLOOKUP($G$8,Congés_auto!$R$5:$BR$5,2+M$4),IF(OR($F85=3,$F85=4),VLOOKUP($G$8,Congés_auto!$R$5:$BR$5,2+M$3),IF(OR($F85=5,$F85=6),VLOOKUP($G$8,Congés_auto!$R$5:$BR$5,2+M$2),IF(OR($F85=7,$F85=8),VLOOKUP($G$8,Congés_auto!$R$5:$BR$5,2+M$1),)))),IF($G85=\"Jeudi\",IF(OR($F85=1,$F85=2),VLOOKUP($G$8,Congés_auto!$R$7:$BR$7,2+M$4),IF(OR($F85=3,$F85=4),VLOOKUP($G$8,Congés_auto!$R$7:$BR$7,2+M$3),IF(OR($F85=5,$F85=6),VLOOKUP($G$8,Congés_auto!$R$7:$BR$7,2+M$2),IF(OR($F85=7,$F85=8),VLOOKUP($G$8,Congés_auto!$R$7:$BR$7,2+M$1),)))),0))","v":"2019-03-28"},{"$f":"IF($G85=\"Mardi\",IF(OR($F85=1,$F85=2),VLOOKUP($G$8,Congés_auto!$R$5:$BR$5,2+N$4),IF(OR($F85=3,$F85=4),VLOOKUP($G$8,Congés_auto!$R$5:$BR$5,2+N$3),IF(OR($F85=5,$F85=6),VLOOKUP($G$8,Congés_auto!$R$5:$BR$5,2+N$2),IF(OR($F85=7,$F85=8),VLOOKUP($G$8,Congés_auto!$R$5:$BR$5,2+N$1),)))),IF($G85=\"Jeudi\",IF(OR($F85=1,$F85=2),VLOOKUP($G$8,Congés_auto!$R$7:$BR$7,2+N$4),IF(OR($F85=3,$F85=4),VLOOKUP($G$8,Congés_auto!$R$7:$BR$7,2+N$3),IF(OR($F85=5,$F85=6),VLOOKUP($G$8,Congés_auto!$R$7:$BR$7,2+N$2),IF(OR($F85=7,$F85=8),VLOOKUP($G$8,Congés_auto!$R$7:$BR$7,2+N$1),)))),0))","v":"2019-04-25"},{"$f":"IF($G85=\"Mardi\",IF(OR($F85=1,$F85=2),VLOOKUP($G$8,Congés_auto!$R$5:$BR$5,2+O$4),IF(OR($F85=3,$F85=4),VLOOKUP($G$8,Congés_auto!$R$5:$BR$5,2+O$3),IF(OR($F85=5,$F85=6),VLOOKUP($G$8,Congés_auto!$R$5:$BR$5,2+O$2),IF(OR($F85=7,$F85=8),VLOOKUP($G$8,Congés_auto!$R$5:$BR$5,2+O$1),)))),IF($G85=\"Jeudi\",IF(OR($F85=1,$F85=2),VLOOKUP($G$8,Congés_auto!$R$7:$BR$7,2+O$4),IF(OR($F85=3,$F85=4),VLOOKUP($G$8,Congés_auto!$R$7:$BR$7,2+O$3),IF(OR($F85=5,$F85=6),VLOOKUP($G$8,Congés_auto!$R$7:$BR$7,2+O$2),IF(OR($F85=7,$F85=8),VLOOKUP($G$8,Congés_auto!$R$7:$BR$7,2+O$1),)))),0))","v":"2019-06-13"},{"$f":"IF($G85=\"Mardi\",IF(OR($F85=1,$F85=2),VLOOKUP($G$8,Congés_auto!$R$5:$BR$5,2+P$4),IF(OR($F85=3,$F85=4),VLOOKUP($G$8,Congés_auto!$R$5:$BR$5,2+P$3),IF(OR($F85=5,$F85=6),VLOOKUP($G$8,Congés_auto!$R$5:$BR$5,2+P$2),IF(OR($F85=7,$F85=8),VLOOKUP($G$8,Congés_auto!$R$5:$BR$5,2+P$1),)))),IF($G85=\"Jeudi\",IF(OR($F85=1,$F85=2),VLOOKUP($G$8,Congés_auto!$R$7:$BR$7,2+P$4),IF(OR($F85=3,$F85=4),VLOOKUP($G$8,Congés_auto!$R$7:$BR$7,2+P$3),IF(OR($F85=5,$F85=6),VLOOKUP($G$8,Congés_auto!$R$7:$BR$7,2+P$2),IF(OR($F85=7,$F85=8),VLOOKUP($G$8,Congés_auto!$R$7:$BR$7,2+P$1),)))),0))","v":""},{"$f":"IF($G85=\"Mardi\",IF(OR($F85=1,$F85=2),VLOOKUP($G$8,Congés_auto!$R$5:$BR$5,2+Q$4),IF(OR($F85=3,$F85=4),VLOOKUP($G$8,Congés_auto!$R$5:$BR$5,2+Q$3),IF(OR($F85=5,$F85=6),VLOOKUP($G$8,Congés_auto!$R$5:$BR$5,2+Q$2),IF(OR($F85=7,$F85=8),VLOOKUP($G$8,Congés_auto!$R$5:$BR$5,2+Q$1),)))),IF($G85=\"Jeudi\",IF(OR($F85=1,$F85=2),VLOOKUP($G$8,Congés_auto!$R$7:$BR$7,2+Q$4),IF(OR($F85=3,$F85=4),VLOOKUP($G$8,Congés_auto!$R$7:$BR$7,2+Q$3),IF(OR($F85=5,$F85=6),VLOOKUP($G$8,Congés_auto!$R$7:$BR$7,2+Q$2),IF(OR($F85=7,$F85=8),VLOOKUP($G$8,Congés_auto!$R$7:$BR$7,2+Q$1),)))),0))","v":""}]
[{"$nulls":3},"2001-09-06",305,8,"Jeudi","30580",{"$f":"IF($G86=\"Mardi\",IF(OR($F86=1,$F86=2),VLOOKUP($G$8,Congés_auto!$R$5:$BR$5,2+I$4),IF(OR($F86=3,$F86=4),VLOOKUP($G$8,Congés_auto!$R$5:$BR$5,2+I$3),IF(OR($F86=5,$F86=6),VLOOKUP($G$8,Congés_auto!$R$5:$BR$5,2+I$2),IF(OR($F86=7,$F86=8),VLOOKUP($G$8,Congés_auto!$R$5:$BR$5,2+I$1),)))),IF($G86=\"Jeudi\",IF(OR($F86=1,$F86=2),VLOOKUP($G$8,Congés_auto!$R$7:$BR$7,2+I$4),IF(OR($F86=3,$F86=4),VLOOKUP($G$8,Congés_auto!$R$7:$BR$7,2+I$3),IF(OR($F86=5,$F86=6),VLOOKUP($G$8,Congés_auto!$R$7:$BR$7,2+I$2),IF(OR($F86=7,$F86=8),VLOOKUP($G$8,Congés_auto!$R$7:$BR$7,2+I$1),)))),0))","v":"2018-09-20"},{"$f":"IF($G86=\"Mardi\",IF(OR($F86=1,$F86=2),VLOOKUP($G$8,Congés_auto!$R$5:$BR$5,2+J$4),IF(OR($F86=3,$F86=4),VLOOKUP($G$8,Congés_auto!$R$5:$BR$5,2+J$3),IF(OR($F86=5,$F86=6),VLOOKUP($G$8,Congés_auto!$R$5:$BR$5,2+J$2),IF(OR($F86=7,$F86=8),VLOOKUP($G$8,Congés_auto!$R$5:$BR$5,2+J$1),)))),IF($G86=\"Jeudi\",IF(OR($F86=1,$F86=2),VLOOKUP($G$8,Congés_auto!$R$7:$BR$7,2+J$4),IF(OR($F86=3,$F86=4),VLOOKUP($G$8,Congés_auto!$R$7:$BR$7,2+J$3),IF(OR($F86=5,$F86=6),VLOOKUP($G$8,Congés_auto!$R$7:$BR$7,2+J$2),IF(OR($F86=7,$F86=8),VLOOKUP($G$8,Congés_auto!$R$7:$BR$7,2+J$1),)))),0))","v":"2018-11-08"},{"$f":"IF($G86=\"Mardi\",IF(OR($F86=1,$F86=2),VLOOKUP($G$8,Congés_auto!$R$5:$BR$5,2+K$4),IF(OR($F86=3,$F86=4),VLOOKUP($G$8,Congés_auto!$R$5:$BR$5,2+K$3),IF(OR($F86=5,$F86=6),VLOOKUP($G$8,Congés_auto!$R$5:$BR$5,2+K$2),IF(OR($F86=7,$F86=8),VLOOKUP($G$8,Congés_auto!$R$5:$BR$5,2+K$1),)))),IF($G86=\"Jeudi\",IF(OR($F86=1,$F86=2),VLOOKUP($G$8,Congés_auto!$R$7:$BR$7,2+K$4),IF(OR($F86=3,$F86=4),VLOOKUP($G$8,Congés_auto!$R$7:$BR$7,2+K$3),IF(OR($F86=5,$F86=6),VLOOKUP($G$8,Congés_auto!$R$7:$BR$7,2+K$2),IF(OR($F86=7,$F86=8),VLOOKUP($G$8,Congés_auto!$R$7:$BR$7,2+K$1),)))),0))","v":"2018-12-06"},{"$f":"IF($G86=\"Mardi\",IF(OR($F86=1,$F86=2),VLOOKUP($G$8,Congés_auto!$R$5:$BR$5,2+L$4),IF(OR($F86=3,$F86=4),VLOOKUP($G$8,Congés_auto!$R$5:$BR$5,2+L$3),IF(OR($F86=5,$F86=6),VLOOKUP($G$8,Congés_auto!$R$5:$BR$5,2+L$2),IF(OR($F86=7,$F86=8),VLOOKUP($G$8,Congés_auto!$R$5:$BR$5,2+L$1),)))),IF($G86=\"Jeudi\",IF(OR($F86=1,$F86=2),VLOOKUP($G$8,Congés_auto!$R$7:$BR$7,2+L$4),IF(OR($F86=3,$F86=4),VLOOKUP($G$8,Congés_auto!$R$7:$BR$7,2+L$3),IF(OR($F86=5,$F86=6),VLOOKUP($G$8,Congés_auto!$R$7:$BR$7,2+L$2),IF(OR($F86=7,$F86=8),VLOOKUP($G$8,Congés_auto!$R$7:$BR$7,2+L$1),)))),0))","v":"2019-02-14"},{"$f":"IF($G86=\"Mardi\",IF(OR($F86=1,$F86=2),VLOOKUP($G$8,Congés_auto!$R$5:$BR$5,2+M$4),IF(OR($F86=3,$F86=4),VLOOKUP($G$8,Congés_auto!$R$5:$BR$5,2+M$3),IF(OR($F86=5,$F86=6),VLOOKUP($G$8,Congés_auto!$R$5:$BR$5,2+M$2),IF(OR($F86=7,$F86=8),VLOOKUP($G$8,Congés_auto!$R$5:$BR$5,2+M$1),)))),IF($G86=\"Jeudi\",IF(OR($F86=1,$F86=2),VLOOKUP($G$8,Congés_auto!$R$7:$BR$7,2+M$4),IF(OR($F86=3,$F86=4),VLOOKUP($G$8,Congés_auto!$R$7:$BR$7,2+M$3),IF(OR($F86=5,$F86=6),VLOOKUP($G$8,Congés_auto!$R$7:$BR$7,2+M$2),IF(OR($F86=7,$F86=8),VLOOKUP($G$8,Congés_auto!$R$7:$BR$7,2+M$1),)))),0))","v":"2019-03-28"},{"$f":"IF($G86=\"Mardi\",IF(OR($F86=1,$F86=2),VLOOKUP($G$8,Congés_auto!$R$5:$BR$5,2+N$4),IF(OR($F86=3,$F86=4),VLOOKUP($G$8,Congés_auto!$R$5:$BR$5,2+N$3),IF(OR($F86=5,$F86=6),VLOOKUP($G$8,Congés_auto!$R$5:$BR$5,2+N$2),IF(OR($F86=7,$F86=8),VLOOKUP($G$8,Congés_auto!$R$5:$BR$5,2+N$1),)))),IF($G86=\"Jeudi\",IF(OR($F86=1,$F86=2),VLOOKUP($G$8,Congés_auto!$R$7:$BR$7,2+N$4),IF(OR($F86=3,$F86=4),VLOOKUP($G$8,Congés_auto!$R$7:$BR$7,2+N$3),IF(OR($F86=5,$F86=6),VLOOKUP($G$8,Congés_auto!$R$7:$BR$7,2+N$2),IF(OR($F86=7,$F86=8),VLOOKUP($G$8,Congés_auto!$R$7:$BR$7,2+N$1),)))),0))","v":"2019-04-25"},{"$f":"IF($G86=\"Mardi\",IF(OR($F86=1,$F86=2),VLOOKUP($G$8,Congés_auto!$R$5:$BR$5,2+O$4),IF(OR($F86=3,$F86=4),VLOOKUP($G$8,Congés_auto!$R$5:$BR$5,2+O$3),IF(OR($F86=5,$F86=6),VLOOKUP($G$8,Congés_auto!$R$5:$BR$5,2+O$2),IF(OR($F86=7,$F86=8),VLOOKUP($G$8,Congés_auto!$R$5:$BR$5,2+O$1),)))),IF($G86=\"Jeudi\",IF(OR($F86=1,$F86=2),VLOOKUP($G$8,Congés_auto!$R$7:$BR$7,2+O$4),IF(OR($F86=3,$F86=4),VLOOKUP($G$8,Congés_auto!$R$7:$BR$7,2+O$3),IF(OR($F86=5,$F86=6),VLOOKUP($G$8,Congés_auto!$R$7:$BR$7,2+O$2),IF(OR($F86=7,$F86=8),VLOOKUP($G$8,Congés_auto!$R$7:$BR$7,2+O$1),)))),0))","v":"2019-06-13"},{"$f":"IF($G86=\"Mardi\",IF(OR($F86=1,$F86=2),VLOOKUP($G$8,Congés_auto!$R$5:$BR$5,2+P$4),IF(OR($F86=3,$F86=4),VLOOKUP($G$8,Congés_auto!$R$5:$BR$5,2+P$3),IF(OR($F86=5,$F86=6),VLOOKUP($G$8,Congés_auto!$R$5:$BR$5,2+P$2),IF(OR($F86=7,$F86=8),VLOOKUP($G$8,Congés_auto!$R$5:$BR$5,2+P$1),)))),IF($G86=\"Jeudi\",IF(OR($F86=1,$F86=2),VLOOKUP($G$8,Congés_auto!$R$7:$BR$7,2+P$4),IF(OR($F86=3,$F86=4),VLOOKUP($G$8,Congés_auto!$R$7:$BR$7,2+P$3),IF(OR($F86=5,$F86=6),VLOOKUP($G$8,Congés_auto!$R$7:$BR$7,2+P$2),IF(OR($F86=7,$F86=8),VLOOKUP($G$8,Congés_auto!$R$7:$BR$7,2+P$1),)))),0))","v":""},{"$f":"IF($G86=\"Mardi\",IF(OR($F86=1,$F86=2),VLOOKUP($G$8,Congés_auto!$R$5:$BR$5,2+Q$4),IF(OR($F86=3,$F86=4),VLOOKUP($G$8,Congés_auto!$R$5:$BR$5,2+Q$3),IF(OR($F86=5,$F86=6),VLOOKUP($G$8,Congés_auto!$R$5:$BR$5,2+Q$2),IF(OR($F86=7,$F86=8),VLOOKUP($G$8,Congés_auto!$R$5:$BR$5,2+Q$1),)))),IF($G86=\"Jeudi\",IF(OR($F86=1,$F86=2),VLOOKUP($G$8,Congés_auto!$R$7:$BR$7,2+Q$4),IF(OR($F86=3,$F86=4),VLOOKUP($G$8,Congés_auto!$R$7:$BR$7,2+Q$3),IF(OR($F86=5,$F86=6),VLOOKUP($G$8,Congés_auto!$R$7:$BR$7,2+Q$2),IF(OR($F86=7,$F86=8),VLOOKUP($G$8,Congés_auto!$R$7:$BR$7,2+Q$1),)))),0))","v":""}]
[null,null,"Emilie","2001-09-15",305,8,"Jeudi",30581,{"$f":"IF($G87=\"Mardi\",IF(OR($F87=1,$F87=2),VLOOKUP($G$8,Congés_auto!$R$5:$BR$5,2+I$4),IF(OR($F87=3,$F87=4),VLOOKUP($G$8,Congés_auto!$R$5:$BR$5,2+I$3),IF(OR($F87=5,$F87=6),VLOOKUP($G$8,Congés_auto!$R$5:$BR$5,2+I$2),IF(OR($F87=7,$F87=8),VLOOKUP($G$8,Congés_auto!$R$5:$BR$5,2+I$1),)))),IF($G87=\"Jeudi\",IF(OR($F87=1,$F87=2),VLOOKUP($G$8,Congés_auto!$R$7:$BR$7,2+I$4),IF(OR($F87=3,$F87=4),VLOOKUP($G$8,Congés_auto!$R$7:$BR$7,2+I$3),IF(OR($F87=5,$F87=6),VLOOKUP($G$8,Congés_auto!$R$7:$BR$7,2+I$2),IF(OR($F87=7,$F87=8),VLOOKUP($G$8,Congés_auto!$R$7:$BR$7,2+I$1),)))),0))","v":"2018-09-20"},{"$f":"IF($G87=\"Mardi\",IF(OR($F87=1,$F87=2),VLOOKUP($G$8,Congés_auto!$R$5:$BR$5,2+J$4),IF(OR($F87=3,$F87=4),VLOOKUP($G$8,Congés_auto!$R$5:$BR$5,2+J$3),IF(OR($F87=5,$F87=6),VLOOKUP($G$8,Congés_auto!$R$5:$BR$5,2+J$2),IF(OR($F87=7,$F87=8),VLOOKUP($G$8,Congés_auto!$R$5:$BR$5,2+J$1),)))),IF($G87=\"Jeudi\",IF(OR($F87=1,$F87=2),VLOOKUP($G$8,Congés_auto!$R$7:$BR$7,2+J$4),IF(OR($F87=3,$F87=4),VLOOKUP($G$8,Congés_auto!$R$7:$BR$7,2+J$3),IF(OR($F87=5,$F87=6),VLOOKUP($G$8,Congés_auto!$R$7:$BR$7,2+J$2),IF(OR($F87=7,$F87=8),VLOOKUP($G$8,Congés_auto!$R$7:$BR$7,2+J$1),)))),0))","v":"2018-11-08"},{"$f":"IF($G87=\"Mardi\",IF(OR($F87=1,$F87=2),VLOOKUP($G$8,Congés_auto!$R$5:$BR$5,2+K$4),IF(OR($F87=3,$F87=4),VLOOKUP($G$8,Congés_auto!$R$5:$BR$5,2+K$3),IF(OR($F87=5,$F87=6),VLOOKUP($G$8,Congés_auto!$R$5:$BR$5,2+K$2),IF(OR($F87=7,$F87=8),VLOOKUP($G$8,Congés_auto!$R$5:$BR$5,2+K$1),)))),IF($G87=\"Jeudi\",IF(OR($F87=1,$F87=2),VLOOKUP($G$8,Congés_auto!$R$7:$BR$7,2+K$4),IF(OR($F87=3,$F87=4),VLOOKUP($G$8,Congés_auto!$R$7:$BR$7,2+K$3),IF(OR($F87=5,$F87=6),VLOOKUP($G$8,Congés_auto!$R$7:$BR$7,2+K$2),IF(OR($F87=7,$F87=8),VLOOKUP($G$8,Congés_auto!$R$7:$BR$7,2+K$1),)))),0))","v":"2018-12-06"},{"$f":"IF($G87=\"Mardi\",IF(OR($F87=1,$F87=2),VLOOKUP($G$8,Congés_auto!$R$5:$BR$5,2+L$4),IF(OR($F87=3,$F87=4),VLOOKUP($G$8,Congés_auto!$R$5:$BR$5,2+L$3),IF(OR($F87=5,$F87=6),VLOOKUP($G$8,Congés_auto!$R$5:$BR$5,2+L$2),IF(OR($F87=7,$F87=8),VLOOKUP($G$8,Congés_auto!$R$5:$BR$5,2+L$1),)))),IF($G87=\"Jeudi\",IF(OR($F87=1,$F87=2),VLOOKUP($G$8,Congés_auto!$R$7:$BR$7,2+L$4),IF(OR($F87=3,$F87=4),VLOOKUP($G$8,Congés_auto!$R$7:$BR$7,2+L$3),IF(OR($F87=5,$F87=6),VLOOKUP($G$8,Congés_auto!$R$7:$BR$7,2+L$2),IF(OR($F87=7,$F87=8),VLOOKUP($G$8,Congés_auto!$R$7:$BR$7,2+L$1),)))),0))","v":"2019-02-14"},{"$f":"IF($G87=\"Mardi\",IF(OR($F87=1,$F87=2),VLOOKUP($G$8,Congés_auto!$R$5:$BR$5,2+M$4),IF(OR($F87=3,$F87=4),VLOOKUP($G$8,Congés_auto!$R$5:$BR$5,2+M$3),IF(OR($F87=5,$F87=6),VLOOKUP($G$8,Congés_auto!$R$5:$BR$5,2+M$2),IF(OR($F87=7,$F87=8),VLOOKUP($G$8,Congés_auto!$R$5:$BR$5,2+M$1),)))),IF($G87=\"Jeudi\",IF(OR($F87=1,$F87=2),VLOOKUP($G$8,Congés_auto!$R$7:$BR$7,2+M$4),IF(OR($F87=3,$F87=4),VLOOKUP($G$8,Congés_auto!$R$7:$BR$7,2+M$3),IF(OR($F87=5,$F87=6),VLOOKUP($G$8,Congés_auto!$R$7:$BR$7,2+M$2),IF(OR($F87=7,$F87=8),VLOOKUP($G$8,Congés_auto!$R$7:$BR$7,2+M$1),)))),0))","v":"2019-03-28"},{"$f":"IF($G87=\"Mardi\",IF(OR($F87=1,$F87=2),VLOOKUP($G$8,Congés_auto!$R$5:$BR$5,2+N$4),IF(OR($F87=3,$F87=4),VLOOKUP($G$8,Congés_auto!$R$5:$BR$5,2+N$3),IF(OR($F87=5,$F87=6),VLOOKUP($G$8,Congés_auto!$R$5:$BR$5,2+N$2),IF(OR($F87=7,$F87=8),VLOOKUP($G$8,Congés_auto!$R$5:$BR$5,2+N$1),)))),IF($G87=\"Jeudi\",IF(OR($F87=1,$F87=2),VLOOKUP($G$8,Congés_auto!$R$7:$BR$7,2+N$4),IF(OR($F87=3,$F87=4),VLOOKUP($G$8,Congés_auto!$R$7:$BR$7,2+N$3),IF(OR($F87=5,$F87=6),VLOOKUP($G$8,Congés_auto!$R$7:$BR$7,2+N$2),IF(OR($F87=7,$F87=8),VLOOKUP($G$8,Congés_auto!$R$7:$BR$7,2+N$1),)))),0))","v":"2019-04-25"},{"$f":"IF($G87=\"Mardi\",IF(OR($F87=1,$F87=2),VLOOKUP($G$8,Congés_auto!$R$5:$BR$5,2+O$4),IF(OR($F87=3,$F87=4),VLOOKUP($G$8,Congés_auto!$R$5:$BR$5,2+O$3),IF(OR($F87=5,$F87=6),VLOOKUP($G$8,Congés_auto!$R$5:$BR$5,2+O$2),IF(OR($F87=7,$F87=8),VLOOKUP($G$8,Congés_auto!$R$5:$BR$5,2+O$1),)))),IF($G87=\"Jeudi\",IF(OR($F87=1,$F87=2),VLOOKUP($G$8,Congés_auto!$R$7:$BR$7,2+O$4),IF(OR($F87=3,$F87=4),VLOOKUP($G$8,Congés_auto!$R$7:$BR$7,2+O$3),IF(OR($F87=5,$F87=6),VLOOKUP($G$8,Congés_auto!$R$7:$BR$7,2+O$2),IF(OR($F87=7,$F87=8),VLOOKUP($G$8,Congés_auto!$R$7:$BR$7,2+O$1),)))),0))","v":"2019-06-13"},{"$f":"IF($G87=\"Mardi\",IF(OR($F87=1,$F87=2),VLOOKUP($G$8,Congés_auto!$R$5:$BR$5,2+P$4),IF(OR($F87=3,$F87=4),VLOOKUP($G$8,Congés_auto!$R$5:$BR$5,2+P$3),IF(OR($F87=5,$F87=6),VLOOKUP($G$8,Congés_auto!$R$5:$BR$5,2+P$2),IF(OR($F87=7,$F87=8),VLOOKUP($G$8,Congés_auto!$R$5:$BR$5,2+P$1),)))),IF($G87=\"Jeudi\",IF(OR($F87=1,$F87=2),VLOOKUP($G$8,Congés_auto!$R$7:$BR$7,2+P$4),IF(OR($F87=3,$F87=4),VLOOKUP($G$8,Congés_auto!$R$7:$BR$7,2+P$3),IF(OR($F87=5,$F87=6),VLOOKUP($G$8,Congés_auto!$R$7:$BR$7,2+P$2),IF(OR($F87=7,$F87=8),VLOOKUP($G$8,Congés_auto!$R$7:$BR$7,2+P$1),)))),0))","v":""},{"$f":"IF($G87=\"Mardi\",IF(OR($F87=1,$F87=2),VLOOKUP($G$8,Congés_auto!$R$5:$BR$5,2+Q$4),IF(OR($F87=3,$F87=4),VLOOKUP($G$8,Congés_auto!$R$5:$BR$5,2+Q$3),IF(OR($F87=5,$F87=6),VLOOKUP($G$8,Congés_auto!$R$5:$BR$5,2+Q$2),IF(OR($F87=7,$F87=8),VLOOKUP($G$8,Congés_auto!$R$5:$BR$5,2+Q$1),)))),IF($G87=\"Jeudi\",IF(OR($F87=1,$F87=2),VLOOKUP($G$8,Congés_auto!$R$7:$BR$7,2+Q$4),IF(OR($F87=3,$F87=4),VLOOKUP($G$8,Congés_auto!$R$7:$BR$7,2+Q$3),IF(OR($F87=5,$F87=6),VLOOKUP($G$8,Congés_auto!$R$7:$BR$7,2+Q$2),IF(OR($F87=7,$F87=8),VLOOKUP($G$8,Congés_auto!$R$7:$BR$7,2+Q$1),)))),0))","v":""}]
[null,null,"Jean Marie","2000-04-18",305,8,"Jeudi",30582,{"$f":"IF($G88=\"Mardi\",IF(OR($F88=1,$F88=2),VLOOKUP($G$8,Congés_auto!$R$5:$BR$5,2+I$4),IF(OR($F88=3,$F88=4),VLOOKUP($G$8,Congés_auto!$R$5:$BR$5,2+I$3),IF(OR($F88=5,$F88=6),VLOOKUP($G$8,Congés_auto!$R$5:$BR$5,2+I$2),IF(OR($F88=7,$F88=8),VLOOKUP($G$8,Congés_auto!$R$5:$BR$5,2+I$1),)))),IF($G88=\"Jeudi\",IF(OR($F88=1,$F88=2),VLOOKUP($G$8,Congés_auto!$R$7:$BR$7,2+I$4),IF(OR($F88=3,$F88=4),VLOOKUP($G$8,Congés_auto!$R$7:$BR$7,2+I$3),IF(OR($F88=5,$F88=6),VLOOKUP($G$8,Congés_auto!$R$7:$BR$7,2+I$2),IF(OR($F88=7,$F88=8),VLOOKUP($G$8,Congés_auto!$R$7:$BR$7,2+I$1),)))),0))","v":"2018-09-20"},{"$f":"IF($G88=\"Mardi\",IF(OR($F88=1,$F88=2),VLOOKUP($G$8,Congés_auto!$R$5:$BR$5,2+J$4),IF(OR($F88=3,$F88=4),VLOOKUP($G$8,Congés_auto!$R$5:$BR$5,2+J$3),IF(OR($F88=5,$F88=6),VLOOKUP($G$8,Congés_auto!$R$5:$BR$5,2+J$2),IF(OR($F88=7,$F88=8),VLOOKUP($G$8,Congés_auto!$R$5:$BR$5,2+J$1),)))),IF($G88=\"Jeudi\",IF(OR($F88=1,$F88=2),VLOOKUP($G$8,Congés_auto!$R$7:$BR$7,2+J$4),IF(OR($F88=3,$F88=4),VLOOKUP($G$8,Congés_auto!$R$7:$BR$7,2+J$3),IF(OR($F88=5,$F88=6),VLOOKUP($G$8,Congés_auto!$R$7:$BR$7,2+J$2),IF(OR($F88=7,$F88=8),VLOOKUP($G$8,Congés_auto!$R$7:$BR$7,2+J$1),)))),0))","v":"2018-11-08"},{"$f":"IF($G88=\"Mardi\",IF(OR($F88=1,$F88=2),VLOOKUP($G$8,Congés_auto!$R$5:$BR$5,2+K$4),IF(OR($F88=3,$F88=4),VLOOKUP($G$8,Congés_auto!$R$5:$BR$5,2+K$3),IF(OR($F88=5,$F88=6),VLOOKUP($G$8,Congés_auto!$R$5:$BR$5,2+K$2),IF(OR($F88=7,$F88=8),VLOOKUP($G$8,Congés_auto!$R$5:$BR$5,2+K$1),)))),IF($G88=\"Jeudi\",IF(OR($F88=1,$F88=2),VLOOKUP($G$8,Congés_auto!$R$7:$BR$7,2+K$4),IF(OR($F88=3,$F88=4),VLOOKUP($G$8,Congés_auto!$R$7:$BR$7,2+K$3),IF(OR($F88=5,$F88=6),VLOOKUP($G$8,Congés_auto!$R$7:$BR$7,2+K$2),IF(OR($F88=7,$F88=8),VLOOKUP($G$8,Congés_auto!$R$7:$BR$7,2+K$1),)))),0))","v":"2018-12-06"},{"$f":"IF($G88=\"Mardi\",IF(OR($F88=1,$F88=2),VLOOKUP($G$8,Congés_auto!$R$5:$BR$5,2+L$4),IF(OR($F88=3,$F88=4),VLOOKUP($G$8,Congés_auto!$R$5:$BR$5,2+L$3),IF(OR($F88=5,$F88=6),VLOOKUP($G$8,Congés_auto!$R$5:$BR$5,2+L$2),IF(OR($F88=7,$F88=8),VLOOKUP($G$8,Congés_auto!$R$5:$BR$5,2+L$1),)))),IF($G88=\"Jeudi\",IF(OR($F88=1,$F88=2),VLOOKUP($G$8,Congés_auto!$R$7:$BR$7,2+L$4),IF(OR($F88=3,$F88=4),VLOOKUP($G$8,Congés_auto!$R$7:$BR$7,2+L$3),IF(OR($F88=5,$F88=6),VLOOKUP($G$8,Congés_auto!$R$7:$BR$7,2+L$2),IF(OR($F88=7,$F88=8),VLOOKUP($G$8,Congés_auto!$R$7:$BR$7,2+L$1),)))),0))","v":"2019-02-14"},{"$f":"IF($G88=\"Mardi\",IF(OR($F88=1,$F88=2),VLOOKUP($G$8,Congés_auto!$R$5:$BR$5,2+M$4),IF(OR($F88=3,$F88=4),VLOOKUP($G$8,Congés_auto!$R$5:$BR$5,2+M$3),IF(OR($F88=5,$F88=6),VLOOKUP($G$8,Congés_auto!$R$5:$BR$5,2+M$2),IF(OR($F88=7,$F88=8),VLOOKUP($G$8,Congés_auto!$R$5:$BR$5,2+M$1),)))),IF($G88=\"Jeudi\",IF(OR($F88=1,$F88=2),VLOOKUP($G$8,Congés_auto!$R$7:$BR$7,2+M$4),IF(OR($F88=3,$F88=4),VLOOKUP($G$8,Congés_auto!$R$7:$BR$7,2+M$3),IF(OR($F88=5,$F88=6),VLOOKUP($G$8,Congés_auto!$R$7:$BR$7,2+M$2),IF(OR($F88=7,$F88=8),VLOOKUP($G$8,Congés_auto!$R$7:$BR$7,2+M$1),)))),0))","v":"2019-03-28"},{"$f":"IF($G88=\"Mardi\",IF(OR($F88=1,$F88=2),VLOOKUP($G$8,Congés_auto!$R$5:$BR$5,2+N$4),IF(OR($F88=3,$F88=4),VLOOKUP($G$8,Congés_auto!$R$5:$BR$5,2+N$3),IF(OR($F88=5,$F88=6),VLOOKUP($G$8,Congés_auto!$R$5:$BR$5,2+N$2),IF(OR($F88=7,$F88=8),VLOOKUP($G$8,Congés_auto!$R$5:$BR$5,2+N$1),)))),IF($G88=\"Jeudi\",IF(OR($F88=1,$F88=2),VLOOKUP($G$8,Congés_auto!$R$7:$BR$7,2+N$4),IF(OR($F88=3,$F88=4),VLOOKUP($G$8,Congés_auto!$R$7:$BR$7,2+N$3),IF(OR($F88=5,$F88=6),VLOOKUP($G$8,Congés_auto!$R$7:$BR$7,2+N$2),IF(OR($F88=7,$F88=8),VLOOKUP($G$8,Congés_auto!$R$7:$BR$7,2+N$1),)))),0))","v":"2019-04-25"},{"$f":"IF($G88=\"Mardi\",IF(OR($F88=1,$F88=2),VLOOKUP($G$8,Congés_auto!$R$5:$BR$5,2+O$4),IF(OR($F88=3,$F88=4),VLOOKUP($G$8,Congés_auto!$R$5:$BR$5,2+O$3),IF(OR($F88=5,$F88=6),VLOOKUP($G$8,Congés_auto!$R$5:$BR$5,2+O$2),IF(OR($F88=7,$F88=8),VLOOKUP($G$8,Congés_auto!$R$5:$BR$5,2+O$1),)))),IF($G88=\"Jeudi\",IF(OR($F88=1,$F88=2),VLOOKUP($G$8,Congés_auto!$R$7:$BR$7,2+O$4),IF(OR($F88=3,$F88=4),VLOOKUP($G$8,Congés_auto!$R$7:$BR$7,2+O$3),IF(OR($F88=5,$F88=6),VLOOKUP($G$8,Congés_auto!$R$7:$BR$7,2+O$2),IF(OR($F88=7,$F88=8),VLOOKUP($G$8,Congés_auto!$R$7:$BR$7,2+O$1),)))),0))","v":"2019-06-13"},{"$f":"IF($G88=\"Mardi\",IF(OR($F88=1,$F88=2),VLOOKUP($G$8,Congés_auto!$R$5:$BR$5,2+P$4),IF(OR($F88=3,$F88=4),VLOOKUP($G$8,Congés_auto!$R$5:$BR$5,2+P$3),IF(OR($F88=5,$F88=6),VLOOKUP($G$8,Congés_auto!$R$5:$BR$5,2+P$2),IF(OR($F88=7,$F88=8),VLOOKUP($G$8,Congés_auto!$R$5:$BR$5,2+P$1),)))),IF($G88=\"Jeudi\",IF(OR($F88=1,$F88=2),VLOOKUP($G$8,Congés_auto!$R$7:$BR$7,2+P$4),IF(OR($F88=3,$F88=4),VLOOKUP($G$8,Congés_auto!$R$7:$BR$7,2+P$3),IF(OR($F88=5,$F88=6),VLOOKUP($G$8,Congés_auto!$R$7:$BR$7,2+P$2),IF(OR($F88=7,$F88=8),VLOOKUP($G$8,Congés_auto!$R$7:$BR$7,2+P$1),)))),0))","v":""},{"$f":"IF($G88=\"Mardi\",IF(OR($F88=1,$F88=2),VLOOKUP($G$8,Congés_auto!$R$5:$BR$5,2+Q$4),IF(OR($F88=3,$F88=4),VLOOKUP($G$8,Congés_auto!$R$5:$BR$5,2+Q$3),IF(OR($F88=5,$F88=6),VLOOKUP($G$8,Congés_auto!$R$5:$BR$5,2+Q$2),IF(OR($F88=7,$F88=8),VLOOKUP($G$8,Congés_auto!$R$5:$BR$5,2+Q$1),)))),IF($G88=\"Jeudi\",IF(OR($F88=1,$F88=2),VLOOKUP($G$8,Congés_auto!$R$7:$BR$7,2+Q$4),IF(OR($F88=3,$F88=4),VLOOKUP($G$8,Congés_auto!$R$7:$BR$7,2+Q$3),IF(OR($F88=5,$F88=6),VLOOKUP($G$8,Congés_auto!$R$7:$BR$7,2+Q$2),IF(OR($F88=7,$F88=8),VLOOKUP($G$8,Congés_auto!$R$7:$BR$7,2+Q$1),)))),0))","v":""}]